{"text_format":"1","workbook":"xlsx","n_sheets":15,"sheets":["Instrukcja","Inwestycje","Inw. Inform.","Niskocenne","Inne materiały","Niskocenne Inform.","Modernizacje","Mies","Remonty","Arkusz2","nawy OPZ","baza nisk","nisk_baza robocza","baza inwest.","nisk_inform_baza"],"not_rendered":{"charts":0,"images":2,"macros":0,"external_links":0,"defined_names":24,"comments":0,"pivot_tables":0},"unopened":[],"bounds":{"document_bytes":16777216,"sheet_cells":100000,"rows_first":2000,"rows_last":500,"rows_between":2000,"halvings":0,"cell_chars":16384,"cell_head_chars":4096},"cells_cut":0,"cells_raw":0,"read":"whole","date_system":"1900"}

{"sheet":"Instrukcja","index":0,"n_rows":0,"n_cols":0,"rows_kept":0,"cut":false,"hidden":false,"merged":[]}

{"sheet":"Inwestycje","index":1,"n_rows":1068,"n_cols":14,"rows_kept":1068,"cut":false,"hidden":false,"merged":[[3,0,3,13],[2,1,2,2],[1,1,1,7]]}
[]
["Komórka organizacyjna ","Sekcja Marketingu",null,null,null,null,null,null,{"$f":"INDEX('nawy OPZ'!B:B,MATCH(B2,'nawy OPZ'!C:C,0))","v":"1.04.04"}]
[]
["Plan zakupów Inwestycyjnych 2017"]
["Lp.","Nazwa środka","OPIS - Typ urządzenia (model, rodzaj)","Ilość","Jm","Cena","Wartość","Uzasadnienie","Przewidywany termin realizacji",null,"FILTR",null,"Nazwa komórki organizacyjnej","kod komórki organzioacyjnej"]
[1,2,3,4,5,6,"7 = 4 * 6",8,9,null,null,null,10,11]
["1-1",{"$f":"'baza inwest.'!C2","v":"Analizator hematologiczny"},{"$f":"'baza inwest.'!D2","v":" KX-21N "},0,null,{"$f":"'baza inwest.'!E2","v":41792.230000000003},{"$f":"D7*F7","v":0},null,null,{"$f":"'baza inwest.'!K2","v":"Dział Gospodarki Nieruchomościami i Utrzymania Ruchu"},{"$f":"IF($B$2=J7,$B$2,\"\")","v":""},{"$f":"IF($B$2=K7,1,\"\")","v":""},{"$f":"$B$2","v":"Sekcja Marketingu"},{"$f":"$I$2","v":"1.04.04"}]
["1-2",{"$f":"'baza inwest.'!C3","v":"Analizator NO z akcesoriami"},null,0,"               ",{"$f":"'baza inwest.'!E3","v":51300},{"$f":"D8*F8","v":0},null,null,{"$f":"'baza inwest.'!K3","v":"Oddział Pediatryczny z Pododdziałem Gastroenterologii"},{"$f":"IF($B$2=J8,$B$2,\"\")","v":""},{"$f":"IF($B$2=K8,1,\"\")","v":""},"Sekcja Marketingu","1.04.04"]
["1-3",{"$f":"'baza inwest.'!C4","v":"Analizator parametrów krytycznych"},null,0,"               ",{"$f":"'baza inwest.'!E4","v":29960},0,null,null,{"$f":"'baza inwest.'!K4","v":"Oddział Położniczo – Ginekologiczny"},"","","Sekcja Marketingu","1.04.04"]
["1-4",{"$f":"'baza inwest.'!C5","v":"Analizator równowagi kwasowo-zasadowej krwi"},{"$f":"'baza inwest.'!D5","v":"model: RKZ RL348; prod: BAYER"},0,"               ",{"$f":"'baza inwest.'!E5","v":31779},0,null,null,{"$f":"'baza inwest.'!K5","v":"Pracownia Hemodynamiki"},"","","Sekcja Marketingu","1.04.04"]
["1-5",{"$f":"'baza inwest.'!C6","v":"Analizator składu ciała "},null,0,"               ",{"$f":"'baza inwest.'!E6","v":31724.46},0,null,null,{"$f":"'baza inwest.'!K6","v":"Oddział Chirurgii Onkologicznej"},"","","Sekcja Marketingu","1.04.04"]
["1-6",{"$f":"'baza inwest.'!C7","v":"Analizator testów oddechowych"},{"$f":"'baza inwest.'!D7","v":"Analizator testów oddechowych IRIS-Doc z oprogramowaniem"},0,"               ",{"$f":"'baza inwest.'!E7","v":120167.26},0,null,null,{"$f":"'baza inwest.'!K7","v":"Oddział Pediatryczny z Pododdziałem Gastroenterologii"},"","","Sekcja Marketingu","1.04.04"]
["1-7",{"$f":"'baza inwest.'!C8","v":"Aparat do badania otoemisji akustycznych OtoRead"},null,0,"               ",{"$f":"'baza inwest.'!E8","v":22629.24},0,null,null,{"$f":"'baza inwest.'!K8","v":"OŚRODEK PROTEZOWANIA SŁUCHU DLA NOWORODKÓW"},"","","Sekcja Marketingu","1.04.04"]
["1-8",{"$f":"'baza inwest.'!C9","v":"Aparat do CPAP-u z analizatorem tlenowym InterFlow"},{"$f":"'baza inwest.'!D9","v":"producent: ANMEDIC AB"},0,"               ",{"$f":"'baza inwest.'!E9","v":10692},0,null,null,{"$f":"'baza inwest.'!K9","v":"Intensywna Terapia"},"","","Sekcja Marketingu","1.04.04"]
["1-9",{"$f":"'baza inwest.'!C10","v":"Aparat do fakoemulsyfikacji INFINITI VISION SYSTEM"},null,0,"               ",{"$f":"'baza inwest.'!E10","v":468247.54},0,null,null,{"$f":"'baza inwest.'!K10","v":"Oddział Okulistyczny"},"","","Sekcja Marketingu","1.04.04"]
["1-10",{"$f":"'baza inwest.'!C11","v":"Aparat do hemodializy "},{"$f":"'baza inwest.'!D11","v":"Dar od GAMBRO POLAND Sp. z o.o.\r\ntyp/model: AK 200S; "},0,"               ",{"$f":"'baza inwest.'!E11","v":40000},0,null,null,{"$f":"'baza inwest.'!K11","v":"Stacja Dializ"},"","","Sekcja Marketingu","1.04.04"]
["1-11",{"$f":"'baza inwest.'!C12","v":"Aparat do hemodializy "},null,0,"               ",{"$f":"'baza inwest.'!E12","v":25920},0,null,null,{"$f":"'baza inwest.'!K12","v":"Stacja Dializ"},"","","Sekcja Marketingu","1.04.04"]
["1-12",{"$f":"'baza inwest.'!C13","v":"Aparat do hemodializy "},{"$f":"'baza inwest.'!D13","v":"Typ: 7102072; producent: B.BRAUN"},0,"               ",{"$f":"'baza inwest.'!E13","v":30240},0,null,null,{"$f":"'baza inwest.'!K13","v":"Stacja Dializ"},"","","Sekcja Marketingu","1.04.04"]
["1-13",{"$f":"'baza inwest.'!C14","v":"Aparat do hemodializy "},{"$f":"'baza inwest.'!D14","v":"producent: B. BRAUN"},0,"               ",{"$f":"'baza inwest.'!E14","v":36774},0,null,null,{"$f":"'baza inwest.'!K14","v":"Stacja Dializ"},"","","Sekcja Marketingu","1.04.04"]
["1-14",{"$f":"'baza inwest.'!C15","v":"Aparat do kriochirurgii "},{"$f":"'baza inwest.'!D15","v":"Producent: Metrum Cryoflex Sp. z o.o., Sp. k., Polska."},0,"               ",{"$f":"'baza inwest.'!E15","v":31000},0,null,null,{"$f":"'baza inwest.'!K15","v":"Oddział Okulistyczny"},"","","Sekcja Marketingu","1.04.04"]
["1-15",{"$f":"'baza inwest.'!C16","v":"Aparat do krioterapii "},null,0,"               ",{"$f":"'baza inwest.'!E16","v":16863},0,null,null,{"$f":"'baza inwest.'!K16","v":"Zamiejscowy Dział Rehabilitacji Leczniczej"},"","","Sekcja Marketingu","1.04.04"]
["1-16",{"$f":"'baza inwest.'!C17","v":"Aparat do krioterapii "},null,0,"               ",{"$f":"'baza inwest.'!E17","v":14500},0,null,null,{"$f":"'baza inwest.'!K17","v":"Zamiejscowy Dział Rehabilitacji Leczniczej"},"","","Sekcja Marketingu","1.04.04"]
["1-17",{"$f":"'baza inwest.'!C18","v":"Aparat do krioterapii "},null,0,"               ",{"$f":"'baza inwest.'!E18","v":13929.26},0,null,null,{"$f":"'baza inwest.'!K18","v":"Zamiejscowy Dział Rehabilitacji Leczniczej"},"","","Sekcja Marketingu","1.04.04"]
["1-18",{"$f":"'baza inwest.'!C19","v":"Aparat do krioterapii z wyposażeniem"},null,0,"               ",{"$f":"'baza inwest.'!E19","v":6750.02},0,null,null,{"$f":"'baza inwest.'!K19","v":"Zamiejscowy Oddział Chirurgii Urazowo - Ortopedycznej"},"","","Sekcja Marketingu","1.04.04"]
["1-19",{"$f":"'baza inwest.'!C20","v":"Aparat do masażu uciskowego + mankiety na pas biodrowy BOA "},null,0,"               ",{"$f":"'baza inwest.'!E20","v":9341.99},0,null,null,{"$f":"'baza inwest.'!K20","v":"Zamiejscowy Dział Rehabilitacji Leczniczej"},"","","Sekcja Marketingu","1.04.04"]
["1-20",{"$f":"'baza inwest.'!C21","v":"Aparat do masażu uciskowego "},null,0,"               ",{"$f":"'baza inwest.'!E21","v":10980.05},0,null,null,{"$f":"'baza inwest.'!K21","v":"Zamiejscowy Dział Rehabilitacji Leczniczej"},"","","Sekcja Marketingu","1.04.04"]
["1-21",{"$f":"'baza inwest.'!C22","v":"Aparat do monitorowania EMG "},{"$f":"'baza inwest.'!D22","v":"Aparat do monitorowania EMG typu Neuro-Mep-4"},0,"               ",{"$f":"'baza inwest.'!E22","v":86080},0,null,null,{"$f":"'baza inwest.'!K22","v":"Poradnia Neurologiczna"},"","","Sekcja Marketingu","1.04.04"]
["1-22",{"$f":"'baza inwest.'!C23","v":"Aparat do nastawiania i zaopatrywania złamań kości przedramienia"},null,0,"               ",{"$f":"'baza inwest.'!E23","v":9000},0,null,null,{"$f":"'baza inwest.'!K23","v":"SOR"},"","","Sekcja Marketingu","1.04.04"]
["1-23",{"$f":"'baza inwest.'!C24","v":"Aparat do podgrzewania płynów i krwi  "},null,0,"               ",{"$f":"'baza inwest.'!E24","v":22460.560000000001},0,null,null,{"$f":"'baza inwest.'!K24","v":"Intensywna Terapia"},"","","Sekcja Marketingu","1.04.04"]
["1-24",{"$f":"'baza inwest.'!C25","v":"Aparat do plasmoforezy "},null,0,"               ",{"$f":"'baza inwest.'!E25","v":69550},0,null,null,{"$f":"'baza inwest.'!K25","v":"Intensywna Terapia"},"","","Sekcja Marketingu","1.04.04"]
["1-25",{"$f":"'baza inwest.'!C26","v":"Aparat do plasmoforezy "},null,0,"               ",{"$f":"'baza inwest.'!E26","v":69550},0,null,null,{"$f":"'baza inwest.'!K26","v":"Oddział Nefrologiczny"},"","","Sekcja Marketingu","1.04.04"]
["1-26",{"$f":"'baza inwest.'!C27","v":"Aparat do podgrzewania płynów i krwi  "},null,0,"               ",{"$f":"'baza inwest.'!E27","v":7490},0,null,null,{"$f":"'baza inwest.'!K27","v":"Intensywna Terapia"},"","","Sekcja Marketingu","1.04.04"]
["1-27",{"$f":"'baza inwest.'!C28","v":"Aparat do podgrzewania płynów i krwi  "},{"$f":"'baza inwest.'!D28","v":"typ: FW588"},0,"               ",{"$f":"'baza inwest.'!E28","v":9095},0,null,null,{"$f":"'baza inwest.'!K28","v":"SOR"},"","","Sekcja Marketingu","1.04.04"]
["1-28",{"$f":"'baza inwest.'!C29","v":"Aparat do podgrzewania płynów i krwi  "},null,0,"               ",{"$f":"'baza inwest.'!E29","v":4838.3999999999996},0,null,null,{"$f":"'baza inwest.'!K29","v":"Oddział Kardiologiczny"},"","","Sekcja Marketingu","1.04.04"]
["1-29",{"$f":"'baza inwest.'!C30","v":"Aparat do przesiewowego badania słuchu u noworodków"},null,0,"               ",{"$f":"'baza inwest.'!E30","v":17184.96},0,null,null,{"$f":"'baza inwest.'!K30","v":"Oddział Neonatologiczny z Pododdziałem Patologii Noworodka"},"","","Sekcja Marketingu","1.04.04"]
["1-30",{"$f":"'baza inwest.'!C31","v":"Aparat do śródoperacyjnej radioterapii z wykorzystaniem promieniowania X PRS 500 Intrabeam"},null,0,"               ",{"$f":"'baza inwest.'!E31","v":1845000},0,null,null,{"$f":"'baza inwest.'!K31","v":"Oddział Chirurgii Onkologicznej"},"","","Sekcja Marketingu","1.04.04"]
["1-31",{"$f":"'baza inwest.'!C32","v":"Aparat do terapii ozonowej"},null,0,"               ",{"$f":"'baza inwest.'!E32","v":24100},0,null,null,{"$f":"'baza inwest.'!K32","v":"Oddział Chirurgii Onkologicznej"},"","","Sekcja Marketingu","1.04.04"]
["1-32",{"$f":"'baza inwest.'!C33","v":"Aparat do terapii ultradźwiękami"},{"$f":"'baza inwest.'!D33","v":"producent: EMILDUE, Włochy"},0,"               ",{"$f":"'baza inwest.'!E33","v":4499.01},0,null,null,{"$f":"'baza inwest.'!K33","v":"Zamiejscowy Dział Rehabilitacji Leczniczej"},"","","Sekcja Marketingu","1.04.04"]
["1-33",{"$f":"'baza inwest.'!C34","v":"Aparat do znieczulania ogólnego"},{"$f":"'baza inwest.'!D34","v":"TYP: PRIMUS; prod: DRAGER"},0,"               ",{"$f":"'baza inwest.'!E34","v":130861},0,null,null,{"$f":"'baza inwest.'!K34","v":"Anestezjologia"},"","",{"$f":"$B$2","v":"Sekcja Marketingu"},"1.04.04"]
["1-34",{"$f":"'baza inwest.'!C35","v":"Aparat do znieczulania PRIMUS"},null,0,"               ",{"$f":"'baza inwest.'!E35","v":223560},0,null,null,{"$f":"'baza inwest.'!K35","v":"Anestezjologia"},"","","Sekcja Marketingu","1.04.04"]
["1-35",{"$f":"'baza inwest.'!C36","v":"Aparat do znieczulania Primus z monitorem Infinity Delta"},{"$f":"'baza inwest.'!D36","v":"producent: DRAGER MEDICAL, Niemcy\r"},0,"               ",{"$f":"'baza inwest.'!E36","v":187096.87},0,null,null,{"$f":"'baza inwest.'!K36","v":"Anestezjologia"},"","","Sekcja Marketingu","1.04.04"]
["1-36",{"$f":"'baza inwest.'!C37","v":"Aparat do znieczulania "},null,0,"               ",{"$f":"'baza inwest.'!E37","v":140400},0,null,null,{"$f":"'baza inwest.'!K37","v":"Zamiejscowy Blok Operacyjny"},"","","Sekcja Marketingu","1.04.04"]
["1-37",{"$f":"'baza inwest.'!C38","v":"Aparat do znieczulania "},null,0,"               ",{"$f":"'baza inwest.'!E38","v":129060},0,null,null,{"$f":"'baza inwest.'!K38","v":"Anestezjologia"},"","","Sekcja Marketingu","1.04.04"]
["1-38",{"$f":"'baza inwest.'!C39","v":"Aparat do znieczulania "},{"$f":"'baza inwest.'!D39","v":"typ/model: FABIUS TIRO. "},0,"               ",{"$f":"'baza inwest.'!E39","v":133108},0,null,null,{"$f":"'baza inwest.'!K39","v":"Anestezjologia"},"","","Sekcja Marketingu","1.04.04"]
["1-39",{"$f":"'baza inwest.'!C40","v":"Aparat do znieczulania "},null,0,"               ",{"$f":"'baza inwest.'!E40","v":169060},0,null,null,{"$f":"'baza inwest.'!K40","v":"Anestezjologia"},"","","Sekcja Marketingu","1.04.04"]
["1-40",{"$f":"'baza inwest.'!C41","v":"Aparat EKG"},{"$f":"'baza inwest.'!D41","v":"typ: E600G; producent: FARUM S.A."},0,"               ",{"$f":"'baza inwest.'!E41","v":4173},0,null,null,{"$f":"'baza inwest.'!K41","v":"Oddział Dermatologiczny"},"","","Sekcja Marketingu","1.04.04"]
["1-41",{"$f":"'baza inwest.'!C42","v":"Aparat EKG 12-kanałowy "},null,0,"               ",{"$f":"'baza inwest.'!E42","v":6372},0,null,null,{"$f":"'baza inwest.'!K42","v":"SOR"},"","","Sekcja Marketingu","1.04.04"]
["1-42",{"$f":"'baza inwest.'!C43","v":"Aparat EKG 12-kanałowy "},null,0,"               ",{"$f":"'baza inwest.'!E43","v":6480},0,null,null,{"$f":"'baza inwest.'!K43","v":"Stacja Dializ"},"","","Sekcja Marketingu","1.04.04"]
["1-43",{"$f":"'baza inwest.'!C44","v":"Aparat EKG 12-kanałowy na wózku "},{"$f":"'baza inwest.'!D44","v":"Aparat EKG 12-kanałowy na wózku Mr BLUE typ ASCARD "},0,"               ",{"$f":"'baza inwest.'!E44","v":5550.09},0,null,null,{"$f":"'baza inwest.'!K44","v":"DODO - Zamiejscowa Pracownia RTG"},"","","Sekcja Marketingu","1.04.04"]
["1-44",{"$f":"'baza inwest.'!C45","v":"Aparat EKG 12-kanałowy "},{"$f":"'baza inwest.'!D45","v":"Typ ELI 230; Producent: Mortara Instrument Inc., USA. "},0,"               ",{"$f":"'baza inwest.'!E45","v":6873.98},0,null,null,{"$f":"'baza inwest.'!K45","v":"Oddział Kardiologiczny"},"","","Sekcja Marketingu","1.04.04"]
["1-45",{"$f":"'baza inwest.'!C46","v":"Aparat EKG "},{"$f":"'baza inwest.'!D46","v":"Typ: Gold3; producent: ASPEL S.A., Polska."},0,"               ",{"$f":"'baza inwest.'!E46","v":15511.28},0,null,null,{"$f":"'baza inwest.'!K46","v":"Oddział Kardiologii Dziecięcej z Pododdziałem Kardiochirurgi"},"","","Sekcja Marketingu","1.04.04"]
["1-46",{"$f":"'baza inwest.'!C47","v":"Aparat EKG "},null,0,"               ",{"$f":"'baza inwest.'!E47","v":7950},0,null,null,{"$f":"'baza inwest.'!K47","v":"SOR"},"","","Sekcja Marketingu","1.04.04"]
["1-47",{"$f":"'baza inwest.'!C48","v":"Aparat EKG "},{"$f":"'baza inwest.'!D48","v":"producent: BTL Industries Ltd., Wielka Brytania"},null,"               ",{"$f":"'baza inwest.'!E48","v":4995},0,null,null,{"$f":"'baza inwest.'!K48","v":"Oddział Położniczo – Ginekologiczny"},"","","Sekcja Marketingu","1.04.04"]
["1-48",{"$f":"'baza inwest.'!C49","v":"Aparat EKG "},{"$f":"'baza inwest.'!D49","v":0},0,"               ",{"$f":"'baza inwest.'!E49","v":3996},0,null,null,{"$f":"'baza inwest.'!K49","v":"Oddział Okulistyczny"},"","","Sekcja Marketingu","1.04.04"]
["1-49",{"$f":"'baza inwest.'!C50","v":"Aparat EKG "},null,0,"               ",{"$f":"'baza inwest.'!E50","v":5499.8},0,null,null,{"$f":"'baza inwest.'!K50","v":"Oddział Pediatryczny z Pododdziałem Gastroenterologii"},"","","Sekcja Marketingu","1.04.04"]
["1-50",{"$f":"'baza inwest.'!C51","v":"Aparat EKG "},null,0,"               ",{"$f":"'baza inwest.'!E51","v":4374},0,null,null,{"$f":"'baza inwest.'!K51","v":"Oddział Chirurgii Naczyniowej"},"","","Sekcja Marketingu","1.04.04"]
["1-51",{"$f":"'baza inwest.'!C52","v":"Aparat elektrochirurgiczny"},{"$f":"'baza inwest.'!D52","v":"CE 1011; prod.: EMED"},0,"               ",{"$f":"'baza inwest.'!E52","v":6622.28},0,null,null,{"$f":"'baza inwest.'!K52","v":"Poradnia Dermatologiczna"},"","","Sekcja Marketingu","1.04.04"]
["1-52",{"$f":"'baza inwest.'!C53","v":"Aparat EroScan do przesiewowego badania słuchu u noworodków"},null,0,"               ",{"$f":"'baza inwest.'!E53","v":17120},0,null,null,{"$f":"'baza inwest.'!K53","v":"Oddział Neonatologiczny z Pododdziałem Patologii Noworodka"},"","","Sekcja Marketingu","1.04.04"]
["1-53",{"$f":"'baza inwest.'!C54","v":"Aparat fotograficzny NIKON"},{"$f":"'baza inwest.'!D54","v":"aparat D70S +18-70 mm NIKON\r"},0,"               ",{"$f":"'baza inwest.'!E54","v":4499.99},0,null,null,{"$f":"'baza inwest.'!K54","v":"Blok Operacyjny"},"","","Sekcja Marketingu","1.04.04"]
["1-54",{"$f":"'baza inwest.'!C55","v":"Aparat Infant Flow SiPAP"},null,0,"               ",{"$f":"'baza inwest.'!E55","v":87480},0,null,null,{"$f":"'baza inwest.'!K55","v":"Oddział Neonatologiczny z Pododdziałem Patologii Noworodka"},"","","Sekcja Marketingu","1.04.04"]
["1-55",{"$f":"'baza inwest.'!C56","v":"Aparat Mikromed "},{"$f":"'baza inwest.'!D56","v":"Typ BHH\r\n"},0,"               ",{"$f":"'baza inwest.'!E56","v":4587.13},0,null,null,{"$f":"'baza inwest.'!K56","v":"Zamiejscowy Blok Operacyjny"},"","","Sekcja Marketingu","1.04.04"]
["1-56",{"$f":"'baza inwest.'!C57","v":"Aparat PRISMAFLEX"},null,0,"               ",{"$f":"'baza inwest.'!E57","v":66960},0,null,null,{"$f":"'baza inwest.'!K57","v":"Intensywna Terapia"},"","","Sekcja Marketingu","1.04.04"]
["1-57",{"$f":"'baza inwest.'!C58","v":"Aparat RTG  "},{"$f":"'baza inwest.'!D58","v":0},0,"               ",{"$f":"'baza inwest.'!E58","v":280099.03999999998},0,null,null,{"$f":"'baza inwest.'!K58","v":"DODO - Pracownia RTG"},"","","Sekcja Marketingu","1.04.04"]
["1-58",{"$f":"'baza inwest.'!C59","v":"Aparat RTG  "},null,0,"               ",{"$f":"'baza inwest.'!E59","v":605177},0,null,null,{"$f":"'baza inwest.'!K59","v":"DODO - Zamiejscowa Pracownia RTG"},"","","Sekcja Marketingu","1.04.04"]
["1-59",{"$f":"'baza inwest.'!C60","v":"Aparat RTG  "},null,0,"               ",{"$f":"'baza inwest.'!E60","v":499797},0,null,null,{"$f":"'baza inwest.'!K60","v":"DODO - Pracownia RTG"},"","","Sekcja Marketingu","1.04.04"]
["1-60",{"$f":"'baza inwest.'!C61","v":"Aparat RTG przewoźny przyłóżkowy "},null,0,"               ",{"$f":"'baza inwest.'!E61","v":149586},0,null,null,{"$f":"'baza inwest.'!K61","v":"DODO - Pracownia RTG"},"","","Sekcja Marketingu","1.04.04"]
["1-61",{"$f":"'baza inwest.'!C62","v":"Aparat RTG z ramieniem C"},{"$f":"'baza inwest.'!D62","v":"typ: WHA-200 OPESCOPE PLENO; prod: SHIMADZU, Japonia"},0,"               ",{"$f":"'baza inwest.'!E62","v":531576},0,null,null,{"$f":"'baza inwest.'!K62","v":"SOR"},"","","Sekcja Marketingu","1.04.04"]
["1-62",{"$f":"'baza inwest.'!C63","v":"Aparat RTG z ramieniem C"},{"$f":"'baza inwest.'!D63","v":"typ: ZIEHM Vision; Aparat RTG z ramieniem C "},0,"               ",{"$f":"'baza inwest.'!E63","v":709410},0,null,null,{"$f":"'baza inwest.'!K63","v":"Pracownia Elektrofizjologii"},"","","Sekcja Marketingu","1.04.04"]
["1-63",{"$f":"'baza inwest.'!C64","v":"Aparat RTG z ramieniem C"},{"$f":"'baza inwest.'!D64","v":"typ: ZIEHM Vision; Aparat RTG z ramieniem C "},0,"               ",{"$f":"'baza inwest.'!E64","v":709410},0,null,null,{"$f":"'baza inwest.'!K64","v":"Pracownia Endoskopii"},"","","Sekcja Marketingu","1.04.04"]
["1-64",{"$f":"'baza inwest.'!C65","v":"Aparat RTG z ramieniem C"},null,0,"               ",{"$f":"'baza inwest.'!E65","v":189000},0,null,null,{"$f":"'baza inwest.'!K65","v":"Oddział Urologii i Urologii Onkologicznej"},"","","Sekcja Marketingu","1.04.04"]
["1-65",{"$f":"'baza inwest.'!C66","v":"Aparat USG"},null,0,"               ",{"$f":"'baza inwest.'!E66","v":268272},0,null,null,{"$f":"'baza inwest.'!K66","v":"Pracownia Endoskopii"},"","",{"$f":"$B$2","v":"Sekcja Marketingu"},{"$f":"$I$2","v":"1.04.04"}]
["1-66",{"$f":"'baza inwest.'!C67","v":"Aparat USG"},null,0,"               ",{"$f":"'baza inwest.'!E67","v":421651.91},{"$f":"D72*F72","v":0},null,null,{"$f":"'baza inwest.'!K67","v":"Poradnia Chirurgii Naczyniowej"},{"$f":"IF($B$2=J72,$B$2,\"\")","v":""},{"$f":"IF($B$2=K72,1,\"\")","v":""},"Sekcja Marketingu","1.04.04"]
["1-67",{"$f":"'baza inwest.'!C68","v":"Aparat USG Doppler naczyń obwodowych"},null,0,"               ",{"$f":"'baza inwest.'!E68","v":159940},0,null,null,{"$f":"'baza inwest.'!K68","v":"Oddział Chirurgii Naczyniowej"},"","","Sekcja Marketingu","1.04.04"]
["1-68",{"$f":"'baza inwest.'!C69","v":"Aparat USG"},null,0,"               ",{"$f":"'baza inwest.'!E69","v":48730},0,null,null,{"$f":"'baza inwest.'!K69","v":"Poradnia Okulistyczna"},"","","Sekcja Marketingu","1.04.04"]
["1-69",{"$f":"'baza inwest.'!C70","v":"Aparat USG"},null,0,"               ",{"$f":"'baza inwest.'!E70","v":181700},0,null,null,{"$f":"'baza inwest.'!K70","v":"Oddział Chirurgii Onkologicznej"},"","","Sekcja Marketingu","1.04.04"]
["1-70",{"$f":"'baza inwest.'!C71","v":"Aparat USG"},null,0,"               ",{"$f":"'baza inwest.'!E71","v":228000},0,null,null,{"$f":"'baza inwest.'!K71","v":"DODO - Pracownia USG Piersi"},"","","Sekcja Marketingu","1.04.04"]
["1-71",{"$f":"'baza inwest.'!C72","v":"Aparat USG ginekologiczny "},null,0,"               ",{"$f":"'baza inwest.'!E72","v":214920},0,null,null,{"$f":"'baza inwest.'!K72","v":"SOR"},"","","Sekcja Marketingu","1.04.04"]
["1-72",{"$f":"'baza inwest.'!C73","v":"Aparat USG kardiologiczny "},null,0,"               ",{"$f":"'baza inwest.'!E73","v":233064},0,null,null,{"$f":"'baza inwest.'!K73","v":"SOR"},"","","Sekcja Marketingu","1.04.04"]
["1-73",{"$f":"'baza inwest.'!C74","v":"Aparat USG"},null,0,"               ",{"$f":"'baza inwest.'!E74","v":174562.4},0,null,null,{"$f":"'baza inwest.'!K74","v":"Oddział Neonatologiczny z Pododdziałem Patologii Noworodka"},"","","Sekcja Marketingu","1.04.04"]
["1-74",{"$f":"'baza inwest.'!C75","v":"Aparat RTG przewoźny przyłóżkowy "},{"$f":"'baza inwest.'!D75","v":"Producent: GE Healthcare. "},0,"               ",{"$f":"'baza inwest.'!E75","v":133920},0,null,null,{"$f":"'baza inwest.'!K75","v":"SOR"},"","","Sekcja Marketingu","1.04.04"]
["1-75",{"$f":"'baza inwest.'!C76","v":"Aparat RTG przewoźny przyłóżkowy "},{"$f":"'baza inwest.'!D76","v":"producent: LIFE MED; "},0,"               ",{"$f":"'baza inwest.'!E76","v":128996.28},0,null,null,{"$f":"'baza inwest.'!K76","v":"Intensywna Terapia"},"","","Sekcja Marketingu","1.04.04"]
["1-76",{"$f":"'baza inwest.'!C77","v":"Aparat USG"},null,0,"               ",{"$f":"'baza inwest.'!E77","v":233158.88},0,null,null,{"$f":"'baza inwest.'!K77","v":"Oddział Pediatryczny z Pododdziałem Gastroenterologii"},"","","Sekcja Marketingu","1.04.04"]
["1-77",{"$f":"'baza inwest.'!C78","v":"Aparat USG"},null,0,"               ",{"$f":"'baza inwest.'!E78","v":194940},0,null,null,{"$f":"'baza inwest.'!K78","v":"Intensywna Terapia"},"","","Sekcja Marketingu","1.04.04"]
["1-78",{"$f":"'baza inwest.'!C79","v":"Aparat USG"},null,0,"               ",{"$f":"'baza inwest.'!E79","v":162000},0,null,null,{"$f":"'baza inwest.'!K79","v":"Oddział Transplantologiczny"},"","","Sekcja Marketingu","1.04.04"]
["1-79",{"$f":"'baza inwest.'!C80","v":"Aparat USG Doppler naczyń obwodowych"},{"$f":"'baza inwest.'!D80","v":"Wyposażenie: 1) Sonda liniowa L12-4 2) Sonda convexowa C5-2. Producent: PHILIPS."},0,"               ",{"$f":"'baza inwest.'!E80","v":78840},0,null,null,{"$f":"'baza inwest.'!K80","v":"Poradnia Chirurgii Onkologicznej"},"","","Sekcja Marketingu","1.04.04"]
["1-80",{"$f":"'baza inwest.'!C81","v":"Aparat USG Doppler naczyń obwodowych"},{"$f":"'baza inwest.'!D81","v":"Producent: BK Medical, Dania."},0,"               ",{"$f":"'baza inwest.'!E81","v":139995},0,null,null,{"$f":"'baza inwest.'!K81","v":"Oddział Urologii i Urologii Onkologicznej"},"","","Sekcja Marketingu","1.04.04"]
["1-81",{"$f":"'baza inwest.'!C82","v":"Aparat USG Doppler naczyń obwodowych"},null,0,"               ",{"$f":"'baza inwest.'!E82","v":157680},0,null,null,{"$f":"'baza inwest.'!K82","v":"Oddział Chirurgii Naczyniowej"},"","","Sekcja Marketingu","1.04.04"]
["1-82",{"$f":"'baza inwest.'!C83","v":"Aparat EKG"},null,0,"               ",{"$f":"'baza inwest.'!E83","v":4173},0,null,null,{"$f":"'baza inwest.'!K83","v":"Pracownia EKG"},"","","Sekcja Marketingu","1.04.04"]
["1-83",{"$f":"'baza inwest.'!C84","v":"Aplikator do systemu PRS 500"},null,0,"               ",{"$f":"'baza inwest.'!E84","v":12579.99},0,null,null,{"$f":"'baza inwest.'!K84","v":"Oddział Chirurgii Onkologicznej"},"","","Sekcja Marketingu","1.04.04"]
["1-84",{"$f":"'baza inwest.'!C85","v":"Szyna do ćwiczeń biernych stawu kolanowego"},{"$f":"'baza inwest.'!D85","v":0},0,"               ",{"$f":"'baza inwest.'!E85","v":14950},0,null,null,{"$f":"'baza inwest.'!K85","v":"Zamiejscowy Dział Rehabilitacji Leczniczej"},"","","Sekcja Marketingu","1.04.04"]
["1-85",{"$f":"'baza inwest.'!C86","v":"Szyna do ćwiczeń biernych stawu kolanowego"},null,0,"               ",{"$f":"'baza inwest.'!E86","v":20100},0,null,null,{"$f":"'baza inwest.'!K86","v":"Zamiejscowy Dział Rehabilitacji Leczniczej"},"","","Sekcja Marketingu","1.04.04"]
["1-86",{"$f":"'baza inwest.'!C87","v":"Szyna do ćwiczeń biernych stawu kolanowego"},null,0,"               ",{"$f":"'baza inwest.'!E87","v":15129},0,null,null,{"$f":"'baza inwest.'!K87","v":"Zamiejscowy Dział Rehabilitacji Leczniczej"},"","","Sekcja Marketingu","1.04.04"]
["1-87",{"$f":"'baza inwest.'!C88","v":"Artromot  "},{"$f":"'baza inwest.'!D88","v":0},0,"               ",{"$f":"'baza inwest.'!E88","v":12000},0,null,null,{"$f":"'baza inwest.'!K88","v":"Zamiejscowy Oddział Chirurgii Urazowo - Ortopedycznej"},"","","Sekcja Marketingu","1.04.04"]
["1-88",{"$f":"'baza inwest.'!C89","v":"Szyna do ćwiczeń biernych stawu biodrowego i kolanowego"},null,0,"               ",{"$f":"'baza inwest.'!E89","v":19980},0,null,null,{"$f":"'baza inwest.'!K89","v":"Zamiejscowy Oddział Chirurgii Urazowo - Ortopedycznej"},"","","Sekcja Marketingu","1.04.04"]
["1-89",{"$f":"'baza inwest.'!C90","v":"Artroskop + monitor LCD "},null,0,"               ",{"$f":"'baza inwest.'!E90","v":19136},0,null,null,{"$f":"'baza inwest.'!K90","v":"Zamiejscowy Blok Operacyjny"},"","","Sekcja Marketingu","1.04.04"]
["1-90",{"$f":"'baza inwest.'!C91","v":"ATLAS"},{"$f":"'baza inwest.'!D91","v":0},0,"               ",{"$f":"'baza inwest.'!E91","v":9180},0,null,null,{"$f":"'baza inwest.'!K91","v":"Zamiejscowy Dział Rehabilitacji Leczniczej"},"","","Sekcja Marketingu","1.04.04"]
["1-91",{"$f":"'baza inwest.'!C92","v":"Autokeratorefraktometr"},null,0,"               ",{"$f":"'baza inwest.'!E92","v":22400},0,null,null,{"$f":"'baza inwest.'!K92","v":"Oddział Okulistyczny"},"","","Sekcja Marketingu","1.04.04"]
["1-92",{"$f":"'baza inwest.'!C93","v":"Autoklaw elektryczno"},{"$f":"'baza inwest.'!D93","v":0},0,"               ",{"$f":"'baza inwest.'!E93","v":92382},0,null,null,{"$f":"'baza inwest.'!K93","v":"Dział Gospodarki Nieruchomościami i Utrzymania Ruchu"},"","","Sekcja Marketingu","1.04.04"]
["1-93",{"$f":"'baza inwest.'!C94","v":"Autoklaw kasetowy"},null,0,"               ",{"$f":"'baza inwest.'!E94","v":18136.5},0,null,null,{"$f":"'baza inwest.'!K94","v":"Oddział Okulistyczny"},"","","Sekcja Marketingu","1.04.04"]
["1-94",{"$f":"'baza inwest.'!C95","v":"Autoklaw kasetowy"},null,0,"               ",{"$f":"'baza inwest.'!E95","v":20330},0,null,null,{"$f":"'baza inwest.'!K95","v":"Oddział Urologii i Urologii Onkologicznej"},"","","Sekcja Marketingu","1.04.04"]
["1-95",{"$f":"'baza inwest.'!C96","v":"Autoklaw kasetowy"},{"$f":"'baza inwest.'!D96","v":0},0,"               ",{"$f":"'baza inwest.'!E96","v":24825.3},0,null,null,{"$f":"'baza inwest.'!K96","v":"Dział Gospodarki Nieruchomościami i Utrzymania Ruchu"},"","","Sekcja Marketingu","1.04.04"]
["1-96",{"$f":"'baza inwest.'!C97","v":"Autoklaw kasetowy"},null,0,"               ",{"$f":"'baza inwest.'!E97","v":16300},0,null,null,{"$f":"'baza inwest.'!K97","v":"Oddział Okulistyczny"},"","","Sekcja Marketingu","1.04.04"]
["1-97",{"$f":"'baza inwest.'!C98","v":"Automatyczna myjnia do endoskopów"},null,0,"               ",{"$f":"'baza inwest.'!E98","v":119988},0,null,null,{"$f":"'baza inwest.'!K98","v":"Pracownia Endoskopii"},"","",{"$f":"$B$2","v":"Sekcja Marketingu"},"1.04.04"]
["1-98",{"$f":"'baza inwest.'!C99","v":"Automatyczna myjnia do endoskopów"},{"$f":"'baza inwest.'!D99","v":"producent: OLYMPUS"},0,"               ",{"$f":"'baza inwest.'!E99","v":77002.55},0,null,null,{"$f":"'baza inwest.'!K99","v":"Poradnia Gastroenterologiczna Dla Dzieci"},"","","Sekcja Marketingu","1.04.04"]
["1-99",{"$f":"'baza inwest.'!C100","v":"Automatyczny wstrzykiwacz do badań MR"},{"$f":"'baza inwest.'!D100","v":"Medrad Spectris Solaris MR; producent: MEDRAD, Inc.; USA"},0,"               ",{"$f":"'baza inwest.'!E100","v":109862.74},0,null,null,{"$f":"'baza inwest.'!K100","v":"DODO - Pracownia Rezonansu Magnetycznego"},"","","Sekcja Marketingu","1.04.04"]
["1-100",{"$f":"'baza inwest.'!C101","v":"Autorefraktokeratometr "},null,0,"               ",{"$f":"'baza inwest.'!E101","v":25988},0,null,null,{"$f":"'baza inwest.'!K101","v":"Oddział Okulistyczny"},"","","Sekcja Marketingu","1.04.04"]
["1-101",{"$f":"'baza inwest.'!C102","v":"Autorefraktokeratometr "},{"$f":"'baza inwest.'!D102","v":"typ: RM-8800; prod: TOPCON - Japnia"},0,"               ",{"$f":"'baza inwest.'!E102","v":23058.11},0,null,null,{"$f":"'baza inwest.'!K102","v":"Poradnia Okulistyczna"},"","","Sekcja Marketingu","1.04.04"]
["1-102",{"$f":"'baza inwest.'!C103","v":"Autorefraktokeratometr "},{"$f":"'baza inwest.'!D103","v":"Ręczny autorefraktometr z keratometrem z drukarką bezprzewodową.\r\nProducent: RIGH MFG. CO. LTD, Japonia. "},0,"               ",{"$f":"'baza inwest.'!E103","v":35424},0,null,null,{"$f":"'baza inwest.'!K103","v":"Oddział Okulistyczny"},"","","Sekcja Marketingu","1.04.04"]
["1-103",{"$f":"'baza inwest.'!C104","v":"Autorefraktokeratometr "},{"$f":"'baza inwest.'!D104","v":"typ: Speedy-K; producent: Righton; W wyposażeniu jest stolik elektryczny typ NET-1."},0,"               ",{"$f":"'baza inwest.'!E104","v":26350},0,null,null,{"$f":"'baza inwest.'!K104","v":"Poradnia Okulistyczna"},"","","Sekcja Marketingu","1.04.04"]
["1-104",{"$f":"'baza inwest.'!C105","v":"Autorefraktokeratometr "},{"$f":"'baza inwest.'!D105","v":"typ: KR-8900; producent: TOPCON MEDICAL SYSTEMS; Inc., USA"},0,"               ",{"$f":"'baza inwest.'!E105","v":28447.02},0,null,null,{"$f":"'baza inwest.'!K105","v":"SOR"},"","","Sekcja Marketingu","1.04.04"]
["1-105",{"$f":"'baza inwest.'!C106","v":"Bateryjne źródło światła Karl Storz"},{"$f":"'baza inwest.'!D106","v":0},0,"               ",{"$f":"'baza inwest.'!E106","v":5941.44},0,null,null,{"$f":"'baza inwest.'!K106","v":"SOR"},"","","Sekcja Marketingu","1.04.04"]
["1-106",{"$f":"'baza inwest.'!C107","v":"Bieżnia z systemem wysiłkowym i ergometrem"},null,0,"               ",{"$f":"'baza inwest.'!E107","v":75816},0,null,null,{"$f":"'baza inwest.'!K107","v":"Oddział Kardiologii Dziecięcej z Pododdziałem Kardiochirurgi"},"","","Sekcja Marketingu","1.04.04"]
["1-107",{"$f":"'baza inwest.'!C108","v":"Bieżnia "},{"$f":"'baza inwest.'!D108","v":"Charakterystyka:  rok prod 2000, typ 7898-600, "},0,"               ",{"$f":"'baza inwest.'!E108","v":8700},0,null,null,{"$f":"'baza inwest.'!K108","v":"Zamiejscowy Dział Rehabilitacji Leczniczej"},"","","Sekcja Marketingu","1.04.04"]
["1-108",{"$f":"'baza inwest.'!C109","v":"Bieżnia "},{"$f":"'baza inwest.'!D109","v":0},0,"               ",{"$f":"'baza inwest.'!E109","v":4100},0,null,null,{"$f":"'baza inwest.'!K109","v":"Oddział Chirurgii Naczyniowej"},"","","Sekcja Marketingu","1.04.04"]
["1-109",{"$f":"'baza inwest.'!C110","v":"Bieżnia "},null,0,"               ",{"$f":"'baza inwest.'!E110","v":10500},0,null,null,{"$f":"'baza inwest.'!K110","v":"Oddział Chirurgii Naczyniowej"},"","","Sekcja Marketingu","1.04.04"]
["1-110",{"$f":"'baza inwest.'!C111","v":"Biometr optyczny"},null,0,"               ",{"$f":"'baza inwest.'!E111","v":105000},0,null,null,{"$f":"'baza inwest.'!K111","v":"Oddział Okulistyczny"},"","","Sekcja Marketingu","1.04.04"]
["1-111",{"$f":"'baza inwest.'!C112","v":"Bronchofiberoskop "},null,0,"               ",{"$f":"'baza inwest.'!E112","v":50787},0,null,null,{"$f":"'baza inwest.'!K112","v":"Intensywna Terapia"},"","","Sekcja Marketingu","1.04.04"]
["1-112",{"$f":"'baza inwest.'!C113","v":"Bronchofiberoskop "},{"$f":"'baza inwest.'!D113","v":"Cechy: 6,4 mm x 54 cm, kanał roboczy 2,8 mm, kąt widzenia 110 st., + 180st./-100 st."},0,"               ",{"$f":"'baza inwest.'!E113","v":37162.65},0,null,null,{"$f":"'baza inwest.'!K113","v":"SOR"},"","","Sekcja Marketingu","1.04.04"]
["1-113",{"$f":"'baza inwest.'!C114","v":"Bronchofiberoskop "},null,0,"               ",{"$f":"'baza inwest.'!E114","v":34544.94},0,null,null,{"$f":"'baza inwest.'!K114","v":"SOR"},"","","Sekcja Marketingu","1.04.04"]
["1-114",{"$f":"'baza inwest.'!C115","v":"Bronchofiberoskop "},null,0,"               ",{"$f":"'baza inwest.'!E115","v":137661.25},0,null,null,{"$f":"'baza inwest.'!K115","v":"SOR"},"","","Sekcja Marketingu","1.04.04"]
["1-115",{"$f":"'baza inwest.'!C116","v":"Butla do krioterapii "},null,0,"               ",{"$f":"'baza inwest.'!E116","v":3513.6},0,null,null,{"$f":"'baza inwest.'!K116","v":"Zamiejscowy Dział Rehabilitacji Leczniczej"},"","","Sekcja Marketingu","1.04.04"]
["1-116",{"$f":"'baza inwest.'!C117","v":"CardioMessenger II S"},null,0,"               ",{"$f":"'baza inwest.'!E117","v":4860},0,null,null,{"$f":"'baza inwest.'!K117","v":"Pracownia Elektrofizjologii"},"","","Sekcja Marketingu","1.04.04"]
["1-117",{"$f":"'baza inwest.'!C118","v":"CardioMessenger II S"},null,0,"               ",{"$f":"'baza inwest.'!E118","v":4860},0,null,null,{"$f":"'baza inwest.'!K118","v":"Pracownia Elektrofizjologii"},"","","Sekcja Marketingu","1.04.04"]
["1-118",{"$f":"'baza inwest.'!C119","v":"Centrala monitorujaca "},null,0,"               ",{"$f":"'baza inwest.'!E119","v":40230},0,null,null,{"$f":"'baza inwest.'!K119","v":"Oddział Kardiologii Dziecięcej z Pododdziałem Kardiochirurgi"},"","","Sekcja Marketingu","1.04.04"]
["1-119",{"$f":"'baza inwest.'!C120","v":"Centrala systemu monitorowania DRAGER"},null,0,"               ",{"$f":"'baza inwest.'!E120","v":50290},0,null,null,{"$f":"'baza inwest.'!K120","v":"Intensywna Terapia"},"","","Sekcja Marketingu","1.04.04"]
["1-120",{"$f":"'baza inwest.'!C121","v":"Centralna stacja nadzorowania IntelliVue z wyposażeniem"},{"$f":"'baza inwest.'!D121","v":"typ: M3150, prod: Philips Medical Systems.\r"},0,"               ",{"$f":"'baza inwest.'!E121","v":157538.95000000001},0,null,null,{"$f":"'baza inwest.'!K121","v":"Oddział Kardiologiczny"},"","","Sekcja Marketingu","1.04.04"]
["1-121",{"$f":"'baza inwest.'!C122","v":"Chirurgiczna sonda promieniowania gamma"},null,0,"               ",{"$f":"'baza inwest.'!E122","v":64200},0,null,null,{"$f":"'baza inwest.'!K122","v":"Oddział Chirurgii Onkologicznej"},"","","Sekcja Marketingu","1.04.04"]
["1-122",{"$f":"'baza inwest.'!C123","v":"Chłodziarka laboratoryjna "},null,0,"               ",{"$f":"'baza inwest.'!E123","v":6487.62},0,null,null,{"$f":"'baza inwest.'!K123","v":"Blok Operacyjny"},"","","Sekcja Marketingu","1.04.04"]
["1-123",{"$f":"'baza inwest.'!C124","v":"Cieplarka laboratoryjna "},null,0,"               ",{"$f":"'baza inwest.'!E124","v":4483.3500000000004},0,null,null,{"$f":"'baza inwest.'!K124","v":"Blok Operacyjny"},"","","Sekcja Marketingu","1.04.04"]
["1-124",{"$f":"'baza inwest.'!C125","v":"Czytnik płyt obrazowania do mammografii wraz z konsolą technika"},{"$f":"'baza inwest.'!D125","v":"producent: AGFA HealthCare; Wprowadzone komponenty."},0,"               ",{"$f":"'baza inwest.'!E125","v":181044},0,null,null,{"$f":"'baza inwest.'!K125","v":"DODO - Pracownia Mammografii"},"","","Sekcja Marketingu","1.04.04"]
["1-125",{"$f":"'baza inwest.'!C126","v":"Czytnik płyt obrazowania wraz z konsolą technika AGFA"},null,0,"               ",{"$f":"'baza inwest.'!E126","v":161730},0,null,null,{"$f":"'baza inwest.'!K126","v":"DODO - Pracownia RTG"},"","","Sekcja Marketingu","1.04.04"]
["1-126",{"$f":"'baza inwest.'!C127","v":"Defibrylator"},null,0,"               ",{"$f":"'baza inwest.'!E127","v":37370.82},0,null,null,{"$f":"'baza inwest.'!K127","v":"SOR"},"","","Sekcja Marketingu","1.04.04"]
["1-127",{"$f":"'baza inwest.'!C128","v":"Defibrylator"},{"$f":"'baza inwest.'!D128","v":"typ Cardin –Aid MC”+” \r"},0,"               ",{"$f":"'baza inwest.'!E128","v":24934.43},0,null,null,{"$f":"'baza inwest.'!K128","v":"Zamiejscowy Oddział Chirurgii Urazowo - Ortopedycznej"},"","","Sekcja Marketingu","1.04.04"]
["1-128",{"$f":"'baza inwest.'!C129","v":"Defibrylator LIFEPAK 11"},null,0,"               ",{"$f":"'baza inwest.'!E129","v":34186.5},0,null,null,{"$f":"'baza inwest.'!K129","v":"Anestezjologia"},"","","Sekcja Marketingu","1.04.04"]
["1-129",{"$f":"'baza inwest.'!C130","v":"Defibrylator LIFEPAK 12"},null,0,"               ",{"$f":"'baza inwest.'!E130","v":43292.2},0,null,null,{"$f":"'baza inwest.'!K130","v":"Intensywna Terapia"},{"$f":"IF($B$2=J135,$B$2,\"\")","v":""},"",{"$f":"$B$2","v":"Sekcja Marketingu"},{"$f":"$I$2","v":"1.04.04"}]
["1-130",{"$f":"'baza inwest.'!C131","v":"Defibrylator LIFEPAK 15"},null,0,"               ",{"$f":"'baza inwest.'!E131","v":69999},{"$f":"D136*F136","v":0},null,null,{"$f":"'baza inwest.'!K131","v":"Intensywna Terapia"},"",{"$f":"IF($B$2=K136,1,\"\")","v":""},"Sekcja Marketingu","1.04.04"]
["1-131",{"$f":"'baza inwest.'!C132","v":"Defibrylator LIFEPAK 15"},null,0,"               ",{"$f":"'baza inwest.'!E132","v":62931},0,null,null,{"$f":"'baza inwest.'!K132","v":"SOR"},"","","Sekcja Marketingu","1.04.04"]
["1-132",{"$f":"'baza inwest.'!C133","v":"Defibrylator LIFEPAK 20"},null,0,"               ",{"$f":"'baza inwest.'!E133","v":29700},0,null,null,{"$f":"'baza inwest.'!K133","v":"Anestezjologia"},"","","Sekcja Marketingu","1.04.04"]
["1-133",{"$f":"'baza inwest.'!C134","v":"Defibrylator LIFEPAK 20"},null,0,"               ",{"$f":"'baza inwest.'!E134","v":26857},0,null,null,{"$f":"'baza inwest.'!K134","v":"Oddział Chirurgii Ogólnej z Pododdziałami"},"","","Sekcja Marketingu","1.04.04"]
["1-134",{"$f":"'baza inwest.'!C135","v":"Defibrylator LIFEPAK 20"},null,0,"               ",{"$f":"'baza inwest.'!E135","v":26857},0,null,null,{"$f":"'baza inwest.'!K135","v":"Oddział Chirurgii Onkologicznej"},"","","Sekcja Marketingu","1.04.04"]
["1-135",{"$f":"'baza inwest.'!C136","v":"Defibrylator LIFEPAK 20"},null,0,"               ",{"$f":"'baza inwest.'!E136","v":26375.5},0,null,null,{"$f":"'baza inwest.'!K136","v":"Oddział Kardiologiczny"},{"$f":"IF($B$2=J141,$B$2,\"\")","v":""},"","Sekcja Marketingu","1.04.04"]
["1-136",{"$f":"'baza inwest.'!C137","v":"Defibrylator LIFEPAK 20"},null,0,"               ",{"$f":"'baza inwest.'!E137","v":28141},0,null,null,{"$f":"'baza inwest.'!K137","v":"Oddział Kardiologiczny"},"","","Sekcja Marketingu","1.04.04"]
["1-137",{"$f":"'baza inwest.'!C138","v":"Defibrylator LIFEPAK 20"},null,0,"               ",{"$f":"'baza inwest.'!E138","v":29700},0,null,null,{"$f":"'baza inwest.'!K138","v":"Oddział Nefrologiczny"},"","","Sekcja Marketingu","1.04.04"]
["1-138",{"$f":"'baza inwest.'!C139","v":"Defibrylator LIFEPAK 20"},null,0,"               ",{"$f":"'baza inwest.'!E139","v":26857},0,null,null,{"$f":"'baza inwest.'!K139","v":"Stacja Dializ"},"","","Sekcja Marketingu","1.04.04"]
["1-139",{"$f":"'baza inwest.'!C140","v":"Defibrylator LIFEPAK 20 z modułem SpO2 i stymulacją zewnętrzną"},null,0,"               ",{"$f":"'baza inwest.'!E140","v":15027.96},0,null,null,{"$f":"'baza inwest.'!K140","v":"Oddział Kardiologiczny"},"","","Sekcja Marketingu","1.04.04"]
["1-140",{"$f":"'baza inwest.'!C141","v":"Defibrylator LIFEPAK 20e"},{"$f":"'baza inwest.'!D141","v":"Producent: Physio Control Inc., USA."},0,"               ",{"$f":"'baza inwest.'!E141","v":30238.92},0,null,null,{"$f":"'baza inwest.'!K141","v":"Oddział Chemioterapii z Pododdziałem Chemioterapii Dziennej"},"","","Sekcja Marketingu","1.04.04"]
["1-141",{"$f":"'baza inwest.'!C142","v":"Defibrylator LIFEPAK 20e"},null,0,"               ",{"$f":"'baza inwest.'!E142","v":29700},0,null,null,{"$f":"'baza inwest.'!K142","v":"Oddział Kardiologii Dziecięcej z Pododdziałem Kardiochirurgi"},"","","Sekcja Marketingu","1.04.04"]
["1-142",{"$f":"'baza inwest.'!C143","v":"Defibrylator LIFEPAK 20e"},{"$f":"'baza inwest.'!D143","v":"Defibrylator Lifepak 20e ze stymulacją zewnętrzną i SpO2.\r\nProducent: Physio Control Inc.,USA"},0,"               ",{"$f":"'baza inwest.'!E143","v":31860},0,null,null,{"$f":"'baza inwest.'!K143","v":"Oddział Kardiologii Dziecięcej z Pododdziałem Kardiochirurgi"},"","","Sekcja Marketingu","1.04.04"]
["1-143",{"$f":"'baza inwest.'!C144","v":"Defibrylator LIFEPAK 20e"},{"$f":"'baza inwest.'!D144","v":"Producent: Physio Control Inc.,USA"},0,"               ",{"$f":"'baza inwest.'!E144","v":25918.92},0,null,null,{"$f":"'baza inwest.'!K144","v":"Oddział Pediatryczny z Pododdziałem Gastroenterologii"},"","","Sekcja Marketingu","1.04.04"]
["1-144",{"$f":"'baza inwest.'!C145","v":"Defibrylator LIFEPAK 20e"},{"$f":"'baza inwest.'!D145","v":"producent: Physio-Control Inc., USA"},0,"               ",{"$f":"'baza inwest.'!E145","v":31860},0,null,null,{"$f":"'baza inwest.'!K145","v":"Oddział Położniczo – Ginekologiczny"},"","","Sekcja Marketingu","1.04.04"]
["1-145",{"$f":"'baza inwest.'!C146","v":"Defibrylator LIFEPAK 20e"},null,0,"               ",{"$f":"'baza inwest.'!E146","v":30238.92},0,null,null,{"$f":"'baza inwest.'!K146","v":"Oddział Urologii i Urologii Onkologicznej"},"","","Sekcja Marketingu","1.04.04"]
["1-146",{"$f":"'baza inwest.'!C147","v":"Defibrylator LIFEPAK 20e"},null,0,"               ",{"$f":"'baza inwest.'!E147","v":28499.040000000001},0,null,null,{"$f":"'baza inwest.'!K147","v":"Poradnia Kardiologiczna"},"","","Sekcja Marketingu","1.04.04"]
["1-147",{"$f":"'baza inwest.'!C148","v":"Defibrylator LIFEPAK 20e"},null,0,"               ",{"$f":"'baza inwest.'!E148","v":30132},0,null,null,{"$f":"'baza inwest.'!K148","v":"Pracownia Elektrofizjologii"},"","","Sekcja Marketingu","1.04.04"]
["1-148",{"$f":"'baza inwest.'!C149","v":"Defibrylator LIFEPAK 20e"},{"$f":"'baza inwest.'!D149","v":"producent: Physio-Control, USA."},0,"               ",{"$f":"'baza inwest.'!E149","v":28499.040000000001},0,null,null,{"$f":"'baza inwest.'!K149","v":"Zamiejscowy Oddział Chirurgii Urazowo - Ortopedycznej"},"","","Sekcja Marketingu","1.04.04"]
["1-149",{"$f":"'baza inwest.'!C150","v":"Defibrylator LIFEPAK 20e"},null,0,"               ",{"$f":"'baza inwest.'!E150","v":28499.040000000001},0,null,null,{"$f":"'baza inwest.'!K150","v":"Zamiejscowy Oddział Rehabilitacji Ogólnoustrojowej II"},"","","Sekcja Marketingu","1.04.04"]
["1-150",{"$f":"'baza inwest.'!C151","v":"Defibrylator LIFEPAK 21"},{"$f":"'baza inwest.'!D151","v":"typ/model: LIFEPAK 20 bez modułu SpO2 i stymulacji zewnętrznej; producent: Medtronic"},0,"               ",{"$f":"'baza inwest.'!E151","v":12597.9},0,null,null,{"$f":"'baza inwest.'!K151","v":"Anestezjologia"},"","","Sekcja Marketingu","1.04.04"]
["1-151",{"$f":"'baza inwest.'!C152","v":"Dekamatik"},{"$f":"'baza inwest.'!D152","v":0},0,"               ",{"$f":"'baza inwest.'!E152","v":4237.2},0,null,null,{"$f":"'baza inwest.'!K152","v":"Dział Gospodarki Nieruchomościami i Utrzymania Ruchu"},"","","Sekcja Marketingu","1.04.04"]
["1-152",{"$f":"'baza inwest.'!C153","v":"Densytometr"},null,0,"               ",{"$f":"'baza inwest.'!E153","v":5799.88},0,null,null,{"$f":"'baza inwest.'!K153","v":"DODO - Pracownia RTG"},"","","Sekcja Marketingu","1.04.04"]
["1-153",{"$f":"'baza inwest.'!C154","v":"Dermatoskop DermoGenius Handheld with LED + ładowarka"},null,0,"               ",{"$f":"'baza inwest.'!E154","v":4700},0,null,null,{"$f":"'baza inwest.'!K154","v":"Poradnia Chirurgii Onkologicznej"},"","","Sekcja Marketingu","1.04.04"]
["1-154",{"$f":"'baza inwest.'!C155","v":"Diatermia chirurgiczna "},null,0,"               ",{"$f":"'baza inwest.'!E155","v":22000},0,null,null,{"$f":"'baza inwest.'!K155","v":"Zamiejscowy Blok Operacyjny"},"","","Sekcja Marketingu","1.04.04"]
["1-155",{"$f":"'baza inwest.'!C156","v":"Diatermia chirurgiczna "},{"$f":"'baza inwest.'!D156","v":"producent: ERBE Elektromedizin GmbH"},0,"               ",{"$f":"'baza inwest.'!E156","v":12622.8},0,null,null,{"$f":"'baza inwest.'!K156","v":"Poradnia Chirurgii Onkologicznej"},"","","Sekcja Marketingu","1.04.04"]
["1-156",{"$f":"'baza inwest.'!C157","v":"Diatermia chirurgiczna "},null,0,"               ",{"$f":"'baza inwest.'!E157","v":56484},0,null,null,{"$f":"'baza inwest.'!K157","v":"Oddział Położniczo – Ginekologiczny"},"","","Sekcja Marketingu","1.04.04"]
["1-157",{"$f":"'baza inwest.'!C158","v":"Diatermia chirurgiczna "},{"$f":"'baza inwest.'!D158","v":"typ: VIO100C; producent: ERBE"},0,"               ",{"$f":"'baza inwest.'!E158","v":10886.4},0,null,null,{"$f":"'baza inwest.'!K158","v":"Pracownia Elektrofizjologii"},"","","Sekcja Marketingu","1.04.04"]
["1-158",{"$f":"'baza inwest.'!C159","v":"Diatermia chirurgiczna "},null,0,"               ",{"$f":"'baza inwest.'!E159","v":99360},0,null,null,{"$f":"'baza inwest.'!K159","v":"Blok Operacyjny"},"","","Sekcja Marketingu","1.04.04"]
["1-159",{"$f":"'baza inwest.'!C160","v":"Diatermia chirurgiczna "},{"$f":"'baza inwest.'!D160","v":"typ diatermii: VIO 300D; typ przystawki: APC2; producent: ERBE Elektromedizin GmbH "},0,"               ",{"$f":"'baza inwest.'!E160","v":140475},0,null,null,{"$f":"'baza inwest.'!K160","v":"Blok Operacyjny"},"","","Sekcja Marketingu","1.04.04"]
["1-160",{"$f":"'baza inwest.'!C161","v":"Diatermia elektrochirurgiczna ERBE VIO 300D"},{"$f":"'baza inwest.'!D161","v":"producent: ERBE Elektromedizin GmbH, Niemcy; typ/model: VIO 300D"},0,"               ",{"$f":"'baza inwest.'!E161","v":76000},0,null,null,{"$f":"'baza inwest.'!K161","v":"Oddział Chirurgii Onkologicznej"},"","","Sekcja Marketingu","1.04.04"]
["1-161",{"$f":"'baza inwest.'!C162","v":"Diatermia elektrochirurgiczna ERBE VIO 300D"},null,0,"               ",{"$f":"'baza inwest.'!E162","v":40000},0,null,null,{"$f":"'baza inwest.'!K162","v":"Oddział Urologii i Urologii Onkologicznej"},"","",{"$f":"$B$2","v":"Sekcja Marketingu"},"1.04.04"]
["1-162",{"$f":"'baza inwest.'!C163","v":"Diatermia elektrochirurgiczna ERBE VIO 300S"},null,0,"               ",{"$f":"'baza inwest.'!E163","v":55360},0,null,null,{"$f":"'baza inwest.'!K163","v":"Oddział Położniczo – Ginekologiczny"},"","","Sekcja Marketingu","1.04.04"]
["1-163",{"$f":"'baza inwest.'!C164","v":"Diatermia elektrochirurgiczna ERBOTOM ICC200"},{"$f":"'baza inwest.'!D164","v":"typ: ERBOTOM ICC200; producent: ERBE Elektromedizin GmbH, Niemcy"},0,"               ",{"$f":"'baza inwest.'!E164","v":13623.65},0,null,null,{"$f":"'baza inwest.'!K164","v":"DODO - Pracownia Diagnostyczno - Zabiegowa Naczyń"},"","","Sekcja Marketingu","1.04.04"]
["1-164",{"$f":"'baza inwest.'!C165","v":"Diatermia elektrochirurgiczna ERBOTOM ICC200"},{"$f":"'baza inwest.'!D165","v":"typ: ERBOTOM ICC200; producent: ERBE Elektromedizin GmbH, Niemcy"},0,"               ",{"$f":"'baza inwest.'!E165","v":13623.64},0,null,null,{"$f":"'baza inwest.'!K165","v":"Oddział Otolaryngologiczny z Pododdziałem Otolaryngologii"},"","","Sekcja Marketingu","1.04.04"]
["1-165",{"$f":"'baza inwest.'!C166","v":"Diatermia elektrochirurgiczna ERBOTOM ICC200"},null,0,"               ",{"$f":"'baza inwest.'!E166","v":49327.12},0,null,null,{"$f":"'baza inwest.'!K166","v":"Pracownia Endoskopii"},"","","Sekcja Marketingu","1.04.04"]
["1-166",{"$f":"'baza inwest.'!C167","v":"Diatermia elektrochirurgiczna ERBOTOM ICC300"},null,0,"               ",{"$f":"'baza inwest.'!E167","v":19217.830000000002},0,null,null,{"$f":"'baza inwest.'!K167","v":"Blok Operacyjny"},"","","Sekcja Marketingu","1.04.04"]
["1-167",{"$f":"'baza inwest.'!C168","v":"Diatermia elektrochirurgiczna ERBOTOM ICC300"},null,0,"               ",{"$f":"'baza inwest.'!E168","v":21662.880000000001},0,null,null,{"$f":"'baza inwest.'!K168","v":"Oddział Chirurgii Ogólnej z Pododdziałami"},"","","Sekcja Marketingu","1.04.04"]
["1-168",{"$f":"'baza inwest.'!C169","v":"Diatermia elektrochirurgiczna ERBOTOM ICC300"},null,0,"               ",{"$f":"'baza inwest.'!E169","v":21000},0,null,null,{"$f":"'baza inwest.'!K169","v":"Oddział Urologii i Urologii Onkologicznej"},"","","Sekcja Marketingu","1.04.04"]
["1-169",{"$f":"'baza inwest.'!C170","v":"Diatermia elektrochirurgiczna ICC 80"},null,0,"               ",{"$f":"'baza inwest.'!E170","v":8560},0,null,null,{"$f":"'baza inwest.'!K170","v":"Oddział Dermatologiczny"},"","","Sekcja Marketingu","1.04.04"]
["1-170",{"$f":"'baza inwest.'!C171","v":"Diatermia elektrochirurgiczna VIO 100C"},{"$f":"'baza inwest.'!D171","v":"typ: VIO 100C; producent: ERBE Elektromedizin GmbH"},0,"               ",{"$f":"'baza inwest.'!E171","v":17120},0,null,null,{"$f":"'baza inwest.'!K171","v":"Oddział Okulistyczny"},"","","Sekcja Marketingu","1.04.04"]
["1-171",{"$f":"'baza inwest.'!C172","v":"Diatermia elektrochirurgiczna VIO 300D"},{"$f":"'baza inwest.'!D172","v":"+ butla z argonem; Producent: ERBE Elektromedizin GmbH, Niemcy."},0,"               ",{"$f":"'baza inwest.'!E172","v":139710},0,null,null,{"$f":"'baza inwest.'!K172","v":"Blok Operacyjny"},"","","Sekcja Marketingu","1.04.04"]
["1-172",{"$f":"'baza inwest.'!C173","v":"Diatermia elektrochirurgiczna VIO 300S"},{"$f":"'baza inwest.'!D173","v":"typ: VIO 300S; producent: ERBE Elektromedizin GmbH, Niemcy. "},0,"               ",{"$f":"'baza inwest.'!E173","v":27323.26},0,null,null,{"$f":"'baza inwest.'!K173","v":"Blok Operacyjny"},"","","Sekcja Marketingu","1.04.04"]
["1-173",{"$f":"'baza inwest.'!C174","v":"Diatermia elektrochirurgiczna ERBE VIO 200D"},null,0,"               ",{"$f":"'baza inwest.'!E174","v":194475},0,null,null,{"$f":"'baza inwest.'!K174","v":"Pracownia Endoskopii"},"","","Sekcja Marketingu","1.04.04"]
["1-174",{"$f":"'baza inwest.'!C175","v":"Diatermia chirurgiczna "},null,0,"               ",{"$f":"'baza inwest.'!E175","v":23243},0,null,null,{"$f":"'baza inwest.'!K175","v":"Pracownia Endoskopii"},"","","Sekcja Marketingu","1.04.04"]
["1-175",{"$f":"'baza inwest.'!C176","v":"Duplikator (nagrywarka) płyt CD/DVD"},null,0,"               ",{"$f":"'baza inwest.'!E176","v":25593.84},0,null,null,{"$f":"'baza inwest.'!K176","v":"DODO - rejestracja"},"","","Sekcja Marketingu","1.04.04"]
["1-176",{"$f":"'baza inwest.'!C177","v":"Echokardiograf "},{"$f":"'baza inwest.'!D177","v":"producent: PHILIPS, USA"},0,"               ",{"$f":"'baza inwest.'!E177","v":374760},0,null,null,{"$f":"'baza inwest.'!K177","v":"Oddział Kardiologii Dziecięcej z Pododdziałem Kardiochirurgi"},"","","Sekcja Marketingu","1.04.04"]
["1-177",{"$f":"'baza inwest.'!C178","v":"Echokardiograf przenośny do badań przyłóżkowych"},null,0,"               ",{"$f":"'baza inwest.'!E178","v":288899},0,null,null,{"$f":"'baza inwest.'!K178","v":"Oddział Kardiologiczny"},"","","Sekcja Marketingu","1.04.04"]
["1-178",{"$f":"'baza inwest.'!C179","v":"Echokardiograf "},null,0,"               ",{"$f":"'baza inwest.'!E179","v":548910},0,null,null,{"$f":"'baza inwest.'!K179","v":"Pracownia Echokardiograficzna"},"","","Sekcja Marketingu","1.04.04"]
["1-179",{"$f":"'baza inwest.'!C180","v":"Echokardiograf "},{"$f":"'baza inwest.'!D180","v":"Vivid E9"},0,"               ",{"$f":"'baza inwest.'!E180","v":644760},0,null,null,{"$f":"'baza inwest.'!K180","v":"Pracownia Echokardiograficzna"},"","","Sekcja Marketingu","1.04.04"]
["1-180",{"$f":"'baza inwest.'!C181","v":"Ekran medyczny "},null,0,"               ",{"$f":"'baza inwest.'!E181","v":153468},0,null,null,{"$f":"'baza inwest.'!K181","v":"Blok Operacyjny"},"","","Sekcja Marketingu","1.04.04"]
["1-181",{"$f":"'baza inwest.'!C182","v":"Elektrokardiograf"},{"$f":"'baza inwest.'!D182","v":"typ: AsCARD Gold3 v.201 (z wózkiem); producent: ASPEL S.A.\r\n"},0,"               ",{"$f":"'baza inwest.'!E182","v":8856},0,null,null,{"$f":"'baza inwest.'!K182","v":"Oddział Kardiologiczny"},"","","Sekcja Marketingu","1.04.04"]
["1-182",{"$f":"'baza inwest.'!C183","v":"Elektrokardiograf"},{"$f":"'baza inwest.'!D183","v":"Typ: AsCARD Gold3 v. 201 (z wózkiem); producent: ASPEL S.A."},0,"               ",{"$f":"'baza inwest.'!E183","v":8856},0,null,null,{"$f":"'baza inwest.'!K183","v":"Oddział Pediatryczny z Pododdziałem Gastroenterologii"},"","","Sekcja Marketingu","1.04.04"]
["1-183",{"$f":"'baza inwest.'!C184","v":"Elektrokardiograf z wózkiem"},{"$f":"'baza inwest.'!D184","v":"producent: Aspel S.A., Polska"},null,null,{"$f":"'baza inwest.'!E184","v":7432.13},0,null,null,{"$f":"'baza inwest.'!K184","v":"Oddział Kardiologii Dziecięcej z Pododdziałem Kardiochirurgi"},"","","Sekcja Marketingu","1.04.04"]
["1-184",{"$f":"'baza inwest.'!C185","v":"Echokardiograf "},{"$f":"'baza inwest.'!D185","v":"Aparat EKG 12-kanałowy wraz z wyposażeniem: \nProducent: ASPEL, Polska  "},0,"               ",{"$f":"'baza inwest.'!E185","v":9109.98},0,null,null,{"$f":"'baza inwest.'!K185","v":"Oddział Kardiologii Dziecięcej z Pododdziałem Kardiochirurgi"},"","","Sekcja Marketingu","1.04.04"]
["1-185",{"$f":"'baza inwest.'!C186","v":"Echokardiograf "},null,0,"               ",{"$f":"'baza inwest.'!E186","v":6124.68},0,null,null,{"$f":"'baza inwest.'!K186","v":"SOR"},"","","Sekcja Marketingu","1.04.04"]
["1-186",{"$f":"'baza inwest.'!C187","v":"Elektrokardiograf z wózkiem"},null,0,"               ",{"$f":"'baza inwest.'!E187","v":3888},0,null,null,{"$f":"'baza inwest.'!K187","v":"Anestezjologia"},"","","Sekcja Marketingu","1.04.04"]
["1-187",{"$f":"'baza inwest.'!C188","v":"Elektrokardiograf z wózkiem"},null,0,"               ",{"$f":"'baza inwest.'!E188","v":3888},0,null,null,{"$f":"'baza inwest.'!K188","v":"Oddział Chemioterapii z Pododdziałem Chemioterapii Dziennej"},"","","Sekcja Marketingu","1.04.04"]
["1-188",{"$f":"'baza inwest.'!C189","v":"Elektrokardiograf z wózkiem"},null,0,"               ",{"$f":"'baza inwest.'!E189","v":4968},0,null,null,{"$f":"'baza inwest.'!K189","v":"SOR"},"","","Sekcja Marketingu","1.04.04"]
["1-189",{"$f":"'baza inwest.'!C190","v":"Element pracujący do resektoskopu, bierny"},{"$f":"'baza inwest.'!D190","v":"producent: Karl Storz"},0,"               ",{"$f":"'baza inwest.'!E190","v":4280.6499999999996},0,null,null,{"$f":"'baza inwest.'!K190","v":"Oddział Urologii i Urologii Onkologicznej"},"","","Sekcja Marketingu","1.04.04"]
["1-190",{"$f":"'baza inwest.'!C191","v":"Element pracujący resektoskopu, bipolarny, bierny"},null,0,"               ",{"$f":"'baza inwest.'!E191","v":6090.99},0,null,null,{"$f":"'baza inwest.'!K191","v":"Oddział Położniczo – Ginekologiczny"},"","","Sekcja Marketingu","1.04.04"]
["1-191",{"$f":"'baza inwest.'!C192","v":"Element pracujący resektoskopu, bipolarny, bierny"},null,0,"               ",{"$f":"'baza inwest.'!E192","v":6024.58},0,null,null,{"$f":"'baza inwest.'!K192","v":"Oddział Urologii i Urologii Onkologicznej"},"","","Sekcja Marketingu","1.04.04"]
["1-192",{"$f":"'baza inwest.'!C193","v":"Element pracujący resektoskopu, monopolarny, bierny"},null,0,"               ",{"$f":"'baza inwest.'!E193","v":4623.51},0,null,null,{"$f":"'baza inwest.'!K193","v":"Oddział Urologii i Urologii Onkologicznej"},"","","Sekcja Marketingu","1.04.04"]
["1-193",{"$f":"'baza inwest.'!C194","v":"Endomagnes z uchwytem"},{"$f":"'baza inwest.'!D194","v":0},0,"               ",{"$f":"'baza inwest.'!E194","v":5748.04},0,null,null,{"$f":"'baza inwest.'!K194","v":"Oddział Okulistyczny"},"","","Sekcja Marketingu",{"$f":"$I$2","v":"1.04.04"}]
["1-194",{"$f":"'baza inwest.'!C195","v":"Endoskan "},null,0,"               ",{"$f":"'baza inwest.'!E195","v":8950.7099999999991},{"$f":"D200*F200","v":0},null,null,{"$f":"'baza inwest.'!K195","v":"Oddział Pediatryczny z Pododdziałem Gastroenterologii"},{"$f":"IF($B$2=J200,$B$2,\"\")","v":""},{"$f":"IF($B$2=K200,1,\"\")","v":""},"Sekcja Marketingu","1.04.04"]
["1-195",{"$f":"'baza inwest.'!C196","v":"Endoskopowy tor wizyjny "},null,0,"               ",{"$f":"'baza inwest.'!E196","v":98317.8},0,null,null,{"$f":"'baza inwest.'!K196","v":"Pracownia Endoskopii"},"","","Sekcja Marketingu","1.04.04"]
["1-196",{"$f":"'baza inwest.'!C197","v":"Endoskopowy tor wizyjny "},null,0,"               ",{"$f":"'baza inwest.'!E197","v":31482},0,null,null,{"$f":"'baza inwest.'!K197","v":"Oddział Położniczo – Ginekologiczny"},"","","Sekcja Marketingu","1.04.04"]
["1-197",{"$f":"'baza inwest.'!C198","v":"eVNG"},{"$f":"'baza inwest.'!D198","v":"prod:  BioMed Jena GmbH - Niemcy"},0,"               ",{"$f":"'baza inwest.'!E198","v":29500},0,null,null,{"$f":"'baza inwest.'!K198","v":"Prac. VNG"},"","","Sekcja Marketingu","1.04.04"]
["1-198",{"$f":"'baza inwest.'!C199","v":"Fakoemulsyfikator"},{"$f":"'baza inwest.'!D199","v":0},0,"               ",{"$f":"'baza inwest.'!E199","v":323585.28000000003},0,null,null,{"$f":"'baza inwest.'!K199","v":"Oddział Okulistyczny"},"","","Sekcja Marketingu","1.04.04"]
["1-199",{"$f":"'baza inwest.'!C200","v":"Fakoemulsyfikator"},null,0,"               ",{"$f":"'baza inwest.'!E200","v":514699.78},0,null,null,{"$f":"'baza inwest.'!K200","v":"Oddział Okulistyczny"},"","","Sekcja Marketingu","1.04.04"]
["1-200",{"$f":"'baza inwest.'!C201","v":"Fantom ALS dla osoby dorosłej "},{"$f":"'baza inwest.'!D201","v":0},0,"               ",{"$f":"'baza inwest.'!E201","v":41091.839999999997},0,null,null,{"$f":"'baza inwest.'!K201","v":"SOR"},"","","Sekcja Marketingu","1.04.04"]
["1-201",{"$f":"'baza inwest.'!C202","v":"Fiberoskop intubacyjny"},null,0,"               ",{"$f":"'baza inwest.'!E202","v":40320.050000000003},0,null,null,{"$f":"'baza inwest.'!K202","v":"SOR"},"","","Sekcja Marketingu","1.04.04"]
["1-202",{"$f":"'baza inwest.'!C203","v":"Fiksator zewnętrzny udowy (stabilizator)"},{"$f":"'baza inwest.'!D203","v":0},0,"               ",{"$f":"'baza inwest.'!E203","v":3852},0,null,null,{"$f":"'baza inwest.'!K203","v":"Blok Operacyjny"},"","","Sekcja Marketingu","1.04.04"]
["1-203",{"$f":"'baza inwest.'!C204","v":"Fotel do dializ"},null,0,"               ",{"$f":"'baza inwest.'!E204","v":9630},0,null,null,{"$f":"'baza inwest.'!K204","v":"Oddział Chemioterapii z Pododdziałem Chemioterapii Dziennej"},"","","Sekcja Marketingu","1.04.04"]
["1-204",{"$f":"'baza inwest.'!C205","v":"Fotel do dializ"},null,0,"               ",{"$f":"'baza inwest.'!E205","v":7864.5},0,null,null,{"$f":"'baza inwest.'!K205","v":"Oddział Dermatologiczny"},"","","Sekcja Marketingu","1.04.04"]
["1-205",{"$f":"'baza inwest.'!C206","v":"Fotel do dializ"},{"$f":"'baza inwest.'!D206","v":"Model: TT-005; producent: HEMOTION, Portugalia"},0,"               ",{"$f":"'baza inwest.'!E206","v":8565.48},0,null,null,{"$f":"'baza inwest.'!K206","v":"Stacja Dializ"},"","","Sekcja Marketingu","1.04.04"]
["1-206",{"$f":"'baza inwest.'!C207","v":"Fotel ginekologiczno-urologiczny"},{"$f":"'baza inwest.'!D207","v":"typ: Mars/Wenus; producent: MEDEN INMED"},0,"               ",{"$f":"'baza inwest.'!E207","v":12500},0,null,null,{"$f":"'baza inwest.'!K207","v":"Poradnia Urologiczna"},"","","Sekcja Marketingu","1.04.04"]
["1-207",{"$f":"'baza inwest.'!C208","v":"Fotel ginekologiczny"},{"$f":"'baza inwest.'!D208","v":"typ: FK-04; producent; FAMED, Żywiec"},0,"               ",{"$f":"'baza inwest.'!E208","v":16157},0,null,null,{"$f":"'baza inwest.'!K208","v":"Oddział Urologii i Urologii Onkologicznej"},"","","Sekcja Marketingu","1.04.04"]
["1-208",{"$f":"'baza inwest.'!C209","v":"Fotel ginekologiczny"},null,0,"               ",{"$f":"'baza inwest.'!E209","v":14958},0,null,null,{"$f":"'baza inwest.'!K209","v":"Oddział Położniczo – Ginekologiczny"},"","","Sekcja Marketingu","1.04.04"]
["1-209",{"$f":"'baza inwest.'!C210","v":"Fotel laryngologiczny"},{"$f":"'baza inwest.'!D210","v":"typ: FO-02; producent: FAMED ŻYWIEC, Polska"},0,"               ",{"$f":"'baza inwest.'!E210","v":6366.5},0,null,null,{"$f":"'baza inwest.'!K210","v":"Oddział Otolaryngologiczny z Pododdziałem Otolaryngologii"},"","","Sekcja Marketingu","1.04.04"]
["1-210",{"$f":"'baza inwest.'!C211","v":"Fotel operatora"},{"$f":"'baza inwest.'!D211","v":"typ: OC-1; producent: MDT, Polska"},0,"               ",{"$f":"'baza inwest.'!E211","v":4000.01},0,null,null,{"$f":"'baza inwest.'!K211","v":"Oddział Okulistyczny"},"","","Sekcja Marketingu","1.04.04"]
["1-211",{"$f":"'baza inwest.'!C212","v":"Fotel toaletowy - prysznicowy "},{"$f":"'baza inwest.'!D212","v":"Typ: HERA 140; producent: ERGOLET, Dania."},0,"               ",{"$f":"'baza inwest.'!E212","v":5940},0,null,null,{"$f":"'baza inwest.'!K212","v":"Oddział Chirurgii Onkologicznej"},"","","Sekcja Marketingu","1.04.04"]
["1-212",{"$f":"'baza inwest.'!C213","v":"Fotel zabiegowy"},null,0,"               ",{"$f":"'baza inwest.'!E213","v":5981.3},0,null,null,{"$f":"'baza inwest.'!K213","v":"Oddział Angiologiczny z Pododdziałem Diabetologii"},"","","Sekcja Marketingu","1.04.04"]
["1-213",{"$f":"'baza inwest.'!C214","v":"Fotel zabiegowy"},null,0,"               ",{"$f":"'baza inwest.'!E214","v":7201.1},0,null,null,{"$f":"'baza inwest.'!K214","v":"Oddział Okulistyczny"},"","","Sekcja Marketingu","1.04.04"]
["1-214",{"$f":"'baza inwest.'!C215","v":"Fotel zabiegowy"},{"$f":"'baza inwest.'!D215","v":"typ: FK-04; producent: FAMED ŻYWIEC, Polska"},0,"               ",{"$f":"'baza inwest.'!E215","v":7115.5},0,null,null,{"$f":"'baza inwest.'!K215","v":"Oddział Otolaryngologiczny z Pododdziałem Otolaryngologii"},"","","Sekcja Marketingu","1.04.04"]
["1-215",{"$f":"'baza inwest.'!C216","v":"Funduskamera z angiografem "},null,0,"               ",{"$f":"'baza inwest.'!E216","v":160800},0,null,null,{"$f":"'baza inwest.'!K216","v":"SOR"},"","","Sekcja Marketingu","1.04.04"]
["1-216",{"$f":"'baza inwest.'!C217","v":"Gastrolyzer - Aparat do monitorowania zawartości wodoru w powietrzu wydychanym"},{"$f":"'baza inwest.'!D217","v":"typ: Gastrolyzer; producent: BEDFONT SCIENTIFIC Ltd"},0,"               ",{"$f":"'baza inwest.'!E217","v":8185.5},0,null,null,{"$f":"'baza inwest.'!K217","v":"Oddział Pediatryczny z Pododdziałem Gastroenterologii"},"","","Sekcja Marketingu","1.04.04"]
["1-217",{"$f":"'baza inwest.'!C218","v":"Gastrolyzer-aparat do monitorowania zawartości wodoru w wydychanym powietrzu"},null,0,"               ",{"$f":"'baza inwest.'!E218","v":10206},0,null,null,{"$f":"'baza inwest.'!K218","v":"Oddział Pediatryczny z Pododdziałem Gastroenterologii"},"","","Sekcja Marketingu","1.04.04"]
["1-218",{"$f":"'baza inwest.'!C219","v":"Gastroskop Video "},null,0,"               ",{"$f":"'baza inwest.'!E219","v":99359.9},0,null,null,{"$f":"'baza inwest.'!K219","v":"Poradnia Gastroenterologiczna Dla Dzieci"},"","","Sekcja Marketingu","1.04.04"]
["1-219",{"$f":"'baza inwest.'!C220","v":"Gastroskop Video "},{"$f":"'baza inwest.'!D220","v":"typ: GIF-Q 165\r\nproducent: OLYMPUS"},0,"               ",{"$f":"'baza inwest.'!E220","v":64653.68},0,null,null,{"$f":"'baza inwest.'!K220","v":"Poradnia Gastroenterologiczna Dla Dzieci"},"","","Sekcja Marketingu","1.04.04"]
["1-220",{"$f":"'baza inwest.'!C221","v":"Gastroskop Video "},null,0,"               ",{"$f":"'baza inwest.'!E221","v":58743},0,null,null,{"$f":"'baza inwest.'!K221","v":"Pracownia Endoskopii"},"","","Sekcja Marketingu","1.04.04"]
["1-221",{"$f":"'baza inwest.'!C222","v":"Gastroskop Video "},{"$f":"'baza inwest.'!D222","v":"typ: GIF-Q 180\r\nproducent: OLYMPUS"},0,"               ",{"$f":"'baza inwest.'!E222","v":99296},0,null,null,{"$f":"'baza inwest.'!K222","v":"Pracownia Endoskopii"},"","","Sekcja Marketingu","1.04.04"]
["1-222",{"$f":"'baza inwest.'!C223","v":"Gastroskop Video "},{"$f":"'baza inwest.'!D223","v":"Typ: GIF-Q180; producent: OLYMPUS"},0,"               ",{"$f":"'baza inwest.'!E223","v":99621.28},0,null,null,{"$f":"'baza inwest.'!K223","v":"Oddział Pediatryczny z Pododdziałem Gastroenterologii"},"","","Sekcja Marketingu","1.04.04"]
["1-223",{"$f":"'baza inwest.'!C224","v":"Generator do ablacji wewnętrzsercowych EP-SHUTTLE 100W Basic"},{"$f":"'baza inwest.'!D224","v":"typ/model: EP-SHUTTLE 100W Basic; producent: STOCKERT GmbH, Niemcy"},0,"               ",{"$f":"'baza inwest.'!E224","v":82390},0,null,null,{"$f":"'baza inwest.'!K224","v":"Pracownia Elektrofizjologii"},"","","Sekcja Marketingu","1.04.04"]
["1-224",{"$f":"'baza inwest.'!C225","v":"Generator do termoablacji i termoresekcji wątroby"},{"$f":"'baza inwest.'!D225","v":0},0,"               ",{"$f":"'baza inwest.'!E225","v":99874.87},0,null,null,{"$f":"'baza inwest.'!K225","v":"Blok Operacyjny"},"","","Sekcja Marketingu","1.04.04"]
["1-225",{"$f":"'baza inwest.'!C226","v":"Generator ultradźwiękowy "},null,0,"               ",{"$f":"'baza inwest.'!E226","v":16397.259999999998},0,null,null,{"$f":"'baza inwest.'!K226","v":"Oddział Urologii i Urologii Onkologicznej"},"","",{"$f":"$B$2","v":"Sekcja Marketingu"},"1.04.04"]
["1-226",{"$f":"'baza inwest.'!C227","v":"Głowica Autosert - Automat do wszczepu soczewek"},null,0,"               ",{"$f":"'baza inwest.'!E227","v":25000},0,null,null,{"$f":"'baza inwest.'!K227","v":"Oddział Okulistyczny"},"","","Sekcja Marketingu","1.04.04"]
["1-227",{"$f":"'baza inwest.'!C228","v":"Głowica kamery TELECAM"},null,0,"               ",{"$f":"'baza inwest.'!E228","v":10417.93},0,null,null,{"$f":"'baza inwest.'!K228","v":"Oddział Urologii i Urologii Onkologicznej"},"","","Sekcja Marketingu","1.04.04"]
["1-228",{"$f":"'baza inwest.'!C229","v":"Głowica przezprzełykowa"},{"$f":"'baza inwest.'!D229","v":"Głowica przezprzełykowa S7-3t TEE PHILIPS; \n"},0,"               ",{"$f":"'baza inwest.'!E229","v":73000},0,null,null,{"$f":"'baza inwest.'!K229","v":"Oddział Kardiologii Dziecięcej z Pododdziałem Kardiochirurgi"},"","","Sekcja Marketingu","1.04.04"]
["1-229",{"$f":"'baza inwest.'!C230","v":"Haczyki do elektrokoagulacji do Robota da Vinci"},{"$f":"'baza inwest.'!D230","v":0},0,"               ",{"$f":"'baza inwest.'!E230","v":9416},0,null,null,{"$f":"'baza inwest.'!K230","v":"Blok Operacyjny"},"","","Sekcja Marketingu","1.04.04"]
["1-230",{"$f":"'baza inwest.'!C231","v":"Hemochron Junior"},null,0,"               ",{"$f":"'baza inwest.'!E231","v":14040},0,null,null,{"$f":"'baza inwest.'!K231","v":"Anestezjologia"},"","","Sekcja Marketingu","1.04.04"]
["1-231",{"$f":"'baza inwest.'!C232","v":"Hemoksymetr"},null,0,"               ",{"$f":"'baza inwest.'!E232","v":29916},0,null,null,{"$f":"'baza inwest.'!K232","v":"Pracownia Hemodynamiki"},"","","Sekcja Marketingu","1.04.04"]
["1-232",{"$f":"'baza inwest.'!C233","v":"Histeroskop diagnostyczno-zabiegowy, kompaktowy, 5 mm, 20 st."},{"$f":"'baza inwest.'!D233","v":"producent: Richard Wolf, Niemcy"},0,"               ",{"$f":"'baza inwest.'!E233","v":8640},0,null,null,{"$f":"'baza inwest.'!K233","v":"Oddział Położniczo – Ginekologiczny"},"","","Sekcja Marketingu","1.04.04"]
["1-233",{"$f":"'baza inwest.'!C234","v":"Histeroskop owalny Bettocchi z instrumentarium"},null,0,"               ",{"$f":"'baza inwest.'!E234","v":22246.12},0,null,null,{"$f":"'baza inwest.'!K234","v":"Oddział Położniczo – Ginekologiczny"},"","","Sekcja Marketingu","1.04.04"]
["1-234",{"$f":"'baza inwest.'!C235","v":"Imadło laparoskopowe bariatryczne "},null,0,"               ",{"$f":"'baza inwest.'!E235","v":3516},0,null,null,{"$f":"'baza inwest.'!K235","v":"Blok Operacyjny"},"","","Sekcja Marketingu","1.04.04"]
["1-235",{"$f":"'baza inwest.'!C236","v":"Inhalator ultradźwiękowy "},{"$f":"'baza inwest.'!D236","v":"typ: OMEGA VARIO"},0,"               ",{"$f":"'baza inwest.'!E236","v":9849.35},0,null,null,{"$f":"'baza inwest.'!K236","v":"Intensywna Terapia"},"","","Sekcja Marketingu","1.04.04"]
["1-236",{"$f":"'baza inwest.'!C237","v":"Inhalator ultradźwiękowy "},{"$f":"'baza inwest.'!D237","v":0},0,"               ",{"$f":"'baza inwest.'!E237","v":5194.63},0,null,null,{"$f":"'baza inwest.'!K237","v":"Zamiejscowy Dział Rehabilitacji Leczniczej"},"","","Sekcja Marketingu","1.04.04"]
["1-237",{"$f":"'baza inwest.'!C238","v":"Injektor cementu "},null,0,"               ",{"$f":"'baza inwest.'!E238","v":3700},0,null,null,{"$f":"'baza inwest.'!K238","v":"Zamiejscowy Blok Operacyjny"},"","","Sekcja Marketingu","1.04.04"]
["1-238",{"$f":"'baza inwest.'!C239","v":"Inkubator do intensywnej opieki nad noworodkiem i wcześniakiem ATOM"},{"$f":"'baza inwest.'!D239","v":"Typ: Incu 101; producent: ATOM;\r"},0,"               ",{"$f":"'baza inwest.'!E239","v":85000.320000000007},0,null,null,{"$f":"'baza inwest.'!K239","v":"Oddział Neonatologiczny z Pododdziałem Patologii Noworodka"},"","","Sekcja Marketingu","1.04.04"]
["1-239",{"$f":"'baza inwest.'!C240","v":"Inkubator hybrydowy"},{"$f":"'baza inwest.'!D240","v":0},0,"               ",{"$f":"'baza inwest.'!E240","v":78756},0,null,null,{"$f":"'baza inwest.'!K240","v":"Oddział Neonatologiczny z Pododdziałem Patologii Noworodka"},"","","Sekcja Marketingu","1.04.04"]
["1-240",{"$f":"'baza inwest.'!C241","v":"Inkubator noworodkowy otwarty"},null,0,"               ",{"$f":"'baza inwest.'!E241","v":28620},0,null,null,{"$f":"'baza inwest.'!K241","v":"Oddział Kardiologii Dziecięcej z Pododdziałem Kardiochirurgi"},"","","Sekcja Marketingu","1.04.04"]
["1-241",{"$f":"'baza inwest.'!C242","v":"Inkubator otwarty "},null,0,"               ",{"$f":"'baza inwest.'!E242","v":69700},0,null,null,{"$f":"'baza inwest.'!K242","v":"Oddział Neonatologiczny z Pododdziałem Patologii Noworodka"},"","","Sekcja Marketingu","1.04.04"]
["1-242",{"$f":"'baza inwest.'!C243","v":"Inkubator otwarty "},{"$f":"'baza inwest.'!D243","v":"model: IW932; producent: Fisher&Paykel Healthcare"},0,"               ",{"$f":"'baza inwest.'!E243","v":26438.63},0,null,null,{"$f":"'baza inwest.'!K243","v":"Oddział Kardiologii Dziecięcej z Pododdziałem Kardiochirurgi"},"","","Sekcja Marketingu","1.04.04"]
["1-243",{"$f":"'baza inwest.'!C244","v":"Inkubator otwarty dla noworodków z lampą do fototerapii"},{"$f":"'baza inwest.'!D244","v":"producent: ATOM, Japonia"},0,"               ",{"$f":"'baza inwest.'!E244","v":42778.6},0,null,null,{"$f":"'baza inwest.'!K244","v":"Oddział Neonatologiczny z Pododdziałem Patologii Noworodka"},"","","Sekcja Marketingu","1.04.04"]
["1-244",{"$f":"'baza inwest.'!C245","v":"Inkubator zamknięty"},{"$f":"'baza inwest.'!D245","v":"typ: ATOM V-2100 G typ B HL; producent: Atom Medical Corporation, Japonia."},0,"               ",{"$f":"'baza inwest.'!E245","v":72360},0,null,null,{"$f":"'baza inwest.'!K245","v":"Oddział Neonatologiczny z Pododdziałem Patologii Noworodka"},"","","Sekcja Marketingu","1.04.04"]
["1-245",{"$f":"'baza inwest.'!C246","v":"Inkubator zamknięty"},{"$f":"'baza inwest.'!D246","v":"typ: ATOM V-2100 G typ C; producent: ATOM MEDICAL CORP>"},0,"               ",{"$f":"'baza inwest.'!E246","v":79907.600000000006},0,null,null,{"$f":"'baza inwest.'!K246","v":"Oddział Neonatologiczny z Pododdziałem Patologii Noworodka"},"","","Sekcja Marketingu","1.04.04"]
["1-246",{"$f":"'baza inwest.'!C247","v":"Inkubator zamknięty"},{"$f":"'baza inwest.'!D247","v":"producent: ATOM; "},0,"               ",{"$f":"'baza inwest.'!E247","v":54901.7},0,null,null,{"$f":"'baza inwest.'!K247","v":"Oddział Neonatologiczny z Pododdziałem Patologii Noworodka"},"","","Sekcja Marketingu","1.04.04"]
["1-247",{"$f":"'baza inwest.'!C248","v":"Inkubator zamknięty"},null,0,"               ",{"$f":"'baza inwest.'!E248","v":49220},0,null,null,{"$f":"'baza inwest.'!K248","v":"Oddział Neonatologiczny z Pododdziałem Patologii Noworodka"},"","","Sekcja Marketingu","1.04.04"]
["1-248",{"$f":"'baza inwest.'!C249","v":"Inkubator zamknięty"},null,0,"               ",{"$f":"'baza inwest.'!E249","v":68312.98},0,null,null,{"$f":"'baza inwest.'!K249","v":"Oddział Neonatologiczny z Pododdziałem Patologii Noworodka"},"","","Sekcja Marketingu","1.04.04"]
["1-249",{"$f":"'baza inwest.'!C250","v":"Kabina do fototerapii"},null,0,"               ",{"$f":"'baza inwest.'!E250","v":67018.37},0,null,null,{"$f":"'baza inwest.'!K250","v":"Poradnia Dermatologiczna"},"","","Sekcja Marketingu","1.04.04"]
["1-250",{"$f":"'baza inwest.'!C251","v":"Kamera IP do nadzoru"},{"$f":"'baza inwest.'!D251","v":"Model: Axis P215 PTZ"},0,"               ",{"$f":"'baza inwest.'!E251","v":4489.5},0,null,null,{"$f":"'baza inwest.'!K251","v":"Blok Operacyjny"},"","","Sekcja Marketingu","1.04.04"]
["1-251",{"$f":"'baza inwest.'!C252","v":"Kamera TELECAM DX z procesorem obrazu  Karl Storz"},{"$f":"'baza inwest.'!D252","v":"Komponenty: 1) procesor obrazu Telecam DX; 2) Głowica kamery Telecam"},0,"               ",{"$f":"'baza inwest.'!E252","v":25562.720000000001},0,null,null,{"$f":"'baza inwest.'!K252","v":"Oddział Urologii i Urologii Onkologicznej"},"","","Sekcja Marketingu","1.04.04"]
["1-252",{"$f":"'baza inwest.'!C253","v":"Kamera TELECAM z procesorem obrazu Karl Storz"},null,0,"               ",{"$f":"'baza inwest.'!E253","v":29647.24},0,null,null,{"$f":"'baza inwest.'!K253","v":"Oddział Położniczo – Ginekologiczny"},"","","Sekcja Marketingu","1.04.04"]
["1-253",{"$f":"'baza inwest.'!C254","v":"Kardiomonitor "},null,0,"               ",{"$f":"'baza inwest.'!E254","v":25680},0,null,null,{"$f":"'baza inwest.'!K254","v":"Zamiejscowy Blok Operacyjny"},"","","Sekcja Marketingu","1.04.04"]
["1-254",{"$f":"'baza inwest.'!C255","v":"Kardiomonitor "},null,0,"               ",{"$f":"'baza inwest.'!E255","v":4998.24},0,null,null,{"$f":"'baza inwest.'!K255","v":"Zamiejscowy Blok Operacyjny"},"","","Sekcja Marketingu","1.04.04"]
["1-255",{"$f":"'baza inwest.'!C256","v":"Kardiomonitor "},{"$f":"'baza inwest.'!D256","v":"producent: COMEN, Chiny"},0,"               ",{"$f":"'baza inwest.'!E256","v":4998.24},0,null,null,{"$f":"'baza inwest.'!K256","v":"Zamiejscowy Oddział Chirurgii Urazowo - Ortopedycznej"},"","","Sekcja Marketingu","1.04.04"]
["1-256",{"$f":"'baza inwest.'!C257","v":"Kardiomonitor "},{"$f":"'baza inwest.'!D257","v":"producent: Philips Shenzhen Goldway Industrial"},0,"               ",{"$f":"'baza inwest.'!E257","v":7560},0,null,null,{"$f":"'baza inwest.'!K257","v":"Oddział Pediatryczny z Pododdziałem Gastroenterologii"},"","","Sekcja Marketingu","1.04.04"]
["1-257",{"$f":"'baza inwest.'!C258","v":"Kardiomonitor "},{"$f":"'baza inwest.'!D258","v":"producent: MINDRAY, Chiny"},0,"               ",{"$f":"'baza inwest.'!E258","v":9957.6},0,null,null,{"$f":"'baza inwest.'!K258","v":"Oddział Chemioterapii z Pododdziałem Chemioterapii Dziennej"},"","","Sekcja Marketingu",{"$f":"$I$2","v":"1.04.04"}]
["1-258",{"$f":"'baza inwest.'!C259","v":"Kardiomonitor "},null,0,"               ",{"$f":"'baza inwest.'!E259","v":9957.6},{"$f":"D264*F264","v":0},null,null,{"$f":"'baza inwest.'!K259","v":"Oddział Chirurgii Naczyniowej"},{"$f":"IF($B$2=J264,$B$2,\"\")","v":""},{"$f":"IF($B$2=K264,1,\"\")","v":""},"Sekcja Marketingu","1.04.04"]
["1-259",{"$f":"'baza inwest.'!C260","v":"Kardiomonitor "},null,0,"               ",{"$f":"'baza inwest.'!E260","v":28620},0,null,null,{"$f":"'baza inwest.'!K260","v":"Oddział Kardiologii Dziecięcej z Pododdziałem Kardiochirurgi"},"","","Sekcja Marketingu","1.04.04"]
["1-260",{"$f":"'baza inwest.'!C261","v":"Kardiomonitor "},null,0,"               ",{"$f":"'baza inwest.'!E261","v":6189.95},0,null,null,{"$f":"'baza inwest.'!K261","v":"Oddział Położniczo – Ginekologiczny"},"","","Sekcja Marketingu","1.04.04"]
["1-261",{"$f":"'baza inwest.'!C262","v":"Kardiomonitor "},{"$f":"'baza inwest.'!D262","v":"typ: MEC-1000; producent: MINDRAY, Chiny"},0,"               ",{"$f":"'baza inwest.'!E262","v":7142.25},0,null,null,{"$f":"'baza inwest.'!K262","v":"Oddział Angiologiczny z Pododdziałem Diabetologii"},"","","Sekcja Marketingu","1.04.04"]
["1-262",{"$f":"'baza inwest.'!C263","v":"Kardiomonitor "},{"$f":"'baza inwest.'!D263","v":"typ: MEC-1000; producent: MINDRAY, Chiny"},0,"               ",{"$f":"'baza inwest.'!E263","v":7142.25},0,null,null,{"$f":"'baza inwest.'!K263","v":"Oddział Chemioterapii z Pododdziałem Chemioterapii Dziennej"},"","","Sekcja Marketingu","1.04.04"]
["1-263",{"$f":"'baza inwest.'!C264","v":"Kardiomonitor "},{"$f":"'baza inwest.'!D264","v":"typ: MEC-1000; producent: MINDRAY, Chiny"},0,"               ",{"$f":"'baza inwest.'!E264","v":7142.25},0,null,null,{"$f":"'baza inwest.'!K264","v":"Oddział Chirurgii Naczyniowej"},"","","Sekcja Marketingu","1.04.04"]
["1-264",{"$f":"'baza inwest.'!C265","v":"Kardiomonitor "},{"$f":"'baza inwest.'!D265","v":"Typ: MEC-2000; producent: MINDRAY"},0,"               ",{"$f":"'baza inwest.'!E265","v":7499.52},0,null,null,{"$f":"'baza inwest.'!K265","v":"Oddział Położniczo – Ginekologiczny"},"","","Sekcja Marketingu","1.04.04"]
["1-265",{"$f":"'baza inwest.'!C266","v":"Kardiomonitor "},{"$f":"'baza inwest.'!D266","v":0},0,"               ",{"$f":"'baza inwest.'!E266","v":13128.9},0,null,null,{"$f":"'baza inwest.'!K266","v":"Oddział Neonatologiczny z Pododdziałem Patologii Noworodka"},"","","Sekcja Marketingu","1.04.04"]
["1-266",{"$f":"'baza inwest.'!C267","v":"Kardiomonitor "},null,0,"               ",{"$f":"'baza inwest.'!E267","v":11770},0,null,null,{"$f":"'baza inwest.'!K267","v":"Oddział Neonatologiczny z Pododdziałem Patologii Noworodka"},"","","Sekcja Marketingu","1.04.04"]
["1-267",{"$f":"'baza inwest.'!C268","v":"Kardiomonitor "},null,0,"               ",{"$f":"'baza inwest.'!E268","v":12305},0,null,null,{"$f":"'baza inwest.'!K268","v":"Oddział Neonatologiczny z Pododdziałem Patologii Noworodka"},"","","Sekcja Marketingu","1.04.04"]
["1-268",{"$f":"'baza inwest.'!C269","v":"Kardiomonitor "},null,0,"               ",{"$f":"'baza inwest.'!E269","v":31030},0,null,null,{"$f":"'baza inwest.'!K269","v":"Anestezjologia"},"","","Sekcja Marketingu","1.04.04"]
["1-269",{"$f":"'baza inwest.'!C270","v":"Kardiomonitor "},{"$f":"'baza inwest.'!D270","v":"typ/model: DELTA"},0,"               ",{"$f":"'baza inwest.'!E270","v":31030},0,null,null,{"$f":"'baza inwest.'!K270","v":"Anestezjologia"},"","","Sekcja Marketingu","1.04.04"]
["1-270",{"$f":"'baza inwest.'!C271","v":"Kardiomonitor "},null,0,"               ",{"$f":"'baza inwest.'!E271","v":13566.53},0,null,null,{"$f":"'baza inwest.'!K271","v":"Anestezjologia"},"","","Sekcja Marketingu","1.04.04"]
["1-271",{"$f":"'baza inwest.'!C272","v":"Kardiomonitor "},{"$f":"'baza inwest.'!D272","v":0},0,"               ",{"$f":"'baza inwest.'!E272","v":8025},0,null,null,{"$f":"'baza inwest.'!K272","v":"Zamiejscowy Oddział Chirurgii Urazowo - Ortopedycznej"},"","","Sekcja Marketingu","1.04.04"]
["1-272",{"$f":"'baza inwest.'!C273","v":"Kardiomonitor przenośny"},null,0,"               ",{"$f":"'baza inwest.'!E273","v":7556.34},0,null,null,{"$f":"'baza inwest.'!K273","v":"Oddział Angiologiczny z Pododdziałem Diabetologii"},"","","Sekcja Marketingu","1.04.04"]
["1-273",{"$f":"'baza inwest.'!C274","v":"Kardiomonitor przenośny"},null,0,"               ",{"$f":"'baza inwest.'!E274","v":7556.34},0,null,null,{"$f":"'baza inwest.'!K274","v":"Oddział Chirurgii Ogólnej z Pododdziałami"},"","","Sekcja Marketingu","1.04.04"]
["1-274",{"$f":"'baza inwest.'!C275","v":"Kardiomonitor przenośny"},{"$f":"'baza inwest.'!D275","v":"typ/modeL MEC-1000; producent: MINDRAY, Chiny"},0,"               ",{"$f":"'baza inwest.'!E275","v":7556.34},0,null,null,{"$f":"'baza inwest.'!K275","v":"Oddział Chirurgii Onkologicznej"},"","","Sekcja Marketingu","1.04.04"]
["1-275",{"$f":"'baza inwest.'!C276","v":"Kardiomonitor przenośny"},{"$f":"'baza inwest.'!D276","v":"typ/model: MEC-1000; producent: MINDRAY, Chiny"},0,"               ",{"$f":"'baza inwest.'!E276","v":7556.34},0,null,null,{"$f":"'baza inwest.'!K276","v":"Oddział Nefrologiczny"},"","","Sekcja Marketingu","1.04.04"]
["1-276",{"$f":"'baza inwest.'!C277","v":"Kardiomonitor przenośny"},{"$f":"'baza inwest.'!D277","v":"Typ/model: MEC-1000; producent: MINDRAY, Chiny"},0,"               ",{"$f":"'baza inwest.'!E277","v":7556.34},0,null,null,{"$f":"'baza inwest.'!K277","v":"Oddział Położniczo – Ginekologiczny"},"","","Sekcja Marketingu","1.04.04"]
["1-277",{"$f":"'baza inwest.'!C278","v":"Kardiomonitor przenośny"},{"$f":"'baza inwest.'!D278","v":"typ/model: MEC-1000; producent: MINDRAY, Chiny"},0,"               ",{"$f":"'baza inwest.'!E278","v":7556.34},0,null,null,{"$f":"'baza inwest.'!K278","v":"Oddział Urologii i Urologii Onkologicznej"},"","","Sekcja Marketingu","1.04.04"]
["1-278",{"$f":"'baza inwest.'!C279","v":"Kardiomonitor przenośny"},{"$f":"'baza inwest.'!D279","v":"Typ/model: MEC-1000; producent: MINDRAY, Chiny"},0,"               ",{"$f":"'baza inwest.'!E279","v":7556.34},0,null,null,{"$f":"'baza inwest.'!K279","v":"SOR"},"","","Sekcja Marketingu","1.04.04"]
["1-279",{"$f":"'baza inwest.'!C280","v":"Kardiomonitor przenośny"},{"$f":"'baza inwest.'!D280","v":"Typ: PVM-2703; producent: NIHON KOHDEN Corp."},0,"               ",{"$f":"'baza inwest.'!E280","v":13996.8},0,null,null,{"$f":"'baza inwest.'!K280","v":"Oddział Chirurgii Ogólnej z Pododdziałami"},"","","Sekcja Marketingu","1.04.04"]
["1-280",{"$f":"'baza inwest.'!C281","v":"Kardiomonitor "},{"$f":"'baza inwest.'!D281","v":"Typ: Qube; producent: Spacelabs Healthcare, USA."},0,"               ",{"$f":"'baza inwest.'!E281","v":40872.6},0,null,null,{"$f":"'baza inwest.'!K281","v":"Intensywna Terapia"},"","","Sekcja Marketingu","1.04.04"]
["1-281",{"$f":"'baza inwest.'!C282","v":"Kardiomonitor stacjonarno-przenośny"},{"$f":"'baza inwest.'!D282","v":"Typ: iPM-9800; producent: Mindray Co."},0,"               ",{"$f":"'baza inwest.'!E282","v":11673.7},0,null,null,{"$f":"'baza inwest.'!K282","v":"SOR"},"","","Sekcja Marketingu","1.04.04"]
["1-282",{"$f":"'baza inwest.'!C283","v":"Kardiomonitor stacjonarno-przenośny"},{"$f":"'baza inwest.'!D283","v":"Typ: iPM-9800; producent: Mindray Co."},0,"               ",{"$f":"'baza inwest.'!E283","v":11673.7},0,null,null,{"$f":"'baza inwest.'!K283","v":"SOR"},"","","Sekcja Marketingu","1.04.04"]
["1-283",{"$f":"'baza inwest.'!C284","v":"Kardiomonitor stacjonarno-przenośny"},null,0,"               ",{"$f":"'baza inwest.'!E284","v":16444.080000000002},0,null,null,{"$f":"'baza inwest.'!K284","v":"SOR"},"","","Sekcja Marketingu","1.04.04"]
["1-284",{"$f":"'baza inwest.'!C285","v":"Kardiomonitor transportowy "},{"$f":"'baza inwest.'!D285","v":"Typ: PM-9000; producent; Mindray Co."},0,"               ",{"$f":"'baza inwest.'!E285","v":11945.88},0,null,null,{"$f":"'baza inwest.'!K285","v":"SOR"},"","","Sekcja Marketingu","1.04.04"]
["1-285",{"$f":"'baza inwest.'!C286","v":"Kardiomonitor "},{"$f":"'baza inwest.'!D286","v":"Producent: Nihon Kohden Corporation, Japonia."},0,"               ",{"$f":"'baza inwest.'!E286","v":11097},0,null,null,{"$f":"'baza inwest.'!K286","v":"Oddział Okulistyczny"},"","","Sekcja Marketingu","1.04.04"]
["1-286",{"$f":"'baza inwest.'!C287","v":"Kardiomonitor "},null,0,"               ",{"$f":"'baza inwest.'!E287","v":16976.52},0,null,null,{"$f":"'baza inwest.'!K287","v":"Pracownia Elektrofizjologii"},"","","Sekcja Marketingu","1.04.04"]
["1-287",{"$f":"'baza inwest.'!C288","v":"Kardiostymulator"},{"$f":"'baza inwest.'!D288","v":"producent: Instytut Techniki i Aparatury Medycznej ITAM"},0,"               ",{"$f":"'baza inwest.'!E288","v":49680},0,null,null,{"$f":"'baza inwest.'!K288","v":"Oddział Kardiologii Dziecięcej z Pododdziałem Kardiochirurgi"},"","","Sekcja Marketingu","1.04.04"]
["1-288",{"$f":"'baza inwest.'!C289","v":"Kardiostymulator"},{"$f":"'baza inwest.'!D289","v":0},0,"               ",{"$f":"'baza inwest.'!E289","v":5184},0,null,null,{"$f":"'baza inwest.'!K289","v":"Oddział Kardiologiczny"},"","","Sekcja Marketingu","1.04.04"]
["1-289",{"$f":"'baza inwest.'!C290","v":"Kardiotokograf - monitor płodu"},null,0,"               ",{"$f":"'baza inwest.'!E290","v":33672.9},0,null,null,{"$f":"'baza inwest.'!K290","v":"Oddział Położniczo – Ginekologiczny"},"","",{"$f":"$B$2","v":"Sekcja Marketingu"},"1.04.04"]
["1-290",{"$f":"'baza inwest.'!C291","v":"Kardiotokograf - monitor płodu"},{"$f":"'baza inwest.'!D291","v":"Typ: AVALON  FM-20; producent: PHILIPS"},0,"               ",{"$f":"'baza inwest.'!E291","v":33372},0,null,null,{"$f":"'baza inwest.'!K291","v":"Oddział Położniczo – Ginekologiczny"},"","","Sekcja Marketingu","1.04.04"]
["1-291",{"$f":"'baza inwest.'!C292","v":"Kardiotokograf do ciąży bliźniaczej "},{"$f":"'baza inwest.'!D292","v":"producent: PHILIPS"},0,"               ",{"$f":"'baza inwest.'!E292","v":26028},0,null,null,{"$f":"'baza inwest.'!K292","v":"Oddział Położniczo – Ginekologiczny"},"","","Sekcja Marketingu","1.04.04"]
["1-292",{"$f":"'baza inwest.'!C293","v":"Kardiotokograf do ciąży bliźniaczej "},null,0,"               ",{"$f":"'baza inwest.'!E293","v":35856},0,null,null,{"$f":"'baza inwest.'!K293","v":"Oddział Położniczo – Ginekologiczny"},"","","Sekcja Marketingu","1.04.04"]
["1-293",{"$f":"'baza inwest.'!C294","v":"Kardiotokograf do ciąży bliźniaczej "},{"$f":"'baza inwest.'!D294","v":"producent: PHILIPS"},0,"               ",{"$f":"'baza inwest.'!E294","v":21816},0,null,null,{"$f":"'baza inwest.'!K294","v":"Oddział Położniczo – Ginekologiczny"},"","","Sekcja Marketingu","1.04.04"]
["1-294",{"$f":"'baza inwest.'!C295","v":"Kardiotokograf - monitor płodu"},{"$f":"'baza inwest.'!D295","v":"producent: Philips"},0,"               ",{"$f":"'baza inwest.'!E295","v":33672.9},0,null,null,{"$f":"'baza inwest.'!K295","v":"Oddział Położniczo – Ginekologiczny"},"","","Sekcja Marketingu","1.04.04"]
["1-295",{"$f":"'baza inwest.'!C296","v":"Kardiotokograf - monitor płodu"},{"$f":"'baza inwest.'!D296","v":"prod: OXFORD INSTRUMENTS, WIELKA BRYTANIA"},0,"               ",{"$f":"'baza inwest.'!E296","v":20319.3},0,null,null,{"$f":"'baza inwest.'!K296","v":"Oddział Położniczo – Ginekologiczny"},"","","Sekcja Marketingu","1.04.04"]
["1-296",{"$f":"'baza inwest.'!C297","v":"Kleszcze koagulacyjne bipolarne"},{"$f":"'baza inwest.'!D297","v":"Producent: Karl Storz Endoskope, Niemcy.\r"},0,"               ",{"$f":"'baza inwest.'!E297","v":6882.85},0,null,null,{"$f":"'baza inwest.'!K297","v":"Oddział Otolaryngologiczny z Pododdziałem Otolaryngologii"},"","","Sekcja Marketingu","1.04.04"]
["1-297",{"$f":"'baza inwest.'!C298","v":"Kleszcze optyczne do kruszenia kamieni, do zastosowania z optyką 27005BA"},{"$f":"'baza inwest.'!D298","v":"producent: KARL STORZ"},0,"               ",{"$f":"'baza inwest.'!E298","v":4883.71},0,null,null,{"$f":"'baza inwest.'!K298","v":"Oddział Urologii i Urologii Onkologicznej"},"","","Sekcja Marketingu","1.04.04"]
["1-298",{"$f":"'baza inwest.'!C299","v":"Klimatyzator \"Split\""},{"$f":"'baza inwest.'!D299","v":0},0,"               ",{"$f":"'baza inwest.'!E299","v":6273},0,null,null,{"$f":"'baza inwest.'!K299","v":"DODO - Pracownia Mammografii"},"","","Sekcja Marketingu","1.04.04"]
["1-299",{"$f":"'baza inwest.'!C300","v":"Klimatyzator \"Split\""},null,0,"               ",{"$f":"'baza inwest.'!E300","v":7995},0,null,null,{"$f":"'baza inwest.'!K300","v":"Dział Centralnej Sterylizatorni i DDD"},"","","Sekcja Marketingu","1.04.04"]
["1-300",{"$f":"'baza inwest.'!C301","v":"Klimatyzator \"Split\""},null,0,"               ",{"$f":"'baza inwest.'!E301","v":6832},0,null,null,{"$f":"'baza inwest.'!K301","v":"Oddział Pediatryczny z Pododdziałem Gastroenterologii"},"","","Sekcja Marketingu","1.04.04"]
["1-301",{"$f":"'baza inwest.'!C302","v":"Klimatyzator \"Split\""},null,0,"               ",{"$f":"'baza inwest.'!E302","v":6027},0,null,null,{"$f":"'baza inwest.'!K302","v":"Pracownia Echokardiograficzna"},"","","Sekcja Marketingu","1.04.04"]
["1-302",{"$f":"'baza inwest.'!C303","v":"Klimatyzator \"Split\""},null,0,"               ",{"$f":"'baza inwest.'!E303","v":6888},0,null,null,{"$f":"'baza inwest.'!K303","v":"Pracownia Hemodynamiki"},"","","Sekcja Marketingu","1.04.04"]
["1-303",{"$f":"'baza inwest.'!C304","v":"Klimatyzator \"Split\""},null,0,"               ",{"$f":"'baza inwest.'!E304","v":9150},0,null,null,{"$f":"'baza inwest.'!K304","v":"Dział Centralnej Sterylizatorni i DDD"},"","","Sekcja Marketingu","1.04.04"]
["1-304",{"$f":"'baza inwest.'!C305","v":"Klimatyzator \"Split\""},null,0,"               ",{"$f":"'baza inwest.'!E305","v":5965.5},0,null,null,{"$f":"'baza inwest.'!K305","v":"Oddział Kardiologiczny"},"","","Sekcja Marketingu","1.04.04"]
["1-305",{"$f":"'baza inwest.'!C306","v":"Klimatyzator \"Split\""},null,0,"               ",{"$f":"'baza inwest.'!E306","v":7564.5},0,null,null,{"$f":"'baza inwest.'!K306","v":"Dział Centralnej Sterylizatorni i DDD"},"","","Sekcja Marketingu","1.04.04"]
["1-306",{"$f":"'baza inwest.'!C307","v":"Klimatyzator \"Split\""},{"$f":"'baza inwest.'!D307","v":"prod: LG POLSKA\r\nmodel: S18AHP(AS-H1865DMO)"},0,"               ",{"$f":"'baza inwest.'!E307","v":9719.33},0,null,null,{"$f":"'baza inwest.'!K307","v":"Oddział Okulistyczny"},"","","Sekcja Marketingu","1.04.04"]
["1-307",{"$f":"'baza inwest.'!C308","v":"Klimatyzator \"Split\""},null,0,"               ",{"$f":"'baza inwest.'!E308","v":9719.33},0,null,null,{"$f":"'baza inwest.'!K308","v":"Oddział Otolaryngologiczny z Pododdziałem Otolaryngologii"},"","","Sekcja Marketingu","1.04.04"]
["1-308",{"$f":"'baza inwest.'!C309","v":"Klimatyzator \"Split\""},null,0,"               ",{"$f":"'baza inwest.'!E309","v":5294.8},0,null,null,{"$f":"'baza inwest.'!K309","v":"Oddział Kardiologii Dziecięcej z Pododdziałem Kardiochirurgi"},"","","Sekcja Marketingu","1.04.04"]
["1-309",{"$f":"'baza inwest.'!C310","v":"Klimatyzator \"Split\""},{"$f":"'baza inwest.'!D310","v":0},0,"               ",{"$f":"'baza inwest.'!E310","v":5986},0,null,null,{"$f":"'baza inwest.'!K310","v":"Oddział Chemioterapii z Pododdziałem Chemioterapii Dziennej"},"","","Sekcja Marketingu","1.04.04"]
["1-310",{"$f":"'baza inwest.'!C311","v":"Klimatyzator \"Split\""},null,0,"               ",{"$f":"'baza inwest.'!E311","v":7298.94},0,null,null,{"$f":"'baza inwest.'!K311","v":"SOR"},"","","Sekcja Marketingu","1.04.04"]
["1-311",{"$f":"'baza inwest.'!C312","v":"Klimatyzator \"Split\""},{"$f":"'baza inwest.'!D312","v":"model: M5WMY15LR/M5LCY15FR; moc chł./grz.: 3,3/3,5 kW; producent: McQuay"},0,"               ",{"$f":"'baza inwest.'!E312","v":5965.5},0,null,null,{"$f":"'baza inwest.'!K312","v":"Oddział Pediatryczny z Pododdziałem Gastroenterologii"},"","","Sekcja Marketingu","1.04.04"]
["1-312",{"$f":"'baza inwest.'!C313","v":"Klimatyzator \"Split\""},{"$f":"'baza inwest.'!D313","v":"model: M5WMY15LCR/M5LCY15FR, moc chł./grz.: 3,3/3,5kW; producent: McQuay"},0,"               ",{"$f":"'baza inwest.'!E313","v":4701.0600000000004},0,null,null,{"$f":"'baza inwest.'!K313","v":"SOR"},"","","Sekcja Marketingu","1.04.04"]
["1-313",{"$f":"'baza inwest.'!C314","v":"Klimatyzator \"Split\""},{"$f":"'baza inwest.'!D314","v":0},0,"               ",{"$f":"'baza inwest.'!E314","v":6457.5},0,null,null,{"$f":"'baza inwest.'!K314","v":"Anestezjologia"},"","","Sekcja Marketingu","1.04.04"]
["1-314",{"$f":"'baza inwest.'!C315","v":"Klimatyzator \"Split\""},null,0,"               ",{"$f":"'baza inwest.'!E315","v":4999.95},0,null,null,{"$f":"'baza inwest.'!K315","v":"Apteka Szpitalna"},"","","Sekcja Marketingu","1.04.04"]
["1-315",{"$f":"'baza inwest.'!C316","v":"Klimatyzator \"Split\""},{"$f":"'baza inwest.'!D316","v":0},0,"               ",{"$f":"'baza inwest.'!E316","v":6088.5},0,null,null,{"$f":"'baza inwest.'!K316","v":"DODO - Pracownia RTG"},"","","Sekcja Marketingu","1.04.04"]
["1-316",{"$f":"'baza inwest.'!C317","v":"Klimatyzator \"Split\""},null,0,"               ",{"$f":"'baza inwest.'!E317","v":4999.95},0,null,null,{"$f":"'baza inwest.'!K317","v":"Dział Rejestracji Statystyki i Dokumentacji Medycznej"},"","","Sekcja Marketingu","1.04.04"]
["1-317",{"$f":"'baza inwest.'!C318","v":"Klimatyzator \"Split\""},{"$f":"'baza inwest.'!D318","v":"Klimatyzator YORK, model: YJHJXH 09, moc chł./grz.: 2,6/2,8 kW"},0,"               ",{"$f":"'baza inwest.'!E318","v":6580.5},0,null,null,{"$f":"'baza inwest.'!K318","v":"Oddział Urologii i Urologii Onkologicznej"},"","","Sekcja Marketingu","1.04.04"]
["1-318",{"$f":"'baza inwest.'!C319","v":"Klimatyzator \"Split\""},{"$f":"'baza inwest.'!D319","v":0},0,"               ",{"$f":"'baza inwest.'!E319","v":6088.5},0,null,null,{"$f":"'baza inwest.'!K319","v":"Poradnia Okulistyczna"},"","","Sekcja Marketingu","1.04.04"]
["1-319",{"$f":"'baza inwest.'!C320","v":"Klimatyzator \"Split\""},null,0,"               ",{"$f":"'baza inwest.'!E320","v":9040.5},0,null,null,{"$f":"'baza inwest.'!K320","v":"Pracownia Hemodynamiki"},"","","Sekcja Marketingu","1.04.04"]
["1-320",{"$f":"'baza inwest.'!C321","v":"Klimatyzator \"Split\""},null,0,"               ",{"$f":"'baza inwest.'!E321","v":6519},0,null,null,{"$f":"'baza inwest.'!K321","v":"Sekcja Gospodarcza i Obsługa (cześć wspólna)"},"","","Sekcja Marketingu","1.04.04"]
["1-321",{"$f":"'baza inwest.'!C322","v":"Klimatyzator \"Split\""},null,0,"               ",{"$f":"'baza inwest.'!E322","v":6488.25},0,null,null,{"$f":"'baza inwest.'!K322","v":"SOR"},"","","Sekcja Marketingu",{"$f":"$I$2","v":"1.04.04"}]
["1-322",{"$f":"'baza inwest.'!C323","v":"Kliniczny audiometr impedancyjny (tympanometr)"},null,0,"               ",{"$f":"'baza inwest.'!E323","v":16050},{"$f":"D328*F328","v":0},null,null,{"$f":"'baza inwest.'!K323","v":"OŚRODEK PROTEZOWANIA SŁUCHU DLA NOWORODKÓW"},{"$f":"IF($B$2=J328,$B$2,\"\")","v":""},{"$f":"IF($B$2=K328,1,\"\")","v":""},"Sekcja Marketingu","1.04.04"]
["1-323",{"$f":"'baza inwest.'!C324","v":"Klipsownica"},null,0,"               ",{"$f":"'baza inwest.'!E324","v":6806.12},0,null,null,{"$f":"'baza inwest.'!K324","v":"Blok Operacyjny"},"","","Sekcja Marketingu","1.04.04"]
["1-324",{"$f":"'baza inwest.'!C325","v":"Klipsownica"},null,0,"               ",{"$f":"'baza inwest.'!E325","v":4494},0,null,null,{"$f":"'baza inwest.'!K325","v":"Blok Operacyjny"},"","","Sekcja Marketingu","1.04.04"]
["1-325",{"$f":"'baza inwest.'!C326","v":"Klipsownica"},null,0,"               ",{"$f":"'baza inwest.'!E326","v":4752},0,null,null,{"$f":"'baza inwest.'!K326","v":"Blok Operacyjny"},"","","Sekcja Marketingu","1.04.04"]
["1-326",{"$f":"'baza inwest.'!C327","v":"Klipsownica"},null,0,"               ",{"$f":"'baza inwest.'!E327","v":4752},0,null,null,{"$f":"'baza inwest.'!K327","v":"Blok Operacyjny"},"","","Sekcja Marketingu","1.04.04"]
["1-327",{"$f":"'baza inwest.'!C328","v":"Klipsownica"},null,0,"               ",{"$f":"'baza inwest.'!E328","v":4752},0,null,null,{"$f":"'baza inwest.'!K328","v":"Blok Operacyjny"},"","","Sekcja Marketingu","1.04.04"]
["1-328",{"$f":"'baza inwest.'!C329","v":"Kolonoskop Video"},null,0,"               ",{"$f":"'baza inwest.'!E329","v":51338.6},0,null,null,{"$f":"'baza inwest.'!K329","v":"Pracownia Endoskopii"},"","","Sekcja Marketingu","1.04.04"]
["1-329",{"$f":"'baza inwest.'!C330","v":"Kolonoskop Video"},{"$f":"'baza inwest.'!D330","v":"producent: OLYMPUS"},0,"               ",{"$f":"'baza inwest.'!E330","v":106572},0,null,null,{"$f":"'baza inwest.'!K330","v":"Pracownia Endoskopii"},"","","Sekcja Marketingu","1.04.04"]
["1-330",{"$f":"'baza inwest.'!C331","v":"Kolonoskop Video"},{"$f":"'baza inwest.'!D331","v":"Typ: SOM 52;Producent: Karl Kaps; "},0,"               ",{"$f":"'baza inwest.'!E331","v":49698.99},0,null,null,{"$f":"'baza inwest.'!K331","v":"Oddział Położniczo – Ginekologiczny"},"","","Sekcja Marketingu","1.04.04"]
["1-331",{"$f":"'baza inwest.'!C332","v":"Kolumna sufitowa"},null,0,"               ",{"$f":"'baza inwest.'!E332","v":64800},0,null,null,{"$f":"'baza inwest.'!K332","v":"Pracownia Endoskopii"},"","","Sekcja Marketingu","1.04.04"]
["1-332",{"$f":"'baza inwest.'!C333","v":"Kolumna sufitowa"},{"$f":"'baza inwest.'!D333","v":"Typ: OndaScope 400; producent: ONDAL Industrietechnik, Niemcy."},0,"               ",{"$f":"'baza inwest.'!E333","v":65880},0,null,null,{"$f":"'baza inwest.'!K333","v":"Pracownia Endoskopii"},"","","Sekcja Marketingu","1.04.04"]
["1-333",{"$f":"'baza inwest.'!C334","v":"Kolumna zasilająca"},null,0,"               ",{"$f":"'baza inwest.'!E334","v":82080},0,null,null,{"$f":"'baza inwest.'!K334","v":"Blok Operacyjny"},"","","Sekcja Marketingu","1.04.04"]
["1-334",{"$f":"'baza inwest.'!C335","v":"Kolumnowy system zasilania - kolumna do endoskopii"},null,0,"               ",{"$f":"'baza inwest.'!E335","v":36190.800000000003},0,null,null,{"$f":"'baza inwest.'!K335","v":"Oddział Urologii i Urologii Onkologicznej"},"","","Sekcja Marketingu","1.04.04"]
["1-335",{"$f":"'baza inwest.'!C336","v":"Komora laminarna"},{"$f":"'baza inwest.'!D336","v":"typ: KLVS-1C; Cechy: z pionowym przepływem powietrza. Producent: Polon-Poznań."},0,"               ",{"$f":"'baza inwest.'!E336","v":18300},0,null,null,{"$f":"'baza inwest.'!K336","v":"Apteka Szpitalna"},"","","Sekcja Marketingu","1.04.04"]
["1-336",{"$f":"'baza inwest.'!C337","v":"Komora laminarna"},{"$f":"'baza inwest.'!D337","v":"typ: MARS Pro 1200; producent: SCANLAF, Dania"},0,"               ",{"$f":"'baza inwest.'!E337","v":48954},0,null,null,{"$f":"'baza inwest.'!K337","v":"Apteka Szpitalna"},"","","Sekcja Marketingu","1.04.04"]
["1-337",{"$f":"'baza inwest.'!C338","v":"Komora laminarna"},{"$f":"'baza inwest.'!D338","v":0},0,"               ",{"$f":"'baza inwest.'!E338","v":26026.799999999999},0,null,null,{"$f":"'baza inwest.'!K338","v":"Apteka Szpitalna"},"","","Sekcja Marketingu","1.04.04"]
["1-338",{"$f":"'baza inwest.'!C339","v":"Kompresor bezolejowy "},null,0,"               ",{"$f":"'baza inwest.'!E339","v":3665.4},0,null,null,{"$f":"'baza inwest.'!K339","v":"Dział Centralnej Sterylizatorni i DDD"},"","","Sekcja Marketingu","1.04.04"]
["1-339",{"$f":"'baza inwest.'!C340","v":"Komputerowy tonometr"},{"$f":"'baza inwest.'!D340","v":"typ/model: TX-10 CANOTX-011\r"},0,"               ",{"$f":"'baza inwest.'!E340","v":15000},0,null,null,{"$f":"'baza inwest.'!K340","v":"Oddział Okulistyczny"},"","","Sekcja Marketingu","1.04.04"]
["1-340",{"$f":"'baza inwest.'!C341","v":"Konsola morcelatora UNIDRIVE S III"},{"$f":"'baza inwest.'!D341","v":"producent: KARL STORZ"},0,"               ",{"$f":"'baza inwest.'!E341","v":16740},0,null,null,{"$f":"'baza inwest.'!K341","v":"Blok Operacyjny"},"","","Sekcja Marketingu","1.04.04"]
["1-341",{"$f":"'baza inwest.'!C342","v":"Kontener do bielizny brudnej"},null,0,"               ",{"$f":"'baza inwest.'!E342","v":5756.4},0,null,null,{"$f":"'baza inwest.'!K342","v":"Oddział Otolaryngologiczny z Pododdziałem Otolaryngologii"},"","","Sekcja Marketingu","1.04.04"]
["1-342",{"$f":"'baza inwest.'!C343","v":"Kontener do sterylizacji z zaworem ciśnienia"},null,0,"               ",{"$f":"'baza inwest.'!E343","v":4419.1000000000004},0,null,null,{"$f":"'baza inwest.'!K343","v":"Dział Centralnej Sterylizatorni i DDD"},"","","Sekcja Marketingu","1.04.04"]
["1-343",{"$f":"'baza inwest.'!C344","v":"Kontener transportowy"},{"$f":"'baza inwest.'!D344","v":"Model: TBA 55 SG"},0,"               ",{"$f":"'baza inwest.'!E344","v":5538.31},0,null,null,{"$f":"'baza inwest.'!K344","v":"Oddział Kardiologiczny"},"","","Sekcja Marketingu","1.04.04"]
["1-344",{"$f":"'baza inwest.'!C345","v":"Kontener transportowy zamknięty do bielizny brudnej"},{"$f":"'baza inwest.'!D345","v":"producent: Alvi, Włochy"},0,"               ",{"$f":"'baza inwest.'!E345","v":5537.46},0,null,null,{"$f":"'baza inwest.'!K345","v":"Oddział Położniczo – Ginekologiczny"},"","","Sekcja Marketingu","1.04.04"]
["1-345",{"$f":"'baza inwest.'!C346","v":"Kontener transportowy zamknięty do bielizny brudnej"},{"$f":"'baza inwest.'!D346","v":"producent: Alvi, Włochy"},0,"               ",{"$f":"'baza inwest.'!E346","v":5650.62},0,null,null,{"$f":"'baza inwest.'!K346","v":"Oddział Kardiologiczny"},"","","Sekcja Marketingu","1.04.04"]
["1-346",{"$f":"'baza inwest.'!C347","v":"Kontener transportowy zamknięty do bielizny brudnej"},null,0,"               ",{"$f":"'baza inwest.'!E347","v":5650.62},0,null,null,{"$f":"'baza inwest.'!K347","v":"Oddział Kardiologii Dziecięcej z Pododdziałem Kardiochirurgi"},"","","Sekcja Marketingu","1.04.04"]
["1-347",{"$f":"'baza inwest.'!C348","v":"Kontener transportowy zamknięty do bielizny brudnej"},null,0,"               ",{"$f":"'baza inwest.'!E348","v":5650.62},0,null,null,{"$f":"'baza inwest.'!K348","v":"Oddział Neonatologiczny z Pododdziałem Patologii Noworodka"},"","","Sekcja Marketingu","1.04.04"]
["1-348",{"$f":"'baza inwest.'!C349","v":"Kontener transportowy zamknięty do bielizny brudnej"},{"$f":"'baza inwest.'!D349","v":"producent: Alvi, Włochy"},0,"               ",{"$f":"'baza inwest.'!E349","v":5650.62},0,null,null,{"$f":"'baza inwest.'!K349","v":"Oddział Pediatryczny z Pododdziałem Gastroenterologii"},"","","Sekcja Marketingu","1.04.04"]
["1-349",{"$f":"'baza inwest.'!C350","v":"Kontener transportowy zamknięty do bielizny brudnej"},{"$f":"'baza inwest.'!D350","v":"producent: Alvi, Włochy"},0,"               ",{"$f":"'baza inwest.'!E350","v":5650.62},0,null,null,{"$f":"'baza inwest.'!K350","v":"Oddział Położniczo – Ginekologiczny"},"","","Sekcja Marketingu","1.04.04"]
["1-350",{"$f":"'baza inwest.'!C351","v":"Kontener transportowy zamknięty do bielizny brudnej"},{"$f":"'baza inwest.'!D351","v":"producent: Alvi, Włochy"},0,"               ",{"$f":"'baza inwest.'!E351","v":5650.62},0,null,null,{"$f":"'baza inwest.'!K351","v":"Oddział Położniczo – Ginekologiczny"},"","","Sekcja Marketingu","1.04.04"]
["1-351",{"$f":"'baza inwest.'!C352","v":"Kontener zamknięty"},{"$f":"'baza inwest.'!D352","v":0},0,"               ",{"$f":"'baza inwest.'!E352","v":5002},0,null,null,{"$f":"'baza inwest.'!K352","v":"Blok Operacyjny"},"","","Sekcja Marketingu","1.04.04"]
["1-352",{"$f":"'baza inwest.'!C353","v":"Kontener zamknięty z kurkiem do odprowadzania wody"},null,0,"               ",{"$f":"'baza inwest.'!E353","v":5368},0,null,null,{"$f":"'baza inwest.'!K353","v":"Oddział Urologii i Urologii Onkologicznej"},"","","Sekcja Marketingu","1.04.04"]
["1-353",{"$f":"'baza inwest.'!C354","v":"Kuchnia parafinowa"},null,0,"               ",{"$f":"'baza inwest.'!E354","v":4070},0,null,null,{"$f":"'baza inwest.'!K354","v":"Zamiejscowy Dział Rehabilitacji Leczniczej"},"","",{"$f":"$B$2","v":"Sekcja Marketingu"},"1.04.04"]
["1-354",{"$f":"'baza inwest.'!C355","v":"Lada rejestracji ze szklaną szybą"},null,0,"               ",{"$f":"'baza inwest.'!E355","v":25682.63},0,null,null,{"$f":"'baza inwest.'!K355","v":"Dział Rejestracji Statystyki i Dokumentacji Medycznej"},"","","Sekcja Marketingu","1.04.04"]
["1-355",{"$f":"'baza inwest.'!C356","v":"Lampa bezcieniowa 3-ogniskowa "},{"$f":"'baza inwest.'!D356","v":0},0,"               ",{"$f":"'baza inwest.'!E356","v":12932},0,null,null,{"$f":"'baza inwest.'!K356","v":"Zamiejscowy Blok Operacyjny"},"","","Sekcja Marketingu","1.04.04"]
["1-356",{"$f":"'baza inwest.'!C357","v":"Lampa Bioptron"},null,0,"               ",{"$f":"'baza inwest.'!E357","v":5294.36},0,null,null,{"$f":"'baza inwest.'!K357","v":"Intensywna Terapia"},"","","Sekcja Marketingu","1.04.04"]
["1-357",{"$f":"'baza inwest.'!C358","v":"Lampa Bioptron ze statywem podłogowym"},null,0,"               ",{"$f":"'baza inwest.'!E358","v":5890},0,null,null,{"$f":"'baza inwest.'!K358","v":"Oddział Chirurgii Ogólnej z Pododdziałami"},"","","Sekcja Marketingu","1.04.04"]
["1-358",{"$f":"'baza inwest.'!C359","v":"Lampa Bioptron ze statywem podłogowym"},{"$f":"'baza inwest.'!D359","v":0},0,"               ",{"$f":"'baza inwest.'!E359","v":6005.88},0,null,null,{"$f":"'baza inwest.'!K359","v":"Oddział Urologii i Urologii Onkologicznej"},"","","Sekcja Marketingu","1.04.04"]
["1-359",{"$f":"'baza inwest.'!C360","v":"Lampa Bioptron ze statywem podłogowym"},null,0,"               ",{"$f":"'baza inwest.'!E360","v":6005.88},0,null,null,{"$f":"'baza inwest.'!K360","v":"Zamiejscowy Oddział Rehabilitacji Neurologicznej"},"","","Sekcja Marketingu","1.04.04"]
["1-360",{"$f":"'baza inwest.'!C361","v":"Lampa czołowa Karl Storz"},null,0,"               ",{"$f":"'baza inwest.'!E361","v":3511.83},0,null,null,{"$f":"'baza inwest.'!K361","v":"SOR"},"","","Sekcja Marketingu","1.04.04"]
["1-361",{"$f":"'baza inwest.'!C362","v":"Lampa czołowa przenośna"},{"$f":"'baza inwest.'!D362","v":0},0,"               ",{"$f":"'baza inwest.'!E362","v":4499.99},0,null,null,{"$f":"'baza inwest.'!K362","v":"Blok Operacyjny"},"","","Sekcja Marketingu","1.04.04"]
["1-362",{"$f":"'baza inwest.'!C363","v":"Lampa czołowa przenośna"},null,0,"               ",{"$f":"'baza inwest.'!E363","v":4500},0,null,null,{"$f":"'baza inwest.'!K363","v":"Blok Operacyjny"},"","","Sekcja Marketingu","1.04.04"]
["1-363",{"$f":"'baza inwest.'!C364","v":"Lampa do fototerapii"},null,0,"               ",{"$f":"'baza inwest.'!E364","v":7490},0,null,null,{"$f":"'baza inwest.'!K364","v":"Oddział Neonatologiczny z Pododdziałem Patologii Noworodka"},"","","Sekcja Marketingu","1.04.04"]
["1-364",{"$f":"'baza inwest.'!C365","v":"Lampa do fototerapii"},null,0,"               ",{"$f":"'baza inwest.'!E365","v":9662.1},0,null,null,{"$f":"'baza inwest.'!K365","v":"Oddział Neonatologiczny z Pododdziałem Patologii Noworodka"},"","","Sekcja Marketingu","1.04.04"]
["1-365",{"$f":"'baza inwest.'!C366","v":"Lampa do fototerapii"},null,0,"               ",{"$f":"'baza inwest.'!E366","v":10700},0,null,null,{"$f":"'baza inwest.'!K366","v":"Oddział Neonatologiczny z Pododdziałem Patologii Noworodka"},"","","Sekcja Marketingu","1.04.04"]
["1-366",{"$f":"'baza inwest.'!C367","v":"Lampa do fototerapii"},{"$f":"'baza inwest.'!D367","v":"producent: Natus Medical Inc."},0,"               ",{"$f":"'baza inwest.'!E367","v":14744.6},0,null,null,{"$f":"'baza inwest.'!K367","v":"Oddział Neonatologiczny z Pododdziałem Patologii Noworodka"},"","","Sekcja Marketingu","1.04.04"]
["1-367",{"$f":"'baza inwest.'!C368","v":"Lampa do fototerapii"},{"$f":"'baza inwest.'!D368","v":"typ: NEOBLUE MINI LED phototherapy; producent: Natus Medical Inc."},0,"               ",{"$f":"'baza inwest.'!E368","v":8721.57},0,null,null,{"$f":"'baza inwest.'!K368","v":"NOWORODKI (p. Pastuszka)"},"","","Sekcja Marketingu","1.04.04"]
["1-368",{"$f":"'baza inwest.'!C369","v":"Lampa do fototerapii"},{"$f":"'baza inwest.'!D369","v":"producent: NATUS"},0,"               ",{"$f":"'baza inwest.'!E369","v":9523},0,null,null,{"$f":"'baza inwest.'!K369","v":"Oddział Kardiologii Dziecięcej z Pododdziałem Kardiochirurgi"},"","","Sekcja Marketingu","1.04.04"]
["1-369",{"$f":"'baza inwest.'!C370","v":"Lampa Excimer System"},null,0,"               ",{"$f":"'baza inwest.'!E370","v":84000},0,null,null,{"$f":"'baza inwest.'!K370","v":"Poradnia Dermatologiczna"},"","","Sekcja Marketingu","1.04.04"]
["1-370",{"$f":"'baza inwest.'!C371","v":"Lampa łóżeczkowa do fototerapii BILIBED"},null,0,"               ",{"$f":"'baza inwest.'!E371","v":9504},0,null,null,{"$f":"'baza inwest.'!K371","v":"Oddział Neonatologiczny z Pododdziałem Patologii Noworodka"},"","","Sekcja Marketingu","1.04.04"]
["1-371",{"$f":"'baza inwest.'!C372","v":"Lampa operacyjna bezcieniowa"},null,0,"               ",{"$f":"'baza inwest.'!E372","v":31565},0,null,null,{"$f":"'baza inwest.'!K372","v":"Oddział Urologii i Urologii Onkologicznej"},"","","Sekcja Marketingu","1.04.04"]
["1-372",{"$f":"'baza inwest.'!C373","v":"Lampa operacyjna "},{"$f":"'baza inwest.'!D373","v":"producent: DR.MACH GmbH&Co. KG"},0,"               ",{"$f":"'baza inwest.'!E373","v":47021.83},0,null,null,{"$f":"'baza inwest.'!K373","v":"Blok Operacyjny"},"","","Sekcja Marketingu","1.04.04"]
["1-373",{"$f":"'baza inwest.'!C374","v":"Lampa operacyjna z kamerą"},null,0,"               ",{"$f":"'baza inwest.'!E374","v":85788},0,null,null,{"$f":"'baza inwest.'!K374","v":"Blok Operacyjny"},"","","Sekcja Marketingu","1.04.04"]
["1-374",{"$f":"'baza inwest.'!C375","v":"Lampa operacyjna z monitorem"},{"$f":"'baza inwest.'!D375","v":0},0,"               ",{"$f":"'baza inwest.'!E375","v":61380},0,null,null,{"$f":"'baza inwest.'!K375","v":"Blok Operacyjny"},"","","Sekcja Marketingu","1.04.04"]
["1-375",{"$f":"'baza inwest.'!C376","v":"Lampa operacyjna"},null,0,"               ",{"$f":"'baza inwest.'!E376","v":50360.11},0,null,null,{"$f":"'baza inwest.'!K376","v":"Blok Operacyjny"},"","","Sekcja Marketingu","1.04.04"]
["1-376",{"$f":"'baza inwest.'!C377","v":"Lampa operacyjna"},{"$f":"'baza inwest.'!D377","v":0},0,"               ",{"$f":"'baza inwest.'!E377","v":96588},0,null,null,{"$f":"'baza inwest.'!K377","v":"Blok Operacyjny"},"","","Sekcja Marketingu","1.04.04"]
["1-377",{"$f":"'baza inwest.'!C378","v":"Lampa operacyjna dwugłowicowa z satelitą"},null,0,"               ",{"$f":"'baza inwest.'!E378","v":30090.54},0,null,null,{"$f":"'baza inwest.'!K378","v":"Oddział Okulistyczny"},"","","Sekcja Marketingu","1.04.04"]
["1-378",{"$f":"'baza inwest.'!C379","v":"Lampa operacyjna"},null,0,"               ",{"$f":"'baza inwest.'!E379","v":20972},0,null,null,{"$f":"'baza inwest.'!K379","v":"Blok Operacyjny"},"","","Sekcja Marketingu","1.04.04"]
["1-379",{"$f":"'baza inwest.'!C380","v":"Lampa operacyjna jednogłowicowa"},null,0,"               ",{"$f":"'baza inwest.'!E380","v":15170.46},0,null,null,{"$f":"'baza inwest.'!K380","v":"Oddział Okulistyczny"},"","","Sekcja Marketingu","1.04.04"]
["1-380",{"$f":"'baza inwest.'!C381","v":"Lampa operacyjna"},{"$f":"'baza inwest.'!D381","v":"prod: Famed Żywiec S.A., Polska"},0,"               ",{"$f":"'baza inwest.'!E381","v":14599.07},0,null,null,{"$f":"'baza inwest.'!K381","v":"Pracownia Elektrofizjologii"},"","","Sekcja Marketingu","1.04.04"]
["1-381",{"$f":"'baza inwest.'!C382","v":"Lampa operacyjna statywowa mobilna"},null,0,"               ",{"$f":"'baza inwest.'!E382","v":9630},0,null,null,{"$f":"'baza inwest.'!K382","v":"Oddział Chirurgii Ogólnej z Pododdziałami"},"","","Sekcja Marketingu","1.04.04"]
["1-382",{"$f":"'baza inwest.'!C383","v":"Lampa operacyjna statywowa mobilna z zasilaczem akumulatorowym"},{"$f":"'baza inwest.'!D383","v":"typ: ML600/MB plus; producent: Mediland Enterprise Corporation"},0,"               ",{"$f":"'baza inwest.'!E383","v":16050},0,null,null,{"$f":"'baza inwest.'!K383","v":"Intensywna Terapia"},"","","Sekcja Marketingu","1.04.04"]
["1-383",{"$f":"'baza inwest.'!C384","v":"Lampa operacyjna sufitowa"},{"$f":"'baza inwest.'!D384","v":"producent: KLS MARTIN, NIEMCY"},0,"               ",{"$f":"'baza inwest.'!E384","v":38270.69},0,null,null,{"$f":"'baza inwest.'!K384","v":"SOR"},"","","Sekcja Marketingu","1.04.04"]
["1-384",{"$f":"'baza inwest.'!C385","v":"Lampa operacyjna sufitowa jednogłowicowa"},{"$f":"'baza inwest.'!D385","v":"typ: iLED 3; producent: TRUMPF"},0,"               ",{"$f":"'baza inwest.'!E385","v":16050},0,null,null,{"$f":"'baza inwest.'!K385","v":"Oddział Chirurgii Ogólnej z Pododdziałami"},"","","Sekcja Marketingu","1.04.04"]
["1-385",{"$f":"'baza inwest.'!C386","v":"Lampa operacyjna sufitowa jednogłowicowa"},{"$f":"'baza inwest.'!D386","v":"typ: iLED 3; producent: TRUMPF"},0,"               ",{"$f":"'baza inwest.'!E386","v":16050},0,null,null,{"$f":"'baza inwest.'!K386","v":"Oddział Chirurgii Onkologicznej"},"","","Sekcja Marketingu",{"$f":"$I$2","v":"1.04.04"}]
["1-386",{"$f":"'baza inwest.'!C387","v":"Lampa szczelinowa"},{"$f":"'baza inwest.'!D387","v":"typ/model: 30SL/M; \r"},0,"               ",{"$f":"'baza inwest.'!E387","v":24774.12},{"$f":"D392*F392","v":0},null,null,{"$f":"'baza inwest.'!K387","v":"Oddział Okulistyczny"},{"$f":"IF($B$2=J392,$B$2,\"\")","v":""},{"$f":"IF($B$2=K392,1,\"\")","v":""},"Sekcja Marketingu","1.04.04"]
["1-387",{"$f":"'baza inwest.'!C388","v":"Lampa szczelinowa"},null,0,"               ",{"$f":"'baza inwest.'!E388","v":45950},0,null,null,{"$f":"'baza inwest.'!K388","v":"Poradnia Okulistyczna"},"","","Sekcja Marketingu","1.04.04"]
["1-388",{"$f":"'baza inwest.'!C389","v":"Lampa szczelinowa"},{"$f":"'baza inwest.'!D389","v":"producent: TOPCON MEDICAL SYSTEMS, INC; USA"},0,"               ",{"$f":"'baza inwest.'!E389","v":15000},0,null,null,{"$f":"'baza inwest.'!K389","v":"Oddział Okulistyczny"},"","","Sekcja Marketingu","1.04.04"]
["1-389",{"$f":"'baza inwest.'!C390","v":"Lampa szczelinowa"},null,0,"               ",{"$f":"'baza inwest.'!E390","v":21079},0,null,null,{"$f":"'baza inwest.'!K390","v":"SOR"},"","","Sekcja Marketingu","1.04.04"]
["1-390",{"$f":"'baza inwest.'!C391","v":"Lampa szczelinowa z przystawką cyfrową i stolikiem elektrycznym"},null,0,"               ",{"$f":"'baza inwest.'!E391","v":35027.519999999997},0,null,null,{"$f":"'baza inwest.'!K391","v":"Oddział Okulistyczny"},"","","Sekcja Marketingu","1.04.04"]
["1-391",{"$f":"'baza inwest.'!C392","v":"Lampa szczelinowa z tonometrem aplanacyjnym"},null,0,"               ",{"$f":"'baza inwest.'!E392","v":18297},0,null,null,{"$f":"'baza inwest.'!K392","v":"Poradnia Okulistyczna"},"","","Sekcja Marketingu","1.04.04"]
["1-392",{"$f":"'baza inwest.'!C393","v":"Lampa szczelinowa z tonometrem aplanacyjnym"},null,0,"               ",{"$f":"'baza inwest.'!E393","v":20223},0,null,null,{"$f":"'baza inwest.'!K393","v":"Oddział Okulistyczny"},"","","Sekcja Marketingu","1.04.04"]
["1-393",{"$f":"'baza inwest.'!C394","v":"Lampa szczelinowa z tonometrem aplanacyjnym"},null,0,"               ",{"$f":"'baza inwest.'!E394","v":20223},0,null,null,{"$f":"'baza inwest.'!K394","v":"Oddział Okulistyczny"},"","","Sekcja Marketingu","1.04.04"]
["1-394",{"$f":"'baza inwest.'!C395","v":"Lampa zabiegowa "},null,0,"               ",{"$f":"'baza inwest.'!E395","v":9572.2199999999993},0,null,null,{"$f":"'baza inwest.'!K395","v":"DODO - Pracownia Diagnostyczno - Zabiegowa Naczyń"},"","","Sekcja Marketingu","1.04.04"]
["1-395",{"$f":"'baza inwest.'!C396","v":"Lampa zabiegowa sufitowa"},null,0,"               ",{"$f":"'baza inwest.'!E396","v":12570.48},0,null,null,{"$f":"'baza inwest.'!K396","v":"Poradnia Chirurgii Onkologicznej"},"","","Sekcja Marketingu","1.04.04"]
["1-396",{"$f":"'baza inwest.'!C397","v":"Laryngoskop do trudnej intubacji"},null,0,"               ",{"$f":"'baza inwest.'!E397","v":4104},0,null,null,{"$f":"'baza inwest.'!K397","v":"Anestezjologia"},"","","Sekcja Marketingu","1.04.04"]
["1-397",{"$f":"'baza inwest.'!C398","v":"Laser biostymulujący "},null,0,"               ",{"$f":"'baza inwest.'!E398","v":3913.27},0,null,null,{"$f":"'baza inwest.'!K398","v":"Zamiejscowy Dział Rehabilitacji Leczniczej"},"","","Sekcja Marketingu","1.04.04"]
["1-398",{"$f":"'baza inwest.'!C399","v":"Laser chirurgiczny CO2 10600nm - 15W"},{"$f":"'baza inwest.'!D399","v":"Model: ScalpLX"},0,"               ",{"$f":"'baza inwest.'!E399","v":30456},0,null,null,{"$f":"'baza inwest.'!K399","v":"Oddział Dermatologiczny"},"","","Sekcja Marketingu","1.04.04"]
["1-399",{"$f":"'baza inwest.'!C400","v":"Laser DELTA 15"},null,0,"               ",{"$f":"'baza inwest.'!E400","v":68930.259999999995},0,null,null,{"$f":"'baza inwest.'!K400","v":"Blok Operacyjny"},"","","Sekcja Marketingu","1.04.04"]
["1-400",{"$f":"'baza inwest.'!C401","v":"Laser do rozbijania kamieni "},{"$f":"'baza inwest.'!D401","v":0},0,"               ",{"$f":"'baza inwest.'!E401","v":112564},0,null,null,{"$f":"'baza inwest.'!K401","v":"Oddział Urologii i Urologii Onkologicznej"},"","","Sekcja Marketingu","1.04.04"]
["1-401",{"$f":"'baza inwest.'!C402","v":"Laser do waporyzacji prostaty"},null,0,"               ",{"$f":"'baza inwest.'!E402","v":374500},0,null,null,{"$f":"'baza inwest.'!K402","v":"Oddział Urologii i Urologii Onkologicznej"},"","","Sekcja Marketingu","1.04.04"]
["1-402",{"$f":"'baza inwest.'!C403","v":"Laser okulistyczny"},null,0,"               ",{"$f":"'baza inwest.'!E403","v":94695},0,null,null,{"$f":"'baza inwest.'!K403","v":"Oddział Okulistyczny"},"","","Sekcja Marketingu","1.04.04"]
["1-403",{"$f":"'baza inwest.'!C404","v":"Laser okulistyczny"},null,0,"               ",{"$f":"'baza inwest.'!E404","v":105130.9},0,null,null,{"$f":"'baza inwest.'!K404","v":"Oddział Okulistyczny"},"","","Sekcja Marketingu","1.04.04"]
["1-404",{"$f":"'baza inwest.'!C405","v":"Laser okulistyczny"},null,0,"               ",{"$f":"'baza inwest.'!E405","v":62478.51},0,null,null,{"$f":"'baza inwest.'!K405","v":"SOR"},"","","Sekcja Marketingu","1.04.04"]
["1-405",{"$f":"'baza inwest.'!C406","v":"Litotryptor"},{"$f":"'baza inwest.'!D406","v":"mały, nieoptyczny; prod: KARL STORZ; NIEMCY"},0,"               ",{"$f":"'baza inwest.'!E406","v":3931.65},0,null,null,{"$f":"'baza inwest.'!K406","v":"Oddział Urologii i Urologii Onkologicznej"},"","","Sekcja Marketingu","1.04.04"]
["1-406",{"$f":"'baza inwest.'!C407","v":"Litotryptor"},null,0,"               ",{"$f":"'baza inwest.'!E407","v":11733.62},0,null,null,{"$f":"'baza inwest.'!K407","v":"Oddział Urologii i Urologii Onkologicznej"},"","","Sekcja Marketingu","1.04.04"]
["1-407",{"$f":"'baza inwest.'!C408","v":"Litotryptor mały"},{"$f":"'baza inwest.'!D408","v":"producent: Karl Storz"},0,"               ",{"$f":"'baza inwest.'!E408","v":5339.06},0,null,null,{"$f":"'baza inwest.'!K408","v":"Oddział Urologii i Urologii Onkologicznej"},"","","Sekcja Marketingu","1.04.04"]
["1-408",{"$f":"'baza inwest.'!C409","v":"Litotryptor ultradźwiękowy"},{"$f":"'baza inwest.'!D409","v":0},0,"               ",{"$f":"'baza inwest.'!E409","v":53621.98},0,null,null,{"$f":"'baza inwest.'!K409","v":"Oddział Urologii i Urologii Onkologicznej"},"","","Sekcja Marketingu","1.04.04"]
["1-409",{"$f":"'baza inwest.'!C410","v":"Lodówka "},null,0,"               ",{"$f":"'baza inwest.'!E410","v":4300},0,null,null,{"$f":"'baza inwest.'!K410","v":"Oddział Kardiologiczny"},"","","Sekcja Marketingu","1.04.04"]
["1-410",{"$f":"'baza inwest.'!C411","v":"Lupa operacyjna"},null,0,"               ",{"$f":"'baza inwest.'!E411","v":8025},0,null,null,{"$f":"'baza inwest.'!K411","v":"Blok Operacyjny"},"","","Sekcja Marketingu","1.04.04"]
["1-411",{"$f":"'baza inwest.'!C412","v":"Lupa operacyjna"},null,0,"               ",{"$f":"'baza inwest.'!E412","v":7704},0,null,null,{"$f":"'baza inwest.'!K412","v":"Oddział Chirurgii Ogólnej z Pododdziałami"},"","","Sekcja Marketingu","1.04.04"]
["1-412",{"$f":"'baza inwest.'!C413","v":"Lupa operacyjna"},null,0,"               ",{"$f":"'baza inwest.'!E413","v":7500},0,null,null,{"$f":"'baza inwest.'!K413","v":"Blok Operacyjny"},"","","Sekcja Marketingu","1.04.04"]
["1-413",{"$f":"'baza inwest.'!C414","v":"Łóżko do intens. opieki med. z funkcją pomiaru masy pacjenta "},{"$f":"'baza inwest.'!D414","v":"producent: LINET"},0,"               ",{"$f":"'baza inwest.'!E414","v":24999.84},0,null,null,{"$f":"'baza inwest.'!K414","v":"Oddział Chirurgii Naczyniowej"},"","","Sekcja Marketingu","1.04.04"]
["1-414",{"$f":"'baza inwest.'!C415","v":"Łóżko do intensywenj terapii"},{"$f":"'baza inwest.'!D415","v":0},0,"               ",{"$f":"'baza inwest.'!E415","v":37129},0,null,null,{"$f":"'baza inwest.'!K415","v":"Oddział Chirurgii Naczyniowej"},"","","Sekcja Marketingu","1.04.04"]
["1-415",{"$f":"'baza inwest.'!C416","v":"Łóżko do intens. opieki med. z funkcją pomiaru masy pacjenta "},null,0,"               ",{"$f":"'baza inwest.'!E416","v":33998.400000000001},0,null,null,{"$f":"'baza inwest.'!K416","v":"Intensywna Terapia"},"","","Sekcja Marketingu","1.04.04"]
["1-416",{"$f":"'baza inwest.'!C417","v":"Łóżko do intensywenj terapii"},null,0,"               ",{"$f":"'baza inwest.'!E417","v":28355},0,null,null,{"$f":"'baza inwest.'!K417","v":"Oddział Kardiologiczny"},"","","Sekcja Marketingu","1.04.04"]
["1-417",{"$f":"'baza inwest.'!C418","v":"Łóżko do intensywenj terapii"},null,0,"               ",{"$f":"'baza inwest.'!E418","v":20865},0,null,null,{"$f":"'baza inwest.'!K418","v":"Oddział Chirurgii Ogólnej z Pododdziałami"},"","",{"$f":"$B$2","v":"Sekcja Marketingu"},"1.04.04"]
["1-418",{"$f":"'baza inwest.'!C419","v":"Łóżko do intensywenj terapii"},null,0,"               ",{"$f":"'baza inwest.'!E419","v":29799.360000000001},0,null,null,{"$f":"'baza inwest.'!K419","v":"Intensywna Terapia"},"","","Sekcja Marketingu","1.04.04"]
["1-419",{"$f":"'baza inwest.'!C420","v":"Łóżko do intensywenj terapii"},{"$f":"'baza inwest.'!D420","v":"typ/model: Eleganza XC; 1GX 42121-129"},0,"               ",{"$f":"'baza inwest.'!E420","v":27820},0,null,null,{"$f":"'baza inwest.'!K420","v":"Oddział Nefrologiczny"},"","","Sekcja Marketingu","1.04.04"]
["1-420",{"$f":"'baza inwest.'!C421","v":"Łóżko do intens. opieki med. z funkcją pomiaru masy pacjenta "},null,0,"               ",{"$f":"'baza inwest.'!E421","v":30602},0,null,null,{"$f":"'baza inwest.'!K421","v":"Oddział Kardiologiczny"},"","","Sekcja Marketingu","1.04.04"]
["1-421",{"$f":"'baza inwest.'!C422","v":"Łóżko do intensywenj terapii"},null,0,"               ",{"$f":"'baza inwest.'!E422","v":33999.480000000003},0,null,null,{"$f":"'baza inwest.'!K422","v":"SOR"},"","","Sekcja Marketingu","1.04.04"]
["1-422",{"$f":"'baza inwest.'!C423","v":"Łóżko do intens. opieki med. z funkcją pomiaru masy pacjenta "},{"$f":"'baza inwest.'!D423","v":"Typ:  Eleganza 3XC; producent: LINETspol s.r.o., Czechy"},0,"               ",{"$f":"'baza inwest.'!E423","v":32999.4},0,null,null,{"$f":"'baza inwest.'!K423","v":"Intensywna Terapia"},"","","Sekcja Marketingu","1.04.04"]
["1-423",{"$f":"'baza inwest.'!C424","v":"Łóżko do intensywenj terapii"},{"$f":"'baza inwest.'!D424","v":0},0,"               ",{"$f":"'baza inwest.'!E424","v":7560},0,null,null,{"$f":"'baza inwest.'!K424","v":"Zamiejscowy Oddział Rehabilitacji Ogólnoustrojowej II"},"","","Sekcja Marketingu","1.04.04"]
["1-424",{"$f":"'baza inwest.'!C425","v":"Łóżko elektryczne wielofunkcyjne"},null,0,"               ",{"$f":"'baza inwest.'!E425","v":17535.96},0,null,null,{"$f":"'baza inwest.'!K425","v":"Zamiejscowy Oddział Rehabilitacji Ogólnoustrojowej II"},"","","Sekcja Marketingu","1.04.04"]
["1-425",{"$f":"'baza inwest.'!C426","v":"Łóżko elektryczne wielofunkcyjne"},null,0,"               ",{"$f":"'baza inwest.'!E426","v":17535.96},0,null,null,{"$f":"'baza inwest.'!K426","v":"Zamiejscowy Oddział Rehabilitacji Ogólnoustrojowej II"},"","","Sekcja Marketingu","1.04.04"]
["1-426",{"$f":"'baza inwest.'!C427","v":"Łóżko do intens. opieki med. z funkcją pomiaru masy pacjenta "},null,0,"               ",{"$f":"'baza inwest.'!E427","v":23705.85},0,null,null,{"$f":"'baza inwest.'!K427","v":"Oddział Chirurgii Naczyniowej"},"","","Sekcja Marketingu","1.04.04"]
["1-427",{"$f":"'baza inwest.'!C428","v":"Łóżko do intens. opieki med. z funkcją pomiaru masy pacjenta "},{"$f":"'baza inwest.'!D428","v":"typ: Eleganza XC"},0,"               ",{"$f":"'baza inwest.'!E428","v":23705.85},0,null,null,{"$f":"'baza inwest.'!K428","v":"Oddział Kardiologiczny"},"","","Sekcja Marketingu","1.04.04"]
["1-428",{"$f":"'baza inwest.'!C429","v":"Łóżko do intens. opieki med. z funkcją pomiaru masy pacjenta "},{"$f":"'baza inwest.'!D429","v":"typ: Eleganza XC; 1GX 22121-27"},0,"               ",{"$f":"'baza inwest.'!E429","v":23705.85},0,null,null,{"$f":"'baza inwest.'!K429","v":"Oddział Nefrologiczny"},"","","Sekcja Marketingu","1.04.04"]
["1-429",{"$f":"'baza inwest.'!C430","v":"Łóżko kardiologiczne"},{"$f":"'baza inwest.'!D430","v":"Łóżo wraz z materacem i wieszakiem do kroplówki."},0,"               ",{"$f":"'baza inwest.'!E430","v":6507},0,null,null,{"$f":"'baza inwest.'!K430","v":"Oddział Kardiologii Dziecięcej z Pododdziałem Kardiochirurgi"},"","","Sekcja Marketingu","1.04.04"]
["1-430",{"$f":"'baza inwest.'!C431","v":"Łóżko poporodowe, regulowane hydraulicznie"},{"$f":"'baza inwest.'!D431","v":"model: PLH-N85-T; Producent: PROMA REHA, "},0,"               ",{"$f":"'baza inwest.'!E431","v":5666.72},0,null,null,{"$f":"'baza inwest.'!K431","v":"Oddział Położniczo – Ginekologiczny"},"","","Sekcja Marketingu","1.04.04"]
["1-431",{"$f":"'baza inwest.'!C432","v":"Łóżko porodowe AVE"},{"$f":"'baza inwest.'!D432","v":"Typ: AVE; producent: BORCAD, Czechy"},0,"               ",{"$f":"'baza inwest.'!E432","v":59508},0,null,null,{"$f":"'baza inwest.'!K432","v":"Oddział Położniczo – Ginekologiczny"},"","","Sekcja Marketingu","1.04.04"]
["1-432",{"$f":"'baza inwest.'!C433","v":"Łóżko porodowo-pobytowe"},null,0,"               ",{"$f":"'baza inwest.'!E433","v":49315.23},0,null,null,{"$f":"'baza inwest.'!K433","v":"Oddział Położniczo – Ginekologiczny"},"","","Sekcja Marketingu","1.04.04"]
["1-433",{"$f":"'baza inwest.'!C434","v":"Łóżko rehabilitacyjne "},{"$f":"'baza inwest.'!D434","v":0},0,"               ",{"$f":"'baza inwest.'!E434","v":3653.3},0,null,null,{"$f":"'baza inwest.'!K434","v":"Zamiejscowy Oddział Chirurgii Urazowo - Ortopedycznej"},"","","Sekcja Marketingu","1.04.04"]
["1-434",{"$f":"'baza inwest.'!C435","v":"Łóżko rehabilitacyjne "},null,0,"               ",{"$f":"'baza inwest.'!E435","v":10000},0,null,null,{"$f":"'baza inwest.'!K435","v":"Zamiejscowy Oddział Rehabilitacji Neurologicznej"},"","","Sekcja Marketingu","1.04.04"]
["1-435",{"$f":"'baza inwest.'!C436","v":"Łóżko rehabilitacyjne "},null,0,"               ",{"$f":"'baza inwest.'!E436","v":20990.880000000001},0,null,null,{"$f":"'baza inwest.'!K436","v":"Zamiejscowy Oddział Rehabilitacji Neurologicznej"},"","","Sekcja Marketingu","1.04.04"]
["1-436",{"$f":"'baza inwest.'!C437","v":"Łóżko rehabilitacyjne "},{"$f":"'baza inwest.'!D437","v":"Typ: Novera. Wprowadzone komponenty."},0,"               ",{"$f":"'baza inwest.'!E437","v":4727.16},0,null,null,{"$f":"'baza inwest.'!K437","v":"Zamiejscowy Oddział Rehabilitacji Ogólnoustrojowej I"},"","","Sekcja Marketingu","1.04.04"]
["1-437",{"$f":"'baza inwest.'!C438","v":"Łóżko rehabilitacyjne "},{"$f":"'baza inwest.'!D438","v":0},0,"               ",{"$f":"'baza inwest.'!E438","v":4264.92},0,null,null,{"$f":"'baza inwest.'!K438","v":"Oddział Chirurgii Naczyniowej"},"","","Sekcja Marketingu","1.04.04"]
["1-438",{"$f":"'baza inwest.'!C439","v":"Łóżko rehabilitacyjne "},null,0,"               ",{"$f":"'baza inwest.'!E439","v":6825.6},0,null,null,{"$f":"'baza inwest.'!K439","v":"Zamiejscowy Oddział Rehabilitacji Ogólnoustrojowej II"},"","","Sekcja Marketingu","1.04.04"]
["1-439",{"$f":"'baza inwest.'!C440","v":"Łóżko specjalistyczne"},null,0,"               ",{"$f":"'baza inwest.'!E440","v":14783.04},0,null,null,{"$f":"'baza inwest.'!K440","v":"Zamiejscowy Oddział Chirurgii Urazowo - Ortopedycznej"},"","","Sekcja Marketingu","1.04.04"]
["1-440",{"$f":"'baza inwest.'!C441","v":"Łóżko szpitalne"},null,0,"               ",{"$f":"'baza inwest.'!E441","v":10614.4},0,null,null,{"$f":"'baza inwest.'!K441","v":"Oddział Położniczo – Ginekologiczny"},"","","Sekcja Marketingu","1.04.04"]
["1-441",{"$f":"'baza inwest.'!C442","v":"Łóżko szpitalne"},null,0,"               ",{"$f":"'baza inwest.'!E442","v":11998.8},0,null,null,{"$f":"'baza inwest.'!K442","v":"Zamiejscowy Oddział Rehabilitacji Ogólnoustrojowej I"},"","","Sekcja Marketingu","1.04.04"]
["1-442",{"$f":"'baza inwest.'!C443","v":"Łóżko szpitalne"},{"$f":"'baza inwest.'!D443","v":0},0,"               ",{"$f":"'baza inwest.'!E443","v":4881.34},0,null,null,{"$f":"'baza inwest.'!K443","v":"Oddział Chirurgii Naczyniowej"},"","","Sekcja Marketingu","1.04.04"]
["1-443",{"$f":"'baza inwest.'!C444","v":"Łóżko szpitalne"},null,0,"               ",{"$f":"'baza inwest.'!E444","v":4881.34},0,null,null,{"$f":"'baza inwest.'!K444","v":"Oddział Otolaryngologiczny z Pododdziałem Otolaryngologii"},"","","Sekcja Marketingu","1.04.04"]
["1-444",{"$f":"'baza inwest.'!C445","v":"Łóżko szpitalne"},null,0,"               ",{"$f":"'baza inwest.'!E445","v":4986.2},0,null,null,{"$f":"'baza inwest.'!K445","v":"Oddział Pediatryczny z Pododdziałem Gastroenterologii"},"","","Sekcja Marketingu","1.04.04"]
["1-445",{"$f":"'baza inwest.'!C446","v":"Łóżko szpitalne"},null,0,"               ",{"$f":"'baza inwest.'!E446","v":4619.1899999999996},0,null,null,{"$f":"'baza inwest.'!K446","v":"Oddział Położniczo – Ginekologiczny"},"","","Sekcja Marketingu","1.04.04"]
["1-446",{"$f":"'baza inwest.'!C447","v":"Łóżko szpitalne"},{"$f":"'baza inwest.'!D447","v":0},0,"               ",{"$f":"'baza inwest.'!E447","v":4881.34},0,null,null,{"$f":"'baza inwest.'!K447","v":"Oddział Urologii i Urologii Onkologicznej"},"","","Sekcja Marketingu","1.04.04"]
["1-447",{"$f":"'baza inwest.'!C448","v":"Łóżko szpitalne"},null,0,"               ",{"$f":"'baza inwest.'!E448","v":4847.04},0,null,null,{"$f":"'baza inwest.'!K448","v":"Zamiejscowy Oddział Rehabilitacji Neurologicznej"},"","","Sekcja Marketingu","1.04.04"]
["1-448",{"$f":"'baza inwest.'!C449","v":"Łóżko szpitalne"},{"$f":"'baza inwest.'!D449","v":"typ: Eleganza 3XC + materac typ M-02"},0,"               ",{"$f":"'baza inwest.'!E449","v":27285},0,null,null,{"$f":"'baza inwest.'!K449","v":"Oddział Chirurgii Naczyniowej"},"","","Sekcja Marketingu","1.04.04"]
["1-449",{"$f":"'baza inwest.'!C450","v":"Łóżko szpitalne"},null,0,"               ",{"$f":"'baza inwest.'!E450","v":5627.13},0,null,null,{"$f":"'baza inwest.'!K450","v":"Zamiejscowy Oddział Rehabilitacji Ogólnoustrojowej I"},"","","Sekcja Marketingu",{"$f":"$I$2","v":"1.04.04"}]
["1-450",{"$f":"'baza inwest.'!C451","v":"Łóżko szpitalne wielofunkcyjne"},null,0,"               ",{"$f":"'baza inwest.'!E451","v":12717.54},{"$f":"D456*F456","v":0},null,null,{"$f":"'baza inwest.'!K451","v":"Oddział Położniczo – Ginekologiczny"},{"$f":"IF($B$2=J456,$B$2,\"\")","v":""},{"$f":"IF($B$2=K456,1,\"\")","v":""},"Sekcja Marketingu","1.04.04"]
["1-451",{"$f":"'baza inwest.'!C452","v":"Łóżko szpitalne z szafką przyłóżkową"},{"$f":"'baza inwest.'!D452","v":"producent: LINET spol. s.r.o., Czechy"},0,"               ",{"$f":"'baza inwest.'!E452","v":7570.8},0,null,null,{"$f":"'baza inwest.'!K452","v":"Zamiejscowy Oddział Rehabilitacji Ogólnoustrojowej I"},"","","Sekcja Marketingu","1.04.04"]
["1-452",{"$f":"'baza inwest.'!C453","v":"Łóżko transportowo-obserwacyjne"},{"$f":"'baza inwest.'!D453","v":"producent: HILL- ROM; USA"},0,"               ",{"$f":"'baza inwest.'!E453","v":15917.32},0,null,null,{"$f":"'baza inwest.'!K453","v":"SOR"},"","","Sekcja Marketingu","1.04.04"]
["1-453",{"$f":"'baza inwest.'!C454","v":"Łóżko wielofunkcyjne"},null,0,"               ",{"$f":"'baza inwest.'!E454","v":3862.08},0,null,null,{"$f":"'baza inwest.'!K454","v":"Oddział Nefrologiczny"},"","","Sekcja Marketingu","1.04.04"]
["1-454",{"$f":"'baza inwest.'!C455","v":"Łóżko wielofunkcyjne"},{"$f":"'baza inwest.'!D455","v":"producent: LINET spol. s.r.o., Czechy"},0,"               ",{"$f":"'baza inwest.'!E455","v":6104.16},0,null,null,{"$f":"'baza inwest.'!K455","v":"Oddział Chirurgii Ogólnej z Pododdziałami"},"","","Sekcja Marketingu","1.04.04"]
["1-455",{"$f":"'baza inwest.'!C456","v":"Łóżko wielofunkcyjne"},null,0,"               ",{"$f":"'baza inwest.'!E456","v":14980},0,null,null,{"$f":"'baza inwest.'!K456","v":"Oddział Chemioterapii z Pododdziałem Chemioterapii Dziennej"},"","","Sekcja Marketingu","1.04.04"]
["1-456",{"$f":"'baza inwest.'!C457","v":"Łóżko wielofunkcyjne z przechyłami bocznymi"},{"$f":"'baza inwest.'!D457","v":"typ/model: Latera Acute"},0,"               ",{"$f":"'baza inwest.'!E457","v":21400},0,null,null,{"$f":"'baza inwest.'!K457","v":"Oddział Chirurgii Naczyniowej"},"","","Sekcja Marketingu","1.04.04"]
["1-457",{"$f":"'baza inwest.'!C458","v":"Łóżko wielofunkcyjne z ramą ortopedyczną "},{"$f":"'baza inwest.'!D458","v":"typ/model: Eleganza Standard"},0,"               ",{"$f":"'baza inwest.'!E458","v":16157},0,null,null,{"$f":"'baza inwest.'!K458","v":"Oddział Chirurgii Ogólnej z Pododdziałami"},"","","Sekcja Marketingu","1.04.04"]
["1-458",{"$f":"'baza inwest.'!C459","v":"Magnetotron  typ M90A.IR"},{"$f":"'baza inwest.'!D459","v":0},0,"               ",{"$f":"'baza inwest.'!E459","v":30957.119999999999},0,null,null,{"$f":"'baza inwest.'!K459","v":"Zamiejscowy Dział Rehabilitacji Leczniczej"},"","","Sekcja Marketingu","1.04.04"]
["1-459",{"$f":"'baza inwest.'!C460","v":"Magnetronic z wyposażeniem "},null,0,"               ",{"$f":"'baza inwest.'!E460","v":9967},0,null,null,{"$f":"'baza inwest.'!K460","v":"Zamiejscowy Dział Rehabilitacji Leczniczej"},"","","Sekcja Marketingu","1.04.04"]
["1-460",{"$f":"'baza inwest.'!C461","v":"Magnetronic z wyposażeniem "},null,0,"               ",{"$f":"'baza inwest.'!E461","v":7746.4},0,null,null,{"$f":"'baza inwest.'!K461","v":"Zamiejscowy Dział Rehabilitacji Leczniczej"},"","","Sekcja Marketingu","1.04.04"]
["1-461",{"$f":"'baza inwest.'!C462","v":"Mammograf"},null,0,"               ",{"$f":"'baza inwest.'!E462","v":362189.95},0,null,null,{"$f":"'baza inwest.'!K462","v":"DODO - Pracownia Mammografii"},"","","Sekcja Marketingu","1.04.04"]
["1-462",{"$f":"'baza inwest.'!C463","v":"Manipulator macicy "},{"$f":"'baza inwest.'!D463","v":"producen: K, STORZ"},0,"               ",{"$f":"'baza inwest.'!E463","v":21028.69},0,null,null,{"$f":"'baza inwest.'!K463","v":"Blok Operacyjny"},"","","Sekcja Marketingu","1.04.04"]
["1-463",{"$f":"'baza inwest.'!C464","v":"Manometr ciśnienia w rurce intubacyjnej"},{"$f":"'baza inwest.'!D464","v":"producent: VBM Medizintechnik GmbH, Niemcy"},0,"               ",{"$f":"'baza inwest.'!E464","v":4314.6000000000004},0,null,null,{"$f":"'baza inwest.'!K464","v":"Intensywna Terapia"},"","","Sekcja Marketingu","1.04.04"]
["1-464",{"$f":"'baza inwest.'!C465","v":"Materac przeciwodleżynowy"},{"$f":"'baza inwest.'!D465","v":0},0,"               ",{"$f":"'baza inwest.'!E465","v":3531},0,null,null,{"$f":"'baza inwest.'!K465","v":"Oddział Kardiologiczny"},"","","Sekcja Marketingu","1.04.04"]
["1-465",{"$f":"'baza inwest.'!C466","v":"Materac przeciwodleżynowy"},null,0,"               ",{"$f":"'baza inwest.'!E466","v":3607.2},0,null,null,{"$f":"'baza inwest.'!K466","v":"Oddział Chirurgii Naczyniowej"},"","","Sekcja Marketingu","1.04.04"]
["1-466",{"$f":"'baza inwest.'!C467","v":"Materac przeciwodleżynowy"},null,0,"               ",{"$f":"'baza inwest.'!E467","v":3607.2},0,null,null,{"$f":"'baza inwest.'!K467","v":"Oddział Chirurgii Ogólnej z Pododdziałami"},"","","Sekcja Marketingu","1.04.04"]
["1-467",{"$f":"'baza inwest.'!C468","v":"Materac przeciwodleżynowy"},{"$f":"'baza inwest.'!D468","v":"Materac przeciwodleżynowy ALPHA TRANCELL wraz z pompą "},0,"               ",{"$f":"'baza inwest.'!E468","v":3607.2},0,null,null,{"$f":"'baza inwest.'!K468","v":"Zamiejscowy Oddział Rehabilitacji Neurologicznej"},"","","Sekcja Marketingu","1.04.04"]
["1-468",{"$f":"'baza inwest.'!C469","v":"Materac przeciwodleżynowy"},null,0,"               ",{"$f":"'baza inwest.'!E469","v":4254},0,null,null,{"$f":"'baza inwest.'!K469","v":"Zamiejscowy Oddział Rehabilitacji Neurologicznej"},"","","Sekcja Marketingu","1.04.04"]
["1-469",{"$f":"'baza inwest.'!C470","v":"Materac przeciwodleżynowy"},null,0,"               ",{"$f":"'baza inwest.'!E470","v":9414.93},0,null,null,{"$f":"'baza inwest.'!K470","v":"Intensywna Terapia"},"","","Sekcja Marketingu","1.04.04"]
["1-470",{"$f":"'baza inwest.'!C471","v":"Materac przeciwodleżynowy"},null,0,"               ",{"$f":"'baza inwest.'!E471","v":12031.2},0,null,null,{"$f":"'baza inwest.'!K471","v":"Oddział Chirurgii Ogólnej z Pododdziałami"},"","","Sekcja Marketingu","1.04.04"]
["1-471",{"$f":"'baza inwest.'!C472","v":"Materac przeciwodleżynowy"},{"$f":"'baza inwest.'!D472","v":" Producent: ArjoHuntleigh, Pol"},0,"               ",{"$f":"'baza inwest.'!E472","v":14418},0,null,null,{"$f":"'baza inwest.'!K472","v":"Oddział Nefrologiczny"},"","","Sekcja Marketingu","1.04.04"]
["1-472",{"$f":"'baza inwest.'!C473","v":"Materac przeciwodleżynowy"},{"$f":"'baza inwest.'!D473","v":" Producent: ArjoHuntleigh, Pol"},0,"               ",{"$f":"'baza inwest.'!E473","v":14418},0,null,null,{"$f":"'baza inwest.'!K473","v":"Oddział Nefrologiczny"},"","","Sekcja Marketingu","1.04.04"]
["1-473",{"$f":"'baza inwest.'!C474","v":"Materac przeciwodleżynowy"},{"$f":"'baza inwest.'!D474","v":"W skład jednego kpl wchodzi: 1) zasilacz; 2) materac; 3) pokrowiec"},0,"               ",{"$f":"'baza inwest.'!E474","v":35096},0,null,null,{"$f":"'baza inwest.'!K474","v":"Intensywna Terapia"},"","","Sekcja Marketingu","1.04.04"]
["1-474",{"$f":"'baza inwest.'!C475","v":"Materac przeciwodleżynowy"},{"$f":"'baza inwest.'!D475","v":"Materac wraz z pompą NIMBUS 4 EURO; producent: ArjoHuntleigh.\r"},0,"               ",{"$f":"'baza inwest.'!E475","v":34992},0,null,null,{"$f":"'baza inwest.'!K475","v":"Intensywna Terapia"},"","","Sekcja Marketingu","1.04.04"]
["1-475",{"$f":"'baza inwest.'!C476","v":"Materac przeciwodleżynowy"},{"$f":"'baza inwest.'!D476","v":"Materac przeciwodleżynowy 1 kpl: materac, pokrowiec, pompa. "},0,"               ",{"$f":"'baza inwest.'!E476","v":29160},0,null,null,{"$f":"'baza inwest.'!K476","v":"Oddział Kardiologiczny"},"","","Sekcja Marketingu","1.04.04"]
["1-476",{"$f":"'baza inwest.'!C477","v":"Materac przeciwodleżynowy"},{"$f":"'baza inwest.'!D477","v":0},0,"               ",{"$f":"'baza inwest.'!E477","v":35326.800000000003},0,null,null,{"$f":"'baza inwest.'!K477","v":"Intensywna Terapia"},"","","Sekcja Marketingu","1.04.04"]
["1-477",{"$f":"'baza inwest.'!C478","v":"Materac przeciwodleżynowy"},null,0,"               ",{"$f":"'baza inwest.'!E478","v":34999.56},0,null,null,{"$f":"'baza inwest.'!K478","v":"Intensywna Terapia"},"","","Sekcja Marketingu","1.04.04"]
["1-478",{"$f":"'baza inwest.'!C479","v":"Materac przeciwodleżynowy"},{"$f":"'baza inwest.'!D479","v":"Typ: NIMBUS PROFFESIONAL; producent: ARJOHUNTLEIGHT, Chiny."},0,"               ",{"$f":"'baza inwest.'!E479","v":34997.4},0,null,null,{"$f":"'baza inwest.'!K479","v":"Intensywna Terapia"},"","","Sekcja Marketingu","1.04.04"]
["1-479",{"$f":"'baza inwest.'!C480","v":"Materac przeciwodleżynowy rehabilitacyjny"},{"$f":"'baza inwest.'!D480","v":"typ: Nimbus 3 Professional. "},0,"               ",{"$f":"'baza inwest.'!E480","v":34999.699999999997},0,null,null,{"$f":"'baza inwest.'!K480","v":"Intensywna Terapia"},"","","Sekcja Marketingu","1.04.04"]
["1-480",{"$f":"'baza inwest.'!C481","v":"Materac przeciwodleżynowy z pompą"},{"$f":"'baza inwest.'!D481","v":"model: 88; typ: WR"},0,"               ",{"$f":"'baza inwest.'!E481","v":5029},0,null,null,{"$f":"'baza inwest.'!K481","v":"Oddział Chirurgii Naczyniowej"},"","","Sekcja Marketingu","1.04.04"]
["1-481",{"$f":"'baza inwest.'!C482","v":"Materac przeciwodleżynowy z pompą"},null,0,"               ",{"$f":"'baza inwest.'!E482","v":5886},0,null,null,{"$f":"'baza inwest.'!K482","v":"Oddział Chirurgii Naczyniowej"},"","",{"$f":"$B$2","v":"Sekcja Marketingu"},"1.04.04"]
["1-482",{"$f":"'baza inwest.'!C483","v":"Materac przeciwodleżynowy z pompą"},{"$f":"'baza inwest.'!D483","v":"Model 888, pompa typ: AGA"},0,"               ",{"$f":"'baza inwest.'!E483","v":5886},0,null,null,{"$f":"'baza inwest.'!K483","v":"Oddział Chirurgii Naczyniowej"},"","","Sekcja Marketingu","1.04.04"]
["1-483",{"$f":"'baza inwest.'!C484","v":"Materac przeciwodleżynowy z pompą"},null,0,"               ",{"$f":"'baza inwest.'!E484","v":5255.84},0,null,null,{"$f":"'baza inwest.'!K484","v":"Oddział Chirurgii Ogólnej z Pododdziałami"},"","","Sekcja Marketingu","1.04.04"]
["1-484",{"$f":"'baza inwest.'!C485","v":"Materac przeciwodleżynowy z pompą"},{"$f":"'baza inwest.'!D485","v":"Typ: ALX04, ICT20; producent: Huntleigh Healthcare Ltd."},0,"               ",{"$f":"'baza inwest.'!E485","v":7998.48},0,null,null,{"$f":"'baza inwest.'!K485","v":"SOR"},"","","Sekcja Marketingu","1.04.04"]
["1-485",{"$f":"'baza inwest.'!C486","v":"Materac rehabilitacyjny przeciwodleżynowy"},{"$f":"'baza inwest.'!D486","v":"prod: HUNTLEIGH, Wielka Brytania\r\nmodel/typ: AUTOEXCEL"},0,"               ",{"$f":"'baza inwest.'!E486","v":17000},0,null,null,{"$f":"'baza inwest.'!K486","v":"Intensywna Terapia"},"","","Sekcja Marketingu","1.04.04"]
["1-486",{"$f":"'baza inwest.'!C487","v":"Materacyk wodny ogrzewany elektrycznie \"Ciepłe gniazdko\""},{"$f":"'baza inwest.'!D487","v":"producent: KANMED, Szwecja"},0,"               ",{"$f":"'baza inwest.'!E487","v":6045.5},0,null,null,{"$f":"'baza inwest.'!K487","v":"Oddział Neonatologiczny z Pododdziałem Patologii Noworodka"},"","","Sekcja Marketingu","1.04.04"]
["1-487",{"$f":"'baza inwest.'!C488","v":"Medyczna drukarka termiczna "},{"$f":"'baza inwest.'!D488","v":"TYp/model: DRYPIX 3000; producent: FUJIFILM"},0,"               ",{"$f":"'baza inwest.'!E488","v":59920},0,null,null,{"$f":"'baza inwest.'!K488","v":"DODO - Pracownia Rezonansu Magnetycznego"},"","","Sekcja Marketingu","1.04.04"]
["1-488",{"$f":"'baza inwest.'!C489","v":"Miernik bilirubiny"},null,0,"               ",{"$f":"'baza inwest.'!E489","v":17120},0,null,null,{"$f":"'baza inwest.'!K489","v":"Oddział Neonatologiczny z Pododdziałem Patologii Noworodka"},"","","Sekcja Marketingu","1.04.04"]
["1-489",{"$f":"'baza inwest.'!C490","v":"Miernik zwiotczenia "},null,0,"               ",{"$f":"'baza inwest.'!E490","v":6999.48},0,null,null,{"$f":"'baza inwest.'!K490","v":"Anestezjologia"},"","","Sekcja Marketingu","1.04.04"]
["1-490",{"$f":"'baza inwest.'!C491","v":"Mikronożyczki"},null,0,"               ",{"$f":"'baza inwest.'!E491","v":4236.13},0,null,null,{"$f":"'baza inwest.'!K491","v":"Oddział Okulistyczny"},"","","Sekcja Marketingu","1.04.04"]
["1-491",{"$f":"'baza inwest.'!C492","v":"Mikronożyczki wertikalne"},null,0,"               ",{"$f":"'baza inwest.'!E492","v":5357.49},0,null,null,{"$f":"'baza inwest.'!K492","v":"Oddział Okulistyczny"},"","","Sekcja Marketingu","1.04.04"]
["1-492",{"$f":"'baza inwest.'!C493","v":"Mikropęseta"},null,0,"               ",{"$f":"'baza inwest.'!E493","v":6804},0,null,null,{"$f":"'baza inwest.'!K493","v":"Oddział Okulistyczny"},"","","Sekcja Marketingu","1.04.04"]
["1-493",{"$f":"'baza inwest.'!C494","v":"Mikropęseta"},null,0,"               ",{"$f":"'baza inwest.'!E494","v":3745},0,null,null,{"$f":"'baza inwest.'!K494","v":"Oddział Okulistyczny"},"","","Sekcja Marketingu","1.04.04"]
["1-494",{"$f":"'baza inwest.'!C495","v":"Mikroskop operacyjny"},{"$f":"'baza inwest.'!D495","v":"typ/model: OPMIMDO-YX\r"},0,"               ",{"$f":"'baza inwest.'!E495","v":120000},0,null,null,{"$f":"'baza inwest.'!K495","v":"Oddział Okulistyczny"},"","","Sekcja Marketingu","1.04.04"]
["1-495",{"$f":"'baza inwest.'!C496","v":"Mikroskop operacyjny"},{"$f":"'baza inwest.'!D496","v":"typ/model: M620; producent: LEICA, Szwajcaria; "},0,"               ",{"$f":"'baza inwest.'!E496","v":138999.42000000001},0,null,null,{"$f":"'baza inwest.'!K496","v":"Oddział Okulistyczny"},"","","Sekcja Marketingu","1.04.04"]
["1-496",{"$f":"'baza inwest.'!C497","v":"Mikroskop operacyjny okulistyczny "},{"$f":"'baza inwest.'!D497","v":"typ: Hi-R 900A; producent: Moller-Wedel GmbH"},0,"               ",{"$f":"'baza inwest.'!E497","v":314911.8},0,null,null,{"$f":"'baza inwest.'!K497","v":"Oddział Okulistyczny"},"","","Sekcja Marketingu","1.04.04"]
["1-497",{"$f":"'baza inwest.'!C498","v":"Mikroskop operacyjny okulistyczny z wyposażeniem"},{"$f":"'baza inwest.'!D498","v":"typ: MOELLER Hi-R 900\r\nprod: MOELLER-WEDEL; OCULUS - NIEMCY; SONY\r"},0,"               ",{"$f":"'baza inwest.'!E498","v":224876},0,null,null,{"$f":"'baza inwest.'!K498","v":"Oddział Okulistyczny"},"","","Sekcja Marketingu","1.04.04"]
["1-498",{"$f":"'baza inwest.'!C499","v":"Mikroskop spekularny (ze stolikiem elektrycznym i videoprinterem)"},{"$f":"'baza inwest.'!D499","v":0},0,"               ",{"$f":"'baza inwest.'!E499","v":75000},0,null,null,{"$f":"'baza inwest.'!K499","v":"Oddział Okulistyczny"},"","","Sekcja Marketingu","1.04.04"]
["1-499",{"$f":"'baza inwest.'!C500","v":"Mikser recepturowy "},null,0,"               ",{"$f":"'baza inwest.'!E500","v":4292.7},0,null,null,{"$f":"'baza inwest.'!K500","v":"Apteka Szpitalna"},"","","Sekcja Marketingu","1.04.04"]
["1-500",{"$f":"'baza inwest.'!C501","v":"Mobilny stół operacyjno-ginekologiczny do cięć cesarskich "},null,0,"               ",{"$f":"'baza inwest.'!E501","v":113900},0,null,null,{"$f":"'baza inwest.'!K501","v":"Oddział Położniczo – Ginekologiczny"},"","","Sekcja Marketingu","1.04.04"]
["1-501",{"$f":"'baza inwest.'!C502","v":"Monitor do pomiarów hemodynamicznych"},{"$f":"'baza inwest.'!D502","v":"producent: Edwards Lifesciences"},0,"               ",{"$f":"'baza inwest.'!E502","v":78921},0,null,null,{"$f":"'baza inwest.'!K502","v":"Intensywna Terapia"},"","","Sekcja Marketingu","1.04.04"]
["1-502",{"$f":"'baza inwest.'!C503","v":"Monitor do pomiaru rzutu minutowego serca"},{"$f":"'baza inwest.'!D503","v":"producent: Edwards Lifesciences, USA. "},0,"               ",{"$f":"'baza inwest.'!E503","v":48708},0,null,null,{"$f":"'baza inwest.'!K503","v":"Intensywna Terapia"},"","","Sekcja Marketingu","1.04.04"]
["1-503",{"$f":"'baza inwest.'!C504","v":"Monitor funkcji życiowych"},{"$f":"'baza inwest.'!D504","v":"typ: Kappa; producent: DRAGER MEDICAL, Niemcy; "},0,"               ",{"$f":"'baza inwest.'!E504","v":57780},0,null,null,{"$f":"'baza inwest.'!K504","v":"Intensywna Terapia"},"","","Sekcja Marketingu","1.04.04"]
["1-504",{"$f":"'baza inwest.'!C505","v":"Monitor funkcji życiowych - stacjonarny"},{"$f":"'baza inwest.'!D505","v":"typ: PM6000; producent: MINDRAY CO., LTD."},0,"               ",{"$f":"'baza inwest.'!E505","v":51587.91},0,null,null,{"$f":"'baza inwest.'!K505","v":"SOR"},"","","Sekcja Marketingu","1.04.04"]
["1-505",{"$f":"'baza inwest.'!C506","v":"Monitor funkcji życiowych - transportowy"},{"$f":"'baza inwest.'!D506","v":"typ: PM9000 \r\nproducent: MINDRAY CO., LTD."},0,"               ",{"$f":"'baza inwest.'!E506","v":28484.47},0,null,null,{"$f":"'baza inwest.'!K506","v":"SOR"},"","","Sekcja Marketingu","1.04.04"]
["1-506",{"$f":"'baza inwest.'!C507","v":"Monitor funkcji życiowych"},{"$f":"'baza inwest.'!D507","v":"producent: Shenzhen Mindray Bio-Medical Electronics Co., Ltd."},0,"               ",{"$f":"'baza inwest.'!E507","v":5442.02},0,null,null,{"$f":"'baza inwest.'!K507","v":"Oddział Chirurgii Ogólnej z Pododdziałami"},"","","Sekcja Marketingu","1.04.04"]
["1-507",{"$f":"'baza inwest.'!C508","v":"Monitor funkcji życiowych"},null,0,"               ",{"$f":"'baza inwest.'!E508","v":7927.2},0,null,null,{"$f":"'baza inwest.'!K508","v":"Anestezjologia"},"","","Sekcja Marketingu","1.04.04"]
["1-508",{"$f":"'baza inwest.'!C509","v":"Monitor funkcji życiowych"},null,0,"               ",{"$f":"'baza inwest.'!E509","v":7430.08},0,null,null,{"$f":"'baza inwest.'!K509","v":"Oddział Kardiologii Dziecięcej z Pododdziałem Kardiochirurgi"},"","","Sekcja Marketingu","1.04.04"]
["1-509",{"$f":"'baza inwest.'!C510","v":"Monitor funkcji życiowych"},null,0,"               ",{"$f":"'baza inwest.'!E510","v":6998.4},0,null,null,{"$f":"'baza inwest.'!K510","v":"Oddział Kardiologii Dziecięcej z Pododdziałem Kardiochirurgi"},"","","Sekcja Marketingu","1.04.04"]
["1-510",{"$f":"'baza inwest.'!C511","v":"Monitor funkcji życiowych"},{"$f":"'baza inwest.'!D511","v":"producent: Shenzhen Mindray Bio-Medical Electronics Co., Ltd."},0,"               ",{"$f":"'baza inwest.'!E511","v":7430.08},0,null,null,{"$f":"'baza inwest.'!K511","v":"Oddział Pediatryczny z Pododdziałem Gastroenterologii"},"","","Sekcja Marketingu","1.04.04"]
["1-511",{"$f":"'baza inwest.'!C512","v":"Monitor funkcji życiowych"},{"$f":"'baza inwest.'!D512","v":"producent: Shenzhen Mindray Bio-Medical Electronics Co., Ltd."},0,"               ",{"$f":"'baza inwest.'!E512","v":7430.08},0,null,null,{"$f":"'baza inwest.'!K512","v":"Oddział Położniczo – Ginekologiczny"},"","","Sekcja Marketingu","1.04.04"]
["1-512",{"$f":"'baza inwest.'!C513","v":"Monitor funkcji życiowych"},{"$f":"'baza inwest.'!D513","v":"producent: Shenzhen Mindray Bio-Medical Electronics Co., Ltd."},0,"               ",{"$f":"'baza inwest.'!E513","v":7430.08},0,null,null,{"$f":"'baza inwest.'!K513","v":"Pracownia Echokardiograficzna"},"","","Sekcja Marketingu","1.04.04"]
["1-513",{"$f":"'baza inwest.'!C514","v":"Monitor funkcji życiowych"},{"$f":"'baza inwest.'!D514","v":"typ: N5600 PLUS"},0,"               ",{"$f":"'baza inwest.'!E514","v":14156.1},0,null,null,{"$f":"'baza inwest.'!K514","v":"Oddział Neonatologiczny z Pododdziałem Patologii Noworodka"},"","","Sekcja Marketingu",{"$f":"$I$2","v":"1.04.04"}]
["1-514",{"$f":"'baza inwest.'!C515","v":"Monitor funkcji życiowych"},null,0,"               ",{"$f":"'baza inwest.'!E515","v":14997.12},{"$f":"D520*F520","v":0},null,null,{"$f":"'baza inwest.'!K515","v":"Oddział Neonatologiczny z Pododdziałem Patologii Noworodka"},{"$f":"IF($B$2=J520,$B$2,\"\")","v":""},{"$f":"IF($B$2=K520,1,\"\")","v":""},"Sekcja Marketingu","1.04.04"]
["1-515",{"$f":"'baza inwest.'!C516","v":"Monitor funkcji życiowych - transportowy"},{"$f":"'baza inwest.'!D516","v":"typ: MEC-1200; producent: Mindray, Chiny"},0,"               ",{"$f":"'baza inwest.'!E516","v":3893.73},0,null,null,{"$f":"'baza inwest.'!K516","v":"Oddział Chirurgii Naczyniowej"},"","","Sekcja Marketingu","1.04.04"]
["1-516",{"$f":"'baza inwest.'!C517","v":"Monitor funkcji życiowych"},null,0,"               ",{"$f":"'baza inwest.'!E517","v":9000.7199999999993},0,null,null,{"$f":"'baza inwest.'!K517","v":"SOR"},"","","Sekcja Marketingu","1.04.04"]
["1-517",{"$f":"'baza inwest.'!C518","v":"Monitor Infinity "},{"$f":"'baza inwest.'!D518","v":"prod: DRAGER MEDICAL, Niemcy"},0,"               ",{"$f":"'baza inwest.'!E518","v":24610},0,null,null,{"$f":"'baza inwest.'!K518","v":"Oddział Neonatologiczny z Pododdziałem Patologii Noworodka"},"","","Sekcja Marketingu","1.04.04"]
["1-518",{"$f":"'baza inwest.'!C519","v":"Monitor medyczny HD 19''"},null,0,"               ",{"$f":"'baza inwest.'!E519","v":19566.36},0,null,null,{"$f":"'baza inwest.'!K519","v":"Oddział Urologii i Urologii Onkologicznej"},"","","Sekcja Marketingu","1.04.04"]
["1-519",{"$f":"'baza inwest.'!C520","v":"Morcelator do laparoskopii"},{"$f":"'baza inwest.'!D520","v":"producent: KARL STORZ"},0,"               ",{"$f":"'baza inwest.'!E520","v":13150.53},0,null,null,{"$f":"'baza inwest.'!K520","v":"Blok Operacyjny"},"","","Sekcja Marketingu","1.04.04"]
["1-520",{"$f":"'baza inwest.'!C521","v":"Multimetr do kontroli jakości w radiografii, fluoroskopii i mammografii typu MagicMaX-Universal"},null,0,"               ",{"$f":"'baza inwest.'!E521","v":45846},0,null,null,{"$f":"'baza inwest.'!K521","v":"DODO - Pracownia RTG"},"","","Sekcja Marketingu","1.04.04"]
["1-521",{"$f":"'baza inwest.'!C522","v":"Multitronic"},{"$f":"'baza inwest.'!D522","v":0},0,"               ",{"$f":"'baza inwest.'!E522","v":4800},0,null,null,{"$f":"'baza inwest.'!K522","v":"Zamiejscowy Dział Rehabilitacji Leczniczej"},"","","Sekcja Marketingu","1.04.04"]
["1-522",{"$f":"'baza inwest.'!C523","v":"Myjnia - dezynfektor do kaczek i basenów"},null,0,"               ",{"$f":"'baza inwest.'!E523","v":21492},0,null,null,{"$f":"'baza inwest.'!K523","v":"Oddział Położniczo – Ginekologiczny"},"","","Sekcja Marketingu","1.04.04"]
["1-523",{"$f":"'baza inwest.'!C524","v":"Myjnia automatyczna "},{"$f":"'baza inwest.'!D524","v":"typ: ETD-3 Basic GA;producent: OLYMPUS"},0,"               ",{"$f":"'baza inwest.'!E524","v":110745},0,null,null,{"$f":"'baza inwest.'!K524","v":"Pracownia Endoskopii"},"","","Sekcja Marketingu","1.04.04"]
["1-524",{"$f":"'baza inwest.'!C525","v":"Myjnia dezynfektor "},null,0,"               ",{"$f":"'baza inwest.'!E525","v":91740.3},0,null,null,{"$f":"'baza inwest.'!K525","v":"Dział Centralnej Sterylizatorni i DDD"},"","","Sekcja Marketingu","1.04.04"]
["1-525",{"$f":"'baza inwest.'!C526","v":"Myjnia - dezynfektor do kaczek i basenów"},null,0,"               ",{"$f":"'baza inwest.'!E526","v":26859.599999999999},0,null,null,{"$f":"'baza inwest.'!K526","v":"Oddział Pediatryczny z Pododdziałem Gastroenterologii"},"","","Sekcja Marketingu","1.04.04"]
["1-526",{"$f":"'baza inwest.'!C527","v":"Myjnia dezynfektor "},{"$f":"'baza inwest.'!D527","v":0},0,"               ",{"$f":"'baza inwest.'!E527","v":20972},0,null,null,{"$f":"'baza inwest.'!K527","v":"Oddział Chirurgii Ogólnej z Pododdziałami"},"","","Sekcja Marketingu","1.04.04"]
["1-527",{"$f":"'baza inwest.'!C528","v":"Myjnia dezynfektor "},null,0,"               ",{"$f":"'baza inwest.'!E528","v":20972},0,null,null,{"$f":"'baza inwest.'!K528","v":"Oddział Kardiologiczny"},"","","Sekcja Marketingu","1.04.04"]
["1-528",{"$f":"'baza inwest.'!C529","v":"Myjnia dezynfektor "},null,0,"               ",{"$f":"'baza inwest.'!E529","v":20972},0,null,null,{"$f":"'baza inwest.'!K529","v":"Oddział Nefrologiczny"},"","","Sekcja Marketingu","1.04.04"]
["1-529",{"$f":"'baza inwest.'!C530","v":"Myjnia dezynfektor "},null,0,"               ",{"$f":"'baza inwest.'!E530","v":20972},0,null,null,{"$f":"'baza inwest.'!K530","v":"Zamiejscowy Oddział Rehabilitacji Neurologicznej"},"","","Sekcja Marketingu","1.04.04"]
["1-530",{"$f":"'baza inwest.'!C531","v":"Myjnia dezynfektor "},null,0,"               ",{"$f":"'baza inwest.'!E531","v":20972},0,null,null,{"$f":"'baza inwest.'!K531","v":"Zamiejscowy Oddział Rehabilitacji Ogólnoustrojowej I"},"","","Sekcja Marketingu","1.04.04"]
["1-531",{"$f":"'baza inwest.'!C532","v":"Myjnia dezynfektor "},null,0,"               ",{"$f":"'baza inwest.'!E532","v":23220},0,null,null,{"$f":"'baza inwest.'!K532","v":"Oddział Kardiologii Dziecięcej z Pododdziałem Kardiochirurgi"},"","","Sekcja Marketingu","1.04.04"]
["1-532",{"$f":"'baza inwest.'!C533","v":"Myjnia dezynfektor "},null,0,"               ",{"$f":"'baza inwest.'!E533","v":33480},0,null,null,{"$f":"'baza inwest.'!K533","v":"SOR"},"","","Sekcja Marketingu","1.04.04"]
["1-533",{"$f":"'baza inwest.'!C534","v":"Myjnia dezynfektor "},{"$f":"'baza inwest.'!D534","v":"typ: TOPLINE 20; producent: Meiko GmbH"},0,"               ",{"$f":"'baza inwest.'!E534","v":29808},0,null,null,{"$f":"'baza inwest.'!K534","v":"Intensywna Terapia"},"","","Sekcja Marketingu","1.04.04"]
["1-534",{"$f":"'baza inwest.'!C535","v":"Myjnia dezynfektor "},{"$f":"'baza inwest.'!D535","v":"Typ: TopLine 21"},0,"               ",{"$f":"'baza inwest.'!E535","v":27817.86},0,null,null,{"$f":"'baza inwest.'!K535","v":"Oddział Angiologiczny z Pododdziałem Diabetologii"},"","","Sekcja Marketingu","1.04.04"]
["1-535",{"$f":"'baza inwest.'!C536","v":"Myjnia dezynfektor "},null,0,"               ",{"$f":"'baza inwest.'!E536","v":27817.86},0,null,null,{"$f":"'baza inwest.'!K536","v":"Oddział Chirurgii Naczyniowej"},"","","Sekcja Marketingu","1.04.04"]
["1-536",{"$f":"'baza inwest.'!C537","v":"Myjnia dezynfektor "},{"$f":"'baza inwest.'!D537","v":"typ/model: TopLine 20"},0,"               ",{"$f":"'baza inwest.'!E537","v":25145},0,null,null,{"$f":"'baza inwest.'!K537","v":"Oddział Chirurgii Onkologicznej"},"","","Sekcja Marketingu","1.04.04"]
["1-537",{"$f":"'baza inwest.'!C538","v":"Myjnia dezynfektor "},null,0,"               ",{"$f":"'baza inwest.'!E538","v":27817.86},0,null,null,{"$f":"'baza inwest.'!K538","v":"Oddział Kardiologiczny"},"","","Sekcja Marketingu","1.04.04"]
["1-538",{"$f":"'baza inwest.'!C539","v":"Myjnia dezynfektor "},{"$f":"'baza inwest.'!D539","v":"Typ: TopLine 24"},0,"               ",{"$f":"'baza inwest.'!E539","v":27817.86},0,null,null,{"$f":"'baza inwest.'!K539","v":"Oddział Otolaryngologiczny z Pododdziałem Otolaryngologii"},"","","Sekcja Marketingu","1.04.04"]
["1-539",{"$f":"'baza inwest.'!C540","v":"Myjnia dezynfektor "},{"$f":"'baza inwest.'!D540","v":"Typ: TopLine 20"},0,"               ",{"$f":"'baza inwest.'!E540","v":27817.86},0,null,null,{"$f":"'baza inwest.'!K540","v":"Oddział Położniczo – Ginekologiczny"},"","","Sekcja Marketingu","1.04.04"]
["1-540",{"$f":"'baza inwest.'!C541","v":"Myjnia dezynfektor "},{"$f":"'baza inwest.'!D541","v":"Typ: TopLine 25"},0,"               ",{"$f":"'baza inwest.'!E541","v":27817.86},0,null,null,{"$f":"'baza inwest.'!K541","v":"Oddział Położniczo – Ginekologiczny"},"","","Sekcja Marketingu","1.04.04"]
["1-541",{"$f":"'baza inwest.'!C542","v":"Myjnia dezynfektor "},{"$f":"'baza inwest.'!D542","v":"Typ: TopLine 20"},0,"               ",{"$f":"'baza inwest.'!E542","v":27817.86},0,null,null,{"$f":"'baza inwest.'!K542","v":"Oddział Urologii i Urologii Onkologicznej"},"","","Sekcja Marketingu","1.04.04"]
["1-542",{"$f":"'baza inwest.'!C543","v":"Myjnia dezynfektor "},{"$f":"'baza inwest.'!D543","v":0},0,"               ",{"$f":"'baza inwest.'!E543","v":166434.46},0,null,null,{"$f":"'baza inwest.'!K543","v":"Dział Centralnej Sterylizatorni i DDD"},"","","Sekcja Marketingu","1.04.04"]
["1-543",{"$f":"'baza inwest.'!C544","v":"Myjnia ultradźwiękowa"},null,0,"               ",{"$f":"'baza inwest.'!E544","v":10861.53},0,null,null,{"$f":"'baza inwest.'!K544","v":"Dział Centralnej Sterylizatorni i DDD"},"","","Sekcja Marketingu","1.04.04"]
["1-544",{"$f":"'baza inwest.'!C545","v":"Nawilżacz respiratorowy"},null,0,"               ",{"$f":"'baza inwest.'!E545","v":10015.200000000001},0,null,null,{"$f":"'baza inwest.'!K545","v":"Oddział Neonatologiczny z Pododdziałem Patologii Noworodka"},"","","Sekcja Marketingu","1.04.04"]
["1-545",{"$f":"'baza inwest.'!C546","v":"Nawilżacz respiratorowy"},null,0,"               ",{"$f":"'baza inwest.'!E546","v":5885},0,null,null,{"$f":"'baza inwest.'!K546","v":"Oddział Neonatologiczny z Pododdziałem Patologii Noworodka"},"","",{"$f":"$B$2","v":"Sekcja Marketingu"},"1.04.04"]
["1-546",{"$f":"'baza inwest.'!C547","v":"Negatoskop mammograficzny żaluzjowy"},null,0,"               ",{"$f":"'baza inwest.'!E547","v":6866.19},0,null,null,{"$f":"'baza inwest.'!K547","v":"DODO - Pracownia RTG"},"","","Sekcja Marketingu","1.04.04"]
["1-547",{"$f":"'baza inwest.'!C548","v":"Neuromonitor"},{"$f":"'baza inwest.'!D548","v":0},0,"               ",{"$f":"'baza inwest.'!E548","v":71128.800000000003},0,null,null,{"$f":"'baza inwest.'!K548","v":"Oddział Otolaryngologiczny z Pododdziałem Otolaryngologii"},"","","Sekcja Marketingu","1.04.04"]
["1-548",{"$f":"'baza inwest.'!C549","v":"Nożyczki do kapsuloreksji "},null,0,"               ",{"$f":"'baza inwest.'!E549","v":3830.9},0,null,null,{"$f":"'baza inwest.'!K549","v":"Oddział Okulistyczny"},"","","Sekcja Marketingu","1.04.04"]
["1-549",{"$f":"'baza inwest.'!C550","v":"Odkurzacz do odsysania pyłu gipsowego"},{"$f":"'baza inwest.'!D550","v":"MST-MOD. 061102; typ: HF6; producent: LINDHAUS, Włochy"},0,"               ",{"$f":"'baza inwest.'!E550","v":6236},0,null,null,{"$f":"'baza inwest.'!K550","v":"Poradnia Chirurgii Ogólnej"},"","","Sekcja Marketingu","1.04.04"]
["1-550",{"$f":"'baza inwest.'!C551","v":"Odkurzacz do odsysania pyłu gipsowego"},null,0,"               ",{"$f":"'baza inwest.'!E551","v":6235.99},0,null,null,{"$f":"'baza inwest.'!K551","v":"Poradnia Chirurgii Urazowo - Ortopedycznej"},"","","Sekcja Marketingu","1.04.04"]
["1-551",{"$f":"'baza inwest.'!C552","v":"Odkurzacz do odsysania pyłu gipsowego"},{"$f":"'baza inwest.'!D552","v":0},0,"               ",{"$f":"'baza inwest.'!E552","v":6235.96},0,null,null,{"$f":"'baza inwest.'!K552","v":"SOR"},"","","Sekcja Marketingu","1.04.04"]
["1-552",{"$f":"'baza inwest.'!C553","v":"Oftalmoskop"},null,0,"               ",{"$f":"'baza inwest.'!E553","v":6760.69},0,null,null,{"$f":"'baza inwest.'!K553","v":"Oddział Okulistyczny"},"","","Sekcja Marketingu","1.04.04"]
["1-553",{"$f":"'baza inwest.'!C554","v":"Oftalmoskop"},null,0,"               ",{"$f":"'baza inwest.'!E554","v":10260},0,null,null,{"$f":"'baza inwest.'!K554","v":"Oddział Okulistyczny"},"","","Sekcja Marketingu","1.04.04"]
["1-554",{"$f":"'baza inwest.'!C555","v":"Oftalmoskop operacyjny"},{"$f":"'baza inwest.'!D555","v":0},0,"               ",{"$f":"'baza inwest.'!E555","v":70727},0,null,null,{"$f":"'baza inwest.'!K555","v":"Oddział Okulistyczny"},"","","Sekcja Marketingu","1.04.04"]
["1-555",{"$f":"'baza inwest.'!C556","v":"Oftalmoskop pośredni"},null,0,"               ",{"$f":"'baza inwest.'!E556","v":5875},0,null,null,{"$f":"'baza inwest.'!K556","v":"Oddział Okulistyczny"},"","","Sekcja Marketingu","1.04.04"]
["1-556",{"$f":"'baza inwest.'!C557","v":"Oftalmoskop pośredni"},null,0,"               ",{"$f":"'baza inwest.'!E557","v":12420},0,null,null,{"$f":"'baza inwest.'!K557","v":"Oddział Okulistyczny"},"","","Sekcja Marketingu","1.04.04"]
["1-557",{"$f":"'baza inwest.'!C558","v":"Oftalmoskop pośredni"},null,0,"               ",{"$f":"'baza inwest.'!E558","v":7538.36},0,null,null,{"$f":"'baza inwest.'!K558","v":"Poradnia Okulistyczna"},"","","Sekcja Marketingu","1.04.04"]
["1-558",{"$f":"'baza inwest.'!C559","v":"Oftalmoskop pośredni"},null,0,"               ",{"$f":"'baza inwest.'!E559","v":8697.8799999999992},0,null,null,{"$f":"'baza inwest.'!K559","v":"SOR"},"","","Sekcja Marketingu","1.04.04"]
["1-559",{"$f":"'baza inwest.'!C560","v":"Oftalmoskop pośredni"},null,0,"               ",{"$f":"'baza inwest.'!E560","v":37888.01},0,null,null,{"$f":"'baza inwest.'!K560","v":"Oddział Okulistyczny"},"","","Sekcja Marketingu","1.04.04"]
["1-560",{"$f":"'baza inwest.'!C561","v":"Oprawa nadłóżkowa z elementami systemu przyzywowego"},null,0,"               ",{"$f":"'baza inwest.'!E561","v":10486},0,null,null,{"$f":"'baza inwest.'!K561","v":"Oddział Kardiologiczny"},"","","Sekcja Marketingu","1.04.04"]
["1-561",{"$f":"'baza inwest.'!C562","v":"Optyka cystoskopowa"},null,0,"               ",{"$f":"'baza inwest.'!E562","v":4144.1099999999997},0,null,null,{"$f":"'baza inwest.'!K562","v":"Oddział Położniczo – Ginekologiczny"},"","","Sekcja Marketingu","1.04.04"]
["1-562",{"$f":"'baza inwest.'!C563","v":"Optyka HOPKINS"},null,0,"               ",{"$f":"'baza inwest.'!E563","v":18436.259999999998},0,null,null,{"$f":"'baza inwest.'!K563","v":"Blok Operacyjny"},"","","Sekcja Marketingu","1.04.04"]
["1-563",{"$f":"'baza inwest.'!C564","v":"Optyka HOPKINS II 0 st., śr. 10 mm, dł. 31 cm "},null,0,"               ",{"$f":"'baza inwest.'!E564","v":9874.11},0,null,null,{"$f":"'baza inwest.'!K564","v":"Blok Operacyjny"},"","","Sekcja Marketingu","1.04.04"]
["1-564",{"$f":"'baza inwest.'!C565","v":"Optyka HOPKINS II 0 st., śr. 10 mm, dł. 42 cm "},null,0,"               ",{"$f":"'baza inwest.'!E565","v":10723.81},0,null,null,{"$f":"'baza inwest.'!K565","v":"Blok Operacyjny"},"","","Sekcja Marketingu","1.04.04"]
["1-565",{"$f":"'baza inwest.'!C566","v":"Optyka HOPKINS II 0 st., śr. 4 mm, dł. 30 cm "},null,0,"               ",{"$f":"'baza inwest.'!E566","v":9126.93},0,null,null,{"$f":"'baza inwest.'!K566","v":"Oddział Urologii i Urologii Onkologicznej"},"","","Sekcja Marketingu","1.04.04"]
["1-566",{"$f":"'baza inwest.'!C567","v":"Optyka HOPKINS II 12 st., śr. 4 mm, dł. 30 cm"},{"$f":"'baza inwest.'!D567","v":"producent: KARL STORZ"},0,"               ",{"$f":"'baza inwest.'!E567","v":9577.27},0,null,null,{"$f":"'baza inwest.'!K567","v":"Oddział Urologii i Urologii Onkologicznej"},"","","Sekcja Marketingu","1.04.04"]
["1-567",{"$f":"'baza inwest.'!C568","v":"Optyka Hopkins II 12 st.,śr. 4 mm,dł. 30 cm"},{"$f":"'baza inwest.'!D568","v":"producent: Karl Storz.  "},0,"               ",{"$f":"'baza inwest.'!E568","v":12948.69},0,null,null,{"$f":"'baza inwest.'!K568","v":"Oddział Położniczo – Ginekologiczny"},"","","Sekcja Marketingu","1.04.04"]
["1-568",{"$f":"'baza inwest.'!C569","v":"Optyka HOPKINS II 30 st., śr. 10 mm, dł. 31 cm "},{"$f":"'baza inwest.'!D569","v":"producent: KARL STORZ"},0,"               ",{"$f":"'baza inwest.'!E569","v":10049.91},0,null,null,{"$f":"'baza inwest.'!K569","v":"Blok Operacyjny"},"","","Sekcja Marketingu","1.04.04"]
["1-569",{"$f":"'baza inwest.'!C570","v":"Optyka HOPKINS II 30 st., śr. 10 mm, dł. 42 cm "},null,0,"               ",{"$f":"'baza inwest.'!E570","v":10928.9},0,null,null,{"$f":"'baza inwest.'!K570","v":"Blok Operacyjny"},"","","Sekcja Marketingu","1.04.04"]
["1-570",{"$f":"'baza inwest.'!C571","v":"Optyka HOPKINS II 30 st., śr. 2,9 mm, z płaszczem histeroskopowym śr. 4,1 mm"},{"$f":"'baza inwest.'!D571","v":"Optyka HOPKINS II 30 st., śr. 2,9 mm, dł. 30 cm, autoklawowalna. Płaszcz histeroskopowy, śr. 4,1 mm, z przyłączem LUER-Lock."},0,"               ",{"$f":"'baza inwest.'!E571","v":7305.55},0,null,null,{"$f":"'baza inwest.'!K571","v":"Oddział Położniczo – Ginekologiczny"},"","","Sekcja Marketingu","1.04.04"]
["1-571",{"$f":"'baza inwest.'!C572","v":"Optyka HOPKINS II 30 st., śr. 4 mm z płaszczem histeroskopowym śr. 5,1 mm"},null,0,"               ",{"$f":"'baza inwest.'!E572","v":7828.17},0,null,null,{"$f":"'baza inwest.'!K572","v":"Oddział Położniczo – Ginekologiczny"},"","","Sekcja Marketingu","1.04.04"]
["1-572",{"$f":"'baza inwest.'!C573","v":"Optyka HOPKINS II 30 st., śr. 4 mm, dł. 30 cm "},{"$f":"'baza inwest.'!D573","v":"producent: KARL STORZ"},0,"               ",{"$f":"'baza inwest.'!E573","v":9577.27},0,null,null,{"$f":"'baza inwest.'!K573","v":"Oddział Urologii i Urologii Onkologicznej"},"","","Sekcja Marketingu","1.04.04"]
["1-573",{"$f":"'baza inwest.'!C574","v":"Optyka HOPKINS II 30 st., śr. 4 mm, dł. 30 cm "},null,0,"               ",{"$f":"'baza inwest.'!E574","v":9577.27},0,null,null,{"$f":"'baza inwest.'!K574","v":"Poradnia Urologiczna"},"","","Sekcja Marketingu","1.04.04"]
["1-574",{"$f":"'baza inwest.'!C575","v":"Optyka HOPKINS II 30 st., śr. 4 mm, dł. 30 cm, autoklawowalna"},{"$f":"'baza inwest.'!D575","v":"Producent: Karl Storz Endoskope, Niemcy.\r"},0,"               ",{"$f":"'baza inwest.'!E575","v":5602.01},0,null,null,{"$f":"'baza inwest.'!K575","v":"Poradnia Urologiczna"},"","","Sekcja Marketingu","1.04.04"]
["1-575",{"$f":"'baza inwest.'!C576","v":"Optyka Hopkins II 30 st.,śr. 2 mm,dł. 26 cm"},null,0,"               ",{"$f":"'baza inwest.'!E576","v":11905.12},0,null,null,{"$f":"'baza inwest.'!K576","v":"Oddział Położniczo – Ginekologiczny"},"","","Sekcja Marketingu","1.04.04"]
["1-576",{"$f":"'baza inwest.'!C577","v":"Optyka HOPKINS II 30 st.,śr. 4 mm, dł. 18 cm, autoklawowalna"},{"$f":"'baza inwest.'!D577","v":"Producent: Karl Storz Endoskope, Niemcy.\r"},0,"               ",{"$f":"'baza inwest.'!E577","v":14145.25},0,null,null,{"$f":"'baza inwest.'!K577","v":"Oddział Otolaryngologiczny z Pododdziałem Otolaryngologii"},"","","Sekcja Marketingu","1.04.04"]
["1-577",{"$f":"'baza inwest.'!C578","v":"Optyka HOPKINS II 30 st.,śr. 4 mm, dł. 30 cm, autoklawowalna"},null,0,"               ",{"$f":"'baza inwest.'!E578","v":5602.01},0,null,null,{"$f":"'baza inwest.'!K578","v":"Poradnia Urologiczna"},"","","Sekcja Marketingu",{"$f":"$I$2","v":"1.04.04"}]
["1-578",{"$f":"'baza inwest.'!C579","v":"Optyka HOPKINS II 45 st.,śr. 2,7 mm, dł. 18 cm, autoklawowalna"},{"$f":"'baza inwest.'!D579","v":"Producent: Karl Storz Endoskope, Niemcy.\r"},0,"               ",{"$f":"'baza inwest.'!E579","v":14502.13},{"$f":"D584*F584","v":0},null,null,{"$f":"'baza inwest.'!K579","v":"Oddział Otolaryngologiczny z Pododdziałem Otolaryngologii"},{"$f":"IF($B$2=J584,$B$2,\"\")","v":""},{"$f":"IF($B$2=K584,1,\"\")","v":""},"Sekcja Marketingu","1.04.04"]
["1-579",{"$f":"'baza inwest.'!C580","v":"Optyka HOPKINS"},null,0,"               ",{"$f":"'baza inwest.'!E580","v":7876.27},0,null,null,{"$f":"'baza inwest.'!K580","v":"Blok Operacyjny"},"","","Sekcja Marketingu","1.04.04"]
["1-580",{"$f":"'baza inwest.'!C581","v":"Optyka Hopkins'a 0 st."},{"$f":"'baza inwest.'!D581","v":"producent: Karl Storz, Niemcy"},0,"               ",{"$f":"'baza inwest.'!E581","v":4831.99},0,null,null,{"$f":"'baza inwest.'!K581","v":"Oddział Urologii i Urologii Onkologicznej"},"","","Sekcja Marketingu","1.04.04"]
["1-581",{"$f":"'baza inwest.'!C582","v":"Optyka Hopkins'a 6 st. (do zestawu do PCNL)"},null,0,"               ",{"$f":"'baza inwest.'!E582","v":7249.19},0,null,null,{"$f":"'baza inwest.'!K582","v":"Oddział Urologii i Urologii Onkologicznej"},"","","Sekcja Marketingu","1.04.04"]
["1-582",{"$f":"'baza inwest.'!C583","v":"Optyka Hopkins'a II 30 st."},null,0,"               ",{"$f":"'baza inwest.'!E583","v":4896.29},0,null,null,{"$f":"'baza inwest.'!K583","v":"Oddział Urologii i Urologii Onkologicznej"},"","","Sekcja Marketingu","1.04.04"]
["1-583",{"$f":"'baza inwest.'!C584","v":"Optyka Hopkins'a II 30 st."},{"$f":"'baza inwest.'!D584","v":"producent: Karl Storz, Niemcy"},0,"               ",{"$f":"'baza inwest.'!E584","v":4896.3},0,null,null,{"$f":"'baza inwest.'!K584","v":"Poradnia Urologiczna"},"","","Sekcja Marketingu","1.04.04"]
["1-584",{"$f":"'baza inwest.'!C585","v":"Optyka Hopkins'a II, 0 st., 4 mm"},null,0,"               ",{"$f":"'baza inwest.'!E585","v":11246.45},0,null,null,{"$f":"'baza inwest.'!K585","v":"Oddział Urologii i Urologii Onkologicznej"},"","","Sekcja Marketingu","1.04.04"]
["1-585",{"$f":"'baza inwest.'!C586","v":"Optyka Hopkins'a II, 70 st., 4 mm"},null,0,"               ",{"$f":"'baza inwest.'!E586","v":11830.19},0,null,null,{"$f":"'baza inwest.'!K586","v":"Oddział Urologii i Urologii Onkologicznej"},"","","Sekcja Marketingu","1.04.04"]
["1-586",{"$f":"'baza inwest.'!C587","v":"Optyka nefroskopowa HOPKINS 6 st., dł. 19 cm, okular równoległy,z LUER-Lock"},null,0,"               ",{"$f":"'baza inwest.'!E587","v":9562.25},0,null,null,{"$f":"'baza inwest.'!K587","v":"Oddział Urologii i Urologii Onkologicznej"},"","","Sekcja Marketingu","1.04.04"]
["1-587",{"$f":"'baza inwest.'!C588","v":"Optyka nefroskopowa HOPKINS 6 st.,okular równoległy,z LUER-Lock,dł. 19 cm, autoklawowalna"},null,0,"               ",{"$f":"'baza inwest.'!E588","v":18042.7},0,null,null,{"$f":"'baza inwest.'!K588","v":"Oddział Urologii i Urologii Onkologicznej"},"","","Sekcja Marketingu","1.04.04"]
["1-588",{"$f":"'baza inwest.'!C589","v":"Optyka nefroskopowa o śr. płaszcza 12 Fr., 12 st., dł. 22 cm"},null,0,"               ",{"$f":"'baza inwest.'!E589","v":18754.23},0,null,null,{"$f":"'baza inwest.'!K589","v":"Oddział Urologii i Urologii Onkologicznej"},"","","Sekcja Marketingu","1.04.04"]
["1-589",{"$f":"'baza inwest.'!C590","v":"Optyka Panoview 30st."},{"$f":"'baza inwest.'!D590","v":"prod: WOLF, Niemcy"},0,"               ",{"$f":"'baza inwest.'!E590","v":7082.54},0,null,null,{"$f":"'baza inwest.'!K590","v":"Oddział Otolaryngologiczny z Pododdziałem Otolaryngologii"},"","","Sekcja Marketingu","1.04.04"]
["1-590",{"$f":"'baza inwest.'!C591","v":"Optyka Panoview 90st."},{"$f":"'baza inwest.'!D591","v":"prod: WOLF, Niemcy"},0,"               ",{"$f":"'baza inwest.'!E591","v":7271.29},0,null,null,{"$f":"'baza inwest.'!K591","v":"Oddział Otolaryngologiczny z Pododdziałem Otolaryngologii"},"","","Sekcja Marketingu","1.04.04"]
["1-591",{"$f":"'baza inwest.'!C592","v":"Otoskop interwencyjny z przenośnym żródłem światła - zestaw laryngologiczny"},{"$f":"'baza inwest.'!D592","v":"producent: Karl Storz. Wprowadzone komponenty."},0,"               ",{"$f":"'baza inwest.'!E592","v":20691.73},0,null,null,{"$f":"'baza inwest.'!K592","v":"SOR"},"","","Sekcja Marketingu","1.04.04"]
["1-592",{"$f":"'baza inwest.'!C593","v":"Panel LCD"},{"$f":"'baza inwest.'!D593","v":"typ: CP-400; producent: FREY, Piaseczno, Polska"},0,"               ",{"$f":"'baza inwest.'!E593","v":8000},0,null,null,{"$f":"'baza inwest.'!K593","v":"Oddział Okulistyczny"},"","","Sekcja Marketingu","1.04.04"]
["1-593",{"$f":"'baza inwest.'!C594","v":"Panel medyczny (jednostka zasilająca) dla 3 łóżek"},{"$f":"'baza inwest.'!D594","v":"typ: DN3; producent: MZ Liberec a.s., Republika Czeska"},0,"               ",{"$f":"'baza inwest.'!E594","v":43200},0,null,null,{"$f":"'baza inwest.'!K594","v":"Anestezjologia"},"","","Sekcja Marketingu","1.04.04"]
["1-594",{"$f":"'baza inwest.'!C595","v":"Parapodium do pionizacji pacjenta typ: Balance Trainer (balo) "},null,0,"               ",{"$f":"'baza inwest.'!E595","v":22966.42},0,null,null,{"$f":"'baza inwest.'!K595","v":"Zamiejscowy Dział Rehabilitacji Leczniczej"},"","","Sekcja Marketingu","1.04.04"]
["1-595",{"$f":"'baza inwest.'!C596","v":"Parawan ochronny 1 mmPb 150x150 (h) cm"},null,0,"               ",{"$f":"'baza inwest.'!E596","v":3790},0,null,null,{"$f":"'baza inwest.'!K596","v":"Blok Operacyjny"},"","","Sekcja Marketingu","1.04.04"]
["1-596",{"$f":"'baza inwest.'!C597","v":"Parawan ochronny 1 mmPb 150x150 (h) cm"},null,0,"               ",{"$f":"'baza inwest.'!E597","v":3616.2},0,null,null,{"$f":"'baza inwest.'!K597","v":"Oddział Kardiologiczny"},"","","Sekcja Marketingu","1.04.04"]
["1-597",{"$f":"'baza inwest.'!C598","v":"Perymetr komputerowy"},null,0,"               ",{"$f":"'baza inwest.'!E598","v":36686.75},0,null,null,{"$f":"'baza inwest.'!K598","v":"Oddział Okulistyczny"},"","","Sekcja Marketingu","1.04.04"]
["1-598",{"$f":"'baza inwest.'!C599","v":"Pęseta 23G"},null,0,"               ",{"$f":"'baza inwest.'!E599","v":5314},0,null,null,{"$f":"'baza inwest.'!K599","v":"Oddział Okulistyczny"},"","","Sekcja Marketingu","1.04.04"]
["1-599",{"$f":"'baza inwest.'!C600","v":"Pęseta 23G  Ducournau"},null,0,"               ",{"$f":"'baza inwest.'!E600","v":4337.78},0,null,null,{"$f":"'baza inwest.'!K600","v":"Oddział Okulistyczny"},"","","Sekcja Marketingu","1.04.04"]
["1-600",{"$f":"'baza inwest.'!C601","v":"Pęseta ECKARDT 1286 W"},{"$f":"'baza inwest.'!D601","v":"prod: DORC"},0,"               ",{"$f":"'baza inwest.'!E601","v":3892.66},0,null,null,{"$f":"'baza inwest.'!K601","v":"Oddział Okulistyczny"},"","","Sekcja Marketingu","1.04.04"]
["1-601",{"$f":"'baza inwest.'!C602","v":"Pęseta podsiatkówkowa"},{"$f":"'baza inwest.'!D602","v":0},0,"               ",{"$f":"'baza inwest.'!E602","v":5243},0,null,null,{"$f":"'baza inwest.'!K602","v":"Oddział Okulistyczny"},"","","Sekcja Marketingu","1.04.04"]
["1-602",{"$f":"'baza inwest.'!C603","v":"PHYSIOTER  typ D-50 BL"},null,0,"               ",{"$f":"'baza inwest.'!E603","v":8970},0,null,null,{"$f":"'baza inwest.'!K603","v":"Zamiejscowy Dział Rehabilitacji Leczniczej"},"","","Sekcja Marketingu","1.04.04"]
["1-603",{"$f":"'baza inwest.'!C604","v":"Pilarka"},null,0,"               ",{"$f":"'baza inwest.'!E604","v":4924},0,null,null,{"$f":"'baza inwest.'!K604","v":"Dział Gospodarki Nieruchomościami i Utrzymania Ruchu"},"","","Sekcja Marketingu","1.04.04"]
["1-604",{"$f":"'baza inwest.'!C605","v":"Piła + ładowarka + akumulator /zestaw/ "},null,0,"               ",{"$f":"'baza inwest.'!E605","v":23720.65},0,null,null,{"$f":"'baza inwest.'!K605","v":"Zamiejscowy Blok Operacyjny"},"","","Sekcja Marketingu","1.04.04"]
["1-605",{"$f":"'baza inwest.'!C606","v":"Pistolet do biopsji MAGNUM"},null,0,"               ",{"$f":"'baza inwest.'!E606","v":4320},0,null,null,{"$f":"'baza inwest.'!K606","v":"Oddział Chirurgii Onkologicznej"},"","","Sekcja Marketingu","1.04.04"]
["1-606",{"$f":"'baza inwest.'!C607","v":"Pistolet do biopsji MAGNUM"},null,0,"               ",{"$f":"'baza inwest.'!E607","v":5350},0,null,null,{"$f":"'baza inwest.'!K607","v":"Oddział Urologii i Urologii Onkologicznej"},"","","Sekcja Marketingu","1.04.04"]
["1-607",{"$f":"'baza inwest.'!C608","v":"Pistolet do biopsji MAGNUM"},{"$f":"'baza inwest.'!D608","v":"Cechy: głębokość penetracji 15/22 mm. "},0,"               ",{"$f":"'baza inwest.'!E608","v":6048},0,null,null,{"$f":"'baza inwest.'!K608","v":"Oddział Urologii i Urologii Onkologicznej"},"","","Sekcja Marketingu","1.04.04"]
["1-608",{"$f":"'baza inwest.'!C609","v":"Pistolet do biopsji MAGNUM"},null,0,"               ",{"$f":"'baza inwest.'!E609","v":5275.1},0,null,null,{"$f":"'baza inwest.'!K609","v":"Poradnia Chirurgii Onkologicznej"},"","","Sekcja Marketingu","1.04.04"]
["1-609",{"$f":"'baza inwest.'!C610","v":"Pistolet do biopsji MAGNUM"},{"$f":"'baza inwest.'!D610","v":"Cechy: głębokość penetracji 15/22 mm. "},0,"               ",{"$f":"'baza inwest.'!E610","v":4320},0,null,null,{"$f":"'baza inwest.'!K610","v":"Poradnia Urologiczna"},"","",{"$f":"$B$2","v":"Sekcja Marketingu"},"1.04.04"]
["1-610",{"$f":"'baza inwest.'!C611","v":"Pistolet do biopsji MAGNUM"},{"$f":"'baza inwest.'!D611","v":"typ: MAGNUM/MG1522; producent: BARD"},0,"               ",{"$f":"'baza inwest.'!E611","v":5350},0,null,null,{"$f":"'baza inwest.'!K611","v":"Oddział Nefrologiczny"},"","","Sekcja Marketingu","1.04.04"]
["1-611",{"$f":"'baza inwest.'!C612","v":"Podnośnik 1-funkcyjny "},{"$f":"'baza inwest.'!D612","v":"typ: KTBB4ASX2EU MAXI TWIN; producent: ARJO, Szwecja"},0,"               ",{"$f":"'baza inwest.'!E612","v":22637.99},0,null,null,{"$f":"'baza inwest.'!K612","v":"Oddział Chirurgii Naczyniowej"},"","","Sekcja Marketingu","1.04.04"]
["1-612",{"$f":"'baza inwest.'!C613","v":"Podnośnik 1-funkcyjny "},{"$f":"'baza inwest.'!D613","v":"typ: KTBB4ASX2EU MAXI TWIN; producent: ARJO, Szwecja"},0,"               ",{"$f":"'baza inwest.'!E613","v":22637.99},0,null,null,{"$f":"'baza inwest.'!K613","v":"Oddział Nefrologiczny"},"","","Sekcja Marketingu","1.04.04"]
["1-613",{"$f":"'baza inwest.'!C614","v":"Podnośnik 1-funkcyjny "},{"$f":"'baza inwest.'!D614","v":"typ: KTBB4ASX2EU MAXI TWIN; producent: ARJO, Szwecja"},0,"               ",{"$f":"'baza inwest.'!E614","v":22637.99},0,null,null,{"$f":"'baza inwest.'!K614","v":"Oddział Położniczo – Ginekologiczny"},"","","Sekcja Marketingu","1.04.04"]
["1-614",{"$f":"'baza inwest.'!C615","v":"Podnośnik 2-funkcyjny"},{"$f":"'baza inwest.'!D615","v":"typ/model: KMBBNSX2FEU MAXI MOVE; producent: ARJO, Szwecja"},0,"               ",{"$f":"'baza inwest.'!E615","v":39280.769999999997},0,null,null,{"$f":"'baza inwest.'!K615","v":"Intensywna Terapia"},"","","Sekcja Marketingu","1.04.04"]
["1-615",{"$f":"'baza inwest.'!C616","v":"Podnośnik 2-funkcyjny"},{"$f":"'baza inwest.'!D616","v":"typ: KMCSXM; producent: ARJO, Szwecja"},0,"               ",{"$f":"'baza inwest.'!E616","v":39578.230000000003},0,null,null,{"$f":"'baza inwest.'!K616","v":"Oddział Chirurgii Ogólnej z Pododdziałami"},"","","Sekcja Marketingu","1.04.04"]
["1-616",{"$f":"'baza inwest.'!C617","v":"Podnośnik 2-funkcyjny"},{"$f":"'baza inwest.'!D617","v":"typ: KMCSXM; producent: ARJO, Szwecja"},0,"               ",{"$f":"'baza inwest.'!E617","v":36333.99},0,null,null,{"$f":"'baza inwest.'!K617","v":"Oddział Kardiologiczny"},"","","Sekcja Marketingu","1.04.04"]
["1-617",{"$f":"'baza inwest.'!C618","v":"Podnośnik pacjenta "},null,0,"               ",{"$f":"'baza inwest.'!E618","v":5200},0,null,null,{"$f":"'baza inwest.'!K618","v":"Zamiejscowy Dział Rehabilitacji Leczniczej"},"","","Sekcja Marketingu","1.04.04"]
["1-618",{"$f":"'baza inwest.'!C619","v":"Podnośnik pacjenta elektryczny "},{"$f":"'baza inwest.'!D619","v":"Charakterystyka: składany, udźwig 175 kg, typ HOYER HLK-6, \n"},0,"               ",{"$f":"'baza inwest.'!E619","v":5200},0,null,null,{"$f":"'baza inwest.'!K619","v":"Zamiejscowy Dział Rehabilitacji Leczniczej"},"","","Sekcja Marketingu","1.04.04"]
["1-619",{"$f":"'baza inwest.'!C620","v":"Podnośnik pacjenta typ Maxi Twin "},null,0,"               ",{"$f":"'baza inwest.'!E620","v":19654.830000000002},0,null,null,{"$f":"'baza inwest.'!K620","v":"Zamiejscowy Oddział Rehabilitacji Ogólnoustrojowej II"},"","","Sekcja Marketingu","1.04.04"]
["1-620",{"$f":"'baza inwest.'!C621","v":"Podnośnik rehablitacyjny dla niepełnosprawnych ULTRA II"},null,0,"               ",{"$f":"'baza inwest.'!E621","v":4576.5},0,null,null,{"$f":"'baza inwest.'!K621","v":"Zamiejscowy Oddział Rehabilitacji Neurologicznej"},"","","Sekcja Marketingu","1.04.04"]
["1-621",{"$f":"'baza inwest.'!C622","v":"Podpora pod rękę"},null,0,"               ",{"$f":"'baza inwest.'!E622","v":3623.4},0,null,null,{"$f":"'baza inwest.'!K622","v":"Blok Operacyjny"},"","","Sekcja Marketingu","1.04.04"]
["1-622",{"$f":"'baza inwest.'!C623","v":"Podpory nóg"},null,0,"               ",{"$f":"'baza inwest.'!E623","v":22042},0,null,null,{"$f":"'baza inwest.'!K623","v":"Blok Operacyjny"},"","","Sekcja Marketingu","1.04.04"]
["1-623",{"$f":"'baza inwest.'!C624","v":"Podstawa jezdna do respiratora Monnal T60"},null,0,"               ",{"$f":"'baza inwest.'!E624","v":4104},0,null,null,{"$f":"'baza inwest.'!K624","v":"Intensywna Terapia"},"","","Sekcja Marketingu","1.04.04"]
["1-624",{"$f":"'baza inwest.'!C625","v":"Pojemnik do sterylizacji IORT"},null,0,"               ",{"$f":"'baza inwest.'!E625","v":9300},0,null,null,{"$f":"'baza inwest.'!K625","v":"Oddział Chirurgii Onkologicznej"},"","","Sekcja Marketingu","1.04.04"]
["1-625",{"$f":"'baza inwest.'!C626","v":"Pompa - Endomat LC"},{"$f":"'baza inwest.'!D626","v":"producent: Karl Storz, Niemcy;"},0,"               ",{"$f":"'baza inwest.'!E626","v":8539},0,null,null,{"$f":"'baza inwest.'!K626","v":"Oddział Urologii i Urologii Onkologicznej"},"","","Sekcja Marketingu","1.04.04"]
["1-626",{"$f":"'baza inwest.'!C627","v":"Pompa  infuzyjna jednostrzykawkowa"},null,0,"               ",{"$f":"'baza inwest.'!E627","v":3531},0,null,null,{"$f":"'baza inwest.'!K627","v":"SOR"},"","","Sekcja Marketingu","1.04.04"]
["1-627",{"$f":"'baza inwest.'!C628","v":"Pompa do kontrpulsacji "},{"$f":"'baza inwest.'!D628","v":0},0,"               ",{"$f":"'baza inwest.'!E628","v":100440},0,null,null,{"$f":"'baza inwest.'!K628","v":"Oddział Kardiologiczny"},"","","Sekcja Marketingu","1.04.04"]
["1-628",{"$f":"'baza inwest.'!C629","v":"Pompa do kontrpulsacji wewnątrzaortalnej"},null,0,"               ",{"$f":"'baza inwest.'!E629","v":165850},0,null,null,{"$f":"'baza inwest.'!K629","v":"Oddział Kardiologiczny"},"","","Sekcja Marketingu","1.04.04"]
["1-629",{"$f":"'baza inwest.'!C630","v":"Pompa infuzyjna 2-strzykawkowa"},{"$f":"'baza inwest.'!D630","v":"typ: AP22;  prod: ASCOR, Polska"},0,"               ",{"$f":"'baza inwest.'!E630","v":4868.5},0,null,null,{"$f":"'baza inwest.'!K630","v":"Oddział Kardiologiczny"},"","","Sekcja Marketingu","1.04.04"]
["1-630",{"$f":"'baza inwest.'!C631","v":"Pompa infuzyjna 2-strzykawkowa"},{"$f":"'baza inwest.'!D631","v":"typ: AP22; prod: ASCOR, Polska"},0,"               ",{"$f":"'baza inwest.'!E631","v":4868.5},0,null,null,{"$f":"'baza inwest.'!K631","v":"SOR"},"","","Sekcja Marketingu","1.04.04"]
["1-631",{"$f":"'baza inwest.'!C632","v":"Pompa infuzyjna dwustrzykawkowa"},null,0,"               ",{"$f":"'baza inwest.'!E632","v":3850},0,null,null,{"$f":"'baza inwest.'!K632","v":"Oddział Kardiologiczny"},"","","Sekcja Marketingu","1.04.04"]
["1-632",{"$f":"'baza inwest.'!C633","v":"Pompa infuzyjna dwustrzykawkowa"},{"$f":"'baza inwest.'!D633","v":"producent: ASCOR S.A., Polska."},0,"               ",{"$f":"'baza inwest.'!E633","v":4460.3999999999996},0,null,null,{"$f":"'baza inwest.'!K633","v":"Anestezjologia"},"","","Sekcja Marketingu","1.04.04"]
["1-633",{"$f":"'baza inwest.'!C634","v":"Pompa infuzyjna dwustrzykawkowa"},null,0,"               ",{"$f":"'baza inwest.'!E634","v":4752},0,null,null,{"$f":"'baza inwest.'!K634","v":"Oddział Kardiologii Dziecięcej z Pododdziałem Kardiochirurgi"},"","","Sekcja Marketingu","1.04.04"]
["1-634",{"$f":"'baza inwest.'!C635","v":"Pompa infuzyjna dwustrzykawkowa"},null,0,"               ",{"$f":"'baza inwest.'!E635","v":4460.3999999999996},0,null,null,{"$f":"'baza inwest.'!K635","v":"Oddział Urologii i Urologii Onkologicznej"},"","","Sekcja Marketingu","1.04.04"]
["1-635",{"$f":"'baza inwest.'!C636","v":"Pompa infuzyjna dwustrzykawkowa"},{"$f":"'baza inwest.'!D636","v":"Typ: AP 24; producent: ASCOR, Polska"},0,"               ",{"$f":"'baza inwest.'!E636","v":4038.12},0,null,null,{"$f":"'baza inwest.'!K636","v":"Oddział Neonatologiczny z Pododdziałem Patologii Noworodka"},"","","Sekcja Marketingu","1.04.04"]
["1-636",{"$f":"'baza inwest.'!C637","v":"Pompa infuzyjna dwustrzykawkowa"},null,0,"               ",{"$f":"'baza inwest.'!E637","v":4038.12},0,null,null,{"$f":"'baza inwest.'!K637","v":"Oddział Położniczo – Ginekologiczny"},"","","Sekcja Marketingu","1.04.04"]
["1-637",{"$f":"'baza inwest.'!C638","v":"Pompa infuzyjna dwustrzykawkowa"},{"$f":"'baza inwest.'!D638","v":"producent: Ascor Med Sp. z o.o., Polska"},0,"               ",{"$f":"'baza inwest.'!E638","v":4320},0,null,null,{"$f":"'baza inwest.'!K638","v":"Stacja Dializ"},"","","Sekcja Marketingu","1.04.04"]
["1-638",{"$f":"'baza inwest.'!C639","v":"Pompa infuzyjna dwustrzykawkowa"},{"$f":"'baza inwest.'!D639","v":"producent: ASCOR S.A."},0,"               ",{"$f":"'baza inwest.'!E639","v":4104},0,null,null,{"$f":"'baza inwest.'!K639","v":"Anestezjologia"},"","","Sekcja Marketingu","1.04.04"]
["1-639",{"$f":"'baza inwest.'!C640","v":"Pompa infuzyjna dwustrzykawkowa"},{"$f":"'baza inwest.'!D640","v":"Typ: AP22; producent: ASCOR S.A."},0,"               ",{"$f":"'baza inwest.'!E640","v":4428},0,null,null,{"$f":"'baza inwest.'!K640","v":"Oddział Kardiologii Dziecięcej z Pododdziałem Kardiochirurgi"},"","","Sekcja Marketingu","1.04.04"]
["1-640",{"$f":"'baza inwest.'!C641","v":"Pompa infuzyjna dwustrzykawkowa"},{"$f":"'baza inwest.'!D641","v":"producent: ASCOR S.A."},0,"               ",{"$f":"'baza inwest.'!E641","v":3974.4},0,null,null,{"$f":"'baza inwest.'!K641","v":"SOR"},"","","Sekcja Marketingu","1.04.04"]
["1-641",{"$f":"'baza inwest.'!C642","v":"Pompa infuzyjna dwustrzykawkowa"},null,0,"               ",{"$f":"'baza inwest.'!E642","v":3959},0,null,null,{"$f":"'baza inwest.'!K642","v":"Oddział Angiologiczny z Pododdziałem Diabetologii"},"","","Sekcja Marketingu",{"$f":"$I$2","v":"1.04.04"}]
["1-642",{"$f":"'baza inwest.'!C643","v":"Pompa infuzyjna dwustrzykawkowa"},{"$f":"'baza inwest.'!D643","v":"Producent: ASCOR S.A., Polska"},0,"               ",{"$f":"'baza inwest.'!E643","v":3959},{"$f":"D648*F648","v":0},null,null,{"$f":"'baza inwest.'!K643","v":"Oddział Angiologiczny z Pododdziałem Diabetologii"},{"$f":"IF($B$2=J648,$B$2,\"\")","v":""},{"$f":"IF($B$2=K648,1,\"\")","v":""},"Sekcja Marketingu","1.04.04"]
["1-643",{"$f":"'baza inwest.'!C644","v":"Pompa infuzyjna dwustrzykawkowa"},null,0,"               ",{"$f":"'baza inwest.'!E644","v":3959},0,null,null,{"$f":"'baza inwest.'!K644","v":"Oddział Kardiologiczny"},"","","Sekcja Marketingu","1.04.04"]
["1-644",{"$f":"'baza inwest.'!C645","v":"Pompa infuzyjna objętościowa "},{"$f":"'baza inwest.'!D645","v":"Producent: B.BRAUN, Niemcy. "},0,"               ",{"$f":"'baza inwest.'!E645","v":6615.56},0,null,null,{"$f":"'baza inwest.'!K645","v":"Intensywna Terapia"},"","","Sekcja Marketingu","1.04.04"]
["1-645",{"$f":"'baza inwest.'!C646","v":"Pompa infuzyjna objętościowa "},{"$f":"'baza inwest.'!D646","v":"Typ: Infusomat Space; producent: B.BRAUN."},0,"               ",{"$f":"'baza inwest.'!E646","v":6291.56},0,null,null,{"$f":"'baza inwest.'!K646","v":"Intensywna Terapia"},"","","Sekcja Marketingu","1.04.04"]
["1-646",{"$f":"'baza inwest.'!C647","v":"Pompa infuzyjna objętościowa "},{"$f":"'baza inwest.'!D647","v":"Typ: Infusomat Space; producent: B.BRAUN"},0,"               ",{"$f":"'baza inwest.'!E647","v":6291.57},0,null,null,{"$f":"'baza inwest.'!K647","v":"Oddział Chemioterapii z Pododdziałem Chemioterapii Dziennej"},"","","Sekcja Marketingu","1.04.04"]
["1-647",{"$f":"'baza inwest.'!C648","v":"Pompa infuzyjna objętościowa "},{"$f":"'baza inwest.'!D648","v":"producent: B.BRAUN"},0,"               ",{"$f":"'baza inwest.'!E648","v":6723.56},0,null,null,{"$f":"'baza inwest.'!K648","v":"SOR"},"","","Sekcja Marketingu","1.04.04"]
["1-648",{"$f":"'baza inwest.'!C649","v":"Pompa infuzyjna objętościowa "},{"$f":"'baza inwest.'!D649","v":"typ: INFUSOMAT SPACE; producent: B.BRAUN,Niemcy"},0,"               ",{"$f":"'baza inwest.'!E649","v":7043.19},0,null,null,{"$f":"'baza inwest.'!K649","v":"Intensywna Terapia"},"","","Sekcja Marketingu","1.04.04"]
["1-649",{"$f":"'baza inwest.'!C650","v":"Pompa infuzyjna objętościowa "},{"$f":"'baza inwest.'!D650","v":"producent: B.BRAUN"},0,"               ",{"$f":"'baza inwest.'!E650","v":6661.31},0,null,null,{"$f":"'baza inwest.'!K650","v":"Intensywna Terapia"},"","","Sekcja Marketingu","1.04.04"]
["1-650",{"$f":"'baza inwest.'!C651","v":"Pompa infuzyjna objętościowa "},{"$f":"'baza inwest.'!D651","v":"producent: B. BRAUN, Niemcy"},0,"               ",{"$f":"'baza inwest.'!E651","v":5562},0,null,null,{"$f":"'baza inwest.'!K651","v":"Intensywna Terapia"},"","","Sekcja Marketingu","1.04.04"]
["1-651",{"$f":"'baza inwest.'!C652","v":"Pompa infuzyjna objętościowa "},{"$f":"'baza inwest.'!D652","v":0},0,"               ",{"$f":"'baza inwest.'!E652","v":6661.61},0,null,null,{"$f":"'baza inwest.'!K652","v":"Oddział Chemioterapii z Pododdziałem Chemioterapii Dziennej"},"","","Sekcja Marketingu","1.04.04"]
["1-652",{"$f":"'baza inwest.'!C653","v":"Pompa infuzyjna objętościowa "},null,0,"               ",{"$f":"'baza inwest.'!E653","v":6233.3},0,null,null,{"$f":"'baza inwest.'!K653","v":"Oddział Neonatologiczny z Pododdziałem Patologii Noworodka"},"","","Sekcja Marketingu","1.04.04"]
["1-653",{"$f":"'baza inwest.'!C654","v":"Pompa infuzyjna objętościowa "},{"$f":"'baza inwest.'!D654","v":"producent: B. BRAUN, Niemcy"},0,"               ",{"$f":"'baza inwest.'!E654","v":6260.76},0,null,null,{"$f":"'baza inwest.'!K654","v":"Oddział Pediatryczny z Pododdziałem Gastroenterologii"},"","","Sekcja Marketingu","1.04.04"]
["1-654",{"$f":"'baza inwest.'!C655","v":"Pompa infuzyjna strzykawkowa"},{"$f":"'baza inwest.'!D655","v":"typ: PERFUSOR SPACE; prod: B. BRAUN "},0,"               ",{"$f":"'baza inwest.'!E655","v":4547.5},0,null,null,{"$f":"'baza inwest.'!K655","v":"Oddział Chemioterapii z Pododdziałem Chemioterapii Dziennej"},"","","Sekcja Marketingu","1.04.04"]
["1-655",{"$f":"'baza inwest.'!C656","v":"Pompa infuzyjna strzykawkowa"},null,0,"               ",{"$f":"'baza inwest.'!E656","v":4547.5},0,null,null,{"$f":"'baza inwest.'!K656","v":"Oddział Chirurgii Onkologicznej"},"","","Sekcja Marketingu","1.04.04"]
["1-656",{"$f":"'baza inwest.'!C657","v":"Pompa infuzyjna strzykawkowa"},{"$f":"'baza inwest.'!D657","v":0},0,"               ",{"$f":"'baza inwest.'!E657","v":3526.2},0,null,null,{"$f":"'baza inwest.'!K657","v":"Oddział Neonatologiczny z Pododdziałem Patologii Noworodka"},"","","Sekcja Marketingu","1.04.04"]
["1-657",{"$f":"'baza inwest.'!C658","v":"Pompa infuzyjna strzykawkowa"},null,0,"               ",{"$f":"'baza inwest.'!E658","v":4738.41},0,null,null,{"$f":"'baza inwest.'!K658","v":"Anestezjologia"},"","","Sekcja Marketingu","1.04.04"]
["1-658",{"$f":"'baza inwest.'!C659","v":"Pompa infuzyjna strzykawkowa"},{"$f":"'baza inwest.'!D659","v":"producent: B.BRAUN, Niemcy. "},0,"               ",{"$f":"'baza inwest.'!E659","v":4954.3999999999996},0,null,null,{"$f":"'baza inwest.'!K659","v":"Intensywna Terapia"},"","","Sekcja Marketingu","1.04.04"]
["1-659",{"$f":"'baza inwest.'!C660","v":"Pompa infuzyjna strzykawkowa"},{"$f":"'baza inwest.'!D660","v":"Typ: Perfusor Space; producent: B.BRAUN."},0,"               ",{"$f":"'baza inwest.'!E660","v":4738.3999999999996},0,null,null,{"$f":"'baza inwest.'!K660","v":"Intensywna Terapia"},"","","Sekcja Marketingu","1.04.04"]
["1-660",{"$f":"'baza inwest.'!C661","v":"Pompa infuzyjna strzykawkowa"},{"$f":"'baza inwest.'!D661","v":"producent: B.BRAUN"},0,"               ",{"$f":"'baza inwest.'!E661","v":4954.3999999999996},0,null,null,{"$f":"'baza inwest.'!K661","v":"Oddział Chirurgii Ogólnej z Pododdziałami"},"","","Sekcja Marketingu","1.04.04"]
["1-661",{"$f":"'baza inwest.'!C662","v":"Pompa infuzyjna strzykawkowa"},{"$f":"'baza inwest.'!D662","v":"producent: B.BRAUN; "},0,"               ",{"$f":"'baza inwest.'!E662","v":4738.41},0,null,null,{"$f":"'baza inwest.'!K662","v":"Oddział Neonatologiczny z Pododdziałem Patologii Noworodka"},"","","Sekcja Marketingu","1.04.04"]
["1-662",{"$f":"'baza inwest.'!C663","v":"Pompa infuzyjna strzykawkowa"},{"$f":"'baza inwest.'!D663","v":"typ: PERFUSOR SPACE"},0,"               ",{"$f":"'baza inwest.'!E663","v":4280},0,null,null,{"$f":"'baza inwest.'!K663","v":"Anestezjologia"},"","","Sekcja Marketingu","1.04.04"]
["1-663",{"$f":"'baza inwest.'!C664","v":"Pompa infuzyjna strzykawkowa"},{"$f":"'baza inwest.'!D664","v":"Producent: B. BRAUN."},0,"               ",{"$f":"'baza inwest.'!E664","v":4028.4},0,null,null,{"$f":"'baza inwest.'!K664","v":"Intensywna Terapia"},"","","Sekcja Marketingu","1.04.04"]
["1-664",{"$f":"'baza inwest.'!C665","v":"Pompa infuzyjna strzykawkowa"},{"$f":"'baza inwest.'!D665","v":"Producent: B. BRAUN."},0,"               ",{"$f":"'baza inwest.'!E665","v":4374},0,null,null,{"$f":"'baza inwest.'!K665","v":"Intensywna Terapia"},"","","Sekcja Marketingu","1.04.04"]
["1-665",{"$f":"'baza inwest.'!C666","v":"Pompa infuzyjna strzykawkowa"},{"$f":"'baza inwest.'!D666","v":"TYP: PERFUSOR SPACE; producent: B.BRAUN"},0,"               ",{"$f":"'baza inwest.'!E666","v":4280},0,null,null,{"$f":"'baza inwest.'!K666","v":"Oddział Chemioterapii z Pododdziałem Chemioterapii Dziennej"},"","","Sekcja Marketingu","1.04.04"]
["1-666",{"$f":"'baza inwest.'!C667","v":"Pompa infuzyjna strzykawkowa"},{"$f":"'baza inwest.'!D667","v":"typ: PERFUSOR SPACE; producent: B. BRAUN; "},0,"               ",{"$f":"'baza inwest.'!E667","v":4601},0,null,null,{"$f":"'baza inwest.'!K667","v":"Oddział Neonatologiczny z Pododdziałem Patologii Noworodka"},"","","Sekcja Marketingu","1.04.04"]
["1-667",{"$f":"'baza inwest.'!C668","v":"Pompa infuzyjna strzykawkowa"},{"$f":"'baza inwest.'!D668","v":"producent: B.BRAUN"},0,"               ",{"$f":"'baza inwest.'!E668","v":4908.53},0,null,null,{"$f":"'baza inwest.'!K668","v":"Oddział Transplantologiczny"},"","","Sekcja Marketingu","1.04.04"]
["1-668",{"$f":"'baza inwest.'!C669","v":"Pompa infuzyjna strzykawkowa"},{"$f":"'baza inwest.'!D669","v":"Producent: B. BRAUN."},0,"               ",{"$f":"'baza inwest.'!E669","v":4406.3999999999996},0,null,null,{"$f":"'baza inwest.'!K669","v":"Zamiejscowy Blok Operacyjny"},"","","Sekcja Marketingu","1.04.04"]
["1-669",{"$f":"'baza inwest.'!C670","v":"Pompa infuzyjna strzykawkowa"},{"$f":"'baza inwest.'!D670","v":"Producent: B. BRAUN."},0,"               ",{"$f":"'baza inwest.'!E670","v":4406.3999999999996},0,null,null,{"$f":"'baza inwest.'!K670","v":"Zamiejscowy Oddział Chirurgii Urazowo - Ortopedycznej"},"","","Sekcja Marketingu","1.04.04"]
["1-670",{"$f":"'baza inwest.'!C671","v":"Pompa infuzyjna strzykawkowa"},{"$f":"'baza inwest.'!D671","v":"Producent: B. BRAUN."},0,"               ",{"$f":"'baza inwest.'!E671","v":4802.92},0,null,null,{"$f":"'baza inwest.'!K671","v":"Zamiejscowy Oddział Chirurgii Urazowo - Ortopedycznej"},"","","Sekcja Marketingu","1.04.04"]
["1-671",{"$f":"'baza inwest.'!C672","v":"Pompa płucząca "},{"$f":"'baza inwest.'!D672","v":"Typ: OFP-2 (z kablem typu: MAJ-920); Producent: KeyMed, Wielka Brytania."},0,"               ",{"$f":"'baza inwest.'!E672","v":9588.24},0,null,null,{"$f":"'baza inwest.'!K672","v":"Pracownia Endoskopii"},"","","Sekcja Marketingu","1.04.04"]
["1-672",{"$f":"'baza inwest.'!C673","v":"Pompa ssąco-płucząca"},{"$f":"'baza inwest.'!D673","v":"producent: Karl Storz.  "},0,"               ",{"$f":"'baza inwest.'!E673","v":28048.39},0,null,null,{"$f":"'baza inwest.'!K673","v":"Oddział Położniczo – Ginekologiczny"},"","","Sekcja Marketingu","1.04.04"]
["1-673",{"$f":"'baza inwest.'!C674","v":"Pompa strzykawkowa"},null,0,"               ",{"$f":"'baza inwest.'!E674","v":4547.5},0,null,null,{"$f":"'baza inwest.'!K674","v":"Anestezjologia"},"","",{"$f":"$B$2","v":"Sekcja Marketingu"},"1.04.04"]
["1-674",{"$f":"'baza inwest.'!C675","v":"Pompa strzykawkowa"},{"$f":"'baza inwest.'!D675","v":"Pompa strzykawkowa TERUFUSION; prod: TERUMO EUROPE NV; BELGIA; "},0,"               ",{"$f":"'baza inwest.'!E675","v":3699.67},0,null,null,{"$f":"'baza inwest.'!K675","v":"Oddział Pediatryczny z Pododdziałem Gastroenterologii"},"","","Sekcja Marketingu","1.04.04"]
["1-675",{"$f":"'baza inwest.'!C676","v":"Pompa strzykawkowa"},null,0,"               ",{"$f":"'baza inwest.'!E676","v":8560},0,null,null,{"$f":"'baza inwest.'!K676","v":"Oddział Neonatologiczny z Pododdziałem Patologii Noworodka"},"","","Sekcja Marketingu","1.04.04"]
["1-676",{"$f":"'baza inwest.'!C677","v":"Pompa strzykawkowa"},{"$f":"'baza inwest.'!D677","v":"typ: ASENA CC \r\nprod: ALARIS MEDICAL SYSTEMS"},0,"               ",{"$f":"'baza inwest.'!E677","v":8560},0,null,null,{"$f":"'baza inwest.'!K677","v":"Oddział Neonatologiczny z Pododdziałem Patologii Noworodka"},"","","Sekcja Marketingu","1.04.04"]
["1-677",{"$f":"'baza inwest.'!C678","v":"Pompa strzykawkowa"},{"$f":"'baza inwest.'!D678","v":"producent: Cardinal Health"},0,"               ",{"$f":"'baza inwest.'!E678","v":4500},0,null,null,{"$f":"'baza inwest.'!K678","v":"Oddział Neonatologiczny z Pododdziałem Patologii Noworodka"},"","","Sekcja Marketingu","1.04.04"]
["1-678",{"$f":"'baza inwest.'!C679","v":"Pompa strzykawkowa"},{"$f":"'baza inwest.'!D679","v":"typ: PERFUSOR SPACE; producent: B.BRAUN, Niemcy "},0,"               ",{"$f":"'baza inwest.'!E679","v":4862.41},0,null,null,{"$f":"'baza inwest.'!K679","v":"Intensywna Terapia"},"","","Sekcja Marketingu","1.04.04"]
["1-679",{"$f":"'baza inwest.'!C680","v":"Pompa strzykawkowa"},{"$f":"'baza inwest.'!D680","v":"typ: PERFUSOR SPACE; producent: B.BRAUN"},0,"               ",{"$f":"'baza inwest.'!E680","v":4800},0,null,null,{"$f":"'baza inwest.'!K680","v":"Oddział Chemioterapii z Pododdziałem Chemioterapii Dziennej"},"","","Sekcja Marketingu","1.04.04"]
["1-680",{"$f":"'baza inwest.'!C681","v":"Pompa strzykawkowa"},{"$f":"'baza inwest.'!D681","v":"producet: B. BRAUN, NIEMCY"},0,"               ",{"$f":"'baza inwest.'!E681","v":4895.01},0,null,null,{"$f":"'baza inwest.'!K681","v":"Oddział Chirurgii Onkologicznej"},"","","Sekcja Marketingu","1.04.04"]
["1-681",{"$f":"'baza inwest.'!C682","v":"Pompa strzykawkowa"},{"$f":"'baza inwest.'!D682","v":"producet: B. BRAUN, NIEMCY"},0,"               ",{"$f":"'baza inwest.'!E682","v":4978.72},0,null,null,{"$f":"'baza inwest.'!K682","v":"Oddział Nefrologiczny"},"","","Sekcja Marketingu","1.04.04"]
["1-682",{"$f":"'baza inwest.'!C683","v":"Poręcz do nauki chodzenia "},{"$f":"'baza inwest.'!D683","v":0},0,"               ",{"$f":"'baza inwest.'!E683","v":4870},0,null,null,{"$f":"'baza inwest.'!K683","v":"Zamiejscowy Dział Rehabilitacji Leczniczej"},"","","Sekcja Marketingu","1.04.04"]
["1-683",{"$f":"'baza inwest.'!C684","v":"Promiennik podczerwieni do pielęgnacji niemowląt IR-10"},null,0,"               ",{"$f":"'baza inwest.'!E684","v":4601},0,null,null,{"$f":"'baza inwest.'!K684","v":"Oddział Neonatologiczny z Pododdziałem Patologii Noworodka"},"","","Sekcja Marketingu","1.04.04"]
["1-684",{"$f":"'baza inwest.'!C685","v":"Przetwornik"},{"$f":"'baza inwest.'!D685","v":"producent: Karl Storz, Niemcy"},0,"               ",{"$f":"'baza inwest.'!E685","v":4514.1400000000003},0,null,null,{"$f":"'baza inwest.'!K685","v":"Oddział Urologii i Urologii Onkologicznej"},"","","Sekcja Marketingu","1.04.04"]
["1-685",{"$f":"'baza inwest.'!C686","v":"Przystawka neurochirurgiczna"},{"$f":"'baza inwest.'!D686","v":"producent: Integra NeuroSciences, USA"},0,"               ",{"$f":"'baza inwest.'!E686","v":64800},0,null,null,{"$f":"'baza inwest.'!K686","v":"Blok Operacyjny"},"","","Sekcja Marketingu","1.04.04"]
["1-686",{"$f":"'baza inwest.'!C687","v":"Przystawka ortopedyczna"},{"$f":"'baza inwest.'!D687","v":"producent: Schaerer Medical AG, Szwajcaria"},0,"               ",{"$f":"'baza inwest.'!E687","v":124200},0,null,null,{"$f":"'baza inwest.'!K687","v":"Blok Operacyjny"},"","","Sekcja Marketingu","1.04.04"]
["1-687",{"$f":"'baza inwest.'!C688","v":"Pulsoksymetr"},{"$f":"'baza inwest.'!D688","v":"prod: NONIN MEDICAL, INC.; USA; typ: NONIN 8600FO"},0,"               ",{"$f":"'baza inwest.'!E688","v":14378.02},0,null,null,{"$f":"'baza inwest.'!K688","v":"DODO - Pracownia Rezonansu Magnetycznego"},"","","Sekcja Marketingu","1.04.04"]
["1-688",{"$f":"'baza inwest.'!C689","v":"Pulsoksymetr"},{"$f":"'baza inwest.'!D689","v":0},0,"               ",{"$f":"'baza inwest.'!E689","v":3842.64},0,null,null,{"$f":"'baza inwest.'!K689","v":"Oddział Neonatologiczny z Pododdziałem Patologii Noworodka"},"","","Sekcja Marketingu","1.04.04"]
["1-689",{"$f":"'baza inwest.'!C690","v":"Pulsoksymetr"},null,0,"               ",{"$f":"'baza inwest.'!E690","v":4280},0,null,null,{"$f":"'baza inwest.'!K690","v":"Oddział Chemioterapii z Pododdziałem Chemioterapii Dziennej"},"","","Sekcja Marketingu","1.04.04"]
["1-690",{"$f":"'baza inwest.'!C691","v":"Pulsoksymetr"},null,0,"               ",{"$f":"'baza inwest.'!E691","v":4280},0,null,null,{"$f":"'baza inwest.'!K691","v":"Pracownia Endoskopii"},"","","Sekcja Marketingu","1.04.04"]
["1-691",{"$f":"'baza inwest.'!C692","v":"Pulsoksymetr"},{"$f":"'baza inwest.'!D692","v":"typ: N560; producent: Nellcor Puritan Bennett, USA"},0,"               ",{"$f":"'baza inwest.'!E692","v":4280},0,null,null,{"$f":"'baza inwest.'!K692","v":"SOR"},"","","Sekcja Marketingu","1.04.04"]
["1-692",{"$f":"'baza inwest.'!C693","v":"Pulsoksymetr"},null,0,"               ",{"$f":"'baza inwest.'!E693","v":7115.5},0,null,null,{"$f":"'baza inwest.'!K693","v":"Intensywna Terapia"},"","","Sekcja Marketingu","1.04.04"]
["1-693",{"$f":"'baza inwest.'!C694","v":"Pulsoksymetr"},null,0,"               ",{"$f":"'baza inwest.'!E694","v":3798.5},0,null,null,{"$f":"'baza inwest.'!K694","v":"Oddział Neonatologiczny z Pododdziałem Patologii Noworodka"},"","","Sekcja Marketingu","1.04.04"]
["1-694",{"$f":"'baza inwest.'!C695","v":"Pulsoksymetr"},{"$f":"'baza inwest.'!D695","v":"model 520 AL. PR, typ OXYPLETH \r\n"},0,"               ",{"$f":"'baza inwest.'!E695","v":4704.47},0,null,null,{"$f":"'baza inwest.'!K695","v":"Zamiejscowy Oddział Chirurgii Urazowo - Ortopedycznej"},"","","Sekcja Marketingu","1.04.04"]
["1-695",{"$f":"'baza inwest.'!C696","v":"Pulsoksymetr"},null,0,"               ",{"$f":"'baza inwest.'!E696","v":5940},0,null,null,{"$f":"'baza inwest.'!K696","v":"Poradnia Chirurgii Onkologicznej"},"","","Sekcja Marketingu","1.04.04"]
["1-696",{"$f":"'baza inwest.'!C697","v":"Pulsoksymetr"},{"$f":"'baza inwest.'!D697","v":"Typ: RADICAL 7; producent: MASIMO; "},0,"               ",{"$f":"'baza inwest.'!E697","v":7276},0,null,null,{"$f":"'baza inwest.'!K697","v":"Oddział Neonatologiczny z Pododdziałem Patologii Noworodka"},"","","Sekcja Marketingu","1.04.04"]
["1-697",{"$f":"'baza inwest.'!C698","v":"Pulsoksymetr"},{"$f":"'baza inwest.'!D698","v":"typ: Radical 7; producent: MASIMO"},0,"               ",{"$f":"'baza inwest.'!E698","v":7776},0,null,null,{"$f":"'baza inwest.'!K698","v":"Oddział Neonatologiczny z Pododdziałem Patologii Noworodka"},"","","Sekcja Marketingu","1.04.04"]
["1-698",{"$f":"'baza inwest.'!C699","v":"Pulsoksymetr"},{"$f":"'baza inwest.'!D699","v":"producent: SMITH MEDICAL PM, USA"},0,"               ",{"$f":"'baza inwest.'!E699","v":3618},0,null,null,{"$f":"'baza inwest.'!K699","v":"SOR"},"","","Sekcja Marketingu","1.04.04"]
["1-699",{"$f":"'baza inwest.'!C700","v":"Pulsoksymetr stacjonarno-transportowy"},{"$f":"'baza inwest.'!D700","v":"typ/model: RADICAL"},0,"               ",{"$f":"'baza inwest.'!E700","v":7811},0,null,null,{"$f":"'baza inwest.'!K700","v":"Anestezjologia"},"","","Sekcja Marketingu","1.04.04"]
["1-700",{"$f":"'baza inwest.'!C701","v":"Pulsoksymetr stacjonarno-transportowy"},null,0,"               ",{"$f":"'baza inwest.'!E701","v":7811},0,null,null,{"$f":"'baza inwest.'!K701","v":"Oddział Położniczo – Ginekologiczny"},"","","Sekcja Marketingu","1.04.04"]
["1-701",{"$f":"'baza inwest.'!C702","v":"Pulsoksymetr stacjonarno-transportowy"},{"$f":"'baza inwest.'!D702","v":0},0,"               ",{"$f":"'baza inwest.'!E702","v":9396},0,null,null,{"$f":"'baza inwest.'!K702","v":"Oddział Neonatologiczny z Pododdziałem Patologii Noworodka"},"","","Sekcja Marketingu","1.04.04"]
["1-702",{"$f":"'baza inwest.'!C703","v":"Pulsoksymetr"},null,0,"               ",{"$f":"'baza inwest.'!E703","v":3900},0,null,null,{"$f":"'baza inwest.'!K703","v":"Zamiejscowy Dział Rehabilitacji Leczniczej"},"","","Sekcja Marketingu","1.04.04"]
["1-703",{"$f":"'baza inwest.'!C704","v":"Regulowana leżanka do badań i zabiegów "},null,0,"               ",{"$f":"'baza inwest.'!E704","v":5380.56},0,null,null,{"$f":"'baza inwest.'!K704","v":"Oddział Nefrologiczny"},"","","Sekcja Marketingu","1.04.04"]
["1-704",{"$f":"'baza inwest.'!C705","v":"Rejestrator Endoskan"},{"$f":"'baza inwest.'!D705","v":0},0,"               ",{"$f":"'baza inwest.'!E705","v":6884.46},0,null,null,{"$f":"'baza inwest.'!K705","v":"Pracownia Endoskopii"},"","","Sekcja Marketingu","1.04.04"]
["1-705",{"$f":"'baza inwest.'!C706","v":"Rejestrator holterowski "},null,0,"               ",{"$f":"'baza inwest.'!E706","v":5139.75},0,null,null,{"$f":"'baza inwest.'!K706","v":"Oddział Kardiologiczny"},"","","Sekcja Marketingu",{"$f":"$I$2","v":"1.04.04"}]
["1-706",{"$f":"'baza inwest.'!C707","v":"Rejestrator holterowski "},{"$f":"'baza inwest.'!D707","v":"typ: AsPEKT 800"},0,"               ",{"$f":"'baza inwest.'!E707","v":5633},{"$f":"D712*F712","v":0},null,null,{"$f":"'baza inwest.'!K707","v":"Oddział Kardiologiczny"},{"$f":"IF($B$2=J712,$B$2,\"\")","v":""},{"$f":"IF($B$2=K712,1,\"\")","v":""},"Sekcja Marketingu","1.04.04"]
["1-707",{"$f":"'baza inwest.'!C708","v":"Rejestrator holterowski "},{"$f":"'baza inwest.'!D708","v":0},0,"               ",{"$f":"'baza inwest.'!E708","v":7560},0,null,null,{"$f":"'baza inwest.'!K708","v":"Oddział Kardiologii Dziecięcej z Pododdziałem Kardiochirurgi"},"","","Sekcja Marketingu","1.04.04"]
["1-708",{"$f":"'baza inwest.'!C709","v":"Rejestrator holterowski "},null,0,"               ",{"$f":"'baza inwest.'!E709","v":7776},0,null,null,{"$f":"'baza inwest.'!K709","v":"Oddział Kardiologii Dziecięcej z Pododdziałem Kardiochirurgi"},"","","Sekcja Marketingu","1.04.04"]
["1-709",{"$f":"'baza inwest.'!C710","v":"Rejestrator holterowski "},{"$f":"'baza inwest.'!D710","v":0},0,"               ",{"$f":"'baza inwest.'!E710","v":4800},0,null,null,{"$f":"'baza inwest.'!K710","v":"Oddział Kardiologii Dziecięcej z Pododdziałem Kardiochirurgi"},"","","Sekcja Marketingu","1.04.04"]
["1-710",{"$f":"'baza inwest.'!C711","v":"Rektoskop operacyjny"},null,0,"               ",{"$f":"'baza inwest.'!E711","v":43126.2},0,null,null,{"$f":"'baza inwest.'!K711","v":"Pracownia Endoskopii"},"","","Sekcja Marketingu","1.04.04"]
["1-711",{"$f":"'baza inwest.'!C712","v":"Respirator"},null,0,"               ",{"$f":"'baza inwest.'!E712","v":6390},0,null,null,{"$f":"'baza inwest.'!K712","v":"Zamiejscowy Oddział Chirurgii Urazowo - Ortopedycznej"},"","","Sekcja Marketingu","1.04.04"]
["1-712",{"$f":"'baza inwest.'!C713","v":"Respirator"},null,0,"               ",{"$f":"'baza inwest.'!E713","v":117700},0,null,null,{"$f":"'baza inwest.'!K713","v":"Oddział Neonatologiczny z Pododdziałem Patologii Noworodka"},"","","Sekcja Marketingu","1.04.04"]
["1-713",{"$f":"'baza inwest.'!C714","v":"Respirator"},null,0,"               ",{"$f":"'baza inwest.'!E714","v":44499.16},0,null,null,{"$f":"'baza inwest.'!K714","v":"Intensywna Terapia"},"","","Sekcja Marketingu","1.04.04"]
["1-714",{"$f":"'baza inwest.'!C715","v":"Respirator"},null,0,"               ",{"$f":"'baza inwest.'!E715","v":95882.7},0,null,null,{"$f":"'baza inwest.'!K715","v":"Intensywna Terapia"},"","","Sekcja Marketingu","1.04.04"]
["1-715",{"$f":"'baza inwest.'!C716","v":"Respirator noworodkowy "},null,0,"               ",{"$f":"'baza inwest.'!E716","v":99828.98},0,null,null,{"$f":"'baza inwest.'!K716","v":"Oddział Neonatologiczny z Pododdziałem Patologii Noworodka"},"","","Sekcja Marketingu","1.04.04"]
["1-716",{"$f":"'baza inwest.'!C717","v":"Respirator noworodkowy "},null,0,"               ",{"$f":"'baza inwest.'!E717","v":61036.01},0,null,null,{"$f":"'baza inwest.'!K717","v":"Oddział Neonatologiczny z Pododdziałem Patologii Noworodka"},"","","Sekcja Marketingu","1.04.04"]
["1-717",{"$f":"'baza inwest.'!C718","v":"Respirator noworodkowy "},{"$f":"'baza inwest.'!D718","v":0},0,"               ",{"$f":"'baza inwest.'!E718","v":102500},0,null,null,{"$f":"'baza inwest.'!K718","v":"Oddział Neonatologiczny z Pododdziałem Patologii Noworodka"},"","","Sekcja Marketingu","1.04.04"]
["1-718",{"$f":"'baza inwest.'!C719","v":"Respirator"},null,0,"               ",{"$f":"'baza inwest.'!E719","v":80849.2},0,null,null,{"$f":"'baza inwest.'!K719","v":"Intensywna Terapia"},"","","Sekcja Marketingu","1.04.04"]
["1-719",{"$f":"'baza inwest.'!C720","v":"Respirator"},{"$f":"'baza inwest.'!D720","v":"typ: SAVINA;  producent: DRAGER"},0,"               ",{"$f":"'baza inwest.'!E720","v":59385},0,null,null,{"$f":"'baza inwest.'!K720","v":"Anestezjologia"},"","","Sekcja Marketingu","1.04.04"]
["1-720",{"$f":"'baza inwest.'!C721","v":"Respirator"},{"$f":"'baza inwest.'!D721","v":"typ: SAVINA;  producent: DRAGER"},0,"               ",{"$f":"'baza inwest.'!E721","v":59385},0,null,null,{"$f":"'baza inwest.'!K721","v":"SOR"},"","","Sekcja Marketingu","1.04.04"]
["1-721",{"$f":"'baza inwest.'!C722","v":"Respirator"},null,0,"               ",{"$f":"'baza inwest.'!E722","v":98000},0,null,null,{"$f":"'baza inwest.'!K722","v":"Anestezjologia"},"","","Sekcja Marketingu","1.04.04"]
["1-722",{"$f":"'baza inwest.'!C723","v":"Respirator stacjonarno-transportowy "},null,0,"               ",{"$f":"'baza inwest.'!E723","v":61508.160000000003},0,null,null,{"$f":"'baza inwest.'!K723","v":"Intensywna Terapia"},"","","Sekcja Marketingu","1.04.04"]
["1-723",{"$f":"'baza inwest.'!C724","v":"Respirator stacjonarno-transportowy "},null,0,"               ",{"$f":"'baza inwest.'!E724","v":64999.8},0,null,null,{"$f":"'baza inwest.'!K724","v":"Anestezjologia"},"","","Sekcja Marketingu","1.04.04"]
["1-724",{"$f":"'baza inwest.'!C725","v":"Respirator stacjonarno-transportowy "},null,0,"               ",{"$f":"'baza inwest.'!E725","v":45621.36},0,null,null,{"$f":"'baza inwest.'!K725","v":"SOR"},"","","Sekcja Marketingu","1.04.04"]
["1-725",{"$f":"'baza inwest.'!C726","v":"Respirator transportowy"},{"$f":"'baza inwest.'!D726","v":"typ/model: Ambu Matic; producent: AMBU, Dania"},0,"               ",{"$f":"'baza inwest.'!E726","v":10419},0,null,null,{"$f":"'baza inwest.'!K726","v":"Anestezjologia"},"","","Sekcja Marketingu","1.04.04"]
["1-726",{"$f":"'baza inwest.'!C727","v":"Respirator transportowy"},{"$f":"'baza inwest.'!D727","v":"Typ/model: 01CV6000 CAREvent ATV+; Producent: O-TWO. "},0,"               ",{"$f":"'baza inwest.'!E727","v":21141},0,null,null,{"$f":"'baza inwest.'!K727","v":"SOR"},"","","Sekcja Marketingu","1.04.04"]
["1-727",{"$f":"'baza inwest.'!C728","v":"Respirator transportowy"},{"$f":"'baza inwest.'!D728","v":"typ: Monnal T-60\r\nProducent: Air Liquide Medical Systems, Francja."},0,"               ",{"$f":"'baza inwest.'!E728","v":41499},0,null,null,{"$f":"'baza inwest.'!K728","v":"Intensywna Terapia"},"","","Sekcja Marketingu","1.04.04"]
["1-728",{"$f":"'baza inwest.'!C729","v":"Respirator transportowy"},{"$f":"'baza inwest.'!D729","v":"prod.: TAEMA, Francja"},0,"               ",{"$f":"'baza inwest.'!E729","v":14826.99},0,null,null,{"$f":"'baza inwest.'!K729","v":"SOR"},"","","Sekcja Marketingu","1.04.04"]
["1-729",{"$f":"'baza inwest.'!C730","v":"Respirator transportowy"},{"$f":"'baza inwest.'!D730","v":"TYP:Oxylog 3000; producent: DRAGER MEDICAL, Niemcy"},0,"               ",{"$f":"'baza inwest.'!E730","v":42163.35},0,null,null,{"$f":"'baza inwest.'!K730","v":"Anestezjologia"},"","","Sekcja Marketingu","1.04.04"]
["1-730",{"$f":"'baza inwest.'!C731","v":"Respirator"},{"$f":"'baza inwest.'!D731","v":"Respirator z czujnikiem tlenu Oxicheck; producent: RESPIRONICS"},0,"               ",{"$f":"'baza inwest.'!E731","v":23775.22},0,null,null,{"$f":"'baza inwest.'!K731","v":"Oddział Chirurgii Naczyniowej"},"","","Sekcja Marketingu","1.04.04"]
["1-731",{"$f":"'baza inwest.'!C732","v":"Respirator"},{"$f":"'baza inwest.'!D732","v":"Typ: Monnal T75; producent: Air Liquide Medical Systems."},0,"               ",{"$f":"'baza inwest.'!E732","v":59826.6},0,null,null,{"$f":"'baza inwest.'!K732","v":"Anestezjologia"},"","","Sekcja Marketingu","1.04.04"]
["1-732",{"$f":"'baza inwest.'!C733","v":"Respirator"},{"$f":"'baza inwest.'!D733","v":"typ: SERVO-i Universal"},0,"               ",{"$f":"'baza inwest.'!E733","v":102000},0,null,null,{"$f":"'baza inwest.'!K733","v":"Oddział Kardiologii Dziecięcej z Pododdziałem Kardiochirurgi"},"","","Sekcja Marketingu","1.04.04"]
["1-733",{"$f":"'baza inwest.'!C734","v":"Respirator"},{"$f":"'baza inwest.'!D734","v":"typ SERVO-i"},0,"               ",{"$f":"'baza inwest.'!E734","v":88560},0,null,null,{"$f":"'baza inwest.'!K734","v":"Oddział Neonatologiczny z Pododdziałem Patologii Noworodka"},"","","Sekcja Marketingu","1.04.04"]
["1-734",{"$f":"'baza inwest.'!C735","v":"Respirator"},{"$f":"'baza inwest.'!D735","v":"typ: NPB 840; producent: Nellcor Puritan Bennett, USA"},0,"               ",{"$f":"'baza inwest.'!E735","v":81437.7},0,null,null,{"$f":"'baza inwest.'!K735","v":"Intensywna Terapia"},"","","Sekcja Marketingu","1.04.04"]
["1-735",{"$f":"'baza inwest.'!C736","v":"Resuscytator automatyczny Ambu Matic"},{"$f":"'baza inwest.'!D736","v":"producent: AMBU"},0,"               ",{"$f":"'baza inwest.'!E736","v":7514.61},0,null,null,{"$f":"'baza inwest.'!K736","v":"Anestezjologia"},"","","Sekcja Marketingu","1.04.04"]
["1-736",{"$f":"'baza inwest.'!C737","v":"Resuscytator automatyczny Ambu Matic"},{"$f":"'baza inwest.'!D737","v":"producent: AMBU"},0,"               ",{"$f":"'baza inwest.'!E737","v":7514.61},0,null,null,{"$f":"'baza inwest.'!K737","v":"Oddział Chirurgii Naczyniowej"},"","","Sekcja Marketingu","1.04.04"]
["1-737",{"$f":"'baza inwest.'!C738","v":"Resuscytator automatyczny Ambu Matic"},{"$f":"'baza inwest.'!D738","v":"producent: AMBU"},0,"               ",{"$f":"'baza inwest.'!E738","v":7514.61},0,null,null,{"$f":"'baza inwest.'!K738","v":"Oddział Chirurgii Ogólnej z Pododdziałami"},"","",{"$f":"$B$2","v":"Sekcja Marketingu"},"1.04.04"]
["1-738",{"$f":"'baza inwest.'!C739","v":"Resuscytator automatyczny Ambu Matic"},{"$f":"'baza inwest.'!D739","v":"typ: Ambu Matic; producent: AMBU"},0,"               ",{"$f":"'baza inwest.'!E739","v":10379},0,null,null,{"$f":"'baza inwest.'!K739","v":"SOR"},"","","Sekcja Marketingu","1.04.04"]
["1-739",{"$f":"'baza inwest.'!C740","v":"Rezonans magnetyczny"},{"$f":"'baza inwest.'!D740","v":"producent: SIEMENS; typ: Magnetom 1,5 T"},0,"               ",{"$f":"'baza inwest.'!E740","v":5925570.3799999999},0,null,null,{"$f":"'baza inwest.'!K740","v":"DODO - Pracownia Rezonansu Magnetycznego"},"","","Sekcja Marketingu","1.04.04"]
["1-740",{"$f":"'baza inwest.'!C741","v":"Robot do nagrywania płyt CD/DVD Versa Copier 3-IP"},{"$f":"'baza inwest.'!D741","v":0},0,"               ",{"$f":"'baza inwest.'!E741","v":19086.89},0,null,null,{"$f":"'baza inwest.'!K741","v":"DODO - rejestracja"},"","","Sekcja Marketingu","1.04.04"]
["1-741",{"$f":"'baza inwest.'!C742","v":"Rotor do aktywnej i pasywnej terapii ruchowej "},null,0,"               ",{"$f":"'baza inwest.'!E742","v":10222.01},0,null,null,{"$f":"'baza inwest.'!K742","v":"Zamiejscowy Dział Rehabilitacji Leczniczej"},"","","Sekcja Marketingu","1.04.04"]
["1-742",{"$f":"'baza inwest.'!C743","v":"Rotor do aktywnej i pasywnej terapii ruchowej"},{"$f":"'baza inwest.'!D743","v":"producent: Medica Medizintechnik GmbH, Niemcy"},0,"               ",{"$f":"'baza inwest.'!E743","v":19958.13},0,null,null,{"$f":"'baza inwest.'!K743","v":"Zamiejscowy Dział Rehabilitacji Leczniczej"},"","","Sekcja Marketingu","1.04.04"]
["1-743",{"$f":"'baza inwest.'!C744","v":"Rozwiertaki - zestaw"},{"$f":"'baza inwest.'!D744","v":"producent: Synthes GmbH"},0,"               ",{"$f":"'baza inwest.'!E744","v":16854.48},0,null,null,{"$f":"'baza inwest.'!K744","v":"Blok Operacyjny"},"","","Sekcja Marketingu","1.04.04"]
["1-744",{"$f":"'baza inwest.'!C745","v":"Ruchome stanowisko do nieinwazyjnego wspomagania oddychania noworodka"},{"$f":"'baza inwest.'!D745","v":"typ/model: ATOM V-2100; producenci: ATOM/VIASYS/GRUNDLER \r"},0,"               ",{"$f":"'baza inwest.'!E745","v":87151.2},0,null,null,{"$f":"'baza inwest.'!K745","v":"Oddział Neonatologiczny z Pododdziałem Patologii Noworodka"},"","","Sekcja Marketingu","1.04.04"]
["1-745",{"$f":"'baza inwest.'!C746","v":"Siedziska stałe- zestaw 12 szt. Siedzisk"},{"$f":"'baza inwest.'!D746","v":0},0,"               ",{"$f":"'baza inwest.'!E746","v":8915.2999999999993},0,null,null,{"$f":"'baza inwest.'!K746","v":"Sekcja Gospodarcza i Obsługa (cześć wspólna)"},"","","Sekcja Marketingu","1.04.04"]
["1-746",{"$f":"'baza inwest.'!C747","v":"Siedziska stałe- zestaw 8 szt. Siedzisk"},null,0,"               ",{"$f":"'baza inwest.'!E747","v":5943.59},0,null,null,{"$f":"'baza inwest.'!K747","v":"Sekcja Gospodarcza i Obsługa (cześć wspólna)"},"","","Sekcja Marketingu","1.04.04"]
["1-747",{"$f":"'baza inwest.'!C748","v":"Siedziska stałe- zestaw 8 szt. Siedzisk"},null,0,"               ",{"$f":"'baza inwest.'!E748","v":12410.99},0,null,null,{"$f":"'baza inwest.'!K748","v":"Sekcja Gospodarcza i Obsługa (cześć wspólna)"},"","","Sekcja Marketingu","1.04.04"]
["1-748",{"$f":"'baza inwest.'!C749","v":"Skaner "},null,0,"               ",{"$f":"'baza inwest.'!E749","v":7425.31},0,null,null,{"$f":"'baza inwest.'!K749","v":"Apteka Szpitalna"},"","","Sekcja Marketingu","1.04.04"]
["1-749",{"$f":"'baza inwest.'!C750","v":"Skaner "},{"$f":"'baza inwest.'!D750","v":0},0,"               ",{"$f":"'baza inwest.'!E750","v":9800},0,null,null,{"$f":"'baza inwest.'!K750","v":"Zamiejscowy Dział Rehabilitacji Leczniczej"},"","","Sekcja Marketingu","1.04.04"]
["1-750",{"$f":"'baza inwest.'!C751","v":"Spirometr"},null,0,"               ",{"$f":"'baza inwest.'!E751","v":10377.4},0,null,null,{"$f":"'baza inwest.'!K751","v":"Oddział Kardiologiczny"},"","","Sekcja Marketingu","1.04.04"]
["1-751",{"$f":"'baza inwest.'!C752","v":"Spirometr"},{"$f":"'baza inwest.'!D752","v":"typ: MasterScreen Pneumo z opcjami Rhino i APS; producent: CareFusion Germany 234 GmbH."},0,"               ",{"$f":"'baza inwest.'!E752","v":44557},0,null,null,{"$f":"'baza inwest.'!K752","v":"Poradnia Alergologiczna Dla Dzieci"},"","","Sekcja Marketingu","1.04.04"]
["1-752",{"$f":"'baza inwest.'!C753","v":"Spirometr"},{"$f":"'baza inwest.'!D753","v":"Spirometr wraz z oprogramowaniem.\r\nProducent: CareFusion, Wielka Brytania"},0,"               ",{"$f":"'baza inwest.'!E753","v":10000.01},0,null,null,{"$f":"'baza inwest.'!K753","v":"Oddział Pediatryczny z Pododdziałem Gastroenterologii"},"","","Sekcja Marketingu","1.04.04"]
["1-753",{"$f":"'baza inwest.'!C754","v":"Sprężarka tłokowa"},{"$f":"'baza inwest.'!D754","v":0},0,"               ",{"$f":"'baza inwest.'!E754","v":13359},0,null,null,{"$f":"'baza inwest.'!K754","v":"Dział Gospodarki Nieruchomościami i Utrzymania Ruchu"},"","","Sekcja Marketingu","1.04.04"]
["1-754",{"$f":"'baza inwest.'!C755","v":"Ssak elektryczny"},null,0,"               ",{"$f":"'baza inwest.'!E755","v":4696.92},0,null,null,{"$f":"'baza inwest.'!K755","v":"Oddział Kardiologii Dziecięcej z Pododdziałem Kardiochirurgi"},"","","Sekcja Marketingu","1.04.04"]
["1-755",{"$f":"'baza inwest.'!C756","v":"Ssak elektryczny"},{"$f":"'baza inwest.'!D756","v":"typ: VARIO 18 AC/DC; producent: MEDELA - Szwajcaria"},0,"               ",{"$f":"'baza inwest.'!E756","v":4622.3999999999996},0,null,null,{"$f":"'baza inwest.'!K756","v":"Oddział Kardiologiczny"},"","","Sekcja Marketingu","1.04.04"]
["1-756",{"$f":"'baza inwest.'!C757","v":"Ssak elektryczny"},{"$f":"'baza inwest.'!D757","v":"typ: VARIO 18 AC/DC; producent: MEDELA - Szwajcaria"},0,"               ",{"$f":"'baza inwest.'!E757","v":4622.3999999999996},0,null,null,{"$f":"'baza inwest.'!K757","v":"Oddział Urologii i Urologii Onkologicznej"},"","","Sekcja Marketingu","1.04.04"]
["1-757",{"$f":"'baza inwest.'!C758","v":"Ssak elektryczny"},{"$f":"'baza inwest.'!D758","v":"typ: VARIO 18 AC/DC; producent: MEDELA - Szwajcaria"},0,"               ",{"$f":"'baza inwest.'!E758","v":4622.3999999999996},0,null,null,{"$f":"'baza inwest.'!K758","v":"SOR"},"","","Sekcja Marketingu","1.04.04"]
["1-758",{"$f":"'baza inwest.'!C759","v":"Ssak elektryczny"},{"$f":"'baza inwest.'!D759","v":"typ/model: VARIO 18AC/DC; producent: MEDELA, Szwajcaria"},0,"               ",{"$f":"'baza inwest.'!E759","v":4494},0,null,null,{"$f":"'baza inwest.'!K759","v":"Anestezjologia"},"","","Sekcja Marketingu","1.04.04"]
["1-759",{"$f":"'baza inwest.'!C760","v":"Ssak elektryczny"},null,0,"               ",{"$f":"'baza inwest.'!E760","v":4162.3},0,null,null,{"$f":"'baza inwest.'!K760","v":"Intensywna Terapia"},"","","Sekcja Marketingu","1.04.04"]
["1-760",{"$f":"'baza inwest.'!C761","v":"Ssak elektryczny"},{"$f":"'baza inwest.'!D761","v":"typ/model: VARIO 18AC/DC; producent: MEDELA, Szwajcaria"},0,"               ",{"$f":"'baza inwest.'!E761","v":4494},0,null,null,{"$f":"'baza inwest.'!K761","v":"Oddział Chirurgii Naczyniowej"},"","","Sekcja Marketingu","1.04.04"]
["1-761",{"$f":"'baza inwest.'!C762","v":"Ssak elektryczny"},null,0,"               ",{"$f":"'baza inwest.'!E762","v":4494},0,null,null,{"$f":"'baza inwest.'!K762","v":"Oddział Chirurgii Ogólnej z Pododdziałami"},"","","Sekcja Marketingu","1.04.04"]
["1-762",{"$f":"'baza inwest.'!C763","v":"Ssak elektryczny"},{"$f":"'baza inwest.'!D763","v":"producent: MEDELA, Szwajcaria"},0,"               ",{"$f":"'baza inwest.'!E763","v":4585.8100000000004},0,null,null,{"$f":"'baza inwest.'!K763","v":"Oddział Chirurgii Onkologicznej"},"","","Sekcja Marketingu","1.04.04"]
["1-763",{"$f":"'baza inwest.'!C764","v":"Ssak elektryczny"},null,0,"               ",{"$f":"'baza inwest.'!E764","v":4494},0,null,null,{"$f":"'baza inwest.'!K764","v":"Oddział Dermatologiczny"},"","","Sekcja Marketingu","1.04.04"]
["1-764",{"$f":"'baza inwest.'!C765","v":"Ssak elektryczny"},{"$f":"'baza inwest.'!D765","v":"typ/model: VARIO 18AC/DC; producent: MEDELA, Szwajcaria"},0,"               ",{"$f":"'baza inwest.'!E765","v":4162.3},0,null,null,{"$f":"'baza inwest.'!K765","v":"Oddział Kardiologiczny"},"","","Sekcja Marketingu","1.04.04"]
["1-765",{"$f":"'baza inwest.'!C766","v":"Ssak elektryczny"},null,0,"               ",{"$f":"'baza inwest.'!E766","v":4162.3},0,null,null,{"$f":"'baza inwest.'!K766","v":"Oddział Kardiologii Dziecięcej z Pododdziałem Kardiochirurgi"},"","","Sekcja Marketingu","1.04.04"]
["1-766",{"$f":"'baza inwest.'!C767","v":"Ssak elektryczny"},null,0,"               ",{"$f":"'baza inwest.'!E767","v":4494},0,null,null,{"$f":"'baza inwest.'!K767","v":"Oddział Nefrologiczny"},"","","Sekcja Marketingu","1.04.04"]
["1-767",{"$f":"'baza inwest.'!C768","v":"Ssak elektryczny"},{"$f":"'baza inwest.'!D768","v":"typ/model: VARIO 18AC/DC; producent: MEDELA, Szwajcaria"},0,"               ",{"$f":"'baza inwest.'!E768","v":4494},0,null,null,{"$f":"'baza inwest.'!K768","v":"Oddział Otolaryngologiczny z Pododdziałem Otolaryngologii"},"","","Sekcja Marketingu","1.04.04"]
["1-768",{"$f":"'baza inwest.'!C769","v":"Ssak elektryczny"},null,0,"               ",{"$f":"'baza inwest.'!E769","v":4494},0,null,null,{"$f":"'baza inwest.'!K769","v":"Oddział Pediatryczny z Pododdziałem Gastroenterologii"},"","","Sekcja Marketingu","1.04.04"]
["1-769",{"$f":"'baza inwest.'!C770","v":"Ssak operacyjny "},{"$f":"'baza inwest.'!D770","v":"Typ: SO-4/6,"},0,"               ",{"$f":"'baza inwest.'!E770","v":3599},0,null,null,{"$f":"'baza inwest.'!K770","v":"Zamiejscowy Blok Operacyjny"},"","","Sekcja Marketingu",{"$f":"$I$2","v":"1.04.04"}]
["1-770",{"$f":"'baza inwest.'!C771","v":"Stabilizator kości promieniowej "},{"$f":"'baza inwest.'!D771","v":"Producent: STRYKER. Wprowadzone komponenty."},0,"               ",{"$f":"'baza inwest.'!E771","v":5799.6},{"$f":"D776*F776","v":0},null,null,{"$f":"'baza inwest.'!K771","v":"Blok Operacyjny"},{"$f":"IF($B$2=J776,$B$2,\"\")","v":""},{"$f":"IF($B$2=K776,1,\"\")","v":""},"Sekcja Marketingu","1.04.04"]
["1-771",{"$f":"'baza inwest.'!C772","v":"Stabilizator miednicy "},null,0,"               ",{"$f":"'baza inwest.'!E772","v":5475.6},0,null,null,{"$f":"'baza inwest.'!K772","v":"Blok Operacyjny"},"","","Sekcja Marketingu","1.04.04"]
["1-772",{"$f":"'baza inwest.'!C773","v":"Stabilizator udowy"},{"$f":"'baza inwest.'!D773","v":"Stabilizator zewnętrzny (z możliwością powolnej korekcji) na udo. Producent: STRYKER. "},0,"               ",{"$f":"'baza inwest.'!E773","v":8262},0,null,null,{"$f":"'baza inwest.'!K773","v":"Blok Operacyjny"},"","","Sekcja Marketingu","1.04.04"]
["1-773",{"$f":"'baza inwest.'!C774","v":"Stacja diagnostyczna mammograficzna "},null,0,"               ",{"$f":"'baza inwest.'!E774","v":210816},0,null,null,{"$f":"'baza inwest.'!K774","v":"DODO - Pracownia Mammografii"},"","","Sekcja Marketingu","1.04.04"]
["1-774",{"$f":"'baza inwest.'!C775","v":"Stacja dokująca do pomp infuzyjnych BRAUNA"},{"$f":"'baza inwest.'!D775","v":"Producent: B.BRAUN. "},0,"               ",{"$f":"'baza inwest.'!E775","v":8143.2},0,null,null,{"$f":"'baza inwest.'!K775","v":"Intensywna Terapia"},"","","Sekcja Marketingu","1.04.04"]
["1-775",{"$f":"'baza inwest.'!C776","v":"Stacja dokująca do pomp infuzyjnych BRAUNA"},null,0,"               ",{"$f":"'baza inwest.'!E776","v":8852.86},0,null,null,{"$f":"'baza inwest.'!K776","v":"Intensywna Terapia"},"","","Sekcja Marketingu","1.04.04"]
["1-776",{"$f":"'baza inwest.'!C777","v":"Stacja dokująca do pomp infuzyjnych BRAUNA"},null,0,"               ",{"$f":"'baza inwest.'!E777","v":7620.56},0,null,null,{"$f":"'baza inwest.'!K777","v":"Oddział Chirurgii Onkologicznej"},"","","Sekcja Marketingu","1.04.04"]
["1-777",{"$f":"'baza inwest.'!C778","v":"Stacja dokująca do pomp infuzyjnych BRAUNA"},null,0,"               ",{"$f":"'baza inwest.'!E778","v":4244.3999999999996},0,null,null,{"$f":"'baza inwest.'!K778","v":"Oddział Neonatologiczny z Pododdziałem Patologii Noworodka"},"","","Sekcja Marketingu","1.04.04"]
["1-778",{"$f":"'baza inwest.'!C779","v":"Stacja dokująca do pomp infuzyjnych BRAUNA"},null,0,"               ",{"$f":"'baza inwest.'!E779","v":8143.2},0,null,null,{"$f":"'baza inwest.'!K779","v":"Intensywna Terapia"},"","","Sekcja Marketingu","1.04.04"]
["1-779",{"$f":"'baza inwest.'!C780","v":"Stacja dokująca do pomp infuzyjnych BRAUNA"},null,0,"               ",{"$f":"'baza inwest.'!E780","v":8143.2},0,null,null,{"$f":"'baza inwest.'!K780","v":"Intensywna Terapia"},"","","Sekcja Marketingu","1.04.04"]
["1-780",{"$f":"'baza inwest.'!C781","v":"Stanowisko do pielęgnacji noworodków "},null,0,"               ",{"$f":"'baza inwest.'!E781","v":14124},0,null,null,{"$f":"'baza inwest.'!K781","v":"Oddział Neonatologiczny z Pododdziałem Patologii Noworodka"},"","","Sekcja Marketingu","1.04.04"]
["1-781",{"$f":"'baza inwest.'!C782","v":"Sterownik kamery Telecam DX"},null,0,"               ",{"$f":"'baza inwest.'!E782","v":8198.34},0,null,null,{"$f":"'baza inwest.'!K782","v":"Oddział Urologii i Urologii Onkologicznej"},"","","Sekcja Marketingu","1.04.04"]
["1-782",{"$f":"'baza inwest.'!C783","v":"Sterylizator kasetowy "},null,0,"               ",{"$f":"'baza inwest.'!E783","v":17505.2},0,null,null,{"$f":"'baza inwest.'!K783","v":"SOR"},"","","Sekcja Marketingu","1.04.04"]
["1-783",{"$f":"'baza inwest.'!C784","v":"Sterylizator parowy"},null,0,"               ",{"$f":"'baza inwest.'!E784","v":263078.81},0,null,null,{"$f":"'baza inwest.'!K784","v":"Dział Centralnej Sterylizatorni i DDD"},"","","Sekcja Marketingu","1.04.04"]
["1-784",{"$f":"'baza inwest.'!C785","v":"Stolik typu MAYO do instrumentów chirurgicznych"},null,0,"               ",{"$f":"'baza inwest.'!E785","v":3728.91},0,null,null,{"$f":"'baza inwest.'!K785","v":"Oddział Chirurgii Onkologicznej"},"","","Sekcja Marketingu","1.04.04"]
["1-785",{"$f":"'baza inwest.'!C786","v":"Stolik typu MAYO do instrumentów chirurgicznych"},{"$f":"'baza inwest.'!D786","v":"producent: ALVO, Polska"},0,"               ",{"$f":"'baza inwest.'!E786","v":3948.3},0,null,null,{"$f":"'baza inwest.'!K786","v":"Oddział Otolaryngologiczny z Pododdziałem Otolaryngologii"},"","","Sekcja Marketingu","1.04.04"]
["1-786",{"$f":"'baza inwest.'!C787","v":"Stoł zabiegowy uniwersalny"},null,0,"               ",{"$f":"'baza inwest.'!E787","v":90340.1},0,null,null,{"$f":"'baza inwest.'!K787","v":"SOR"},"","","Sekcja Marketingu","1.04.04"]
["1-787",{"$f":"'baza inwest.'!C788","v":"Stół do ćwiczeń (masażu) sterowany elektrycznie "},{"$f":"'baza inwest.'!D788","v":0},0,"               ",{"$f":"'baza inwest.'!E788","v":5300},0,null,null,{"$f":"'baza inwest.'!K788","v":"Zamiejscowy Dział Rehabilitacji Leczniczej"},"","","Sekcja Marketingu","1.04.04"]
["1-788",{"$f":"'baza inwest.'!C789","v":"Stół do ćwiczeń sterowany elektrycznie "},null,0,"               ",{"$f":"'baza inwest.'!E789","v":3590},0,null,null,{"$f":"'baza inwest.'!K789","v":"Zamiejscowy Dział Rehabilitacji Leczniczej"},"","","Sekcja Marketingu","1.04.04"]
["1-789",{"$f":"'baza inwest.'!C790","v":"Stół do gipsowania"},null,0,"               ",{"$f":"'baza inwest.'!E790","v":38434.400000000001},0,null,null,{"$f":"'baza inwest.'!K790","v":"SOR"},"","","Sekcja Marketingu","1.04.04"]
["1-790",{"$f":"'baza inwest.'!C791","v":"Stół do kontroli i pakowania 1-stanowiskowy"},null,0,"               ",{"$f":"'baza inwest.'!E791","v":9466.08},0,null,null,{"$f":"'baza inwest.'!K791","v":"Dział Centralnej Sterylizatorni i DDD"},"","","Sekcja Marketingu","1.04.04"]
["1-791",{"$f":"'baza inwest.'!C792","v":"Stół do opasek gipsowych"},null,0,"               ",{"$f":"'baza inwest.'!E792","v":6039},0,null,null,{"$f":"'baza inwest.'!K792","v":"SOR"},"","","Sekcja Marketingu","1.04.04"]
["1-792",{"$f":"'baza inwest.'!C793","v":"Stół operacyjny"},null,0,"               ",{"$f":"'baza inwest.'!E793","v":25768.799999999999},0,null,null,{"$f":"'baza inwest.'!K793","v":"Poradnia Chirurgii Onkologicznej"},"","","Sekcja Marketingu","1.04.04"]
["1-793",{"$f":"'baza inwest.'!C794","v":"Stół operacyjny - onkologiczny"},null,0,"               ",{"$f":"'baza inwest.'!E794","v":78495.199999999997},0,null,null,{"$f":"'baza inwest.'!K794","v":"Oddział Chirurgii Onkologicznej"},"","","Sekcja Marketingu","1.04.04"]
["1-794",{"$f":"'baza inwest.'!C795","v":"Stół operacyjny - RTG"},null,0,"               ",{"$f":"'baza inwest.'!E795","v":81758.7},0,null,null,{"$f":"'baza inwest.'!K795","v":"Oddział Urologii i Urologii Onkologicznej"},"","","Sekcja Marketingu","1.04.04"]
["1-795",{"$f":"'baza inwest.'!C796","v":"Stół operacyjny"},{"$f":"'baza inwest.'!D796","v":"producent: BRUMABA"},0,"               ",{"$f":"'baza inwest.'!E796","v":69660},0,null,null,{"$f":"'baza inwest.'!K796","v":"Oddział Okulistyczny"},"","","Sekcja Marketingu","1.04.04"]
["1-796",{"$f":"'baza inwest.'!C797","v":"Stół operacyjny"},{"$f":"'baza inwest.'!D797","v":0},0,"               ",{"$f":"'baza inwest.'!E797","v":58250.8},0,null,null,{"$f":"'baza inwest.'!K797","v":"Zamiejscowy Blok Operacyjny"},"","","Sekcja Marketingu","1.04.04"]
["1-797",{"$f":"'baza inwest.'!C798","v":"Stół operacyjny ginekologiczny"},null,0,"               ",{"$f":"'baza inwest.'!E798","v":76975.8},0,null,null,{"$f":"'baza inwest.'!K798","v":"Blok Operacyjny"},"","","Sekcja Marketingu","1.04.04"]
["1-798",{"$f":"'baza inwest.'!C799","v":"Stół operacyjny ogólnochirurgiczny"},{"$f":"'baza inwest.'!D799","v":"Typ: SATURN SELECT; producent: TRIUMPF GmbH, Niemcy; "},0,"               ",{"$f":"'baza inwest.'!E799","v":90682.5},0,null,null,{"$f":"'baza inwest.'!K799","v":"Blok Operacyjny"},"","","Sekcja Marketingu","1.04.04"]
["1-799",{"$f":"'baza inwest.'!C800","v":"Stół operacyjny okulistyczny"},null,0,"               ",{"$f":"'baza inwest.'!E800","v":39000},0,null,null,{"$f":"'baza inwest.'!K800","v":"Oddział Okulistyczny"},"","","Sekcja Marketingu","1.04.04"]
["1-800",{"$f":"'baza inwest.'!C801","v":"Stół operacyjny ortopedyczny"},{"$f":"'baza inwest.'!D801","v":"typ: SATURN SELECT L; producent: TRIUMPF GmbH, Niemcy. "},0,"               ",{"$f":"'baza inwest.'!E801","v":147767},0,null,null,{"$f":"'baza inwest.'!K801","v":"Blok Operacyjny"},"","","Sekcja Marketingu","1.04.04"]
["1-801",{"$f":"'baza inwest.'!C802","v":"Stół operacyjny "},null,0,"               ",{"$f":"'baza inwest.'!E802","v":162000},0,null,null,{"$f":"'baza inwest.'!K802","v":"Blok Operacyjny"},"","",{"$f":"$B$2","v":"Sekcja Marketingu"},"1.04.04"]
["1-802",{"$f":"'baza inwest.'!C803","v":"Stół operacyjny "},null,0,"               ",{"$f":"'baza inwest.'!E803","v":69868},0,null,null,{"$f":"'baza inwest.'!K803","v":"Oddział Urologii i Urologii Onkologicznej"},"","","Sekcja Marketingu","1.04.04"]
["1-803",{"$f":"'baza inwest.'!C804","v":"Stół operacyjny urologiczny"},null,0,"               ",{"$f":"'baza inwest.'!E804","v":101286.2},0,null,null,{"$f":"'baza inwest.'!K804","v":"Blok Operacyjny"},"","","Sekcja Marketingu","1.04.04"]
["1-804",{"$f":"'baza inwest.'!C805","v":"Stół operacyjny "},null,0,"               ",{"$f":"'baza inwest.'!E805","v":6117.3},0,null,null,{"$f":"'baza inwest.'!K805","v":"Zamiejscowy Blok Operacyjny"},"","","Sekcja Marketingu","1.04.04"]
["1-805",{"$f":"'baza inwest.'!C806","v":"Stół operacyjny z blatem węglowym"},null,0,"               ",{"$f":"'baza inwest.'!E806","v":161516.5},0,null,null,{"$f":"'baza inwest.'!K806","v":"Blok Operacyjny"},"","","Sekcja Marketingu","1.04.04"]
["1-806",{"$f":"'baza inwest.'!C807","v":"Stół operacyjny urologiczny"},null,0,"               ",{"$f":"'baza inwest.'!E807","v":76922.3},0,null,null,{"$f":"'baza inwest.'!K807","v":"Oddział Urologii i Urologii Onkologicznej"},"","","Sekcja Marketingu","1.04.04"]
["1-807",{"$f":"'baza inwest.'!C808","v":"Stół pionizacyjny"},null,0,"               ",{"$f":"'baza inwest.'!E808","v":18684},0,null,null,{"$f":"'baza inwest.'!K808","v":"Oddział Kardiologii Dziecięcej z Pododdziałem Kardiochirurgi"},"","","Sekcja Marketingu","1.04.04"]
["1-808",{"$f":"'baza inwest.'!C809","v":"Stół pionizacyjny z napędem elektrycznym "},{"$f":"'baza inwest.'!D809","v":"Charakterystyka: z napędem elektrycznym , "},0,"               ",{"$f":"'baza inwest.'!E809","v":5182},0,null,null,{"$f":"'baza inwest.'!K809","v":"Zamiejscowy Dział Rehabilitacji Leczniczej"},"","","Sekcja Marketingu","1.04.04"]
["1-809",{"$f":"'baza inwest.'!C810","v":"Stół pionizacyjny z napędem elektrycznym "},{"$f":"'baza inwest.'!D810","v":"Stół pionizacyjny z napędem elektrycznym   typ SP-1/E"},0,"               ",{"$f":"'baza inwest.'!E810","v":4500},0,null,null,{"$f":"'baza inwest.'!K810","v":"Zamiejscowy Dział Rehabilitacji Leczniczej"},"","","Sekcja Marketingu","1.04.04"]
["1-810",{"$f":"'baza inwest.'!C811","v":"Stół pionizacyjny z napędem elektrycznym "},null,0,"               ",{"$f":"'baza inwest.'!E811","v":5182},0,null,null,{"$f":"'baza inwest.'!K811","v":"Zamiejscowy Dział Rehabilitacji Leczniczej"},"","","Sekcja Marketingu","1.04.04"]
["1-811",{"$f":"'baza inwest.'!C812","v":"Stół rehabilitacyjny"},null,0,"               ",{"$f":"'baza inwest.'!E812","v":3586.77},0,null,null,{"$f":"'baza inwest.'!K812","v":"Zamiejscowy Dział Rehabilitacji Leczniczej"},"","","Sekcja Marketingu","1.04.04"]
["1-812",{"$f":"'baza inwest.'!C813","v":"Stół rehabilitacyjny pionizujący"},{"$f":"'baza inwest.'!D813","v":0},0,"               ",{"$f":"'baza inwest.'!E813","v":6200},0,null,null,{"$f":"'baza inwest.'!K813","v":"Oddział Chirurgii Naczyniowej"},"","","Sekcja Marketingu","1.04.04"]
["1-813",{"$f":"'baza inwest.'!C814","v":"Stół roboczy"},null,0,"               ",{"$f":"'baza inwest.'!E814","v":4551},0,null,null,{"$f":"'baza inwest.'!K814","v":"Intensywna Terapia"},"","","Sekcja Marketingu","1.04.04"]
["1-814",{"$f":"'baza inwest.'!C815","v":"Stół roboczy pod komputer"},null,0,"               ",{"$f":"'baza inwest.'!E815","v":5289},0,null,null,{"$f":"'baza inwest.'!K815","v":"Intensywna Terapia"},"","","Sekcja Marketingu","1.04.04"]
["1-815",{"$f":"'baza inwest.'!C816","v":"Stół zabiegowy"},null,0,"               ",{"$f":"'baza inwest.'!E816","v":4173},0,null,null,{"$f":"'baza inwest.'!K816","v":"Oddział Angiologiczny z Pododdziałem Diabetologii"},"","","Sekcja Marketingu","1.04.04"]
["1-816",{"$f":"'baza inwest.'!C817","v":"Stół zabiegowy"},null,0,"               ",{"$f":"'baza inwest.'!E817","v":3959},0,null,null,{"$f":"'baza inwest.'!K817","v":"Oddział Chirurgii Onkologicznej"},"","","Sekcja Marketingu","1.04.04"]
["1-817",{"$f":"'baza inwest.'!C818","v":"Stół zabiegowy"},{"$f":"'baza inwest.'!D818","v":0},0,"               ",{"$f":"'baza inwest.'!E818","v":4387},0,null,null,{"$f":"'baza inwest.'!K818","v":"Oddział Dermatologiczny"},"","","Sekcja Marketingu","1.04.04"]
["1-818",{"$f":"'baza inwest.'!C819","v":"Strzykawka do kontrastu "},null,0,"               ",{"$f":"'baza inwest.'!E819","v":91260},0,null,null,{"$f":"'baza inwest.'!K819","v":"DODO - Pracowania Tomografii Komputerowej"},"","","Sekcja Marketingu","1.04.04"]
["1-819",{"$f":"'baza inwest.'!C820","v":"Stymulator do identyfikacji nerwów obwodowych"},null,0,"               ",{"$f":"'baza inwest.'!E820","v":4182.32},0,null,null,{"$f":"'baza inwest.'!K820","v":"Anestezjologia"},"","","Sekcja Marketingu","1.04.04"]
["1-820",{"$f":"'baza inwest.'!C821","v":"Stymulator zewnętrzny dwukanałowy"},null,0,"               ",{"$f":"'baza inwest.'!E821","v":6912},0,null,null,{"$f":"'baza inwest.'!K821","v":"Oddział Kardiologii Dziecięcej z Pododdziałem Kardiochirurgi"},"","","Sekcja Marketingu","1.04.04"]
["1-821",{"$f":"'baza inwest.'!C822","v":"Sufitowa medyczna jednostka zasilająca podwójnaz elementami systemu przyzywowego"},{"$f":"'baza inwest.'!D822","v":"Podwieszana jednostka zasilająca typu most."},0,"               ",{"$f":"'baza inwest.'!E822","v":57566},0,null,null,{"$f":"'baza inwest.'!K822","v":"Oddział Kardiologiczny"},"","","Sekcja Marketingu","1.04.04"]
["1-822",{"$f":"'baza inwest.'!C823","v":"Sufitowa medyczna jednostka zasilająca podwójnaz elementami systemu przyzywowego"},null,0,"               ",{"$f":"'baza inwest.'!E823","v":29104},0,null,null,{"$f":"'baza inwest.'!K823","v":"Oddział Kardiologiczny"},"","","Sekcja Marketingu","1.04.04"]
["1-823",{"$f":"'baza inwest.'!C824","v":"Suszarka do narzędzi, jednodrzwiowa"},null,0,"               ",{"$f":"'baza inwest.'!E824","v":35665.47},0,null,null,{"$f":"'baza inwest.'!K824","v":"Dział Centralnej Sterylizatorni i DDD"},"","","Sekcja Marketingu","1.04.04"]
["1-824",{"$f":"'baza inwest.'!C825","v":"System chirurgiczny da Vinci"},{"$f":"'baza inwest.'!D825","v":0},0,"               ",{"$f":"'baza inwest.'!E825","v":8695495.3100000005},0,null,null,{"$f":"'baza inwest.'!K825","v":"Blok Operacyjny"},"","","Sekcja Marketingu","1.04.04"]
["1-825",{"$f":"'baza inwest.'!C826","v":"System do badania potencjałów wywołanych"},null,0,"               ",{"$f":"'baza inwest.'!E826","v":34142.04},0,null,null,{"$f":"'baza inwest.'!K826","v":"OŚRODEK PROTEZOWANIA SŁUCHU DLA NOWORODKÓW"},"","","Sekcja Marketingu","1.04.04"]
["1-826",{"$f":"'baza inwest.'!C827","v":"System do badań elektrofizjologicznych ze stymulatorem diagnostycznym"},null,0,"               ",{"$f":"'baza inwest.'!E827","v":321000},0,null,null,{"$f":"'baza inwest.'!K827","v":"Pracownia Elektrofizjologii"},"","","Sekcja Marketingu","1.04.04"]
["1-827",{"$f":"'baza inwest.'!C828","v":"System do ergospirometrii "},null,0,"               ",{"$f":"'baza inwest.'!E828","v":124632},0,null,null,{"$f":"'baza inwest.'!K828","v":"Oddział Kardiologiczny"},"","","Sekcja Marketingu","1.04.04"]
["1-828",{"$f":"'baza inwest.'!C829","v":"System do manometrii górnego i dolnego odcinka przewodu pokarmowego"},{"$f":"'baza inwest.'!D829","v":0},0,"               ",{"$f":"'baza inwest.'!E829","v":115015},0,null,null,{"$f":"'baza inwest.'!K829","v":"Oddział Pediatryczny z Pododdziałem Gastroenterologii"},"","","Sekcja Marketingu","1.04.04"]
["1-829",{"$f":"'baza inwest.'!C830","v":"System do ogrzewania noworodków"},null,0,"               ",{"$f":"'baza inwest.'!E830","v":10260},0,null,null,{"$f":"'baza inwest.'!K830","v":"Oddział Neonatologiczny z Pododdziałem Patologii Noworodka"},"","","Sekcja Marketingu","1.04.04"]
["1-830",{"$f":"'baza inwest.'!C831","v":"System do prowadzenia kontrolowanej insulinoterapii"},{"$f":"'baza inwest.'!D831","v":"Producent: B.BRAUN.   "},0,"               ",{"$f":"'baza inwest.'!E831","v":29160},0,null,null,{"$f":"'baza inwest.'!K831","v":"Intensywna Terapia"},"","","Sekcja Marketingu","1.04.04"]
["1-831",{"$f":"'baza inwest.'!C832","v":"System elektroanatomiczny 3D Velocity do trójwymiarowego mapowania serca"},{"$f":"'baza inwest.'!D832","v":0},0,"               ",{"$f":"'baza inwest.'!E832","v":829250},0,null,null,{"$f":"'baza inwest.'!K832","v":"Pracownia Elektrofizjologii"},"","","Sekcja Marketingu","1.04.04"]
["1-832",{"$f":"'baza inwest.'!C833","v":"System ENDOALPHA Documentation"},null,0,"               ",{"$f":"'baza inwest.'!E833","v":200845.47},0,null,null,{"$f":"'baza inwest.'!K833","v":"Pracownia Endoskopii"},"","","Sekcja Marketingu","1.04.04"]
["1-833",{"$f":"'baza inwest.'!C834","v":"System Holtera CARDIOSCAN-12"},null,0,"               ",{"$f":"'baza inwest.'!E834","v":42249},0,null,null,{"$f":"'baza inwest.'!K834","v":"Oddział Kardiologii Dziecięcej z Pododdziałem Kardiochirurgi"},"","","Sekcja Marketingu",{"$f":"$I$2","v":"1.04.04"}]
["1-834",{"$f":"'baza inwest.'!C835","v":"System kolejkowy (rejestracja)"},null,0,"               ",{"$f":"'baza inwest.'!E835","v":71126.84},{"$f":"D840*F840","v":0},null,null,{"$f":"'baza inwest.'!K835","v":"Dział Rejestracji Statystyki i Dokumentacji Medycznej"},{"$f":"IF($B$2=J840,$B$2,\"\")","v":""},{"$f":"IF($B$2=K840,1,\"\")","v":""},"Sekcja Marketingu","1.04.04"]
["1-835",{"$f":"'baza inwest.'!C836","v":"System monitorowania ciśnienia wewnątrzczaszkowego"},null,0,"               ",{"$f":"'baza inwest.'!E836","v":28252.799999999999},0,null,null,{"$f":"'baza inwest.'!K836","v":"Intensywna Terapia"},"","","Sekcja Marketingu","1.04.04"]
["1-836",{"$f":"'baza inwest.'!C837","v":"System monitorowania dla 12 stanowisk "},{"$f":"'baza inwest.'!D837","v":"producent: Spacelabs Healthcare;"},0,"               ",{"$f":"'baza inwest.'!E837","v":874363.64},0,null,null,{"$f":"'baza inwest.'!K837","v":"Intensywna Terapia"},"","","Sekcja Marketingu","1.04.04"]
["1-837",{"$f":"'baza inwest.'!C838","v":"System monitorowania IntelliVue z radiowym systemem telemetrycznego monitorowania"},null,0,"               ",{"$f":"'baza inwest.'!E838","v":526972},0,null,null,{"$f":"'baza inwest.'!K838","v":"Oddział Kardiologiczny"},"","","Sekcja Marketingu","1.04.04"]
["1-838",{"$f":"'baza inwest.'!C839","v":"System ogrzewania pacjenta"},null,0,"               ",{"$f":"'baza inwest.'!E839","v":4055.4},0,null,null,{"$f":"'baza inwest.'!K839","v":"Anestezjologia"},"","","Sekcja Marketingu","1.04.04"]
["1-839",{"$f":"'baza inwest.'!C840","v":"System ogrzewania pacjenta"},null,0,"               ",{"$f":"'baza inwest.'!E840","v":3763.8},0,null,null,{"$f":"'baza inwest.'!K840","v":"Anestezjologia"},"","","Sekcja Marketingu","1.04.04"]
["1-840",{"$f":"'baza inwest.'!C841","v":"System terapeutyczny"},null,0,"               ",{"$f":"'baza inwest.'!E841","v":8025},0,null,null,{"$f":"'baza inwest.'!K841","v":"Poradnia Dermatologiczna"},"","","Sekcja Marketingu","1.04.04"]
["1-841",{"$f":"'baza inwest.'!C842","v":"Szafa dwuczęściowa przeszklona"},null,0,"               ",{"$f":"'baza inwest.'!E842","v":5989.71},0,null,null,{"$f":"'baza inwest.'!K842","v":"Oddział Chirurgii Onkologicznej"},"","","Sekcja Marketingu","1.04.04"]
["1-842",{"$f":"'baza inwest.'!C843","v":"Szafa lekarska"},null,0,"               ",{"$f":"'baza inwest.'!E843","v":6000},0,null,null,{"$f":"'baza inwest.'!K843","v":"DODO - Pracowania Tomografii Komputerowej"},"","","Sekcja Marketingu","1.04.04"]
["1-843",{"$f":"'baza inwest.'!C844","v":"Szafa medyczna"},null,0,"               ",{"$f":"'baza inwest.'!E844","v":4563.3},0,null,null,{"$f":"'baza inwest.'!K844","v":"Blok Operacyjny"},"","","Sekcja Marketingu","1.04.04"]
["1-844",{"$f":"'baza inwest.'!C845","v":"Szafa medyczna"},null,0,"               ",{"$f":"'baza inwest.'!E845","v":5473.5},0,null,null,{"$f":"'baza inwest.'!K845","v":"Intensywna Terapia"},"","","Sekcja Marketingu","1.04.04"]
["1-845",{"$f":"'baza inwest.'!C846","v":"Szafa medyczna"},null,0,"               ",{"$f":"'baza inwest.'!E846","v":6273},0,null,null,{"$f":"'baza inwest.'!K846","v":"Pracownia Endoskopii"},"","","Sekcja Marketingu","1.04.04"]
["1-846",{"$f":"'baza inwest.'!C847","v":"Szafa medyczna"},null,0,"               ",{"$f":"'baza inwest.'!E847","v":6273},0,null,null,{"$f":"'baza inwest.'!K847","v":"Pracownia Endoskopii"},"","","Sekcja Marketingu","1.04.04"]
["1-847",{"$f":"'baza inwest.'!C848","v":"Szafa medyczna"},null,0,"               ",{"$f":"'baza inwest.'!E848","v":4071.3},0,null,null,{"$f":"'baza inwest.'!K848","v":"Pracownia Endoskopii"},"","","Sekcja Marketingu","1.04.04"]
["1-848",{"$f":"'baza inwest.'!C849","v":"Szafa medyczna dwuskrzydłowa"},null,0,"               ",{"$f":"'baza inwest.'!E849","v":4674},0,null,null,{"$f":"'baza inwest.'!K849","v":"Blok Operacyjny"},"","","Sekcja Marketingu","1.04.04"]
["1-849",{"$f":"'baza inwest.'!C850","v":"Szafa medyczna dwuskrzydłowa"},null,0,"               ",{"$f":"'baza inwest.'!E850","v":5116.8},0,null,null,{"$f":"'baza inwest.'!K850","v":"Blok Operacyjny"},"","","Sekcja Marketingu","1.04.04"]
["1-850",{"$f":"'baza inwest.'!C851","v":"Szafa medyczna dwuskrzydłowa"},null,0,"               ",{"$f":"'baza inwest.'!E851","v":4633.41},0,null,null,{"$f":"'baza inwest.'!K851","v":"Blok Operacyjny"},"","","Sekcja Marketingu","1.04.04"]
["1-851",{"$f":"'baza inwest.'!C852","v":"Szafa medyczna dwuskrzydłowa"},null,0,"               ",{"$f":"'baza inwest.'!E852","v":4661.7},0,null,null,{"$f":"'baza inwest.'!K852","v":"Blok Operacyjny"},"","","Sekcja Marketingu","1.04.04"]
["1-852",{"$f":"'baza inwest.'!C853","v":"Szafa medyczna dwuskrzydłowa"},null,0,"               ",{"$f":"'baza inwest.'!E853","v":6020.33},0,null,null,{"$f":"'baza inwest.'!K853","v":"Oddział Urologii i Urologii Onkologicznej"},"","","Sekcja Marketingu","1.04.04"]
["1-853",{"$f":"'baza inwest.'!C854","v":"Szafa medyczna dwuskrzydłowa"},null,0,"               ",{"$f":"'baza inwest.'!E854","v":5209.3999999999996},0,null,null,{"$f":"'baza inwest.'!K854","v":"Oddział Okulistyczny"},"","","Sekcja Marketingu","1.04.04"]
["1-854",{"$f":"'baza inwest.'!C855","v":"Szafa metal. 1200x650x2100 2-drzwiowa "},null,0,"               ",{"$f":"'baza inwest.'!E855","v":4686.0200000000004},0,null,null,{"$f":"'baza inwest.'!K855","v":"Zamiejscowy Blok Operacyjny"},"","","Sekcja Marketingu","1.04.04"]
["1-855",{"$f":"'baza inwest.'!C856","v":"Szafa wnękowa"},null,0,"               ",{"$f":"'baza inwest.'!E856","v":3800},0,null,null,{"$f":"'baza inwest.'!K856","v":"Poradnia Chirurgii Naczyniowej"},"","","Sekcja Marketingu","1.04.04"]
["1-856",{"$f":"'baza inwest.'!C857","v":"Szafa wnękowa ze stali nierdzewnej"},null,0,"               ",{"$f":"'baza inwest.'!E857","v":8198.4},0,null,null,{"$f":"'baza inwest.'!K857","v":"Oddział Chirurgii Ogólnej z Pododdziałami"},"","","Sekcja Marketingu","1.04.04"]
["1-857",{"$f":"'baza inwest.'!C858","v":"Szafa z drzwiami przesuwanymi "},null,0,"               ",{"$f":"'baza inwest.'!E858","v":4945.88},0,null,null,{"$f":"'baza inwest.'!K858","v":"Zamiejscowy Blok Operacyjny"},"","","Sekcja Marketingu","1.04.04"]
["1-858",{"$f":"'baza inwest.'!C859","v":"Szafa z przeszklonymi drzwiami i bokami"},null,0,"               ",{"$f":"'baza inwest.'!E859","v":3586.47},0,null,null,{"$f":"'baza inwest.'!K859","v":"Pracownia Hemodynamiki"},"","","Sekcja Marketingu","1.04.04"]
["1-859",{"$f":"'baza inwest.'!C860","v":"Szafa zamykana na leki"},null,0,"               ",{"$f":"'baza inwest.'!E860","v":6000},0,null,null,{"$f":"'baza inwest.'!K860","v":"DODO - Pracowania Tomografii Komputerowej"},"","","Sekcja Marketingu","1.04.04"]
["1-860",{"$f":"'baza inwest.'!C861","v":"Szafka (wózek) anestezj. z 4 szufladami i drzwiami ze stali nierdzewnej"},null,0,"               ",{"$f":"'baza inwest.'!E861","v":4540.96},0,null,null,{"$f":"'baza inwest.'!K861","v":"Oddział Chirurgii Ogólnej z Pododdziałami"},"","","Sekcja Marketingu","1.04.04"]
["1-861",{"$f":"'baza inwest.'!C862","v":"Szafka anestezjologiczna z 4 szufladami i drzwiami"},null,0,"               ",{"$f":"'baza inwest.'!E862","v":3800.91},0,null,null,{"$f":"'baza inwest.'!K862","v":"Pracownia Hemodynamiki"},"","","Sekcja Marketingu","1.04.04"]
["1-862",{"$f":"'baza inwest.'!C863","v":"Szafki - schowki na 21 osób"},null,0,"               ",{"$f":"'baza inwest.'!E863","v":4930.04},0,null,null,{"$f":"'baza inwest.'!K863","v":"Oddział Położniczo – Ginekologiczny"},"","","Sekcja Marketingu","1.04.04"]
["1-863",{"$f":"'baza inwest.'!C864","v":"Szafki do gab. zabieg. (zestaw) "},null,0,"               ",{"$f":"'baza inwest.'!E864","v":5200.01},0,null,null,{"$f":"'baza inwest.'!K864","v":"Zamiejscowy Oddział Rehabilitacji Ogólnoustrojowej I"},"","","Sekcja Marketingu","1.04.04"]
["1-864",{"$f":"'baza inwest.'!C865","v":"Szczypce Robi"},null,0,"               ",{"$f":"'baza inwest.'!E865","v":4425.2299999999996},0,null,null,{"$f":"'baza inwest.'!K865","v":"Blok Operacyjny"},"","","Sekcja Marketingu","1.04.04"]
["1-865",{"$f":"'baza inwest.'!C866","v":"Sztywny fiberoskop do trudnej intubacji "},null,0,"               ",{"$f":"'baza inwest.'!E866","v":29016.47},0,null,null,{"$f":"'baza inwest.'!K866","v":"SOR"},"","",{"$f":"$B$2","v":"Sekcja Marketingu"},"1.04.04"]
["1-866",{"$f":"'baza inwest.'!C867","v":"Tomograf komputerowy "},null,0,"               ",{"$f":"'baza inwest.'!E867","v":1539904.1},0,null,null,{"$f":"'baza inwest.'!K867","v":"DODO - Pracowania Tomografii Komputerowej"},"","","Sekcja Marketingu","1.04.04"]
["1-867",{"$f":"'baza inwest.'!C868","v":"Tomograf okulistyczny"},null,0,"               ",{"$f":"'baza inwest.'!E868","v":344520},0,null,null,{"$f":"'baza inwest.'!K868","v":"Oddział Okulistyczny"},"","","Sekcja Marketingu","1.04.04"]
["1-868",{"$f":"'baza inwest.'!C869","v":"Tomograf okulistyczny"},null,0,"               ",{"$f":"'baza inwest.'!E869","v":294100},0,null,null,{"$f":"'baza inwest.'!K869","v":"Oddział Okulistyczny"},"","","Sekcja Marketingu","1.04.04"]
["1-869",{"$f":"'baza inwest.'!C870","v":"Tonometr bezkontaktowy"},null,0,"               ",{"$f":"'baza inwest.'!E870","v":26042.31},0,null,null,{"$f":"'baza inwest.'!K870","v":"SOR"},"","","Sekcja Marketingu","1.04.04"]
["1-870",{"$f":"'baza inwest.'!C871","v":"Tonometr bezkontaktowy"},{"$f":"'baza inwest.'!D871","v":"typ: CT-80; producent: TOPCON MEDICAL SYSTEMS, Inc., USA; Tonometr + stolik."},0,"               ",{"$f":"'baza inwest.'!E871","v":25423.200000000001},0,null,null,{"$f":"'baza inwest.'!K871","v":"Oddział Okulistyczny"},"","","Sekcja Marketingu","1.04.04"]
["1-871",{"$f":"'baza inwest.'!C872","v":"Tonometr bezkontaktowy"},null,0,"               ",{"$f":"'baza inwest.'!E872","v":27798.6},0,null,null,{"$f":"'baza inwest.'!K872","v":"Oddział Okulistyczny"},"","","Sekcja Marketingu","1.04.04"]
["1-872",{"$f":"'baza inwest.'!C873","v":"Tonometr indukcyjny"},null,0,"               ",{"$f":"'baza inwest.'!E873","v":17578},0,null,null,{"$f":"'baza inwest.'!K873","v":"Oddział Okulistyczny"},"","","Sekcja Marketingu","1.04.04"]
["1-873",{"$f":"'baza inwest.'!C874","v":"Tor wizyjny "},null,0,"               ",{"$f":"'baza inwest.'!E874","v":58812.7},0,null,null,{"$f":"'baza inwest.'!K874","v":"SOR"},"","","Sekcja Marketingu","1.04.04"]
["1-874",{"$f":"'baza inwest.'!C875","v":"Tor wizyjny "},null,0,"               ",{"$f":"'baza inwest.'!E875","v":138191.4},0,null,null,{"$f":"'baza inwest.'!K875","v":"Oddział Pediatryczny z Pododdziałem Gastroenterologii"},"","","Sekcja Marketingu","1.04.04"]
["1-875",{"$f":"'baza inwest.'!C876","v":"Tor wizyjny "},null,0,"               ",{"$f":"'baza inwest.'!E876","v":162586.85999999999},0,null,null,{"$f":"'baza inwest.'!K876","v":"Pracownia Endoskopii"},"","","Sekcja Marketingu","1.04.04"]
["1-876",{"$f":"'baza inwest.'!C877","v":"Tor wizyjny "},null,0,"               ",{"$f":"'baza inwest.'!E877","v":36487},0,null,null,{"$f":"'baza inwest.'!K877","v":"Oddział Urologii i Urologii Onkologicznej"},"","","Sekcja Marketingu","1.04.04"]
["1-877",{"$f":"'baza inwest.'!C878","v":"Tromboelastometr "},null,0,"               ",{"$f":"'baza inwest.'!E878","v":111240},0,null,null,{"$f":"'baza inwest.'!K878","v":"Anestezjologia"},"","","Sekcja Marketingu","1.04.04"]
["1-878",{"$f":"'baza inwest.'!C879","v":"Uchwyt kątowy do rozwiertaków giętkich"},null,0,"               ",{"$f":"'baza inwest.'!E879","v":5800.47},0,null,null,{"$f":"'baza inwest.'!K879","v":"Blok Operacyjny"},"","","Sekcja Marketingu","1.04.04"]
["1-879",{"$f":"'baza inwest.'!C880","v":"Uchwyt na butlę argonową"},null,0,"               ",{"$f":"'baza inwest.'!E880","v":9532.5},0,null,null,{"$f":"'baza inwest.'!K880","v":"Pracownia Endoskopii"},"","","Sekcja Marketingu","1.04.04"]
["1-880",{"$f":"'baza inwest.'!C881","v":"UGUL z oprzętem "},null,0,"               ",{"$f":"'baza inwest.'!E881","v":3765},0,null,null,{"$f":"'baza inwest.'!K881","v":"Zamiejscowy Dział Rehabilitacji Leczniczej"},"","","Sekcja Marketingu","1.04.04"]
["1-881",{"$f":"'baza inwest.'!C882","v":"Ultradźwiękowy detektor tętna "},null,0,"               ",{"$f":"'baza inwest.'!E882","v":4116.4799999999996},0,null,null,{"$f":"'baza inwest.'!K882","v":"SOR"},"","","Sekcja Marketingu","1.04.04"]
["1-882",{"$f":"'baza inwest.'!C883","v":"Ultrasonograf "},null,0,"               ",{"$f":"'baza inwest.'!E883","v":307090},0,null,null,{"$f":"'baza inwest.'!K883","v":"Oddział Angiologiczny z Pododdziałem Diabetologii"},"","","Sekcja Marketingu","1.04.04"]
["1-883",{"$f":"'baza inwest.'!C884","v":"Ultrasonograf okulistyczny "},{"$f":"'baza inwest.'!D884","v":"typ: OTI Scan 2000; producent: OTI, Kanada\r\nKomponenty:\r\n1) Sonda B \n2) Sonda X \n3) Transformator izolujący "},0,"               ",{"$f":"'baza inwest.'!E884","v":73600},0,null,null,{"$f":"'baza inwest.'!K884","v":"Oddział Okulistyczny"},"","","Sekcja Marketingu","1.04.04"]
["1-884",{"$f":"'baza inwest.'!C885","v":"Ultrasonograf okulistyczny "},null,0,"               ",{"$f":"'baza inwest.'!E885","v":115976},0,null,null,{"$f":"'baza inwest.'!K885","v":"SOR"},"","","Sekcja Marketingu","1.04.04"]
["1-885",{"$f":"'baza inwest.'!C886","v":"Ultrasonograf "},{"$f":"'baza inwest.'!D886","v":"typ: 2202; prod: B-K MEDICAL,  DANIA"},0,"               ",{"$f":"'baza inwest.'!E886","v":170000},0,null,null,{"$f":"'baza inwest.'!K886","v":"SOR"},"","","Sekcja Marketingu","1.04.04"]
["1-886",{"$f":"'baza inwest.'!C887","v":"Ultrasonograf "},null,0,"               ",{"$f":"'baza inwest.'!E887","v":206280},0,null,null,{"$f":"'baza inwest.'!K887","v":"DODO - Pracownia USG"},"","","Sekcja Marketingu","1.04.04"]
["1-887",{"$f":"'baza inwest.'!C888","v":"Ultrasonograf "},{"$f":"'baza inwest.'!D888","v":"Aparat usg stacjonarny do badań kardiologicznych-echokardiograf wraz z wyposażeniem:"},0,"               ",{"$f":"'baza inwest.'!E888","v":694240},0,null,null,{"$f":"'baza inwest.'!K888","v":"Oddział Kardiologii Dziecięcej z Pododdziałem Kardiochirurgi"},"","","Sekcja Marketingu","1.04.04"]
["1-888",{"$f":"'baza inwest.'!C889","v":"Ultrasonograf urologiczny "},null,0,"               ",{"$f":"'baza inwest.'!E889","v":99082},0,null,null,{"$f":"'baza inwest.'!K889","v":"Poradnia Urologiczna"},"","","Sekcja Marketingu","1.04.04"]
["1-889",{"$f":"'baza inwest.'!C890","v":"Ultrasonograf "},null,0,"               ",{"$f":"'baza inwest.'!E890","v":299600},0,null,null,{"$f":"'baza inwest.'!K890","v":"Oddział Kardiologiczny"},"","","Sekcja Marketingu","1.04.04"]
["1-890",{"$f":"'baza inwest.'!C891","v":"Ultrasonograf "},null,0,"               ",{"$f":"'baza inwest.'!E891","v":409433.11},0,null,null,{"$f":"'baza inwest.'!K891","v":"Oddział Kardiologii Dziecięcej z Pododdziałem Kardiochirurgi"},"","","Sekcja Marketingu","1.04.04"]
["1-891",{"$f":"'baza inwest.'!C892","v":"Ultrasonograf "},{"$f":"'baza inwest.'!D892","v":"producent: GE Medical Systems"},0,"               ",{"$f":"'baza inwest.'!E892","v":204851.5},0,null,null,{"$f":"'baza inwest.'!K892","v":"Oddział Położniczo – Ginekologiczny"},"","","Sekcja Marketingu","1.04.04"]
["1-892",{"$f":"'baza inwest.'!C893","v":"Ultrasonograf "},{"$f":"'baza inwest.'!D893","v":"producent: GE Medical Systems"},0,"               ",{"$f":"'baza inwest.'!E893","v":409810},0,null,null,{"$f":"'baza inwest.'!K893","v":"DODO - Pracownia USG"},"","","Sekcja Marketingu","1.04.04"]
["1-893",{"$f":"'baza inwest.'!C894","v":"Unit laryngologiczny "},{"$f":"'baza inwest.'!D894","v":"Typ: BASIC PLUS; producent: Happersberger Otopront GmbH"},0,"               ",{"$f":"'baza inwest.'!E894","v":359964},0,null,null,{"$f":"'baza inwest.'!K894","v":"SOR"},"","","Sekcja Marketingu","1.04.04"]
["1-894",{"$f":"'baza inwest.'!C895","v":"Uniwersalna ładowarka do wiertarek "},null,0,"               ",{"$f":"'baza inwest.'!E895","v":10311.950000000001},0,null,null,{"$f":"'baza inwest.'!K895","v":"Blok Operacyjny"},"","","Sekcja Marketingu","1.04.04"]
["1-895",{"$f":"'baza inwest.'!C896","v":"Uniwersalny stół do badań USB-04"},null,0,"               ",{"$f":"'baza inwest.'!E896","v":6862.32},0,null,null,{"$f":"'baza inwest.'!K896","v":"Oddział Chirurgii Naczyniowej"},"","","Sekcja Marketingu","1.04.04"]
["1-896",{"$f":"'baza inwest.'!C897","v":"Ureterorenoskop"},null,0,"               ",{"$f":"'baza inwest.'!E897","v":32316.799999999999},0,null,null,{"$f":"'baza inwest.'!K897","v":"Oddział Urologii i Urologii Onkologicznej"},"","","Sekcja Marketingu","1.04.04"]
["1-897",{"$f":"'baza inwest.'!C898","v":"Ureterorenoskop"},null,0,"               ",{"$f":"'baza inwest.'!E898","v":17313.13},0,null,null,{"$f":"'baza inwest.'!K898","v":"Oddział Urologii i Urologii Onkologicznej"},"","","Sekcja Marketingu",{"$f":"$I$2","v":"1.04.04"}]
["1-898",{"$f":"'baza inwest.'!C899","v":"Ureterorenoskop"},{"$f":"'baza inwest.'!D899","v":"Ureterorenoskop E kompaktowy, wg Marbergera, 8/9,8 Charr., producent: Richard Wolf GmbH\rtyp: 8703.524"},0,"               ",{"$f":"'baza inwest.'!E899","v":8560},{"$f":"D904*F904","v":0},null,null,{"$f":"'baza inwest.'!K899","v":"Oddział Urologii i Urologii Onkologicznej"},{"$f":"IF($B$2=J904,$B$2,\"\")","v":""},{"$f":"IF($B$2=K904,1,\"\")","v":""},"Sekcja Marketingu","1.04.04"]
["1-899",{"$f":"'baza inwest.'!C900","v":"Ureterorenoskop"},null,0,"               ",{"$f":"'baza inwest.'!E900","v":17336.66},0,null,null,{"$f":"'baza inwest.'!K900","v":"Oddział Urologii i Urologii Onkologicznej"},"","","Sekcja Marketingu","1.04.04"]
["1-900",{"$f":"'baza inwest.'!C901","v":"Urządzenie do kąpieli chorych leżących "},{"$f":"'baza inwest.'!D901","v":"Typ: BATH BED; producent: Pollution s.r.l., Włochy."},0,"               ",{"$f":"'baza inwest.'!E901","v":98398.8},0,null,null,{"$f":"'baza inwest.'!K901","v":"Intensywna Terapia"},"","","Sekcja Marketingu","1.04.04"]
["1-901",{"$f":"'baza inwest.'!C902","v":"Urządzenie do kompresji klatki piersiowej"},null,0,"               ",{"$f":"'baza inwest.'!E902","v":47412},0,null,null,{"$f":"'baza inwest.'!K902","v":"Intensywna Terapia"},"","","Sekcja Marketingu","1.04.04"]
["1-902",{"$f":"'baza inwest.'!C903","v":"Urządzenie do kriochirurgii"},null,0,"               ",{"$f":"'baza inwest.'!E903","v":12593.9},0,null,null,{"$f":"'baza inwest.'!K903","v":"Oddział Dermatologiczny"},"","","Sekcja Marketingu","1.04.04"]
["1-903",{"$f":"'baza inwest.'!C904","v":"Urządzenie do kriochirurgii"},{"$f":"'baza inwest.'!D904","v":"producent: KRIOMEDPOL, Polska"},0,"               ",{"$f":"'baza inwest.'!E904","v":12377.76},0,null,null,{"$f":"'baza inwest.'!K904","v":"Oddział Chirurgii Onkologicznej"},"","","Sekcja Marketingu","1.04.04"]
["1-904",{"$f":"'baza inwest.'!C905","v":"Urządzenie do mechanicznego udrażniania tętnic ROTAREX/ASPIREX - system napędowy"},{"$f":"'baza inwest.'!D905","v":"model: Straub Medical Drive System; producent: Straub Medical"},0,"               ",{"$f":"'baza inwest.'!E905","v":43200},0,null,null,{"$f":"'baza inwest.'!K905","v":"DODO - Pracownia Diagnostyczno - Zabiegowa Naczyń"},"","","Sekcja Marketingu","1.04.04"]
["1-905",{"$f":"'baza inwest.'!C906","v":"Urządzenie do ogrzewania i szybkich przetoczeń krwi i płynów infuzyjnych "},{"$f":"'baza inwest.'!D906","v":"typ: FLUIDO"},0,"               ",{"$f":"'baza inwest.'!E906","v":32207},0,null,null,{"$f":"'baza inwest.'!K906","v":"Anestezjologia"},"","","Sekcja Marketingu","1.04.04"]
["1-906",{"$f":"'baza inwest.'!C907","v":"Urządzenie do ogrzewania i szybkich przetoczeń krwi i płynów infuzyjnych "},null,0,"               ",{"$f":"'baza inwest.'!E907","v":32207},0,null,null,{"$f":"'baza inwest.'!K907","v":"SOR"},"","","Sekcja Marketingu","1.04.04"]
["1-907",{"$f":"'baza inwest.'!C908","v":"Urządzenie do ogrzewania noworodków \"Ciepłe gniazdko\""},{"$f":"'baza inwest.'!D908","v":"producent: KanMed; zakup od: NZ Techno Sp. z o.o., Warszawa, ul. Berneńska 5A"},0,"               ",{"$f":"'baza inwest.'!E908","v":7973.64},0,null,null,{"$f":"'baza inwest.'!K908","v":"Oddział Kardiologii Dziecięcej z Pododdziałem Kardiochirurgi"},"","","Sekcja Marketingu","1.04.04"]
["1-908",{"$f":"'baza inwest.'!C909","v":"Urządzenie do ogrzewania pacjenta"},null,0,"               ",{"$f":"'baza inwest.'!E909","v":4494},0,null,null,{"$f":"'baza inwest.'!K909","v":"SOR"},"","","Sekcja Marketingu","1.04.04"]
["1-909",{"$f":"'baza inwest.'!C910","v":"Urządzenie do ogrzewania pacjenta"},{"$f":"'baza inwest.'!D910","v":"Producent: Arizant Healthcare Inc., USA.\r\nNazwa własna: Bair Hugger; Model: 775."},0,"               ",{"$f":"'baza inwest.'!E910","v":4212},0,null,null,{"$f":"'baza inwest.'!K910","v":"Intensywna Terapia"},"","","Sekcja Marketingu","1.04.04"]
["1-910",{"$f":"'baza inwest.'!C911","v":"Urządzenie do podciśnieniowej terapii leczenia ran "},{"$f":"'baza inwest.'!D911","v":"producent: GENADYNE Biotechnologies Inc., USA."},0,"               ",{"$f":"'baza inwest.'!E911","v":21168},0,null,null,{"$f":"'baza inwest.'!K911","v":"Oddział Chirurgii Ogólnej z Pododdziałami"},"","","Sekcja Marketingu","1.04.04"]
["1-911",{"$f":"'baza inwest.'!C912","v":"Urządzenie do preparowania i usuwania tkanek "},{"$f":"'baza inwest.'!D912","v":"Producent: ERBE Elektromedizin GmbH, Niemcy."},0,"               ",{"$f":"'baza inwest.'!E912","v":188320},0,null,null,{"$f":"'baza inwest.'!K912","v":"Blok Operacyjny"},"","","Sekcja Marketingu","1.04.04"]
["1-912",{"$f":"'baza inwest.'!C913","v":"Urządzenie do ręcznego mycia wózków"},{"$f":"'baza inwest.'!D913","v":"typ/model: MICRO-SPRAY 02\r\nproducent: ECOLAB"},0,"               ",{"$f":"'baza inwest.'!E913","v":4358.67},0,null,null,{"$f":"'baza inwest.'!K913","v":"Dział Centralnej Sterylizatorni i DDD"},"","","Sekcja Marketingu","1.04.04"]
["1-913",{"$f":"'baza inwest.'!C914","v":"Urządzenie do systemu kontroli przebiegu i pracy nerwu twarzowego i krtaniowego "},{"$f":"'baza inwest.'!D914","v":"Typ/model: Neurosign 100"},0,"               ",{"$f":"'baza inwest.'!E914","v":45174.33},0,null,null,{"$f":"'baza inwest.'!K914","v":"Oddział Chirurgii Onkologicznej"},"","","Sekcja Marketingu","1.04.04"]
["1-914",{"$f":"'baza inwest.'!C915","v":"Urządzenie do systemu kontroli przebiegu i pracy nerwu twarzowego i krtaniowego "},{"$f":"'baza inwest.'!D915","v":"Typ: Neurosign 100"},0,"               ",{"$f":"'baza inwest.'!E915","v":33705},0,null,null,{"$f":"'baza inwest.'!K915","v":"Oddział Otolaryngologiczny z Pododdziałem Otolaryngologii"},"","","Sekcja Marketingu","1.04.04"]
["1-915",{"$f":"'baza inwest.'!C916","v":"Videoduodenoskop"},{"$f":"'baza inwest.'!D916","v":"typ: TJF-145; producent: OLYMPUS"},0,"               ",{"$f":"'baza inwest.'!E916","v":82390},0,null,null,{"$f":"'baza inwest.'!K916","v":"Pracownia Endoskopii"},"","","Sekcja Marketingu","1.04.04"]
["1-916",{"$f":"'baza inwest.'!C917","v":"Videogastroskop"},{"$f":"'baza inwest.'!D917","v":"producent: Olympus Medical Systems Corp., Japonia"},0,"               ",{"$f":"'baza inwest.'!E917","v":49489.919999999998},0,null,null,{"$f":"'baza inwest.'!K917","v":"Pracownia Endoskopii"},"","","Sekcja Marketingu","1.04.04"]
["1-917",{"$f":"'baza inwest.'!C918","v":"Videogastroskop"},null,0,"               ",{"$f":"'baza inwest.'!E918","v":133585.20000000001},0,null,null,{"$f":"'baza inwest.'!K918","v":"Poradnia Gastroenterologiczna Dla Dzieci"},"","","Sekcja Marketingu","1.04.04"]
["1-918",{"$f":"'baza inwest.'!C919","v":"Videogastroskop"},null,0,"               ",{"$f":"'baza inwest.'!E919","v":293001.09000000003},0,null,null,{"$f":"'baza inwest.'!K919","v":"Pracownia Endoskopii"},"","","Sekcja Marketingu","1.04.04"]
["1-919",{"$f":"'baza inwest.'!C920","v":"Videogastroskop"},{"$f":"'baza inwest.'!D920","v":"producent: Olympus, Japonia"},0,"               ",{"$f":"'baza inwest.'!E920","v":52812},0,null,null,{"$f":"'baza inwest.'!K920","v":"Pracownia Endoskopii"},"","","Sekcja Marketingu","1.04.04"]
["1-920",{"$f":"'baza inwest.'!C921","v":"Videogastroskop"},{"$f":"'baza inwest.'!D921","v":"producent: OLYMPUS; typ: CF-Q165L"},0,"               ",{"$f":"'baza inwest.'!E921","v":50755.68},0,null,null,{"$f":"'baza inwest.'!K921","v":"Pracownia Endoskopii"},"","","Sekcja Marketingu","1.04.04"]
["1-921",{"$f":"'baza inwest.'!C922","v":"Videogastroskop"},null,0,"               ",{"$f":"'baza inwest.'!E922","v":139946.4},0,null,null,{"$f":"'baza inwest.'!K922","v":"Poradnia Gastroenterologiczna Dla Dzieci"},"","","Sekcja Marketingu","1.04.04"]
["1-922",{"$f":"'baza inwest.'!C923","v":"Videonystagmograf "},null,0,"               ",{"$f":"'baza inwest.'!E923","v":29400},0,null,null,{"$f":"'baza inwest.'!K923","v":"Prac. VNG"},"","","Sekcja Marketingu","1.04.04"]
["1-923",{"$f":"'baza inwest.'!C924","v":"Wanna do masażu podwodnego"},null,0,"               ",{"$f":"'baza inwest.'!E924","v":18965.009999999998},0,null,null,{"$f":"'baza inwest.'!K924","v":"Zamiejscowy Dział Rehabilitacji Leczniczej"},"","","Sekcja Marketingu","1.04.04"]
["1-924",{"$f":"'baza inwest.'!C925","v":"Wanna wirowa do kąpieli kończyn dolnych "},{"$f":"'baza inwest.'!D925","v":"Typ: 1110T; producent: TECHNOMEX"},0,"               ",{"$f":"'baza inwest.'!E925","v":6588},0,null,null,{"$f":"'baza inwest.'!K925","v":"Zamiejscowy Dział Rehabilitacji Leczniczej"},"","","Sekcja Marketingu","1.04.04"]
["1-925",{"$f":"'baza inwest.'!C926","v":"Wanna wirowa do kąpieli kończyn dolnych "},null,0,"               ",{"$f":"'baza inwest.'!E926","v":8346},0,null,null,{"$f":"'baza inwest.'!K926","v":"Zamiejscowy Dział Rehabilitacji Leczniczej"},"","","Sekcja Marketingu","1.04.04"]
["1-926",{"$f":"'baza inwest.'!C927","v":"Wanna wirowa do kąpieli kończyn dolnych "},{"$f":"'baza inwest.'!D927","v":"Typ: 1110T; producent: TECHNOMEX"},0,"               ",{"$f":"'baza inwest.'!E927","v":6500},0,null,null,{"$f":"'baza inwest.'!K927","v":"Zamiejscowy Dział Rehabilitacji Leczniczej"},"","","Sekcja Marketingu","1.04.04"]
["1-927",{"$f":"'baza inwest.'!C928","v":"Wideoduodenoskop "},null,0,"               ",{"$f":"'baza inwest.'!E928","v":92023.26},0,null,null,{"$f":"'baza inwest.'!K928","v":"Pracownia Endoskopii"},"","","Sekcja Marketingu","1.04.04"]
["1-928",{"$f":"'baza inwest.'!C929","v":"Wideogastroskop "},null,0,"               ",{"$f":"'baza inwest.'!E929","v":71737.919999999998},0,null,null,{"$f":"'baza inwest.'!K929","v":"Pracownia Endoskopii"},"","","Sekcja Marketingu","1.04.04"]
["1-929",{"$f":"'baza inwest.'!C930","v":"Wideokolonoskop "},null,0,"               ",{"$f":"'baza inwest.'!E930","v":81475.199999999997},0,null,null,{"$f":"'baza inwest.'!K930","v":"Pracownia Endoskopii"},"","",{"$f":"$B$2","v":"Sekcja Marketingu"},"1.04.04"]
["1-930",{"$f":"'baza inwest.'!C931","v":"Wideolaryngoskop do trudnej intubacji"},null,0,"               ",{"$f":"'baza inwest.'!E931","v":10152},0,null,null,{"$f":"'baza inwest.'!K931","v":"Anestezjologia"},"","","Sekcja Marketingu","1.04.04"]
["1-931",{"$f":"'baza inwest.'!C932","v":"Wieloformatowy konwerter sygnałów DVI/RGB/YPbPr"},null,0,"               ",{"$f":"'baza inwest.'!E932","v":11056.17},0,null,null,{"$f":"'baza inwest.'!K932","v":"Pracownia Elektrofizjologii"},"","","Sekcja Marketingu","1.04.04"]
["1-932",{"$f":"'baza inwest.'!C933","v":"Wiertarka + frezarka /zestaw/ "},null,0,"               ",{"$f":"'baza inwest.'!E933","v":28553.65},0,null,null,{"$f":"'baza inwest.'!K933","v":"Zamiejscowy Blok Operacyjny"},"","","Sekcja Marketingu","1.04.04"]
["1-933",{"$f":"'baza inwest.'!C934","v":"Wiertarka chirurgiczna "},null,0,"               ",{"$f":"'baza inwest.'!E934","v":47635.14},0,null,null,{"$f":"'baza inwest.'!K934","v":"Zamiejscowy Blok Operacyjny"},"","","Sekcja Marketingu","1.04.04"]
["1-934",{"$f":"'baza inwest.'!C935","v":"Wiertarka chirurgiczna do zabiegów ortopedycznych"},null,0,"               ",{"$f":"'baza inwest.'!E935","v":57017},0,null,null,{"$f":"'baza inwest.'!K935","v":"Zamiejscowy Blok Operacyjny"},"","","Sekcja Marketingu","1.04.04"]
["1-935",{"$f":"'baza inwest.'!C936","v":"Wiertarka chirurgiczna"},{"$f":"'baza inwest.'!D936","v":"prod: STARTEC MEDICAL, Szwajcaria"},0,"               ",{"$f":"'baza inwest.'!E936","v":49950},0,null,null,{"$f":"'baza inwest.'!K936","v":"Blok Operacyjny"},"","","Sekcja Marketingu","1.04.04"]
["1-936",{"$f":"'baza inwest.'!C937","v":"Wiertarka chirurgiczna"},{"$f":"'baza inwest.'!D937","v":"producent: Synthes GmbH; komponenty wprowadzone"},0,"               ",{"$f":"'baza inwest.'!E937","v":69203.960000000006},0,null,null,{"$f":"'baza inwest.'!K937","v":"Blok Operacyjny"},"","","Sekcja Marketingu","1.04.04"]
["1-937",{"$f":"'baza inwest.'!C938","v":"Wiertarka chirurgiczna"},{"$f":"'baza inwest.'!D938","v":"producent: Synthes GmbH; wprowadzone komponenty"},0,"               ",{"$f":"'baza inwest.'!E938","v":35131.49},0,null,null,{"$f":"'baza inwest.'!K938","v":"Oddział Chirurgii Ogólnej z Pododdziałami"},"","","Sekcja Marketingu","1.04.04"]
["1-938",{"$f":"'baza inwest.'!C939","v":"Wiertarka na baterie z oprzyrządowaniem  "},{"$f":"'baza inwest.'!D939","v":"Typ: GA 606Acculan\r\n"},0,"               ",{"$f":"'baza inwest.'!E939","v":8933.7800000000007},0,null,null,{"$f":"'baza inwest.'!K939","v":"Zamiejscowy Blok Operacyjny"},"","","Sekcja Marketingu","1.04.04"]
["1-939",{"$f":"'baza inwest.'!C940","v":"Wiertarka operacyjna laryngologiczna z wyposażeniem"},{"$f":"'baza inwest.'!D940","v":"producent: Medtronic; "},0,"               ",{"$f":"'baza inwest.'!E940","v":145152},0,null,null,{"$f":"'baza inwest.'!K940","v":"Oddział Otolaryngologiczny z Pododdziałem Otolaryngologii"},"","","Sekcja Marketingu","1.04.04"]
["1-940",{"$f":"'baza inwest.'!C941","v":"Wiertarka chirurgiczna"},{"$f":"'baza inwest.'!D941","v":"Wiertarka Compact Air Drive II; producent: Synthes GmbH;"},0,"               ",{"$f":"'baza inwest.'!E941","v":45326.04},0,null,null,{"$f":"'baza inwest.'!K941","v":"Blok Operacyjny"},"","","Sekcja Marketingu","1.04.04"]
["1-941",{"$f":"'baza inwest.'!C942","v":"Wiertarka chirurgiczna"},{"$f":"'baza inwest.'!D942","v":"producent: Synthes GmbH"},0,"               ",{"$f":"'baza inwest.'!E942","v":24355.37},0,null,null,{"$f":"'baza inwest.'!K942","v":"Blok Operacyjny"},"","","Sekcja Marketingu","1.04.04"]
["1-942",{"$f":"'baza inwest.'!C943","v":"Wiertarka wielowrzecionowa"},{"$f":"'baza inwest.'!D943","v":"model: FD 921; producent: FELDER, Austria."},0,"               ",{"$f":"'baza inwest.'!E943","v":23640.6},0,null,null,{"$f":"'baza inwest.'!K943","v":"Dział Gospodarki Nieruchomościami i Utrzymania Ruchu"},"","","Sekcja Marketingu","1.04.04"]
["1-943",{"$f":"'baza inwest.'!C944","v":"Wirówka laboratoryjna"},null,0,"               ",{"$f":"'baza inwest.'!E944","v":6469.22},0,null,null,{"$f":"'baza inwest.'!K944","v":"Poradnia Dermatologiczna"},"","","Sekcja Marketingu","1.04.04"]
["1-944",{"$f":"'baza inwest.'!C945","v":"Wirówka laboratoryjna"},null,0,"               ",{"$f":"'baza inwest.'!E945","v":4028.4},0,null,null,{"$f":"'baza inwest.'!K945","v":"Oddział Kardiologiczny"},"","","Sekcja Marketingu","1.04.04"]
["1-945",{"$f":"'baza inwest.'!C946","v":"Witryna chłodnicza"},null,0,"               ",{"$f":"'baza inwest.'!E946","v":5412.01},0,null,null,{"$f":"'baza inwest.'!K946","v":"Apteka Szpitalna"},"","","Sekcja Marketingu","1.04.04"]
["1-946",{"$f":"'baza inwest.'!C947","v":"Wózek anestezjologiczny"},null,0,"               ",{"$f":"'baza inwest.'!E947","v":6000},0,null,null,{"$f":"'baza inwest.'!K947","v":"DODO - Pracowania Tomografii Komputerowej"},"","","Sekcja Marketingu","1.04.04"]
["1-947",{"$f":"'baza inwest.'!C948","v":"Wózek anestezjologiczny"},null,0,"               ",{"$f":"'baza inwest.'!E948","v":8859.6},0,null,null,{"$f":"'baza inwest.'!K948","v":"Intensywna Terapia"},"","","Sekcja Marketingu","1.04.04"]
["1-948",{"$f":"'baza inwest.'!C949","v":"Wózek anestezjologiczny"},{"$f":"'baza inwest.'!D949","v":"producent: KARREL S.R.L, Włochy"},0,"               ",{"$f":"'baza inwest.'!E949","v":8667},0,null,null,{"$f":"'baza inwest.'!K949","v":"Oddział Kardiologiczny"},"","","Sekcja Marketingu","1.04.04"]
["1-949",{"$f":"'baza inwest.'!C950","v":"Wózek anestezjologiczny"},{"$f":"'baza inwest.'!D950","v":"typ: SM-04"},0,"               ",{"$f":"'baza inwest.'!E950","v":4666},0,null,null,{"$f":"'baza inwest.'!K950","v":"Pracownia Elektrofizjologii"},"","","Sekcja Marketingu","1.04.04"]
["1-950",{"$f":"'baza inwest.'!C951","v":"Wózek anestezjologiczny"},{"$f":"'baza inwest.'!D951","v":"Wózek anestezjologiczny z 4-ema organizerami (szufladami)\r\nProducent: FRANCEHOPITAL, Francja"},0,"               ",{"$f":"'baza inwest.'!E951","v":7572.39},0,null,null,{"$f":"'baza inwest.'!K951","v":"Anestezjologia"},"","","Sekcja Marketingu","1.04.04"]
["1-951",{"$f":"'baza inwest.'!C952","v":"Wózek anestezjologiczny"},null,0,"               ",{"$f":"'baza inwest.'!E952","v":10999.8},0,null,null,{"$f":"'baza inwest.'!K952","v":"Anestezjologia"},"","","Sekcja Marketingu","1.04.04"]
["1-952",{"$f":"'baza inwest.'!C953","v":"Wózek anestezjologiczny"},null,0,"               ",{"$f":"'baza inwest.'!E953","v":10290.24},0,null,null,{"$f":"'baza inwest.'!K953","v":"Oddział Kardiologii Dziecięcej z Pododdziałem Kardiochirurgi"},"","","Sekcja Marketingu","1.04.04"]
["1-953",{"$f":"'baza inwest.'!C954","v":"Wózek anestezjologiczny"},null,0,"               ",{"$f":"'baza inwest.'!E954","v":6666.1},0,null,null,{"$f":"'baza inwest.'!K954","v":"Anestezjologia"},"","","Sekcja Marketingu","1.04.04"]
["1-954",{"$f":"'baza inwest.'!C955","v":"Wózek aparaturowy - kolumnowy"},null,0,"               ",{"$f":"'baza inwest.'!E955","v":16200},0,null,null,{"$f":"'baza inwest.'!K955","v":"Blok Operacyjny"},"","","Sekcja Marketingu","1.04.04"]
["1-955",{"$f":"'baza inwest.'!C956","v":"Wózek do bielizny brudnej"},{"$f":"'baza inwest.'!D956","v":"typ: P-07; producent: Elme Primus"},0,"               ",{"$f":"'baza inwest.'!E956","v":7014.81},0,null,null,{"$f":"'baza inwest.'!K956","v":"Oddział Nefrologiczny"},"","","Sekcja Marketingu","1.04.04"]
["1-956",{"$f":"'baza inwest.'!C957","v":"Wózek do bielizny czystej"},{"$f":"'baza inwest.'!D957","v":"typ: H-05; producent: Elme Primus."},0,"               ",{"$f":"'baza inwest.'!E957","v":8234.85},0,null,null,{"$f":"'baza inwest.'!K957","v":"Oddział Nefrologiczny"},"","","Sekcja Marketingu","1.04.04"]
["1-957",{"$f":"'baza inwest.'!C958","v":"Wózek do bielizny czystej i brudnej"},{"$f":"'baza inwest.'!D958","v":"Typ: WA-4; producent: Elme Primus, Francja"},0,"               ",{"$f":"'baza inwest.'!E958","v":8499.2999999999993},0,null,null,{"$f":"'baza inwest.'!K958","v":"Intensywna Terapia"},"","","Sekcja Marketingu","1.04.04"]
["1-958",{"$f":"'baza inwest.'!C959","v":"Wózek do kąpania pacjentów"},{"$f":"'baza inwest.'!D959","v":"typ 512 TR"},0,"               ",{"$f":"'baza inwest.'!E959","v":9849.6},0,null,null,{"$f":"'baza inwest.'!K959","v":"Oddział Urologii i Urologii Onkologicznej"},"","","Sekcja Marketingu","1.04.04"]
["1-959",{"$f":"'baza inwest.'!C960","v":"Wózek do kąpania pacjentów"},{"$f":"'baza inwest.'!D960","v":"producent: Arjo Hospital Equipment AB. Wprowadzone komponenty."},0,"               ",{"$f":"'baza inwest.'!E960","v":32778},0,null,null,{"$f":"'baza inwest.'!K960","v":"SOR"},"","","Sekcja Marketingu","1.04.04"]
["1-960",{"$f":"'baza inwest.'!C961","v":"Wózek do przewożenia chorych"},{"$f":"'baza inwest.'!D961","v":"typ: M69; producent: PROMA REHA s.r.o. Republika Czeska"},0,"               ",{"$f":"'baza inwest.'!E961","v":3991.1},0,null,null,{"$f":"'baza inwest.'!K961","v":"Blok Operacyjny"},"","","Sekcja Marketingu","1.04.04"]
["1-961",{"$f":"'baza inwest.'!C962","v":"Wózek do przewożenia chorych"},{"$f":"'baza inwest.'!D962","v":"producent: INDUSTRIE GUIDO MALVESTIO, Włochy"},0,"               ",{"$f":"'baza inwest.'!E962","v":9309},0,null,null,{"$f":"'baza inwest.'!K962","v":"Pracownia Endoskopii"},"","","Sekcja Marketingu",{"$f":"$I$2","v":"1.04.04"}]
["1-962",{"$f":"'baza inwest.'!C963","v":"Wózek do przewożenia chorych"},null,0,"               ",{"$f":"'baza inwest.'!E963","v":5285.8},{"$f":"D968*F968","v":0},null,null,{"$f":"'baza inwest.'!K963","v":"Zamiejscowy Oddział Rehabilitacji Ogólnoustrojowej I"},{"$f":"IF($B$2=J968,$B$2,\"\")","v":""},{"$f":"IF($B$2=K968,1,\"\")","v":""},"Sekcja Marketingu","1.04.04"]
["1-963",{"$f":"'baza inwest.'!C964","v":"Wózek do przewożenia chorych"},null,0,"               ",{"$f":"'baza inwest.'!E964","v":4536},0,null,null,{"$f":"'baza inwest.'!K964","v":"Zamiejscowy Oddział Chirurgii Urazowo - Ortopedycznej"},"","","Sekcja Marketingu","1.04.04"]
["1-964",{"$f":"'baza inwest.'!C965","v":"Wózek do przewożenia chorych"},null,0,"               ",{"$f":"'baza inwest.'!E965","v":5616},0,null,null,{"$f":"'baza inwest.'!K965","v":"Stacja Dializ"},"","","Sekcja Marketingu","1.04.04"]
["1-965",{"$f":"'baza inwest.'!C966","v":"Wózek do przewożenia chorych"},null,0,"               ",{"$f":"'baza inwest.'!E966","v":4050},0,null,null,{"$f":"'baza inwest.'!K966","v":"Oddział Nefrologiczny"},"","","Sekcja Marketingu","1.04.04"]
["1-966",{"$f":"'baza inwest.'!C967","v":"Wózek do przewożenia chorych"},null,0,"               ",{"$f":"'baza inwest.'!E967","v":6955},0,null,null,{"$f":"'baza inwest.'!K967","v":"Oddział Chirurgii Ogólnej z Pododdziałami"},"","","Sekcja Marketingu","1.04.04"]
["1-967",{"$f":"'baza inwest.'!C968","v":"Wózek do przewożenia chorych"},null,0,"               ",{"$f":"'baza inwest.'!E968","v":5136},0,null,null,{"$f":"'baza inwest.'!K968","v":"Oddział Angiologiczny z Pododdziałem Diabetologii"},"","","Sekcja Marketingu","1.04.04"]
["1-968",{"$f":"'baza inwest.'!C969","v":"Wózek do przewożenia chorych"},null,0,"               ",{"$f":"'baza inwest.'!E969","v":5457},0,null,null,{"$f":"'baza inwest.'!K969","v":"Oddział Okulistyczny"},"","","Sekcja Marketingu","1.04.04"]
["1-969",{"$f":"'baza inwest.'!C970","v":"Wózek do przewożenia pacjentów "},null,0,"               ",{"$f":"'baza inwest.'!E970","v":6469.2},0,null,null,{"$f":"'baza inwest.'!K970","v":"Oddział Położniczo – Ginekologiczny"},"","","Sekcja Marketingu","1.04.04"]
["1-970",{"$f":"'baza inwest.'!C971","v":"Wózek do przewożenia pacjentów w pozycji leżącej"},null,0,"               ",{"$f":"'baza inwest.'!E971","v":7918},0,null,null,{"$f":"'baza inwest.'!K971","v":"Intensywna Terapia"},"","","Sekcja Marketingu","1.04.04"]
["1-971",{"$f":"'baza inwest.'!C972","v":"Wózek do przewożenia pacjentów w pozycji leżącej"},null,0,"               ",{"$f":"'baza inwest.'!E972","v":7918},0,null,null,{"$f":"'baza inwest.'!K972","v":"Oddział Kardiologiczny"},"","","Sekcja Marketingu","1.04.04"]
["1-972",{"$f":"'baza inwest.'!C973","v":"Wózek do przewożenia pacjentów w pozycji leżącej"},null,0,"               ",{"$f":"'baza inwest.'!E973","v":7918},0,null,null,{"$f":"'baza inwest.'!K973","v":"Oddział Otolaryngologiczny z Pododdziałem Otolaryngologii"},"","","Sekcja Marketingu","1.04.04"]
["1-973",{"$f":"'baza inwest.'!C974","v":"Wózek do przewożenia pacjentów w pozycji leżącej"},null,0,"               ",{"$f":"'baza inwest.'!E974","v":7918},0,null,null,{"$f":"'baza inwest.'!K974","v":"Oddział Urologii i Urologii Onkologicznej"},"","","Sekcja Marketingu","1.04.04"]
["1-974",{"$f":"'baza inwest.'!C975","v":"Wózek do przewożenia pacjentów w pozycji leżącej"},null,0,"               ",{"$f":"'baza inwest.'!E975","v":7918},0,null,null,{"$f":"'baza inwest.'!K975","v":"Pracownia Endoskopii"},"","","Sekcja Marketingu","1.04.04"]
["1-975",{"$f":"'baza inwest.'!C976","v":"Wózek do przewożenia pacjentów w pozycji leżącej"},{"$f":"'baza inwest.'!D976","v":"Typ: ES 710; producent: Savion Industries Ltd."},0,"               ",{"$f":"'baza inwest.'!E976","v":7918},0,null,null,{"$f":"'baza inwest.'!K976","v":"Pracownia Hemodynamiki"},"","","Sekcja Marketingu","1.04.04"]
["1-976",{"$f":"'baza inwest.'!C977","v":"Wózek do przewożenia pacjentów w pozycji leżącej"},null,0,"               ",{"$f":"'baza inwest.'!E977","v":7918},0,null,null,{"$f":"'baza inwest.'!K977","v":"SOR"},"","","Sekcja Marketingu","1.04.04"]
["1-977",{"$f":"'baza inwest.'!C978","v":"Wózek do przewożenia zwłok"},null,0,"               ",{"$f":"'baza inwest.'!E978","v":5166},0,null,null,{"$f":"'baza inwest.'!K978","v":"Koordynator Wsparcia Oddziałów"},"","","Sekcja Marketingu","1.04.04"]
["1-978",{"$f":"'baza inwest.'!C979","v":"Wózek do przewożenia chorych"},null,0,"               ",{"$f":"'baza inwest.'!E979","v":11899.44},0,null,null,{"$f":"'baza inwest.'!K979","v":"SOR"},"","","Sekcja Marketingu","1.04.04"]
["1-979",{"$f":"'baza inwest.'!C980","v":"Wózek do przewożenia pacjentów w pozycji leżącej"},null,0,"               ",{"$f":"'baza inwest.'!E980","v":9999.7199999999993},0,null,null,{"$f":"'baza inwest.'!K980","v":"SOR"},"","","Sekcja Marketingu","1.04.04"]
["1-980",{"$f":"'baza inwest.'!C981","v":"Wózek do przewożenia chorych"},null,0,"               ",{"$f":"'baza inwest.'!E981","v":16394.400000000001},0,null,null,{"$f":"'baza inwest.'!K981","v":"Intensywna Terapia"},"","","Sekcja Marketingu","1.04.04"]
["1-981",{"$f":"'baza inwest.'!C982","v":"Wózek do transportu materiałów sterylnych"},null,0,"               ",{"$f":"'baza inwest.'!E982","v":5892.6},0,null,null,{"$f":"'baza inwest.'!K982","v":"Dział Centralnej Sterylizatorni i DDD"},"","","Sekcja Marketingu","1.04.04"]
["1-982",{"$f":"'baza inwest.'!C983","v":"Wózek do przewożenia chorych"},null,0,"               ",{"$f":"'baza inwest.'!E983","v":7899.12},0,null,null,{"$f":"'baza inwest.'!K983","v":"Zamiejscowy Oddział Rehabilitacji Neurologicznej"},"","","Sekcja Marketingu","1.04.04"]
["1-983",{"$f":"'baza inwest.'!C984","v":"Wózek do przewożenia pacjentów w pozycji leżącej"},null,0,"               ",{"$f":"'baza inwest.'!E984","v":54570},0,null,null,{"$f":"'baza inwest.'!K984","v":"SOR"},"","","Sekcja Marketingu","1.04.04"]
["1-984",{"$f":"'baza inwest.'!C985","v":"Wózek funkcyjny - anestezjologiczny"},null,0,"               ",{"$f":"'baza inwest.'!E985","v":7918},0,null,null,{"$f":"'baza inwest.'!K985","v":"Anestezjologia"},"","","Sekcja Marketingu","1.04.04"]
["1-985",{"$f":"'baza inwest.'!C986","v":"Wózek funkcyjny - anestezjologiczny"},null,0,"               ",{"$f":"'baza inwest.'!E986","v":7918},0,null,null,{"$f":"'baza inwest.'!K986","v":"DODO - Pracownia Diagnostyczno - Zabiegowa Naczyń"},"","","Sekcja Marketingu","1.04.04"]
["1-986",{"$f":"'baza inwest.'!C987","v":"Wózek funkcyjny"},{"$f":"'baza inwest.'!D987","v":"typ: Aurion Compact"},0,"               ",{"$f":"'baza inwest.'!E987","v":10843.48},0,null,null,{"$f":"'baza inwest.'!K987","v":"Anestezjologia"},"","","Sekcja Marketingu","1.04.04"]
["1-987",{"$f":"'baza inwest.'!C988","v":"Wózek funkcyjny"},null,0,"               ",{"$f":"'baza inwest.'!E988","v":10843.48},0,null,null,{"$f":"'baza inwest.'!K988","v":"SOR"},"","","Sekcja Marketingu","1.04.04"]
["1-988",{"$f":"'baza inwest.'!C989","v":"Wózek funkcyjny"},null,0,"               ",{"$f":"'baza inwest.'!E989","v":5850.06},0,null,null,{"$f":"'baza inwest.'!K989","v":"Oddział Angiologiczny z Pododdziałem Diabetologii"},"","","Sekcja Marketingu","1.04.04"]
["1-989",{"$f":"'baza inwest.'!C990","v":"Wózek funkcyjny"},null,0,"               ",{"$f":"'baza inwest.'!E990","v":5850.06},0,null,null,{"$f":"'baza inwest.'!K990","v":"Oddział Pediatryczny z Pododdziałem Gastroenterologii"},"","","Sekcja Marketingu","1.04.04"]
["1-990",{"$f":"'baza inwest.'!C991","v":"Wózek medyczny"},null,0,"               ",{"$f":"'baza inwest.'!E991","v":6613.25},0,null,null,{"$f":"'baza inwest.'!K991","v":"Oddział Chirurgii Naczyniowej"},"","","Sekcja Marketingu","1.04.04"]
["1-991",{"$f":"'baza inwest.'!C992","v":"Wózek medyczny wielofunkcyjny"},null,0,"               ",{"$f":"'baza inwest.'!E992","v":5999.4},0,null,null,{"$f":"'baza inwest.'!K992","v":"Zamiejscowy Oddział Chirurgii Urazowo - Ortopedycznej"},"","","Sekcja Marketingu","1.04.04"]
["1-992",{"$f":"'baza inwest.'!C993","v":"Wózek prysznicowy CONCERTO"},null,0,"               ",{"$f":"'baza inwest.'!E993","v":7917.79},0,null,null,{"$f":"'baza inwest.'!K993","v":"Zamiejscowy Oddział Rehabilitacji Neurologicznej"},"","","Sekcja Marketingu","1.04.04"]
["1-993",{"$f":"'baza inwest.'!C994","v":"Wózek prysznicowy CONCERTO"},null,0,"               ",{"$f":"'baza inwest.'!E994","v":19153},0,null,null,{"$f":"'baza inwest.'!K994","v":"Oddział Chirurgii Naczyniowej"},"","",{"$f":"$B$2","v":"Sekcja Marketingu"},"1.04.04"]
["1-994",{"$f":"'baza inwest.'!C995","v":"Wózek prysznicowy CONCERTO"},null,0,"               ",{"$f":"'baza inwest.'!E995","v":17441},0,null,null,{"$f":"'baza inwest.'!K995","v":"Oddział Chirurgii Ogólnej z Pododdziałami"},"","","Sekcja Marketingu","1.04.04"]
["1-995",{"$f":"'baza inwest.'!C996","v":"Wózek prysznicowy CONCERTO"},null,0,"               ",{"$f":"'baza inwest.'!E996","v":17441},0,null,null,{"$f":"'baza inwest.'!K996","v":"SOR"},"","","Sekcja Marketingu","1.04.04"]
["1-996",{"$f":"'baza inwest.'!C997","v":"Wózek ratowniczy z 2 szufladami ze stali nierdzewnej"},null,0,"               ",{"$f":"'baza inwest.'!E997","v":4035.15},0,null,null,{"$f":"'baza inwest.'!K997","v":"Oddział Urologii i Urologii Onkologicznej"},"","","Sekcja Marketingu","1.04.04"]
["1-997",{"$f":"'baza inwest.'!C998","v":"Wózek ratowniczy z 4 szufladami"},null,0,"               ",{"$f":"'baza inwest.'!E998","v":5353.04},0,null,null,{"$f":"'baza inwest.'!K998","v":"Pracownia Hemodynamiki"},"","","Sekcja Marketingu","1.04.04"]
["1-998",{"$f":"'baza inwest.'!C999","v":"Wózek reanimacyjny "},null,0,"               ",{"$f":"'baza inwest.'!E999","v":7431.15},0,null,null,{"$f":"'baza inwest.'!K999","v":"SOR"},"","","Sekcja Marketingu","1.04.04"]
["1-999",{"$f":"'baza inwest.'!C1000","v":"Wózek reanimacyjny "},null,0,"               ",{"$f":"'baza inwest.'!E1000","v":6760.8},0,null,null,{"$f":"'baza inwest.'!K1000","v":"Oddział Chirurgii Naczyniowej"},"","","Sekcja Marketingu","1.04.04"]
["1-1000",{"$f":"'baza inwest.'!C1001","v":"Wózek reanimacyjny "},null,0,"               ",{"$f":"'baza inwest.'!E1001","v":6523.2},0,null,null,{"$f":"'baza inwest.'!K1001","v":"Oddział Neonatologiczny z Pododdziałem Patologii Noworodka"},"","","Sekcja Marketingu","1.04.04"]
["1-1001",{"$f":"'baza inwest.'!C1002","v":"Wózek reanimacyjny "},null,0,"               ",{"$f":"'baza inwest.'!E1002","v":13899.6},0,null,null,{"$f":"'baza inwest.'!K1002","v":"Anestezjologia"},"","","Sekcja Marketingu","1.04.04"]
["1-1002",{"$f":"'baza inwest.'!C1003","v":"Wózek reanimacyjny "},null,0,"               ",{"$f":"'baza inwest.'!E1003","v":7572.39},0,null,null,{"$f":"'baza inwest.'!K1003","v":"Anestezjologia"},"","","Sekcja Marketingu","1.04.04"]
["1-1003",{"$f":"'baza inwest.'!C1004","v":"Wózek transportowo-kąpielowy"},null,0,"               ",{"$f":"'baza inwest.'!E1004","v":9849.6},0,null,null,{"$f":"'baza inwest.'!K1004","v":"Oddział Nefrologiczny"},"","","Sekcja Marketingu","1.04.04"]
["1-1004",{"$f":"'baza inwest.'!C1005","v":"Wózek transportowy"},null,0,"               ",{"$f":"'baza inwest.'!E1005","v":4522.2299999999996},0,null,null,{"$f":"'baza inwest.'!K1005","v":"Dział Centralnej Sterylizatorni i DDD"},"","","Sekcja Marketingu","1.04.04"]
["1-1005",{"$f":"'baza inwest.'!C1006","v":"Wózek wielofunkcyjny"},null,0,"               ",{"$f":"'baza inwest.'!E1006","v":4499.3599999999997},0,null,null,{"$f":"'baza inwest.'!K1006","v":"Oddział Angiologiczny z Pododdziałem Diabetologii"},"","","Sekcja Marketingu","1.04.04"]
["1-1006",{"$f":"'baza inwest.'!C1007","v":"Wózek wielofunkcyjny"},null,0,"               ",{"$f":"'baza inwest.'!E1007","v":8113},0,null,null,{"$f":"'baza inwest.'!K1007","v":"Oddział Otolaryngologiczny z Pododdziałem Otolaryngologii"},"","","Sekcja Marketingu","1.04.04"]
["1-1007",{"$f":"'baza inwest.'!C1008","v":"Wózek wielofunkcyjny"},null,0,"               ",{"$f":"'baza inwest.'!E1008","v":4601},0,null,null,{"$f":"'baza inwest.'!K1008","v":"Pracownia Endoskopii"},"","","Sekcja Marketingu","1.04.04"]
["1-1008",{"$f":"'baza inwest.'!C1009","v":"Wózek wielofunkcyjny"},null,0,"               ",{"$f":"'baza inwest.'!E1009","v":4601},0,null,null,{"$f":"'baza inwest.'!K1009","v":"Oddział Urologii i Urologii Onkologicznej"},"","","Sekcja Marketingu","1.04.04"]
["1-1009",{"$f":"'baza inwest.'!C1010","v":"Wózek zabiegowy"},null,0,"               ",{"$f":"'baza inwest.'!E1010","v":7560},0,null,null,{"$f":"'baza inwest.'!K1010","v":"Oddział Położniczo – Ginekologiczny"},"","","Sekcja Marketingu","1.04.04"]
["1-1010",{"$f":"'baza inwest.'!C1011","v":"Wózek zabiegowy"},null,0,"               ",{"$f":"'baza inwest.'!E1011","v":12399.48},0,null,null,{"$f":"'baza inwest.'!K1011","v":"Anestezjologia"},"","","Sekcja Marketingu","1.04.04"]
["1-1011",{"$f":"'baza inwest.'!C1012","v":"Wózek zabiegowy"},{"$f":"'baza inwest.'!D1012","v":"producent: KarisMedica s.r.i."},0,"               ",{"$f":"'baza inwest.'!E1012","v":9599.0400000000009},0,null,null,{"$f":"'baza inwest.'!K1012","v":"SOR"},"","","Sekcja Marketingu","1.04.04"]
["1-1012",{"$f":"'baza inwest.'!C1013","v":"Wózek zabiegowy"},null,0,"               ",{"$f":"'baza inwest.'!E1013","v":3888},0,null,null,{"$f":"'baza inwest.'!K1013","v":"Intensywna Terapia"},"","","Sekcja Marketingu","1.04.04"]
["1-1013",{"$f":"'baza inwest.'!C1014","v":"Wyświetlacz optotypów"},{"$f":"'baza inwest.'!D1014","v":"Ekran LCD; typ: CP-400 FREY. Producent: Frey, Polska. "},0,"               ",{"$f":"'baza inwest.'!E1014","v":6056.08},0,null,null,{"$f":"'baza inwest.'!K1014","v":"SOR"},"","","Sekcja Marketingu","1.04.04"]
["1-1014",{"$f":"'baza inwest.'!C1015","v":"Wyświetlacz optotypów"},null,0,"               ",{"$f":"'baza inwest.'!E1015","v":5790.96},0,null,null,{"$f":"'baza inwest.'!K1015","v":"Poradnia Okulistyczna"},"","","Sekcja Marketingu","1.04.04"]
["1-1015",{"$f":"'baza inwest.'!C1016","v":"Wytwornica pary "},null,0,"               ",{"$f":"'baza inwest.'!E1016","v":7171.16},0,null,null,{"$f":"'baza inwest.'!K1016","v":"Dział Centralnej Sterylizatorni i DDD"},"","","Sekcja Marketingu","1.04.04"]
["1-1016",{"$f":"'baza inwest.'!C1017","v":"Wzmacniacz MF-20 + aplikator AD200 + aplikator AS315 "},null,0,"               ",{"$f":"'baza inwest.'!E1017","v":5440},0,null,null,{"$f":"'baza inwest.'!K1017","v":"Zamiejscowy Dział Rehabilitacji Leczniczej"},"","","Sekcja Marketingu","1.04.04"]
["1-1017",{"$f":"'baza inwest.'!C1018","v":"Zabudowa meblowa"},null,0,"               ",{"$f":"'baza inwest.'!E1018","v":36777},0,null,null,{"$f":"'baza inwest.'!K1018","v":"Blok Operacyjny"},"","","Sekcja Marketingu","1.04.04"]
["1-1018",{"$f":"'baza inwest.'!C1019","v":"Zabudowa meblowa"},null,0,"               ",{"$f":"'baza inwest.'!E1019","v":27060},0,null,null,{"$f":"'baza inwest.'!K1019","v":"Intensywna Terapia"},"","","Sekcja Marketingu","1.04.04"]
["1-1019",{"$f":"'baza inwest.'!C1020","v":"Zamrażarka niskotemperaturowa "},null,0,"               ",{"$f":"'baza inwest.'!E1020","v":18300},0,null,null,{"$f":"'baza inwest.'!K1020","v":"Zamiejscowy Blok Operacyjny"},"","","Sekcja Marketingu","1.04.04"]
["1-1020",{"$f":"'baza inwest.'!C1021","v":"Zamrażarka stołowa"},null,0,"               ",{"$f":"'baza inwest.'!E1021","v":17975.97},0,null,null,{"$f":"'baza inwest.'!K1021","v":"Oddział Kardiologiczny"},"","","Sekcja Marketingu","1.04.04"]
["1-1021",{"$f":"'baza inwest.'!C1022","v":"Zamykany wózek transportowy ze stali kwasoodpornej"},null,0,"               ",{"$f":"'baza inwest.'!E1022","v":6902.83},0,null,null,{"$f":"'baza inwest.'!K1022","v":"Dział Centralnej Sterylizatorni i DDD"},"","","Sekcja Marketingu","1.04.04"]
["1-1022",{"$f":"'baza inwest.'!C1023","v":"Zasilacz awaryjny - UPS "},null,0,"               ",{"$f":"'baza inwest.'!E1023","v":8802.2999999999993},0,null,null,{"$f":"'baza inwest.'!K1023","v":"Oddział Okulistyczny"},"","","Sekcja Marketingu","1.04.04"]
["1-1023",{"$f":"'baza inwest.'!C1024","v":"Zbierakowy podnośnik chorych 2-funkcyjny "},{"$f":"'baza inwest.'!D1024","v":"producent: BHM Medical Inc. Wprowadzone komponenty."},0,"               ",{"$f":"'baza inwest.'!E1024","v":45149.4},0,null,null,{"$f":"'baza inwest.'!K1024","v":"SOR"},"","","Sekcja Marketingu","1.04.04"]
["1-1024",{"$f":"'baza inwest.'!C1025","v":"Zestaw 4 fantomów osoby dorosłej "},null,0,"               ",{"$f":"'baza inwest.'!E1025","v":3691.85},0,null,null,{"$f":"'baza inwest.'!K1025","v":"SOR"},"","","Sekcja Marketingu","1.04.04"]
["1-1025",{"$f":"'baza inwest.'!C1026","v":"Zestaw artroscopowy z oprzyrządowaniem"},null,0,"               ",{"$f":"'baza inwest.'!E1026","v":238771.25},0,null,null,{"$f":"'baza inwest.'!K1026","v":"Blok Operacyjny"},"","","Sekcja Marketingu",{"$f":"$I$2","v":"1.04.04"}]
["1-1026",{"$f":"'baza inwest.'!C1027","v":"Zestaw do ćwiczeń korekcyjnych "},null,0,"               ",{"$f":"'baza inwest.'!E1027","v":5310},{"$f":"D1032*F1032","v":0},null,null,{"$f":"'baza inwest.'!K1027","v":"Zamiejscowy Dział Rehabilitacji Leczniczej"},{"$f":"IF($B$2=J1032,$B$2,\"\")","v":""},{"$f":"IF($B$2=K1032,1,\"\")","v":""},"Sekcja Marketingu","1.04.04"]
["1-1027",{"$f":"'baza inwest.'!C1028","v":"Zestaw do endoskopowych operacji nosa i zatok"},null,0,"               ",{"$f":"'baza inwest.'!E1028","v":189150.26},0,null,null,{"$f":"'baza inwest.'!K1028","v":"Oddział Otolaryngologiczny z Pododdziałem Otolaryngologii"},"","","Sekcja Marketingu","1.04.04"]
["1-1028",{"$f":"'baza inwest.'!C1029","v":"Zestaw do endoskopowych zabiegów laparoskopowych chirurgicznych"},null,0,"               ",{"$f":"'baza inwest.'!E1029","v":304217.61},0,null,null,{"$f":"'baza inwest.'!K1029","v":"Blok Operacyjny"},"","","Sekcja Marketingu","1.04.04"]
["1-1029",{"$f":"'baza inwest.'!C1030","v":"Zestaw do laparoskopii bariatrycznej"},null,0,"               ",{"$f":"'baza inwest.'!E1030","v":72552.259999999995},0,null,null,{"$f":"'baza inwest.'!K1030","v":"Blok Operacyjny"},"","","Sekcja Marketingu","1.04.04"]
["1-1030",{"$f":"'baza inwest.'!C1031","v":"Zestaw do mikrochirurgii oka"},null,0,"               ",{"$f":"'baza inwest.'!E1031","v":17930.36},0,null,null,{"$f":"'baza inwest.'!K1031","v":"Oddział Okulistyczny"},"","","Sekcja Marketingu","1.04.04"]
["1-1031",{"$f":"'baza inwest.'!C1032","v":"Zestaw do nieinwazyjnego wspomagania oddechu u noworodków metodą nCPAP Infant Flow SiPAP"},null,0,"               ",{"$f":"'baza inwest.'!E1032","v":85000.320000000007},0,null,null,{"$f":"'baza inwest.'!K1032","v":"Oddział Neonatologiczny z Pododdziałem Patologii Noworodka"},"","","Sekcja Marketingu","1.04.04"]
["1-1032",{"$f":"'baza inwest.'!C1033","v":"Zestaw dwudzielny 9-szafkowy z blatem"},null,0,"               ",{"$f":"'baza inwest.'!E1033","v":28659},0,null,null,{"$f":"'baza inwest.'!K1033","v":"Intensywna Terapia"},"","","Sekcja Marketingu","1.04.04"]
["1-1033",{"$f":"'baza inwest.'!C1034","v":"Zestaw ezofagoskopów z wyposażeniem"},null,0,"               ",{"$f":"'baza inwest.'!E1034","v":29413.23},0,null,null,{"$f":"'baza inwest.'!K1034","v":"Oddział Otolaryngologiczny z Pododdziałem Otolaryngologii"},"","","Sekcja Marketingu","1.04.04"]
["1-1034",{"$f":"'baza inwest.'!C1035","v":"Zestaw generatora noża harmonicznego i zaawansowanej technologii bipolarnej"},null,0,"               ",{"$f":"'baza inwest.'!E1035","v":89696.7},0,null,null,{"$f":"'baza inwest.'!K1035","v":"Blok Operacyjny"},"","","Sekcja Marketingu","1.04.04"]
["1-1035",{"$f":"'baza inwest.'!C1036","v":"Zestaw Holter"},null,0,"               ",{"$f":"'baza inwest.'!E1036","v":10914},0,null,null,{"$f":"'baza inwest.'!K1036","v":"Oddział Angiologiczny z Pododdziałem Diabetologii"},"","","Sekcja Marketingu","1.04.04"]
["1-1036",{"$f":"'baza inwest.'!C1037","v":"Zestaw Infant FLow SiPAP typ Comprehensive"},null,0,"               ",{"$f":"'baza inwest.'!E1037","v":57243.199999999997},0,null,null,{"$f":"'baza inwest.'!K1037","v":"Oddział Neonatologiczny z Pododdziałem Patologii Noworodka"},"","","Sekcja Marketingu","1.04.04"]
["1-1037",{"$f":"'baza inwest.'!C1038","v":"Zestaw laparoskopowy - urologiczny z instrumentarium"},null,0,"               ",{"$f":"'baza inwest.'!E1038","v":175991.18},0,null,null,{"$f":"'baza inwest.'!K1038","v":"Blok Operacyjny"},"","","Sekcja Marketingu","1.04.04"]
["1-1038",{"$f":"'baza inwest.'!C1039","v":"Zestaw laparoskopowy ginekologiczny"},{"$f":"'baza inwest.'!D1039","v":"Producent: Karl Storz."},0,"               ",{"$f":"'baza inwest.'!E1039","v":329113.51},0,null,null,{"$f":"'baza inwest.'!K1039","v":"Blok Operacyjny"},"","","Sekcja Marketingu","1.04.04"]
["1-1039",{"$f":"'baza inwest.'!C1040","v":"Zestaw mebli ze stali nierdzewnej (zabudowa wnęki)"},null,0,"               ",{"$f":"'baza inwest.'!E1040","v":34526},0,null,null,{"$f":"'baza inwest.'!K1040","v":"Oddział Okulistyczny"},"","","Sekcja Marketingu","1.04.04"]
["1-1040",{"$f":"'baza inwest.'!C1041","v":"Zestaw naczyniowy laparoskopowy do robota da Vinci"},null,0,"               ",{"$f":"'baza inwest.'!E1041","v":42287.72},0,null,null,{"$f":"'baza inwest.'!K1041","v":"Blok Operacyjny"},"","","Sekcja Marketingu","1.04.04"]
["1-1041",{"$f":"'baza inwest.'!C1042","v":"Zestaw nCPAP Infant Flow SiPAP"},null,0,"               ",{"$f":"'baza inwest.'!E1042","v":75077.14},0,null,null,{"$f":"'baza inwest.'!K1042","v":"Oddział Neonatologiczny z Pododdziałem Patologii Noworodka"},"","","Sekcja Marketingu","1.04.04"]
["1-1042",{"$f":"'baza inwest.'!C1043","v":"Zestaw nCPAP Infant Flow SiPAP"},null,0,"               ",{"$f":"'baza inwest.'!E1043","v":75077.14},0,null,null,{"$f":"'baza inwest.'!K1043","v":"Oddział Neonatologiczny z Pododdziałem Patologii Noworodka"},"","","Sekcja Marketingu","1.04.04"]
["1-1043",{"$f":"'baza inwest.'!C1044","v":"Zestaw regałów przesuwnych"},null,0,"               ",{"$f":"'baza inwest.'!E1044","v":4551},0,null,null,{"$f":"'baza inwest.'!K1044","v":"DODO - Pracownia Rezonansu Magnetycznego"},"","","Sekcja Marketingu","1.04.04"]
["1-1044",{"$f":"'baza inwest.'!C1045","v":"Zestaw regałów przesuwnych"},null,0,"               ",{"$f":"'baza inwest.'!E1045","v":68503},0,null,null,{"$f":"'baza inwest.'!K1045","v":"Dział Rejestracji Statystyki i Dokumentacji Medycznej"},"","","Sekcja Marketingu","1.04.04"]
["1-1045",{"$f":"'baza inwest.'!C1046","v":"Zestaw regałów przesuwnych"},null,0,"               ",{"$f":"'baza inwest.'!E1046","v":14526.54},0,null,null,{"$f":"'baza inwest.'!K1046","v":"Dział Zaopatrzenia i Zamówień Publicznych"},"","","Sekcja Marketingu","1.04.04"]
["1-1046",{"$f":"'baza inwest.'!C1047","v":"Zestaw regałów przesuwnych"},null,0,"               ",{"$f":"'baza inwest.'!E1047","v":14905.96},0,null,null,{"$f":"'baza inwest.'!K1047","v":"Dział Zatrudnienia i Wynagrodzeń"},"","","Sekcja Marketingu","1.04.04"]
["1-1047",{"$f":"'baza inwest.'!C1048","v":"Zestaw szafek laboratoryjnych"},null,0,"               ",{"$f":"'baza inwest.'!E1048","v":3642.35},0,null,null,{"$f":"'baza inwest.'!K1048","v":"Oddział Okulistyczny"},"","","Sekcja Marketingu","1.04.04"]
["1-1048",{"$f":"'baza inwest.'!C1049","v":"Zestaw wyprostny stawu kolanowego skokowego, łokciowego i nadgarstkowego "},null,0,"               ",{"$f":"'baza inwest.'!E1049","v":3550},0,null,null,{"$f":"'baza inwest.'!K1049","v":"Zamiejscowy Dział Rehabilitacji Leczniczej"},"","","Sekcja Marketingu","1.04.04"]
["1-1049",{"$f":"'baza inwest.'!C1050","v":"Zestaw zgięciowy "},null,0,"               ",{"$f":"'baza inwest.'!E1050","v":3550},0,null,null,{"$f":"'baza inwest.'!K1050","v":"Zamiejscowy Dział Rehabilitacji Leczniczej"},"","","Sekcja Marketingu","1.04.04"]
["1-1050",{"$f":"'baza inwest.'!C1051","v":"Zgrzewarka rotacyjna"},null,0,"               ",{"$f":"'baza inwest.'!E1051","v":11048.1},0,null,null,{"$f":"'baza inwest.'!K1051","v":"Dział Centralnej Sterylizatorni i DDD"},"","","Sekcja Marketingu","1.04.04"]
["1-1051",{"$f":"'baza inwest.'!C1052","v":"Źródło światła do bronchoskopu (halogenowe)"},null,0,"               ",{"$f":"'baza inwest.'!E1052","v":4822.2},0,null,null,{"$f":"'baza inwest.'!K1052","v":"Intensywna Terapia"},"","","Sekcja Marketingu","1.04.04"]
["1-1052",{"$f":"'baza inwest.'!C1053","v":"Źródło światła Halogen "},null,0,"               ",{"$f":"'baza inwest.'!E1053","v":7344},0,null,null,{"$f":"'baza inwest.'!K1053","v":"Oddział Otolaryngologiczny z Pododdziałem Otolaryngologii"},"","","Sekcja Marketingu","1.04.04"]
["1-1053",{"$f":"'baza inwest.'!C1054","v":"Źródło światła Halogen "},null,0,"               ",{"$f":"'baza inwest.'!E1054","v":7647.61},0,null,null,{"$f":"'baza inwest.'!K1054","v":"Poradnia Urologiczna"},"","","Sekcja Marketingu","1.04.04"]
["1-1054",{"$f":"'baza inwest.'!C1055","v":"Źródło światła Halogen "},null,0,"               ",{"$f":"'baza inwest.'!E1055","v":5704.33},0,null,null,{"$f":"'baza inwest.'!K1055","v":"SOR"},"","","Sekcja Marketingu","1.04.04"]
["1-1055",{"$f":"'baza inwest.'!C1056","v":"Źródło światła Karl Storz"},null,0,"               ",{"$f":"'baza inwest.'!E1056","v":51396.38},0,null,null,{"$f":"'baza inwest.'!K1056","v":"Oddział Urologii i Urologii Onkologicznej"},"","","Sekcja Marketingu","1.04.04"]
["1-1057",{"$f":"'baza inwest.'!C1058","v":"Źródło światła "},null,0,"               ",{"$f":"'baza inwest.'!E1058","v":3745},0,null,null,{"$f":"'baza inwest.'!K1058","v":"Oddział Urologii i Urologii Onkologicznej"},"","",{"$f":"$B$2","v":"Sekcja Marketingu"},"1.04.04"]
[null,"Aparat fotograficzny Canon EOS 7D",null,1,null,5299,5299,"zestaw fotograficzny"]
[null,"Obiektyw Sigma 17-50/2,8",null,1,null,1530,1530]
[null,"Obiektyw Canon EF 70-200/2,8 8L EF IS II USM",null,1,null,8149,8149]
[null,"Lampa błyskowa Lampa Phottix Mitros Plus",null,1,null,1199,1199]
[null,"Torba Think Tank Suburban Disquis 30",null,1,null,339,339]
[null,"Karta pamięci Lexar Professional 32 GB",null,1,null,89,89]

{"sheet":"Inw. Inform.","index":2,"n_rows":14,"n_cols":12,"rows_kept":14,"cut":false,"hidden":false,"merged":[[3,0,3,10],[1,1,1,5]]}
[]
["Komórka organizacyjna:","Sekcja Marketingu",null,null,null,null,null,{"$f":"INDEX('nawy OPZ'!B:B,MATCH(B2,'nawy OPZ'!C:C,0))","v":"1.04.04"}]
[]
["PLAN ZAKUPÓW INWESTYCYJNYCH  (informatycznych) 2017 r."]
["Lp.","Nazwa środka","OPIS - Typ urządzenia (model, rodzaj)","Ilość","Jm","Cena jednostkowa","Wartość","Uzasadnienie","Przewidywany termin realizacji","Nazwa komórki organizacyjnej","kod komórki organzioacyjnej",2012]
[1,2,3,4,5,6,"7 = 4 * 6",8,9,10,11]
["1-1","Drukarka Laserowa",null,0,null,3600,{"$f":"D7*F7","v":0},null,null,{"$f":"$B$2","v":"Sekcja Marketingu"},{"$f":"$H$2","v":"1.04.04"}]
["1-2","Drukarka Laserowa kolorowa",null,0,null,4500,0,null,null,"Sekcja Marketingu",{"$f":"$H$2","v":"1.04.04"}]
["1-3","Urządzenie wielofunkcyjne wysokowydajne",null,0,null,35000,0,null,null,"Sekcja Marketingu","1.04.04"]
["1-4","Urządzenie wielofunkcyjne wysokowydajne kolorowe",null,0,null,40000,0,null,null,"Sekcja Marketingu","1.04.04"]
["1-5","Laptop",null,0,null,5000,0,null,null,"Sekcja Marketingu","1.04.04"]
["1-6","Wideoprojektor ",null,0,null,7625,0,null,null,"Sekcja Marketingu","1.04.04"]
["1-7","Komputer przenośny typu tablet (medyczny)",null,0,null,5000,0,null,null,"Sekcja Marketingu","1.04.04"]
[null,"Kopiarka, drukarka, fax, skaner A4,A3 Kyocera 2551 ci",null,1,null,12500,12500,"kolrowa drukarka DELL, kóra jest w uyciu przez dział sprzedaży usług medycznych oraz sekcje marketingu jest uszkodzona, a koszt naprawy przewyższa koszt zakupu nowej takiej samej drukarki(potwierdzono u serwisanta) Kserokopiarka, fax, skaner HP 5025 jest często serwisowana. Urządzenie wielofunkcyjne Kyocera 2551 ci może zastąpić 2 drukarki. z urządzenia koszysta cały dział rozliczeń i sekcja marketingu."]

{"sheet":"Niskocenne","index":3,"n_rows":1665,"n_cols":15,"rows_kept":1665,"cut":false,"hidden":false,"merged":[[1,1,1,5],[3,0,3,14]]}
[]
["Komórka organizacyjna:","proszę kliknąć aby wybrać nazwę komórki organizacyjnej",null,null,null,null,null,{"$f":"INDEX('nawy OPZ'!B:B,MATCH(B2,'nawy OPZ'!C:C,0))","v":0}]
[]
["Plan zakupów niskocennych środków trwałych 2017 r."]
["INDEKS","Nazwa środka","KLASA","OPIS - Typ urządzenia (model, rodzaj)","Ilość","Jm","Cena ","Wartość","Uzasadnienie","Przewidywany termin realizacji",null,"FILTR",null,"Nazwa komórki organizacyjnej","kod komórki organzioacyjnej"]
[{"$f":"'baza nisk'!A3","v":"A-013"},{"$f":"'baza nisk'!B3","v":"Aparat do mierzenia ciśnienia zegarowy"},{"$f":"'baza nisk'!D3","v":"MED. NISK. ŚR. TRW."},null,0,null,{"$f":"'baza nisk'!E3","v":50},{"$f":"E6*G6","v":0},null,null,{"$f":"'baza nisk'!G3","v":"Oddział Chirurgii Ogólnej z Pododdziałami"},{"$f":"IF($B$2=K6,$B$2,\"\")","v":""},{"$f":"IF($B$2=K6,1,\"\")","v":""},{"$f":"$B$2","v":"proszę kliknąć aby wybrać nazwę komórki organizacyjnej"},{"$f":"$H$2","v":0}]
[{"$f":"'baza nisk'!A4","v":"A-013"},{"$f":"'baza nisk'!B4","v":"Aparat do mierzenia ciśnienia zegarowy"},{"$f":"'baza nisk'!D4","v":"MED. NISK. ŚR. TRW."},null,0,null,{"$f":"'baza nisk'!E4","v":50},0,null,null,{"$f":"'baza nisk'!G4","v":"Oddział Kardiologiczny"},"","","proszę kliknąć aby wybrać nazwę komórki organizacyjnej",0]
[{"$f":"'baza nisk'!A5","v":"A-013"},{"$f":"'baza nisk'!B5","v":"Aparat do mierzenia ciśnienia zegarowy"},{"$f":"'baza nisk'!D5","v":"MED. NISK. ŚR. TRW."},null,0,null,{"$f":"'baza nisk'!E5","v":50},0,null,null,{"$f":"'baza nisk'!G5","v":"Oddział Kardiologii Dziecięcej z Pododdziałem Kardiochirurgi"},"","","proszę kliknąć aby wybrać nazwę komórki organizacyjnej",0]
[{"$f":"'baza nisk'!A6","v":"A-013"},{"$f":"'baza nisk'!B6","v":"Aparat do mierzenia ciśnienia zegarowy"},{"$f":"'baza nisk'!D6","v":"MED. NISK. ŚR. TRW."},null,0,null,{"$f":"'baza nisk'!E6","v":50},0,null,null,{"$f":"'baza nisk'!G6","v":"Oddział Nefrologiczny"},"","","proszę kliknąć aby wybrać nazwę komórki organizacyjnej",0]
[{"$f":"'baza nisk'!A7","v":"A-013"},{"$f":"'baza nisk'!B7","v":"Aparat do mierzenia ciśnienia zegarowy"},{"$f":"'baza nisk'!D7","v":"MED. NISK. ŚR. TRW."},null,0,null,{"$f":"'baza nisk'!E7","v":50},0,null,null,{"$f":"'baza nisk'!G7","v":"Oddział Otolaryngologiczny z Pododdziałem Otolaryngologii"},"","","proszę kliknąć aby wybrać nazwę komórki organizacyjnej",0]
[{"$f":"'baza nisk'!A8","v":"A-013"},{"$f":"'baza nisk'!B8","v":"Aparat do mierzenia ciśnienia zegarowy"},{"$f":"'baza nisk'!D8","v":"MED. NISK. ŚR. TRW."},null,0,null,{"$f":"'baza nisk'!E8","v":50},0,null,null,{"$f":"'baza nisk'!G8","v":"Oddział Urologii i Urologii Onkologicznej"},"","","proszę kliknąć aby wybrać nazwę komórki organizacyjnej",0]
[{"$f":"'baza nisk'!A9","v":"A-013"},{"$f":"'baza nisk'!B9","v":"Aparat do mierzenia ciśnienia zegarowy"},{"$f":"'baza nisk'!D9","v":"MED. NISK. ŚR. TRW."},null,0,null,{"$f":"'baza nisk'!E9","v":50},0,null,null,{"$f":"'baza nisk'!G9","v":"Poradnia Kardiologiczna dla Dzieci"},"","","proszę kliknąć aby wybrać nazwę komórki organizacyjnej",0]
[{"$f":"'baza nisk'!A10","v":"A-013"},{"$f":"'baza nisk'!B10","v":"Aparat do mierzenia ciśnienia zegarowy"},{"$f":"'baza nisk'!D10","v":"MED. NISK. ŚR. TRW."},null,0,null,{"$f":"'baza nisk'!E10","v":50},0,null,null,{"$f":"'baza nisk'!G10","v":"Poradnia Neurochirurgiczna"},"","","proszę kliknąć aby wybrać nazwę komórki organizacyjnej",0]
[{"$f":"'baza nisk'!A11","v":"A-013"},{"$f":"'baza nisk'!B11","v":"Aparat do mierzenia ciśnienia zegarowy"},{"$f":"'baza nisk'!D11","v":"MED. NISK. ŚR. TRW."},null,0,null,{"$f":"'baza nisk'!E11","v":50},0,null,null,{"$f":"'baza nisk'!G11","v":"Poradnia Neurologiczna"},"","","proszę kliknąć aby wybrać nazwę komórki organizacyjnej",0]
[{"$f":"'baza nisk'!A12","v":"A-013"},{"$f":"'baza nisk'!B12","v":"Aparat do mierzenia ciśnienia zegarowy"},{"$f":"'baza nisk'!D12","v":"MED. NISK. ŚR. TRW."},null,0,null,{"$f":"'baza nisk'!E12","v":50},0,null,null,{"$f":"'baza nisk'!G12","v":"Poradnia Okulistyczna"},"","","proszę kliknąć aby wybrać nazwę komórki organizacyjnej",0]
[{"$f":"'baza nisk'!A13","v":"A-013"},{"$f":"'baza nisk'!B13","v":"Aparat do mierzenia ciśnienia zegarowy"},{"$f":"'baza nisk'!D13","v":"MED. NISK. ŚR. TRW."},null,0,null,{"$f":"'baza nisk'!E13","v":50},0,null,null,{"$f":"'baza nisk'!G13","v":"Poradnia Otolaryngologiczna"},"","","proszę kliknąć aby wybrać nazwę komórki organizacyjnej",0]
[{"$f":"'baza nisk'!A14","v":"A-013"},{"$f":"'baza nisk'!B14","v":"Aparat do mierzenia ciśnienia zegarowy"},{"$f":"'baza nisk'!D14","v":"MED. NISK. ŚR. TRW."},null,0,null,{"$f":"'baza nisk'!E14","v":50},0,null,null,{"$f":"'baza nisk'!G14","v":"SOR"},"","","proszę kliknąć aby wybrać nazwę komórki organizacyjnej",0]
[{"$f":"'baza nisk'!A15","v":"A-013"},{"$f":"'baza nisk'!B15","v":"Aparat do mierzenia ciśnienia zegarowy"},{"$f":"'baza nisk'!D15","v":"MED. NISK. ŚR. TRW."},null,0,null,{"$f":"'baza nisk'!E15","v":50},0,null,null,{"$f":"'baza nisk'!G15","v":"Stacja Dializ"},"","","proszę kliknąć aby wybrać nazwę komórki organizacyjnej",0]
[{"$f":"'baza nisk'!A16","v":"A-013"},{"$f":"'baza nisk'!B16","v":"Aparat do mierzenia ciśnienia zegarowy"},{"$f":"'baza nisk'!D16","v":"MED. NISK. ŚR. TRW."},null,0,null,{"$f":"'baza nisk'!E16","v":50},0,null,null,{"$f":"'baza nisk'!G16","v":"Zamiejscowy Dział Rehabilitacji Leczniczej"},"","","proszę kliknąć aby wybrać nazwę komórki organizacyjnej",0]
[{"$f":"'baza nisk'!A17","v":"A-013"},{"$f":"'baza nisk'!B17","v":"Aparat do mierzenia ciśnienia zegarowy"},{"$f":"'baza nisk'!D17","v":"MED. NISK. ŚR. TRW."},null,0,null,{"$f":"'baza nisk'!E17","v":50},0,null,null,{"$f":"'baza nisk'!G17","v":"Zamiejscowy Oddział Chirurgii Urazowo - Ortopedycznej"},"","","proszę kliknąć aby wybrać nazwę komórki organizacyjnej",0]
[{"$f":"'baza nisk'!A18","v":"A-013"},{"$f":"'baza nisk'!B18","v":"Aparat do mierzenia ciśnienia zegarowy"},{"$f":"'baza nisk'!D18","v":"MED. NISK. ŚR. TRW."},null,0,null,{"$f":"'baza nisk'!E18","v":50},0,null,null,{"$f":"'baza nisk'!G18","v":"Zamiejscowy Oddział Rehabilitacji Neurologicznej"},"","","proszę kliknąć aby wybrać nazwę komórki organizacyjnej",0]
[{"$f":"'baza nisk'!A19","v":"A-013"},{"$f":"'baza nisk'!B19","v":"Aparat do mierzenia ciśnienia zegarowy"},{"$f":"'baza nisk'!D19","v":"MED. NISK. ŚR. TRW."},null,0,null,{"$f":"'baza nisk'!E19","v":50},0,null,null,{"$f":"'baza nisk'!G19","v":"Zamiejscowy Oddział Rehabilitacji Ogólnoustrojowej I"},"","","proszę kliknąć aby wybrać nazwę komórki organizacyjnej",0]
[{"$f":"'baza nisk'!A20","v":"A-013"},{"$f":"'baza nisk'!B20","v":"Aparat do mierzenia ciśnienia zegarowy"},{"$f":"'baza nisk'!D20","v":"MED. NISK. ŚR. TRW."},null,0,null,{"$f":"'baza nisk'!E20","v":50},0,null,null,{"$f":"'baza nisk'!G20","v":"Zamiejscowy Oddział Rehabilitacji Ogólnoustrojowej II"},"","","proszę kliknąć aby wybrać nazwę komórki organizacyjnej",0]
[{"$f":"'baza nisk'!A21","v":"A-013D"},{"$f":"'baza nisk'!B21","v":"Aparat do mierzenie ciśnienia elektroniczny "},{"$f":"'baza nisk'!D21","v":"MED. NISK. ŚR. TRW."},null,0,null,{"$f":"'baza nisk'!E21","v":200},0,null,null,{"$f":"'baza nisk'!G21","v":"Oddział Chirurgii Ogólnej z Pododdziałami"},"","","proszę kliknąć aby wybrać nazwę komórki organizacyjnej",0]
[{"$f":"'baza nisk'!A22","v":"A-013D"},{"$f":"'baza nisk'!B22","v":"Aparat do mierzenie ciśnienia elektroniczny "},{"$f":"'baza nisk'!D22","v":"MED. NISK. ŚR. TRW."},null,0,null,{"$f":"'baza nisk'!E22","v":200},0,null,null,{"$f":"'baza nisk'!G22","v":"Oddział Dermatologiczny"},"","","proszę kliknąć aby wybrać nazwę komórki organizacyjnej",0]
[{"$f":"'baza nisk'!A23","v":"A-013D"},{"$f":"'baza nisk'!B23","v":"Aparat do mierzenie ciśnienia elektroniczny "},{"$f":"'baza nisk'!D23","v":"MED. NISK. ŚR. TRW."},null,0,null,{"$f":"'baza nisk'!E23","v":200},0,null,null,{"$f":"'baza nisk'!G23","v":"Oddział Położniczo – Ginekologiczny"},"","","proszę kliknąć aby wybrać nazwę komórki organizacyjnej",0]
[{"$f":"'baza nisk'!A24","v":"A-013D"},{"$f":"'baza nisk'!B24","v":"Aparat do mierzenie ciśnienia elektroniczny "},{"$f":"'baza nisk'!D24","v":"MED. NISK. ŚR. TRW."},null,0,null,{"$f":"'baza nisk'!E24","v":200},0,null,null,{"$f":"'baza nisk'!G24","v":"Poradnia Gastroenterologiczna Dla Dzieci"},"","","proszę kliknąć aby wybrać nazwę komórki organizacyjnej",0]
[{"$f":"'baza nisk'!A25","v":"A-013D"},{"$f":"'baza nisk'!B25","v":"Aparat do mierzenie ciśnienia elektroniczny "},{"$f":"'baza nisk'!D25","v":"MED. NISK. ŚR. TRW."},null,0,null,{"$f":"'baza nisk'!E25","v":200},0,null,null,{"$f":"'baza nisk'!G25","v":"Stacja Dializ"},"","","proszę kliknąć aby wybrać nazwę komórki organizacyjnej",0]
[{"$f":"'baza nisk'!A26","v":"A-013D"},{"$f":"'baza nisk'!B26","v":"Aparat do mierzenie ciśnienia elektroniczny "},{"$f":"'baza nisk'!D26","v":"MED. NISK. ŚR. TRW."},null,0,null,{"$f":"'baza nisk'!E26","v":200},0,null,null,{"$f":"'baza nisk'!G26","v":"Zamiejscowy Oddział Rehabilitacji Neurologicznej"},"","","proszę kliknąć aby wybrać nazwę komórki organizacyjnej",0]
[{"$f":"'baza nisk'!A27","v":"A-013E"},{"$f":"'baza nisk'!B27","v":"Aparat do mierzenie ciśnienia elektroniczny "},{"$f":"'baza nisk'!D27","v":"MED. NISK. ŚR. TRW."},null,0,null,{"$f":"'baza nisk'!E27","v":200},0,null,null,{"$f":"'baza nisk'!G27","v":"Oddział Kardiologii Dziecięcej z Pododdziałem Kardiochirurgi"},"","","proszę kliknąć aby wybrać nazwę komórki organizacyjnej",0]
[{"$f":"'baza nisk'!A28","v":"A-013E"},{"$f":"'baza nisk'!B28","v":"Aparat do mierzenie ciśnienia elektroniczny "},{"$f":"'baza nisk'!D28","v":"MED. NISK. ŚR. TRW."},null,0,null,{"$f":"'baza nisk'!E28","v":200},0,null,null,{"$f":"'baza nisk'!G28","v":"Poradnia Kardiologiczna dla Dzieci"},"","","proszę kliknąć aby wybrać nazwę komórki organizacyjnej",0]
[{"$f":"'baza nisk'!A29","v":"A-013F"},{"$f":"'baza nisk'!B29","v":"Aparat do mierzenie ciśnienia elektroniczny "},{"$f":"'baza nisk'!D29","v":"MED. NISK. ŚR. TRW."},null,0,null,{"$f":"'baza nisk'!E29","v":200},0,null,null,{"$f":"'baza nisk'!G29","v":"Zamiejscowy Oddział Rehabilitacji Neurologicznej"},"","","proszę kliknąć aby wybrać nazwę komórki organizacyjnej",0]
[{"$f":"'baza nisk'!A30","v":"A-013G"},{"$f":"'baza nisk'!B30","v":"Aparat do mierzenie ciśnienia elektroniczny "},{"$f":"'baza nisk'!D30","v":"MED. NISK. ŚR. TRW."},null,0,null,{"$f":"'baza nisk'!E30","v":200},0,null,null,{"$f":"'baza nisk'!G30","v":"Oddział Angiologiczny z Pododdziałem Diabetologii"},"","","proszę kliknąć aby wybrać nazwę komórki organizacyjnej",0]
[{"$f":"'baza nisk'!A31","v":"A-013G"},{"$f":"'baza nisk'!B31","v":"Aparat do mierzenie ciśnienia elektroniczny "},{"$f":"'baza nisk'!D31","v":"MED. NISK. ŚR. TRW."},null,0,null,{"$f":"'baza nisk'!E31","v":200},0,null,null,{"$f":"'baza nisk'!G31","v":"Oddział Chemioterapii z Pododdziałem Chemioterapii Dziennej"},"","","proszę kliknąć aby wybrać nazwę komórki organizacyjnej",0]
[{"$f":"'baza nisk'!A32","v":"A-013G"},{"$f":"'baza nisk'!B32","v":"Aparat do mierzenie ciśnienia elektroniczny "},{"$f":"'baza nisk'!D32","v":"MED. NISK. ŚR. TRW."},null,0,null,{"$f":"'baza nisk'!E32","v":200},0,null,null,{"$f":"'baza nisk'!G32","v":"Oddział Chirurgii Naczyniowej"},"","","proszę kliknąć aby wybrać nazwę komórki organizacyjnej",0]
[{"$f":"'baza nisk'!A33","v":"A-013G"},{"$f":"'baza nisk'!B33","v":"Aparat do mierzenie ciśnienia elektroniczny "},{"$f":"'baza nisk'!D33","v":"MED. NISK. ŚR. TRW."},null,0,null,{"$f":"'baza nisk'!E33","v":200},0,null,null,{"$f":"'baza nisk'!G33","v":"Oddział Chirurgii Onkologicznej"},"","","proszę kliknąć aby wybrać nazwę komórki organizacyjnej",0]
[{"$f":"'baza nisk'!A34","v":"A-013G"},{"$f":"'baza nisk'!B34","v":"Aparat do mierzenie ciśnienia elektroniczny "},{"$f":"'baza nisk'!D34","v":"MED. NISK. ŚR. TRW."},null,0,null,{"$f":"'baza nisk'!E34","v":200},0,null,null,{"$f":"'baza nisk'!G34","v":"Oddział Nefrologiczny"},"","","proszę kliknąć aby wybrać nazwę komórki organizacyjnej",0]
[{"$f":"'baza nisk'!A35","v":"A-013G"},{"$f":"'baza nisk'!B35","v":"Aparat do mierzenie ciśnienia elektroniczny "},{"$f":"'baza nisk'!D35","v":"MED. NISK. ŚR. TRW."},null,0,null,{"$f":"'baza nisk'!E35","v":200},0,null,null,{"$f":"'baza nisk'!G35","v":"Oddział Urologii i Urologii Onkologicznej"},"","","proszę kliknąć aby wybrać nazwę komórki organizacyjnej",0]
[{"$f":"'baza nisk'!A36","v":"A-013G"},{"$f":"'baza nisk'!B36","v":"Aparat do mierzenie ciśnienia elektroniczny "},{"$f":"'baza nisk'!D36","v":"MED. NISK. ŚR. TRW."},null,0,null,{"$f":"'baza nisk'!E36","v":200},0,null,null,{"$f":"'baza nisk'!G36","v":"Poradnia Onkologiczna"},"","","proszę kliknąć aby wybrać nazwę komórki organizacyjnej",0]
[{"$f":"'baza nisk'!A37","v":"A-013G"},{"$f":"'baza nisk'!B37","v":"Aparat do mierzenie ciśnienia elektroniczny "},{"$f":"'baza nisk'!D37","v":"MED. NISK. ŚR. TRW."},null,0,null,{"$f":"'baza nisk'!E37","v":200},0,null,null,{"$f":"'baza nisk'!G37","v":"Poradnia Urologiczna"},"","","proszę kliknąć aby wybrać nazwę komórki organizacyjnej",0]
[{"$f":"'baza nisk'!A38","v":"A-013G"},{"$f":"'baza nisk'!B38","v":"Aparat do mierzenie ciśnienia elektroniczny "},{"$f":"'baza nisk'!D38","v":"MED. NISK. ŚR. TRW."},null,0,null,{"$f":"'baza nisk'!E38","v":200},0,null,null,{"$f":"'baza nisk'!G38","v":"Zamiejscowy Oddział Rehabilitacji Neurologicznej"},"","","proszę kliknąć aby wybrać nazwę komórki organizacyjnej",0]
[{"$f":"'baza nisk'!A39","v":"A-013G"},{"$f":"'baza nisk'!B39","v":"Aparat do mierzenie ciśnienia elektroniczny "},{"$f":"'baza nisk'!D39","v":"MED. NISK. ŚR. TRW."},null,0,null,{"$f":"'baza nisk'!E39","v":200},0,null,null,{"$f":"'baza nisk'!G39","v":"Zamiejscowy Oddział Rehabilitacji Ogólnoustrojowej I"},"","","proszę kliknąć aby wybrać nazwę komórki organizacyjnej",0]
[{"$f":"'baza nisk'!A40","v":"A-013G"},{"$f":"'baza nisk'!B40","v":"Aparat do mierzenie ciśnienia elektroniczny "},{"$f":"'baza nisk'!D40","v":"MED. NISK. ŚR. TRW."},null,0,null,{"$f":"'baza nisk'!E40","v":200},0,null,null,{"$f":"'baza nisk'!G40","v":"Zamiejscowy Oddział Rehabilitacji Ogólnoustrojowej II"},"","","proszę kliknąć aby wybrać nazwę komórki organizacyjnej",0]
[{"$f":"'baza nisk'!A41","v":"A-013H"},{"$f":"'baza nisk'!B41","v":"Aparat do mierzenie ciśnienia mechaniczny "},{"$f":"'baza nisk'!D41","v":"MED. NISK. ŚR. TRW."},null,0,null,{"$f":"'baza nisk'!E41","v":50},0,null,null,{"$f":"'baza nisk'!G41","v":"Oddział Chirurgii Naczyniowej"},"","","proszę kliknąć aby wybrać nazwę komórki organizacyjnej",0]
[{"$f":"'baza nisk'!A42","v":"A-013H"},{"$f":"'baza nisk'!B42","v":"Aparat do mierzenie ciśnienia mechaniczny "},{"$f":"'baza nisk'!D42","v":"MED. NISK. ŚR. TRW."},null,0,null,{"$f":"'baza nisk'!E42","v":50},0,null,null,{"$f":"'baza nisk'!G42","v":"Poradnia Chirurgii Ogólnej"},"","","proszę kliknąć aby wybrać nazwę komórki organizacyjnej",0]
[{"$f":"'baza nisk'!A43","v":"A-013H"},{"$f":"'baza nisk'!B43","v":"Aparat do mierzenie ciśnienia mechaniczny "},{"$f":"'baza nisk'!D43","v":"MED. NISK. ŚR. TRW."},null,0,null,{"$f":"'baza nisk'!E43","v":50},0,null,null,{"$f":"'baza nisk'!G43","v":"Zamiejscowy Oddział Rehabilitacji Ogólnoustrojowej I"},"","","proszę kliknąć aby wybrać nazwę komórki organizacyjnej",0]
[{"$f":"'baza nisk'!A44","v":"A-016"},{"$f":"'baza nisk'!B44","v":"Aparat Cyfrowy Samsung"},{"$f":"'baza nisk'!D44","v":"POZOSTAŁE"},null,0,null,{"$f":"'baza nisk'!E44","v":399.99},0,null,null,{"$f":"'baza nisk'!G44","v":"Samodzielne Stanowiska Administracyjne"},"","","proszę kliknąć aby wybrać nazwę komórki organizacyjnej",0]
[{"$f":"'baza nisk'!A45","v":"A-061"},{"$f":"'baza nisk'!B45","v":"Aparat do elektroterapii"},{"$f":"'baza nisk'!D45","v":"MED. NISK. ŚR. TRW."},null,0,null,{"$f":"'baza nisk'!E45","v":2800},0,null,null,{"$f":"'baza nisk'!G45","v":"Zamiejscowy Dział Rehabilitacji Leczniczej"},"","","proszę kliknąć aby wybrać nazwę komórki organizacyjnej",0]
[{"$f":"'baza nisk'!A46","v":"B-011"},{"$f":"'baza nisk'!B46","v":"Biurko komputerowe + 1 kontener"},{"$f":"'baza nisk'!D46","v":"MEBLE"},null,0,null,{"$f":"'baza nisk'!E46","v":850},0,null,null,{"$f":"'baza nisk'!G46","v":"Dział Zaopatrzenia i Zamówień Publicznych"},"","","proszę kliknąć aby wybrać nazwę komórki organizacyjnej",0]
[{"$f":"'baza nisk'!A47","v":"B-011"},{"$f":"'baza nisk'!B47","v":"Biurko komputerowe + 1 kontener"},{"$f":"'baza nisk'!D47","v":"MEBLE"},null,0,null,{"$f":"'baza nisk'!E47","v":850},0,null,null,{"$f":"'baza nisk'!G47","v":"Oddział Neonatologiczny"},"","","proszę kliknąć aby wybrać nazwę komórki organizacyjnej",0]
[{"$f":"'baza nisk'!A48","v":"B-011A"},{"$f":"'baza nisk'!B48","v":"Biurko komputerowe + 1 kontener"},{"$f":"'baza nisk'!D48","v":"MEBLE"},null,0,null,{"$f":"'baza nisk'!E48","v":850},0,null,null,{"$f":"'baza nisk'!G48","v":"Oddział Kardiologiczny"},"","","proszę kliknąć aby wybrać nazwę komórki organizacyjnej",0]
[{"$f":"'baza nisk'!A49","v":"B-011B"},{"$f":"'baza nisk'!B49","v":"Biurko komputerowe +2 kontenery"},{"$f":"'baza nisk'!D49","v":"MEBLE"},null,0,null,{"$f":"'baza nisk'!E49","v":1350},0,null,null,{"$f":"'baza nisk'!G49","v":"Blok Operacyjny"},"","","proszę kliknąć aby wybrać nazwę komórki organizacyjnej",0]
[{"$f":"'baza nisk'!A50","v":"B-011B"},{"$f":"'baza nisk'!B50","v":"Biurko komputerowe +2 kontenery"},{"$f":"'baza nisk'!D50","v":"MEBLE"},null,0,null,{"$f":"'baza nisk'!E50","v":1350},0,null,null,{"$f":"'baza nisk'!G50","v":"Dział Gospodarki Nieruchomościami i Utrzymania Ruchu"},"","","proszę kliknąć aby wybrać nazwę komórki organizacyjnej",0]
[{"$f":"'baza nisk'!A52","v":"B-011B"},{"$f":"'baza nisk'!B52","v":"Biurko komputerowe +2 kontenery"},{"$f":"'baza nisk'!D52","v":"MEBLE"},null,0,null,{"$f":"'baza nisk'!E52","v":1350},0,null,null,{"$f":"'baza nisk'!G52","v":"Poradnia Medycyny Pracy"},"","","proszę kliknąć aby wybrać nazwę komórki organizacyjnej",0]
[{"$f":"'baza nisk'!A51","v":"B-011B"},{"$f":"'baza nisk'!B51","v":"Biurko komputerowe +2 kontenery"},{"$f":"'baza nisk'!D51","v":"MEBLE"},null,0,null,{"$f":"'baza nisk'!E51","v":1350},0,null,null,{"$f":"'baza nisk'!G51","v":"Dział Księgowości i Finansów"},"","","proszę kliknąć aby wybrać nazwę komórki organizacyjnej",0]
[{"$f":"'baza nisk'!A53","v":"B-011C"},{"$f":"'baza nisk'!B53","v":"Biurko komputerowe +2 kontenery"},{"$f":"'baza nisk'!D53","v":"MEBLE"},null,0,null,{"$f":"'baza nisk'!E53","v":1350},0,null,null,{"$f":"'baza nisk'!G53","v":"Dział Gospodarki Nieruchomościami i Utrzymania Ruchu"},"","","proszę kliknąć aby wybrać nazwę komórki organizacyjnej",0]
[{"$f":"'baza nisk'!A58","v":"B-011D"},{"$f":"'baza nisk'!B58","v":"Biurko komputerowe + 1 kontener"},{"$f":"'baza nisk'!D58","v":"MEBLE"},null,0,null,{"$f":"'baza nisk'!E58","v":850},0,null,null,{"$f":"'baza nisk'!G58","v":"Zamiejscowy Oddział Rehabilitacji Ogólnoustrojowej II"},"","","proszę kliknąć aby wybrać nazwę komórki organizacyjnej",0]
[{"$f":"'baza nisk'!A59","v":"B-011D"},{"$f":"'baza nisk'!B59","v":"Biurko narożne"},{"$f":"'baza nisk'!D59","v":"MEBLE"},null,0,null,{"$f":"'baza nisk'!E59","v":800},0,null,null,{"$f":"'baza nisk'!G59","v":"Dział Organizacyjno - Prawny"},"","","proszę kliknąć aby wybrać nazwę komórki organizacyjnej",0]
[{"$f":"'baza nisk'!A61","v":"B-011D"},{"$f":"'baza nisk'!B61","v":"Biurko narożne"},{"$f":"'baza nisk'!D61","v":"MEBLE"},null,0,null,{"$f":"'baza nisk'!E61","v":800},0,null,null,{"$f":"'baza nisk'!G61","v":"Oddział Otolaryngologiczny z Pododdziałem Otolaryngologii"},"","","proszę kliknąć aby wybrać nazwę komórki organizacyjnej",0]
[{"$f":"'baza nisk'!A62","v":"B-011D"},{"$f":"'baza nisk'!B62","v":"Biurko narożne"},{"$f":"'baza nisk'!D62","v":"MEBLE"},null,0,null,{"$f":"'baza nisk'!E62","v":800},0,null,null,{"$f":"'baza nisk'!G62","v":"Poradnia Chirurgii Onkologicznej"},"","","proszę kliknąć aby wybrać nazwę komórki organizacyjnej",0]
[{"$f":"'baza nisk'!A63","v":"B-011D"},{"$f":"'baza nisk'!B63","v":"Biurko narożne"},{"$f":"'baza nisk'!D63","v":"MEBLE"},null,0,null,{"$f":"'baza nisk'!E63","v":800},0,null,null,{"$f":"'baza nisk'!G63","v":"Pracownia Endoskopii"},"","","proszę kliknąć aby wybrać nazwę komórki organizacyjnej",0]
[{"$f":"'baza nisk'!A60","v":"B-011D"},{"$f":"'baza nisk'!B60","v":"Biurko narożne"},{"$f":"'baza nisk'!D60","v":"MEBLE"},null,0,null,{"$f":"'baza nisk'!E60","v":800},0,null,null,{"$f":"'baza nisk'!G60","v":"Intensywna Terapia"},"","","proszę kliknąć aby wybrać nazwę komórki organizacyjnej",0]
[{"$f":"'baza nisk'!A55","v":"B-011D"},{"$f":"'baza nisk'!B55","v":"Biurko komputerowe +2 kontenery"},{"$f":"'baza nisk'!D55","v":"MEBLE"},null,0,null,{"$f":"'baza nisk'!E55","v":1350},0,null,null,{"$f":"'baza nisk'!G55","v":"Poradnia Chirurgii Naczyniowej"},"","","proszę kliknąć aby wybrać nazwę komórki organizacyjnej",0]
[{"$f":"'baza nisk'!A57","v":"B-011D"},{"$f":"'baza nisk'!B57","v":"Biurko komputerowe + 1 kontener"},{"$f":"'baza nisk'!D57","v":"MEBLE"},null,0,null,{"$f":"'baza nisk'!E57","v":850},0,null,null,{"$f":"'baza nisk'!G57","v":"Sekretariat"},"","","proszę kliknąć aby wybrać nazwę komórki organizacyjnej",0]
[{"$f":"'baza nisk'!A56","v":"B-011D"},{"$f":"'baza nisk'!B56","v":"Biurko komputerowe + 1 kontener"},{"$f":"'baza nisk'!D56","v":"MEBLE"},null,0,null,{"$f":"'baza nisk'!E56","v":850},0,null,null,{"$f":"'baza nisk'!G56","v":"Poradnia Chirurgii Ogólnej"},"","","proszę kliknąć aby wybrać nazwę komórki organizacyjnej",0]
[{"$f":"'baza nisk'!A54","v":"B-011D"},{"$f":"'baza nisk'!B54","v":"Biurko komputerowe +2 kontenery"},{"$f":"'baza nisk'!D54","v":"MEBLE"},null,0,null,{"$f":"'baza nisk'!E54","v":1350},0,null,null,{"$f":"'baza nisk'!G54","v":"Oddział Chirurgii Naczyniowej"},"","","proszę kliknąć aby wybrać nazwę komórki organizacyjnej",0]
[{"$f":"'baza nisk'!A64","v":"B-011E"},{"$f":"'baza nisk'!B64","v":"Biurko narożne"},{"$f":"'baza nisk'!D64","v":"MEBLE"},null,0,null,{"$f":"'baza nisk'!E64","v":800},0,null,null,{"$f":"'baza nisk'!G64","v":"Zespół Konsultantów Biznesowych"},"","","proszę kliknąć aby wybrać nazwę komórki organizacyjnej",0]
[{"$f":"'baza nisk'!A66","v":"B-011F"},{"$f":"'baza nisk'!B66","v":"Biurko narożne"},{"$f":"'baza nisk'!D66","v":"MEBLE"},null,0,null,{"$f":"'baza nisk'!E66","v":800},0,null,null,{"$f":"'baza nisk'!G66","v":"Zamiejscowy Oddział Rehabilitacji Neurologicznej"},"","","proszę kliknąć aby wybrać nazwę komórki organizacyjnej",0]
[{"$f":"'baza nisk'!A65","v":"B-011F"},{"$f":"'baza nisk'!B65","v":"Biurko narożne"},{"$f":"'baza nisk'!D65","v":"MEBLE"},null,0,null,{"$f":"'baza nisk'!E65","v":800},0,null,null,{"$f":"'baza nisk'!G65","v":"Intensywna Terapia"},"","","proszę kliknąć aby wybrać nazwę komórki organizacyjnej",0]
[{"$f":"'baza nisk'!A67","v":"B-011G"},{"$f":"'baza nisk'!B67","v":"Biurko komputerowe jedno szafkowe"},{"$f":"'baza nisk'!D67","v":"MEBLE"},null,0,null,{"$f":"'baza nisk'!E67","v":850},{"$f":"E70*G70","v":0},null,null,{"$f":"'baza nisk'!G67","v":"Oddział Okulistyczny"},{"$f":"IF($B$2=K70,$B$2,\"\")","v":""},{"$f":"IF($B$2=K70,1,\"\")","v":""},{"$f":"$B$2","v":"proszę kliknąć aby wybrać nazwę komórki organizacyjnej"},{"$f":"$H$2","v":0}]
[{"$f":"'baza nisk'!A68","v":"B-011H"},{"$f":"'baza nisk'!B68","v":"Biurko komputerowe jedno szafkowe"},{"$f":"'baza nisk'!D68","v":"MEBLE"},null,0,null,{"$f":"'baza nisk'!E68","v":850},0,null,null,{"$f":"'baza nisk'!G68","v":"Pracownia Echokardiograficzna"},"","","proszę kliknąć aby wybrać nazwę komórki organizacyjnej",0]
[{"$f":"'baza nisk'!A69","v":"B-011H"},{"$f":"'baza nisk'!B69","v":"Biurko komputerowe jedno szafkowe"},{"$f":"'baza nisk'!D69","v":"MEBLE"},null,0,null,{"$f":"'baza nisk'!E69","v":850},0,null,null,{"$f":"'baza nisk'!G69","v":"Pracownia Endoskopii"},"","","proszę kliknąć aby wybrać nazwę komórki organizacyjnej",0]
[{"$f":"'baza nisk'!A70","v":"B-011I"},{"$f":"'baza nisk'!B70","v":"Biurko komputerowe dwuszafkowe "},{"$f":"'baza nisk'!D70","v":"MEBLE"},null,0,null,{"$f":"'baza nisk'!E70","v":1350},0,null,null,{"$f":"'baza nisk'!G70","v":"Poradnia Chirurgii Onkologicznej"},"","","proszę kliknąć aby wybrać nazwę komórki organizacyjnej",0]
[{"$f":"'baza nisk'!A71","v":"B-011I"},{"$f":"'baza nisk'!B71","v":"Biurko komputerowe jedno szafkowe"},{"$f":"'baza nisk'!D71","v":"MEBLE"},null,0,null,{"$f":"'baza nisk'!E71","v":850},0,null,null,{"$f":"'baza nisk'!G71","v":"Oddział Okulistyczny"},"","","proszę kliknąć aby wybrać nazwę komórki organizacyjnej",0]
[{"$f":"'baza nisk'!A72","v":"B-011J"},{"$f":"'baza nisk'!B72","v":"Biurko komputerowe dwuszafkowe "},{"$f":"'baza nisk'!D72","v":"MEBLE"},null,0,null,{"$f":"'baza nisk'!E72","v":1350},0,null,null,{"$f":"'baza nisk'!G72","v":"Oddział Okulistyczny"},"","","proszę kliknąć aby wybrać nazwę komórki organizacyjnej",0]
[{"$f":"'baza nisk'!A73","v":"B-011K"},{"$f":"'baza nisk'!B73","v":"Biurko komputerowe dwuszafkowe "},{"$f":"'baza nisk'!D73","v":"MEBLE"},null,0,null,{"$f":"'baza nisk'!E73","v":1350},0,null,null,{"$f":"'baza nisk'!G73","v":"Pracownia Endoskopii"},"","","proszę kliknąć aby wybrać nazwę komórki organizacyjnej",0]
[{"$f":"'baza nisk'!A76","v":"B-011L"},{"$f":"'baza nisk'!B76","v":"Biurko komputerowe dwuszafkowe "},{"$f":"'baza nisk'!D76","v":"MEBLE"},null,0,null,{"$f":"'baza nisk'!E76","v":1350},0,null,null,{"$f":"'baza nisk'!G76","v":"SOR"},"","","proszę kliknąć aby wybrać nazwę komórki organizacyjnej",0]
[{"$f":"'baza nisk'!A74","v":"B-011L"},{"$f":"'baza nisk'!B74","v":"Biurko komputerowe dwuszafkowe "},{"$f":"'baza nisk'!D74","v":"MEBLE"},null,0,null,{"$f":"'baza nisk'!E74","v":1350},0,null,null,{"$f":"'baza nisk'!G74","v":"Oddział Pediatryczny z Pododdziałem Gastroenterologii "},"","","proszę kliknąć aby wybrać nazwę komórki organizacyjnej",0]
[{"$f":"'baza nisk'!A75","v":"B-011L"},{"$f":"'baza nisk'!B75","v":"Biurko komputerowe dwuszafkowe "},{"$f":"'baza nisk'!D75","v":"MEBLE"},null,0,null,{"$f":"'baza nisk'!E75","v":1350},0,null,null,{"$f":"'baza nisk'!G75","v":"Poradnia Onkologiczna"},"","","proszę kliknąć aby wybrać nazwę komórki organizacyjnej",0]
[{"$f":"'baza nisk'!A77","v":"B-011Ł"},{"$f":"'baza nisk'!B77","v":"Biurko komputerowe dwuszafkowe "},{"$f":"'baza nisk'!D77","v":"MEBLE"},null,0,null,{"$f":"'baza nisk'!E77","v":1350},0,null,null,{"$f":"'baza nisk'!G77","v":"Oddział Kardiologii Dziecięcej z Pododdziałem Kardiochirurgi"},"","","proszę kliknąć aby wybrać nazwę komórki organizacyjnej",0]
[{"$f":"'baza nisk'!A78","v":"B-011M"},{"$f":"'baza nisk'!B78","v":"Biurko komputerowe dwuszafkowe "},{"$f":"'baza nisk'!D78","v":"MEBLE"},null,0,null,{"$f":"'baza nisk'!E78","v":1350},0,null,null,{"$f":"'baza nisk'!G78","v":"Oddział Kardiologii Dziecięcej z Pododdziałem Kardiochirurgi"},"","","proszę kliknąć aby wybrać nazwę komórki organizacyjnej",0]
[{"$f":"'baza nisk'!A79","v":"B-011N"},{"$f":"'baza nisk'!B79","v":"Biurko narożne"},{"$f":"'baza nisk'!D79","v":"MEBLE"},null,0,null,{"$f":"'baza nisk'!E79","v":850},0,null,null,{"$f":"'baza nisk'!G79","v":"Zamiejscowy Oddział Rehabilitacji Neurologicznej"},"","","proszę kliknąć aby wybrać nazwę komórki organizacyjnej",0]
[{"$f":"'baza nisk'!A80","v":"B-011O"},{"$f":"'baza nisk'!B80","v":"Biurko narożne"},{"$f":"'baza nisk'!D80","v":"MEBLE"},null,0,null,{"$f":"'baza nisk'!E80","v":850},0,null,null,{"$f":"'baza nisk'!G80","v":"SekcjaKontroli Zakażeń Szpitalnych"},"","","proszę kliknąć aby wybrać nazwę komórki organizacyjnej",0]
[{"$f":"'baza nisk'!A81","v":"B-011P"},{"$f":"'baza nisk'!B81","v":"Biurko narożne"},{"$f":"'baza nisk'!D81","v":"MEBLE"},null,0,null,{"$f":"'baza nisk'!E81","v":850},0,null,null,{"$f":"'baza nisk'!G81","v":"Hotel Pracowniczy"},"","","proszę kliknąć aby wybrać nazwę komórki organizacyjnej",0]
[{"$f":"'baza nisk'!A82","v":"B-023A"},{"$f":"'baza nisk'!B82","v":"Balkonik rehabilitacyjny składany aluminiowy"},{"$f":"'baza nisk'!D82","v":"POZOSTAŁE"},null,0,null,{"$f":"'baza nisk'!E82","v":250},0,null,null,{"$f":"'baza nisk'!G82","v":"Oddział Chirurgii Ogólnej z Pododdziałami"},"","","proszę kliknąć aby wybrać nazwę komórki organizacyjnej",0]
[{"$f":"'baza nisk'!A83","v":"B-023A"},{"$f":"'baza nisk'!B83","v":"Balkonik rehabilitacyjny składany aluminiowy"},{"$f":"'baza nisk'!D83","v":"POZOSTAŁE"},null,0,null,{"$f":"'baza nisk'!E83","v":250},0,null,null,{"$f":"'baza nisk'!G83","v":"Zamiejscowy Dział Rehabilitacji Leczniczej"},"","","proszę kliknąć aby wybrać nazwę komórki organizacyjnej",0]
[{"$f":"'baza nisk'!A84","v":"B-023B"},{"$f":"'baza nisk'!B84","v":"Balkonik czterokołowy"},{"$f":"'baza nisk'!D84","v":"POZOSTAŁE"},null,0,null,{"$f":"'baza nisk'!E84","v":400},0,null,null,{"$f":"'baza nisk'!G84","v":"Oddział Chirurgii Ogólnej z Pododdziałami"},"","","proszę kliknąć aby wybrać nazwę komórki organizacyjnej",0]
[{"$f":"'baza nisk'!A85","v":"B-023B"},{"$f":"'baza nisk'!B85","v":"Balkonik czterokołowy"},{"$f":"'baza nisk'!D85","v":"POZOSTAŁE"},null,0,null,{"$f":"'baza nisk'!E85","v":400},0,null,null,{"$f":"'baza nisk'!G85","v":"Zamiejscowy Dział Rehabilitacji Leczniczej"},"","","proszę kliknąć aby wybrać nazwę komórki organizacyjnej",0]
[{"$f":"'baza nisk'!A86","v":"B-023C"},{"$f":"'baza nisk'!B86","v":"Balkonik czterokołowy z podporami pod pachy"},{"$f":"'baza nisk'!D86","v":"POZOSTAŁE"},null,0,null,{"$f":"'baza nisk'!E86","v":500},0,null,null,{"$f":"'baza nisk'!G86","v":"Zamiejscowy Dział Rehabilitacji Leczniczej"},"","","proszę kliknąć aby wybrać nazwę komórki organizacyjnej",0]
[{"$f":"'baza nisk'!A87","v":"B-023D"},{"$f":"'baza nisk'!B87","v":"Balkonik krocząco-stały"},{"$f":"'baza nisk'!D87","v":"POZOSTAŁE"},null,0,null,{"$f":"'baza nisk'!E87","v":110.54},0,null,null,{"$f":"'baza nisk'!G87","v":"Oddział Chirurgii Naczyniowej"},"","","proszę kliknąć aby wybrać nazwę komórki organizacyjnej",0]
[{"$f":"'baza nisk'!A88","v":"B-023D"},{"$f":"'baza nisk'!B88","v":"Balkonik krocząco-stały"},{"$f":"'baza nisk'!D88","v":"POZOSTAŁE"},null,0,null,{"$f":"'baza nisk'!E88","v":110.54},0,null,null,{"$f":"'baza nisk'!G88","v":"Zamiejscowy Oddział Rehabilitacji Ogólnoustrojowej II"},"","","proszę kliknąć aby wybrać nazwę komórki organizacyjnej",0]
[{"$f":"'baza nisk'!A89","v":"B-033"},{"$f":"'baza nisk'!B89","v":"Blindownica WALLNER"},{"$f":"'baza nisk'!D89","v":"URZĄDZ. BIUROWE"},null,0,null,{"$f":"'baza nisk'!E89","v":420},0,null,null,{"$f":"'baza nisk'!G89","v":"Dział Sprzedaży Usług Medycznych"},"","","proszę kliknąć aby wybrać nazwę komórki organizacyjnej",0]
[{"$f":"'baza nisk'!A90","v":"B-033A"},{"$f":"'baza nisk'!B90","v":"Blindownica Fellowes "},{"$f":"'baza nisk'!D90","v":"URZĄDZ. BIUROWE"},null,0,null,{"$f":"'baza nisk'!E90","v":420},0,null,null,{"$f":"'baza nisk'!G90","v":"Szkoła Rodzenia"},"","","proszę kliknąć aby wybrać nazwę komórki organizacyjnej",0]
[{"$f":"'baza nisk'!A97","v":"C-006"},{"$f":"'baza nisk'!B97","v":"Czajnik-bezprzewodowy"},{"$f":"'baza nisk'!D97","v":"SPRZĘT AGD"},null,0,null,{"$f":"'baza nisk'!E97","v":150},0,null,null,{"$f":"'baza nisk'!G97","v":"SOR"},"","","proszę kliknąć aby wybrać nazwę komórki organizacyjnej",0]
[{"$f":"'baza nisk'!A98","v":"C-006"},{"$f":"'baza nisk'!B98","v":"Czajnik-bezprzewodowy"},{"$f":"'baza nisk'!D98","v":"SPRZĘT AGD"},null,0,null,{"$f":"'baza nisk'!E98","v":150},0,null,null,{"$f":"'baza nisk'!G98","v":"Zamiejscowy Oddział Rehabilitacji Neurologicznej"},"","","proszę kliknąć aby wybrać nazwę komórki organizacyjnej",0]
[{"$f":"'baza nisk'!A95","v":"C-006"},{"$f":"'baza nisk'!B95","v":"Czajnik-bezprzewodowy"},{"$f":"'baza nisk'!D95","v":"SPRZĘT AGD"},null,0,null,{"$f":"'baza nisk'!E95","v":150},0,null,null,{"$f":"'baza nisk'!G95","v":"Poradnia Chirurgii Onkologicznej"},"","","proszę kliknąć aby wybrać nazwę komórki organizacyjnej",0]
[{"$f":"'baza nisk'!A96","v":"C-006"},{"$f":"'baza nisk'!B96","v":"Czajnik-bezprzewodowy"},{"$f":"'baza nisk'!D96","v":"SPRZĘT AGD"},null,0,null,{"$f":"'baza nisk'!E96","v":150},0,null,null,{"$f":"'baza nisk'!G96","v":"SekcjaMarketingu"},"","","proszę kliknąć aby wybrać nazwę komórki organizacyjnej",0]
[{"$f":"'baza nisk'!A94","v":"C-006"},{"$f":"'baza nisk'!B94","v":"Czajnik-bezprzewodowy"},{"$f":"'baza nisk'!D94","v":"SPRZĘT AGD"},null,0,null,{"$f":"'baza nisk'!E94","v":150},0,null,null,{"$f":"'baza nisk'!G94","v":"Dział Zaopatrzenia i Zamówień Publicznych"},"","","proszę kliknąć aby wybrać nazwę komórki organizacyjnej",0]
[{"$f":"'baza nisk'!A92","v":"C-006"},{"$f":"'baza nisk'!B92","v":"Czajnik-bezprzewodowy"},{"$f":"'baza nisk'!D92","v":"SPRZĘT AGD"},null,0,null,{"$f":"'baza nisk'!E92","v":150},0,null,null,{"$f":"'baza nisk'!G92","v":"Dział Gospodarki Nieruchomościami i Utrzymania Ruchu"},"","","proszę kliknąć aby wybrać nazwę komórki organizacyjnej",0]
[{"$f":"'baza nisk'!A93","v":"C-006"},{"$f":"'baza nisk'!B93","v":"Czajnik-bezprzewodowy"},{"$f":"'baza nisk'!D93","v":"SPRZĘT AGD"},null,0,null,{"$f":"'baza nisk'!E93","v":150},0,null,null,{"$f":"'baza nisk'!G93","v":"Dział Rejestracji Statystyki i Dokumentacji Medycznej"},"","","proszę kliknąć aby wybrać nazwę komórki organizacyjnej",0]
[{"$f":"'baza nisk'!A91","v":"C-006"},{"$f":"'baza nisk'!B91","v":"Czajnik-bezprzewodowy"},{"$f":"'baza nisk'!D91","v":"SPRZĘT AGD"},null,0,null,{"$f":"'baza nisk'!E91","v":150},0,null,null,{"$f":"'baza nisk'!G91","v":"Blok Operacyjny"},"","","proszę kliknąć aby wybrać nazwę komórki organizacyjnej",0]
[{"$f":"'baza nisk'!A99","v":"C-006A"},{"$f":"'baza nisk'!B99","v":"Czajnik-bezprzewodowy"},{"$f":"'baza nisk'!D99","v":"SPRZĘT AGD"},null,0,null,{"$f":"'baza nisk'!E99","v":150},0,null,null,{"$f":"'baza nisk'!G99","v":"Dział Gospodarki Nieruchomościami i Utrzymania Ruchu"},"","","proszę kliknąć aby wybrać nazwę komórki organizacyjnej",0]
[{"$f":"'baza nisk'!A100","v":"C-006A"},{"$f":"'baza nisk'!B100","v":"Czajnik-bezprzewodowy"},{"$f":"'baza nisk'!D100","v":"SPRZĘT AGD"},null,0,null,{"$f":"'baza nisk'!E100","v":150},0,null,null,{"$f":"'baza nisk'!G100","v":"Dział Zatrudnienia i Wynagrodzeń"},"","","proszę kliknąć aby wybrać nazwę komórki organizacyjnej",0]
[{"$f":"'baza nisk'!A101","v":"C-006A"},{"$f":"'baza nisk'!B101","v":"Czajnik-bezprzewodowy"},{"$f":"'baza nisk'!D101","v":"SPRZĘT AGD"},null,0,null,{"$f":"'baza nisk'!E101","v":150},0,null,null,{"$f":"'baza nisk'!G101","v":"Zamiejscowy Oddział Rehabilitacji Ogólnoustrojowej I"},"","","proszę kliknąć aby wybrać nazwę komórki organizacyjnej",0]
[{"$f":"'baza nisk'!A102","v":"C-006B"},{"$f":"'baza nisk'!B102","v":"Czajnik-bezprzewodowy"},{"$f":"'baza nisk'!D102","v":"SPRZĘT AGD"},null,0,null,{"$f":"'baza nisk'!E102","v":150},0,null,null,{"$f":"'baza nisk'!G102","v":"Oddział Pediatryczny z Pododdziałem Gastroenterologii "},"","","proszę kliknąć aby wybrać nazwę komórki organizacyjnej",0]
[{"$f":"'baza nisk'!A103","v":"C-006C"},{"$f":"'baza nisk'!B103","v":"Czajnik-bezprzewodowy"},{"$f":"'baza nisk'!D103","v":"SPRZĘT AGD"},null,0,null,{"$f":"'baza nisk'!E103","v":150},0,null,null,{"$f":"'baza nisk'!G103","v":"Hotel Pracowniczy"},"","","proszę kliknąć aby wybrać nazwę komórki organizacyjnej",0]
[{"$f":"'baza nisk'!A104","v":"C-012"},{"$f":"'baza nisk'!B104","v":"Chłodziarko-zamrażarka"},{"$f":"'baza nisk'!D104","v":"SPRZĘT AGD"},null,0,null,{"$f":"'baza nisk'!E104","v":1100},0,null,null,{"$f":"'baza nisk'!G104","v":"Oddział Położniczo – Ginekologiczny"},"","","proszę kliknąć aby wybrać nazwę komórki organizacyjnej",0]
[{"$f":"'baza nisk'!A105","v":"C-012B"},{"$f":"'baza nisk'!B105","v":"Chłodziarko-zamrażarka"},{"$f":"'baza nisk'!D105","v":"SPRZĘT AGD"},null,0,null,{"$f":"'baza nisk'!E105","v":1100},0,null,null,{"$f":"'baza nisk'!G105","v":"Hotel Pracowniczy"},"","","proszę kliknąć aby wybrać nazwę komórki organizacyjnej",0]
[{"$f":"'baza nisk'!A106","v":"C-012C"},{"$f":"'baza nisk'!B106","v":"Chłodziarko-zamrażarka"},{"$f":"'baza nisk'!D106","v":"SPRZĘT AGD"},null,0,null,{"$f":"'baza nisk'!E106","v":1100},0,null,null,{"$f":"'baza nisk'!G106","v":"Oddział Położniczo – Ginekologiczny"},"","","proszę kliknąć aby wybrać nazwę komórki organizacyjnej",0]
[{"$f":"'baza nisk'!A108","v":"C-012D"},{"$f":"'baza nisk'!B108","v":"Chłodziarko-zamrażarka"},{"$f":"'baza nisk'!D108","v":"SPRZĘT AGD"},null,0,null,{"$f":"'baza nisk'!E108","v":1100},0,null,null,{"$f":"'baza nisk'!G108","v":"Pracownia Endoskopii"},"","","proszę kliknąć aby wybrać nazwę komórki organizacyjnej",0]
[{"$f":"'baza nisk'!A107","v":"C-012D"},{"$f":"'baza nisk'!B107","v":"Chłodziarko-zamrażarka"},{"$f":"'baza nisk'!D107","v":"SPRZĘT AGD"},null,0,null,{"$f":"'baza nisk'!E107","v":1100},0,null,null,{"$f":"'baza nisk'!G107","v":"Oddział Okulistyczny"},"","","proszę kliknąć aby wybrać nazwę komórki organizacyjnej",0]
[{"$f":"'baza nisk'!A109","v":"C-012E"},{"$f":"'baza nisk'!B109","v":"Chłodziarka farmaceutyczna"},{"$f":"'baza nisk'!D109","v":"SPRZĘT AGD"},null,0,null,{"$f":"'baza nisk'!E109","v":3320},0,null,null,{"$f":"'baza nisk'!G109","v":"Poradnia Chirurgii Onkologicznej"},"","","proszę kliknąć aby wybrać nazwę komórki organizacyjnej",0]
[{"$f":"'baza nisk'!A110","v":"C-012E"},{"$f":"'baza nisk'!B110","v":"Chłodziarka farmaceutyczna"},{"$f":"'baza nisk'!D110","v":"SPRZĘT AGD"},null,0,null,{"$f":"'baza nisk'!E110","v":3320},0,null,null,{"$f":"'baza nisk'!G110","v":"Poradnia Otolaryngologiczna"},"","","proszę kliknąć aby wybrać nazwę komórki organizacyjnej",0]
[{"$f":"'baza nisk'!A111","v":"C-012F"},{"$f":"'baza nisk'!B111","v":"Chłodziarko-zamrażarka"},{"$f":"'baza nisk'!D111","v":"SPRZĘT AGD"},null,0,null,{"$f":"'baza nisk'!E111","v":1100},0,null,null,{"$f":"'baza nisk'!G111","v":"Oddział Kardiologii Dziecięcej z Pododdziałem Kardiochirurgi"},"","","proszę kliknąć aby wybrać nazwę komórki organizacyjnej",0]
[{"$f":"'baza nisk'!A112","v":"C-012G"},{"$f":"'baza nisk'!B112","v":"Chłodziarko-zamrażarka"},{"$f":"'baza nisk'!D112","v":"SPRZĘT AGD"},null,0,null,{"$f":"'baza nisk'!E112","v":1100},0,null,null,{"$f":"'baza nisk'!G112","v":"Oddział Pediatryczny z Pododdziałem Gastroenterologii "},"","","proszę kliknąć aby wybrać nazwę komórki organizacyjnej",0]
[{"$f":"'baza nisk'!A113","v":"C-012H"},{"$f":"'baza nisk'!B113","v":"Chłodziarko-zamrażarka"},{"$f":"'baza nisk'!D113","v":"SPRZĘT AGD"},null,0,null,{"$f":"'baza nisk'!E113","v":1100},0,null,null,{"$f":"'baza nisk'!G113","v":"Oddział Kardiologiczny"},"","","proszę kliknąć aby wybrać nazwę komórki organizacyjnej",0]
[{"$f":"'baza nisk'!A114","v":"C-012I"},{"$f":"'baza nisk'!B114","v":"Chłodziarko-zamrażarka"},{"$f":"'baza nisk'!D114","v":"SPRZĘT AGD"},null,0,null,{"$f":"'baza nisk'!E114","v":1100},0,null,null,{"$f":"'baza nisk'!G114","v":"Hotel Pracowniczy"},"","","proszę kliknąć aby wybrać nazwę komórki organizacyjnej",0]
[{"$f":"'baza nisk'!A115","v":"C-032"},{"$f":"'baza nisk'!B115","v":"Balkonik czterokołowy"},{"$f":"'baza nisk'!D115","v":"MEBLE MEDYCZNE"},null,0,null,{"$f":"'baza nisk'!E115","v":250},0,null,null,{"$f":"'baza nisk'!G115","v":"Zamiejscowy Oddział Rehabilitacji Neurologicznej"},"","","proszę kliknąć aby wybrać nazwę komórki organizacyjnej",0]
[{"$f":"'baza nisk'!A116","v":"C-048"},{"$f":"'baza nisk'!B116","v":"Czajnik-bezprzewodowy"},{"$f":"'baza nisk'!D116","v":"SPRZĘT AGD"},null,0,null,{"$f":"'baza nisk'!E116","v":150},0,null,null,{"$f":"'baza nisk'!G116","v":"Dział Gospodarki Nieruchomościami i Utrzymania Ruchu"},"","","proszę kliknąć aby wybrać nazwę komórki organizacyjnej",0]
[{"$f":"'baza nisk'!A117","v":"C-048"},{"$f":"'baza nisk'!B117","v":"Czajnik-bezprzewodowy"},{"$f":"'baza nisk'!D117","v":"SPRZĘT AGD"},null,0,null,{"$f":"'baza nisk'!E117","v":150},0,null,null,{"$f":"'baza nisk'!G117","v":"Dział Rejestracji Statystyki i Dokumentacji Medycznej"},"","","proszę kliknąć aby wybrać nazwę komórki organizacyjnej",0]
[{"$f":"'baza nisk'!A118","v":"C-048"},{"$f":"'baza nisk'!B118","v":"Czajnik-bezprzewodowy"},{"$f":"'baza nisk'!D118","v":"SPRZĘT AGD"},null,0,null,{"$f":"'baza nisk'!E118","v":150},0,null,null,{"$f":"'baza nisk'!G118","v":"Hotel Pracowniczy"},"","","proszę kliknąć aby wybrać nazwę komórki organizacyjnej",0]
[{"$f":"'baza nisk'!A119","v":"C-048"},{"$f":"'baza nisk'!B119","v":"Czajnik-bezprzewodowy"},{"$f":"'baza nisk'!D119","v":"SPRZĘT AGD"},null,0,null,{"$f":"'baza nisk'!E119","v":150},0,null,null,{"$f":"'baza nisk'!G119","v":"Zamiejscowy Dział Rehabilitacji Leczniczej"},"","","proszę kliknąć aby wybrać nazwę komórki organizacyjnej",0]
[{"$f":"'baza nisk'!A120","v":"C-048"},{"$f":"'baza nisk'!B120","v":"Czajnik-bezprzewodowy"},{"$f":"'baza nisk'!D120","v":"SPRZĘT AGD"},null,0,null,{"$f":"'baza nisk'!E120","v":150},0,null,null,{"$f":"'baza nisk'!G120","v":"Zamiejscowy Oddział Rehabilitacji Ogólnoustrojowej I"},"","","proszę kliknąć aby wybrać nazwę komórki organizacyjnej",0]
[{"$f":"'baza nisk'!A121","v":"C-048A"},{"$f":"'baza nisk'!B121","v":"Czajnik-bezprzewodowy"},{"$f":"'baza nisk'!D121","v":"SPRZĘT AGD"},null,0,null,{"$f":"'baza nisk'!E121","v":150},0,null,null,{"$f":"'baza nisk'!G121","v":"Oddział Neonatologiczny z Pododdziałem Patologii Noworodka"},"","","proszę kliknąć aby wybrać nazwę komórki organizacyjnej",0]
[{"$f":"'baza nisk'!A122","v":"C-048B"},{"$f":"'baza nisk'!B122","v":"Czajnik-bezprzewodowy"},{"$f":"'baza nisk'!D122","v":"SPRZĘT AGD"},null,0,null,{"$f":"'baza nisk'!E122","v":150},0,null,null,{"$f":"'baza nisk'!G122","v":"Sekretariat"},"","","proszę kliknąć aby wybrać nazwę komórki organizacyjnej",0]
[{"$f":"'baza nisk'!A123","v":"C-055"},{"$f":"'baza nisk'!B123","v":"Czujnik poziomu hałasu typu SoundEar II"},{"$f":"'baza nisk'!D123","v":"MED. NISK. ŚR. TRW."},null,0,null,{"$f":"'baza nisk'!E123","v":2000},0,null,null,{"$f":"'baza nisk'!G123","v":"Oddział Neonatologiczny z Pododdziałem Patologii Noworodka"},"","","proszę kliknąć aby wybrać nazwę komórki organizacyjnej",0]
[{"$f":"'baza nisk'!A124","v":"D-020"},{"$f":"'baza nisk'!B124","v":"Drabina pojedyńcza 2,5m "},{"$f":"'baza nisk'!D124","v":"POZOSTAŁE"},null,0,null,{"$f":"'baza nisk'!E124","v":400},0,null,null,{"$f":"'baza nisk'!G124","v":"Oddział Położniczo – Ginekologiczny"},"","","proszę kliknąć aby wybrać nazwę komórki organizacyjnej",0]
[{"$f":"'baza nisk'!A125","v":"D-020A"},{"$f":"'baza nisk'!B125","v":"Drabina aluminiowa 3-stopniowa"},{"$f":"'baza nisk'!D125","v":"POZOSTAŁE"},null,0,null,{"$f":"'baza nisk'!E125","v":200},0,null,null,{"$f":"'baza nisk'!G125","v":"Dział Rejestracji Statystyki i Dokumentacji Medycznej"},"","","proszę kliknąć aby wybrać nazwę komórki organizacyjnej",0]
[{"$f":"'baza nisk'!A128","v":"D-020B"},{"$f":"'baza nisk'!B128","v":"Drabina aluminiowa 6-stopniowa"},{"$f":"'baza nisk'!D128","v":"POZOSTAŁE"},null,0,null,{"$f":"'baza nisk'!E128","v":260},0,null,null,{"$f":"'baza nisk'!G128","v":"Oddział Kardiologii Dziecięcej z Pododdziałem Kardiochirurgi"},"","","proszę kliknąć aby wybrać nazwę komórki organizacyjnej",0]
[{"$f":"'baza nisk'!A127","v":"D-020B"},{"$f":"'baza nisk'!B127","v":"Drabina aluminiowa 6-stopniowa"},{"$f":"'baza nisk'!D127","v":"POZOSTAŁE"},null,0,null,{"$f":"'baza nisk'!E127","v":260},0,null,null,{"$f":"'baza nisk'!G127","v":"Dział Sprzedaży Usług Medycznych"},"","","proszę kliknąć aby wybrać nazwę komórki organizacyjnej",0]
[{"$f":"'baza nisk'!A126","v":"D-020B"},{"$f":"'baza nisk'!B126","v":"Drabina aluminiowa 6-stopniowa"},{"$f":"'baza nisk'!D126","v":"POZOSTAŁE"},null,0,null,{"$f":"'baza nisk'!E126","v":260},0,null,null,{"$f":"'baza nisk'!G126","v":"Blok Operacyjny"},"","","proszę kliknąć aby wybrać nazwę komórki organizacyjnej",0]
[{"$f":"'baza nisk'!A130","v":"D-020C"},{"$f":"'baza nisk'!B130","v":"Drabina aluminiowa 4-stopniowa"},{"$f":"'baza nisk'!D130","v":"POZOSTAŁE"},null,0,null,{"$f":"'baza nisk'!E130","v":200},0,null,null,{"$f":"'baza nisk'!G130","v":"SekcjaKontroli Zakażeń Szpitalnych"},"","","proszę kliknąć aby wybrać nazwę komórki organizacyjnej",0]
[{"$f":"'baza nisk'!A129","v":"D-020C"},{"$f":"'baza nisk'!B129","v":"Drabina aluminiowa 4-stopniowa"},{"$f":"'baza nisk'!D129","v":"POZOSTAŁE"},null,0,null,{"$f":"'baza nisk'!E129","v":200},0,null,null,{"$f":"'baza nisk'!G129","v":"Dział Rejestracji Statystyki i Dokumentacji Medycznej"},"","","proszę kliknąć aby wybrać nazwę komórki organizacyjnej",0]
[{"$f":"'baza nisk'!A131","v":"D-020E"},{"$f":"'baza nisk'!B131","v":"Drabina 2-stopniowa"},{"$f":"'baza nisk'!D131","v":"POZOSTAŁE"},null,0,null,{"$f":"'baza nisk'!E131","v":180},{"$f":"E134*G134","v":0},null,null,{"$f":"'baza nisk'!G131","v":"Apteka Szpitalna"},{"$f":"IF($B$2=K134,$B$2,\"\")","v":""},{"$f":"IF($B$2=K134,1,\"\")","v":""},{"$f":"$B$2","v":"proszę kliknąć aby wybrać nazwę komórki organizacyjnej"},{"$f":"$H$2","v":0}]
[{"$f":"'baza nisk'!A132","v":"D-056"},{"$f":"'baza nisk'!B132","v":"Dermatoskop diodowy mini 3000 LED ze skalą firm"},{"$f":"'baza nisk'!D132","v":"MED. NISK. ŚR. TRW."},null,0,null,{"$f":"'baza nisk'!E132","v":1341},0,null,null,{"$f":"'baza nisk'!G132","v":"Programedukacyjny atopowe zapalenie skóry (AZS)"},"","","proszę kliknąć aby wybrać nazwę komórki organizacyjnej",0]
[{"$f":"'baza nisk'!A133","v":"D-060"},{"$f":"'baza nisk'!B133","v":"Detektor tętna płodu UDT-20 SD"},{"$f":"'baza nisk'!D133","v":"MED. NISK. ŚR. TRW."},null,0,null,{"$f":"'baza nisk'!E133","v":1782},0,null,null,{"$f":"'baza nisk'!G133","v":"Oddział Położniczo – Ginekologiczny"},"","","proszę kliknąć aby wybrać nazwę komórki organizacyjnej",0]
[{"$f":"'baza nisk'!A134","v":"F-016"},{"$f":"'baza nisk'!B134","v":"Fotel do pobierania krwi ST-03  U.B.M"},{"$f":"'baza nisk'!D134","v":"MEBLE MEDYCZNE"},null,0,null,{"$f":"'baza nisk'!E134","v":515},0,null,null,{"$f":"'baza nisk'!G134","v":"Oddział Pediatryczny z Pododdziałem Gastroenterologii "},"","","proszę kliknąć aby wybrać nazwę komórki organizacyjnej",0]
[{"$f":"'baza nisk'!A135","v":"F-016A"},{"$f":"'baza nisk'!B135","v":"Fotel do pobierania krwi ST-02  U.B.M"},{"$f":"'baza nisk'!D135","v":"MEBLE MEDYCZNE"},null,0,null,{"$f":"'baza nisk'!E135","v":515},0,null,null,{"$f":"'baza nisk'!G135","v":"Oddział Chirurgii Naczyniowej"},"","","proszę kliknąć aby wybrać nazwę komórki organizacyjnej",0]
[{"$f":"'baza nisk'!A136","v":"F-016A"},{"$f":"'baza nisk'!B136","v":"Fotel do pobierania krwi ST-02  U.B.M"},{"$f":"'baza nisk'!D136","v":"MEBLE MEDYCZNE"},null,0,null,{"$f":"'baza nisk'!E136","v":515},0,null,null,{"$f":"'baza nisk'!G136","v":"Oddział Kardiologiczny"},"","","proszę kliknąć aby wybrać nazwę komórki organizacyjnej",0]
[{"$f":"'baza nisk'!A138","v":"F-026"},{"$f":"'baza nisk'!B138","v":"Fotel obrotowy do komputera"},{"$f":"'baza nisk'!D138","v":"MEBLE"},null,0,null,{"$f":"'baza nisk'!E138","v":350},0,null,null,{"$f":"'baza nisk'!G138","v":"DODO -Pracowania Tomografii Komputerowej"},"","","proszę kliknąć aby wybrać nazwę komórki organizacyjnej",0]
[{"$f":"'baza nisk'!A137","v":"F-026"},{"$f":"'baza nisk'!B137","v":"Fotel obrotowy do komputera"},{"$f":"'baza nisk'!D137","v":"MEBLE"},null,0,null,{"$f":"'baza nisk'!E137","v":350},0,null,null,{"$f":"'baza nisk'!G137","v":"Blok Operacyjny"},"","","proszę kliknąć aby wybrać nazwę komórki organizacyjnej",0]
[{"$f":"'baza nisk'!A139","v":"F-026"},{"$f":"'baza nisk'!B139","v":"Fotel obrotowy do komputera"},{"$f":"'baza nisk'!D139","v":"MEBLE"},null,0,null,{"$f":"'baza nisk'!E139","v":350},0,null,null,{"$f":"'baza nisk'!G139","v":"DODO -Pracownia Rezonansu Magnetycznego"},"","","proszę kliknąć aby wybrać nazwę komórki organizacyjnej",0]
[{"$f":"'baza nisk'!A140","v":"F-026"},{"$f":"'baza nisk'!B140","v":"Fotel obrotowy do komputera"},{"$f":"'baza nisk'!D140","v":"MEBLE"},null,0,null,{"$f":"'baza nisk'!E140","v":350},0,null,null,{"$f":"'baza nisk'!G140","v":"DODO -Pracownia USG"},"","","proszę kliknąć aby wybrać nazwę komórki organizacyjnej",0]
[{"$f":"'baza nisk'!A141","v":"F-026"},{"$f":"'baza nisk'!B141","v":"Fotel obrotowy do komputera"},{"$f":"'baza nisk'!D141","v":"MEBLE"},null,0,null,{"$f":"'baza nisk'!E141","v":350},0,null,null,{"$f":"'baza nisk'!G141","v":"DODO -Pracownia USG Piersi"},"","","proszę kliknąć aby wybrać nazwę komórki organizacyjnej",0]
[{"$f":"'baza nisk'!A142","v":"F-026"},{"$f":"'baza nisk'!B142","v":"Fotel obrotowy do komputera"},{"$f":"'baza nisk'!D142","v":"MEBLE"},null,0,null,{"$f":"'baza nisk'!E142","v":350},0,null,null,{"$f":"'baza nisk'!G142","v":"Dział Zaopatrzenia i Zamówień Publicznych"},"","","proszę kliknąć aby wybrać nazwę komórki organizacyjnej",0]
[{"$f":"'baza nisk'!A143","v":"F-026"},{"$f":"'baza nisk'!B143","v":"Fotel obrotowy do komputera"},{"$f":"'baza nisk'!D143","v":"MEBLE"},null,0,null,{"$f":"'baza nisk'!E143","v":350},0,null,null,{"$f":"'baza nisk'!G143","v":"Oddział Kardiologii Dziecięcej z Pododdziałem Kardiochirurgi"},"","","proszę kliknąć aby wybrać nazwę komórki organizacyjnej",0]
[{"$f":"'baza nisk'!A144","v":"F-026"},{"$f":"'baza nisk'!B144","v":"Fotel obrotowy do komputera"},{"$f":"'baza nisk'!D144","v":"MEBLE"},null,0,null,{"$f":"'baza nisk'!E144","v":350},0,null,null,{"$f":"'baza nisk'!G144","v":"Oddział Położniczo – Ginekologiczny"},"","","proszę kliknąć aby wybrać nazwę komórki organizacyjnej",0]
[{"$f":"'baza nisk'!A145","v":"F-026"},{"$f":"'baza nisk'!B145","v":"Fotel obrotowy do komputera"},{"$f":"'baza nisk'!D145","v":"MEBLE"},null,0,null,{"$f":"'baza nisk'!E145","v":350},0,null,null,{"$f":"'baza nisk'!G145","v":"Ośrodek Programów Badawczych (OPB)"},"","","proszę kliknąć aby wybrać nazwę komórki organizacyjnej",0]
[{"$f":"'baza nisk'!A146","v":"F-026"},{"$f":"'baza nisk'!B146","v":"Fotel obrotowy do komputera"},{"$f":"'baza nisk'!D146","v":"MEBLE"},null,0,null,{"$f":"'baza nisk'!E146","v":350},0,null,null,{"$f":"'baza nisk'!G146","v":"Poradnia Medycyny Pracy"},"","","proszę kliknąć aby wybrać nazwę komórki organizacyjnej",0]
[{"$f":"'baza nisk'!A147","v":"F-026"},{"$f":"'baza nisk'!B147","v":"Fotel obrotowy do komputera"},{"$f":"'baza nisk'!D147","v":"MEBLE"},null,0,null,{"$f":"'baza nisk'!E147","v":350},0,null,null,{"$f":"'baza nisk'!G147","v":"Poradnia Onkologiczna"},"","","proszę kliknąć aby wybrać nazwę komórki organizacyjnej",0]
[{"$f":"'baza nisk'!A148","v":"F-026"},{"$f":"'baza nisk'!B148","v":"Fotel obrotowy do komputera"},{"$f":"'baza nisk'!D148","v":"MEBLE"},null,0,null,{"$f":"'baza nisk'!E148","v":350},0,null,null,{"$f":"'baza nisk'!G148","v":"SOR"},"","","proszę kliknąć aby wybrać nazwę komórki organizacyjnej",0]
[{"$f":"'baza nisk'!A149","v":"F-026"},{"$f":"'baza nisk'!B149","v":"Fotel obrotowy do komputera"},{"$f":"'baza nisk'!D149","v":"MEBLE"},null,0,null,{"$f":"'baza nisk'!E149","v":350},0,null,null,{"$f":"'baza nisk'!G149","v":"Zamiejscowy Oddział Rehabilitacji Neurologicznej"},"","","proszę kliknąć aby wybrać nazwę komórki organizacyjnej",0]
[{"$f":"'baza nisk'!A150","v":"F-026"},{"$f":"'baza nisk'!B150","v":"Fotel obrotowy do komputera"},{"$f":"'baza nisk'!D150","v":"MEBLE"},null,0,null,{"$f":"'baza nisk'!E150","v":350},0,null,null,{"$f":"'baza nisk'!G150","v":"Zamiejscowy Oddział Rehabilitacji Ogólnoustrojowej II"},"","","proszę kliknąć aby wybrać nazwę komórki organizacyjnej",0]
[{"$f":"'baza nisk'!A151","v":"F-026A"},{"$f":"'baza nisk'!B151","v":"Fotel obrotowy do komputera"},{"$f":"'baza nisk'!D151","v":"MEBLE"},null,0,null,{"$f":"'baza nisk'!E151","v":350},0,null,null,{"$f":"'baza nisk'!G151","v":"SekcjaKontroli Zakażeń Szpitalnych"},"","","proszę kliknąć aby wybrać nazwę komórki organizacyjnej",0]
[{"$f":"'baza nisk'!A152","v":"F-026B"},{"$f":"'baza nisk'!B152","v":"Fotel obrotowy do komputera"},{"$f":"'baza nisk'!D152","v":"MEBLE"},null,0,null,{"$f":"'baza nisk'!E152","v":350},0,null,null,{"$f":"'baza nisk'!G152","v":"Zamiejscowy Oddział Rehabilitacji Neurologicznej"},"","","proszę kliknąć aby wybrać nazwę komórki organizacyjnej",0]
[{"$f":"'baza nisk'!A153","v":"F-027"},{"$f":"'baza nisk'!B153","v":"Fotel obrotowy do komputera"},{"$f":"'baza nisk'!D153","v":"MEBLE"},null,0,null,{"$f":"'baza nisk'!E153","v":350},0,null,null,{"$f":"'baza nisk'!G153","v":"Dział Centralnej Sterylizatorni i DDD"},"","","proszę kliknąć aby wybrać nazwę komórki organizacyjnej",0]
[{"$f":"'baza nisk'!A154","v":"F-027"},{"$f":"'baza nisk'!B154","v":"Fotel obrotowy do komputera"},{"$f":"'baza nisk'!D154","v":"MEBLE"},null,0,null,{"$f":"'baza nisk'!E154","v":350},0,null,null,{"$f":"'baza nisk'!G154","v":"Oddział Okulistyczny"},"","","proszę kliknąć aby wybrać nazwę komórki organizacyjnej",0]
[{"$f":"'baza nisk'!A156","v":"F-027A"},{"$f":"'baza nisk'!B156","v":"Fotel obrotowy do komputera"},{"$f":"'baza nisk'!D156","v":"MEBLE"},null,0,null,{"$f":"'baza nisk'!E156","v":350},0,null,null,{"$f":"'baza nisk'!G156","v":"Poradnia Neurochirurgiczna"},"","","proszę kliknąć aby wybrać nazwę komórki organizacyjnej",0]
[{"$f":"'baza nisk'!A155","v":"F-027A"},{"$f":"'baza nisk'!B155","v":"Fotel obrotowy do komputera"},{"$f":"'baza nisk'!D155","v":"MEBLE"},null,0,null,{"$f":"'baza nisk'!E155","v":350},0,null,null,{"$f":"'baza nisk'!G155","v":"Apteka Szpitalna"},"","","proszę kliknąć aby wybrać nazwę komórki organizacyjnej",0]
[{"$f":"'baza nisk'!A157","v":"F-037"},{"$f":"'baza nisk'!B157","v":"Fartuch ochronny RTG DG 0,50/0,25 52x100 [SS]"},{"$f":"'baza nisk'!D157","v":"ODZIEŻ OCHRONNA RADIOLOGICZNA"},null,0,null,{"$f":"'baza nisk'!E157","v":3400},0,null,null,{"$f":"'baza nisk'!G157","v":"DODO -Pracownia Diagnostyczno - Zabiegowa Naczyń"},"","","proszę kliknąć aby wybrać nazwę komórki organizacyjnej",0]
[{"$f":"'baza nisk'!A158","v":"F-037A"},{"$f":"'baza nisk'!B158","v":"Fartuch ochronny RTG DG 0,50/0,25 60X90 [MV]"},{"$f":"'baza nisk'!D158","v":"ODZIEŻ OCHRONNA RADIOLOGICZNA"},null,0,null,{"$f":"'baza nisk'!E158","v":3400},0,null,null,{"$f":"'baza nisk'!G158","v":"DODO -Pracownia Diagnostyczno - Zabiegowa Naczyń"},"","","proszę kliknąć aby wybrać nazwę komórki organizacyjnej",0]
[{"$f":"'baza nisk'!A160","v":"F-037B"},{"$f":"'baza nisk'!B160","v":"Fartuch ochronny RTG DG 0,50/0,25 60X100 [MS]"},{"$f":"'baza nisk'!D160","v":"ODZIEŻ OCHRONNA RADIOLOGICZNA"},null,0,null,{"$f":"'baza nisk'!E160","v":3400},0,null,null,{"$f":"'baza nisk'!G160","v":"Pracownia Hemodynamiki"},"","","proszę kliknąć aby wybrać nazwę komórki organizacyjnej",0]
[{"$f":"'baza nisk'!A159","v":"F-037B"},{"$f":"'baza nisk'!B159","v":"Fartuch ochronny RTG DG 0,50/0,25 60X100 [MS]"},{"$f":"'baza nisk'!D159","v":"ODZIEŻ OCHRONNA RADIOLOGICZNA"},null,0,null,{"$f":"'baza nisk'!E159","v":3400},0,null,null,{"$f":"'baza nisk'!G159","v":"DODO -Pracownia Diagnostyczno - Zabiegowa Naczyń"},"","","proszę kliknąć aby wybrać nazwę komórki organizacyjnej",0]
[{"$f":"'baza nisk'!A163","v":"F-037C"},{"$f":"'baza nisk'!B163","v":"Fartuch ochronny RTG DG 0,50/0,25 60X110 [MM]"},{"$f":"'baza nisk'!D163","v":"ODZIEŻ OCHRONNA RADIOLOGICZNA"},null,0,null,{"$f":"'baza nisk'!E163","v":3400},0,null,null,{"$f":"'baza nisk'!G163","v":"Pracownia Hemodynamiki"},"","","proszę kliknąć aby wybrać nazwę komórki organizacyjnej",0]
[{"$f":"'baza nisk'!A162","v":"F-037C"},{"$f":"'baza nisk'!B162","v":"Fartuch ochronny RTG DG 0,50/0,25 60X110 [MM]"},{"$f":"'baza nisk'!D162","v":"ODZIEŻ OCHRONNA RADIOLOGICZNA"},null,0,null,{"$f":"'baza nisk'!E162","v":3400},0,null,null,{"$f":"'baza nisk'!G162","v":"DODO -Pracownia RTG"},"","","proszę kliknąć aby wybrać nazwę komórki organizacyjnej",0]
[{"$f":"'baza nisk'!A161","v":"F-037C"},{"$f":"'baza nisk'!B161","v":"Fartuch ochronny RTG DG 0,50/0,25 60X110 [MM]"},{"$f":"'baza nisk'!D161","v":"ODZIEŻ OCHRONNA RADIOLOGICZNA"},null,0,null,{"$f":"'baza nisk'!E161","v":3400},0,null,null,{"$f":"'baza nisk'!G161","v":"DODO -Pracownia Diagnostyczno - Zabiegowa Naczyń"},"","","proszę kliknąć aby wybrać nazwę komórki organizacyjnej",0]
[{"$f":"'baza nisk'!A164","v":"F-037D"},{"$f":"'baza nisk'!B164","v":"Fartuch ochronny RTG DG 0,50/0,25 68X100 [LS]"},{"$f":"'baza nisk'!D164","v":"ODZIEŻ OCHRONNA RADIOLOGICZNA"},null,0,null,{"$f":"'baza nisk'!E164","v":3400},0,null,null,{"$f":"'baza nisk'!G164","v":"DODO -Pracownia Diagnostyczno - Zabiegowa Naczyń"},"","","proszę kliknąć aby wybrać nazwę komórki organizacyjnej",0]
[{"$f":"'baza nisk'!A165","v":"F-037E"},{"$f":"'baza nisk'!B165","v":"Fartuch ochronny RTG DG 0,50/0,25 6OX120 [ML]"},{"$f":"'baza nisk'!D165","v":"ODZIEŻ OCHRONNA RADIOLOGICZNA"},null,0,null,{"$f":"'baza nisk'!E165","v":3400},0,null,null,{"$f":"'baza nisk'!G165","v":"Oddział Kardiologiczny"},"","","proszę kliknąć aby wybrać nazwę komórki organizacyjnej",0]
[{"$f":"'baza nisk'!A166","v":"F-037F"},{"$f":"'baza nisk'!B166","v":"Fartuch ochronny RTG DG 0,50/0,25 68X120 [LL]"},{"$f":"'baza nisk'!D166","v":"ODZIEŻ OCHRONNA RADIOLOGICZNA"},null,0,null,{"$f":"'baza nisk'!E166","v":3400},0,null,null,{"$f":"'baza nisk'!G166","v":"DODO -Pracownia Diagnostyczno - Zabiegowa Naczyń"},"","","proszę kliknąć aby wybrać nazwę komórki organizacyjnej",0]
[{"$f":"'baza nisk'!A167","v":"F-037G"},{"$f":"'baza nisk'!B167","v":"Fartuch ochronny RTG DG 0,50/0,25 72X120 [XLL]"},{"$f":"'baza nisk'!D167","v":"ODZIEŻ OCHRONNA RADIOLOGICZNA"},null,0,null,{"$f":"'baza nisk'!E167","v":3400},0,null,null,{"$f":"'baza nisk'!G167","v":"DODO -Pracownia Diagnostyczno - Zabiegowa Naczyń"},"","","proszę kliknąć aby wybrać nazwę komórki organizacyjnej",0]
[{"$f":"'baza nisk'!A168","v":"F-037G"},{"$f":"'baza nisk'!B168","v":"Fartuch ochronny RTG DG 0,50/0,25 72X120 [XLL]"},{"$f":"'baza nisk'!D168","v":"ODZIEŻ OCHRONNA RADIOLOGICZNA"},null,0,null,{"$f":"'baza nisk'!E168","v":3400},0,null,null,{"$f":"'baza nisk'!G168","v":"Pracownia Elektrofizjologii"},"","","proszę kliknąć aby wybrać nazwę komórki organizacyjnej",0]
[{"$f":"'baza nisk'!A169","v":"F-037H"},{"$f":"'baza nisk'!B169","v":"Fartuch ochronny RTG dwuczęściowy kam.męski L d"},{"$f":"'baza nisk'!D169","v":"ODZIEŻ OCHRONNA RADIOLOGICZNA"},null,0,null,{"$f":"'baza nisk'!E169","v":3400},0,null,null,{"$f":"'baza nisk'!G169","v":"Oddział Kardiologii Dziecięcej z Pododdziałem Kardiochirurgi"},"","","proszę kliknąć aby wybrać nazwę komórki organizacyjnej",0]
[{"$f":"'baza nisk'!A170","v":"F-037I"},{"$f":"'baza nisk'!B170","v":"Fartuch ochronny RTG dwuczęściowy kam.męski L d"},{"$f":"'baza nisk'!D170","v":"ODZIEŻ OCHRONNA RADIOLOGICZNA"},null,0,null,{"$f":"'baza nisk'!E170","v":3400},0,null,null,{"$f":"'baza nisk'!G170","v":"Oddział Kardiologii Dziecięcej z Pododdziałem Kardiochirurgi"},"","","proszę kliknąć aby wybrać nazwę komórki organizacyjnej",0]
[{"$f":"'baza nisk'!A171","v":"F-037J"},{"$f":"'baza nisk'!B171","v":"Fartuch ochronny RTG dwuczęściowy kam.damski M"},{"$f":"'baza nisk'!D171","v":"ODZIEŻ OCHRONNA RADIOLOGICZNA"},null,0,null,{"$f":"'baza nisk'!E171","v":3400},0,null,null,{"$f":"'baza nisk'!G171","v":"Oddział Kardiologii Dziecięcej z Pododdziałem Kardiochirurgi"},"","","proszę kliknąć aby wybrać nazwę komórki organizacyjnej",0]
[{"$f":"'baza nisk'!A172","v":"F-037K"},{"$f":"'baza nisk'!B172","v":"Fartuch ochronny RTG DG 0,50/0,25 [XL]"},{"$f":"'baza nisk'!D172","v":"ODZIEŻ OCHRONNA RADIOLOGICZNA"},null,0,null,{"$f":"'baza nisk'!E172","v":3400},0,null,null,{"$f":"'baza nisk'!G172","v":"Oddział Urologii i Urologii Onkologicznej"},"","","proszę kliknąć aby wybrać nazwę komórki organizacyjnej",0]
[{"$f":"'baza nisk'!A173","v":"F-037L"},{"$f":"'baza nisk'!B173","v":"Fartuch ochronny RTG DG 0,50/0,25 [XXL]"},{"$f":"'baza nisk'!D173","v":"ODZIEŻ OCHRONNA RADIOLOGICZNA"},null,0,null,{"$f":"'baza nisk'!E173","v":3400},0,null,null,{"$f":"'baza nisk'!G173","v":"Oddział Urologii i Urologii Onkologicznej"},"","","proszę kliknąć aby wybrać nazwę komórki organizacyjnej",0]
[{"$f":"'baza nisk'!A174","v":"F-037Ł"},{"$f":"'baza nisk'!B174","v":"Fartuch ochronny RTG DG 0,50/ [M]"},{"$f":"'baza nisk'!D174","v":"ODZIEŻ OCHRONNA RADIOLOGICZNA"},null,0,null,{"$f":"'baza nisk'!E174","v":3400},0,null,null,{"$f":"'baza nisk'!G174","v":"Oddział Urologii i Urologii Onkologicznej"},"","","proszę kliknąć aby wybrać nazwę komórki organizacyjnej",0]
[{"$f":"'baza nisk'!A175","v":"F-037M"},{"$f":"'baza nisk'!B175","v":"Fartuch ochronny RTG DG 0,50 [L]"},{"$f":"'baza nisk'!D175","v":"ODZIEŻ OCHRONNA RADIOLOGICZNA"},null,0,null,{"$f":"'baza nisk'!E175","v":3400},0,null,null,{"$f":"'baza nisk'!G175","v":"Oddział Urologii i Urologii Onkologicznej"},"","","proszę kliknąć aby wybrać nazwę komórki organizacyjnej",0]
[{"$f":"'baza nisk'!A176","v":"H-014"},{"$f":"'baza nisk'!B176","v":"Haczyk do elektrokoagulacji 8mm na 10 użyć"},{"$f":"'baza nisk'!D176","v":"NARZ. MEDYCZNE"},null,0,null,{"$f":"'baza nisk'!E176","v":10000},0,null,null,{"$f":"'baza nisk'!G176","v":"Blok Operacyjny"},"","","proszę kliknąć aby wybrać nazwę komórki organizacyjnej",0]
[{"$f":"'baza nisk'!A177","v":"H-014"},{"$f":"'baza nisk'!B177","v":"Haczyk do elektrokoagulacji 8mm na 10 użyć"},{"$f":"'baza nisk'!D177","v":"NARZ. MEDYCZNE"},null,0,null,{"$f":"'baza nisk'!E177","v":10000},0,null,null,{"$f":"'baza nisk'!G177","v":"Blok Operacyjny DAVINCI"},"","","proszę kliknąć aby wybrać nazwę komórki organizacyjnej",0]
[{"$f":"'baza nisk'!A178","v":"H-014A"},{"$f":"'baza nisk'!B178","v":"Haczyk do elektrokoagulacji Nr partii M10130522"},{"$f":"'baza nisk'!D178","v":"NARZ. MEDYCZNE"},null,0,null,{"$f":"'baza nisk'!E178","v":10000},0,null,null,{"$f":"'baza nisk'!G178","v":"Blok Operacyjny"},"","","proszę kliknąć aby wybrać nazwę komórki organizacyjnej",0]
[{"$f":"'baza nisk'!A179","v":"H-020"},{"$f":"'baza nisk'!B179","v":"Haczyk mikr. T.Graffe tępy dł.8"},{"$f":"'baza nisk'!D179","v":"NARZ. MEDYCZNE"},null,0,null,{"$f":"'baza nisk'!E179","v":70},0,null,null,{"$f":"'baza nisk'!G179","v":"Oddział Okulistyczny"},"","","proszę kliknąć aby wybrać nazwę komórki organizacyjnej",0]
[{"$f":"'baza nisk'!A180","v":"H-021"},{"$f":"'baza nisk'!B180","v":"Hak operacyjny FARABEUF 25x10/32x12-22x10/28x12"},{"$f":"'baza nisk'!D180","v":"NARZ. MEDYCZNE"},null,0,null,{"$f":"'baza nisk'!E180","v":51},0,null,null,{"$f":"'baza nisk'!G180","v":"Blok Operacyjny"},"","","proszę kliknąć aby wybrać nazwę komórki organizacyjnej",0]
[{"$f":"'baza nisk'!A181","v":"H-021A"},{"$f":"'baza nisk'!B181","v":"Hak operacyjny FARABEUF 23x16/28x16-20x16/24x16"},{"$f":"'baza nisk'!D181","v":"NARZ. MEDYCZNE"},null,0,null,{"$f":"'baza nisk'!E181","v":63},0,null,null,{"$f":"'baza nisk'!G181","v":"Blok Operacyjny"},"","","proszę kliknąć aby wybrać nazwę komórki organizacyjnej",0]
[{"$f":"'baza nisk'!A182","v":"H-022"},{"$f":"'baza nisk'!B182","v":"Hak operacyjny RICHARDSON 30x29mm BT476R"},{"$f":"'baza nisk'!D182","v":"NARZ. MEDYCZNE"},null,0,null,{"$f":"'baza nisk'!E182","v":220},0,null,null,{"$f":"'baza nisk'!G182","v":"Blok Operacyjny"},"","","proszę kliknąć aby wybrać nazwę komórki organizacyjnej",0]
[{"$f":"'baza nisk'!A183","v":"H-023"},{"$f":"'baza nisk'!B183","v":"Haczyk oper.i tchawicz.4Z.ostry BT124R"},{"$f":"'baza nisk'!D183","v":"NARZ. MEDYCZNE"},null,0,null,{"$f":"'baza nisk'!E183","v":120},0,null,null,{"$f":"'baza nisk'!G183","v":"Blok Operacyjny"},"","","proszę kliknąć aby wybrać nazwę komórki organizacyjnej",0]
[{"$f":"'baza nisk'!A184","v":"H-023"},{"$f":"'baza nisk'!B184","v":"Haczyk oper.i tchawicz.4Z.ostry BT124R"},{"$f":"'baza nisk'!D184","v":"NARZ. MEDYCZNE"},null,0,null,{"$f":"'baza nisk'!E184","v":120},0,null,null,{"$f":"'baza nisk'!G184","v":"Zamiejscowy Blok Operacyjny"},"","","proszę kliknąć aby wybrać nazwę komórki organizacyjnej",0]
[{"$f":"'baza nisk'!A185","v":"H-024"},{"$f":"'baza nisk'!B185","v":"Haczyk op.delikat.modyf.4Z.ostry BT114R"},{"$f":"'baza nisk'!D185","v":"NARZ. MEDYCZNE"},null,0,null,{"$f":"'baza nisk'!E185","v":120},0,null,null,{"$f":"'baza nisk'!G185","v":"Blok Operacyjny"},"","","proszę kliknąć aby wybrać nazwę komórki organizacyjnej",0]
[{"$f":"'baza nisk'!A186","v":"H-024"},{"$f":"'baza nisk'!B186","v":"Haczyk op.delikat.modyf.4Z.ostry BT114R"},{"$f":"'baza nisk'!D186","v":"NARZ. MEDYCZNE"},null,0,null,{"$f":"'baza nisk'!E186","v":120},0,null,null,{"$f":"'baza nisk'!G186","v":"Zamiejscowy Blok Operacyjny"},"","","proszę kliknąć aby wybrać nazwę komórki organizacyjnej",0]
[{"$f":"'baza nisk'!A187","v":"H-025"},{"$f":"'baza nisk'!B187","v":"Hak operacyjny VOLKMANN 6z. tępy 8,5x29mm BT230"},{"$f":"'baza nisk'!D187","v":"NARZ. MEDYCZNE"},null,0,null,{"$f":"'baza nisk'!E187","v":245},0,null,null,{"$f":"'baza nisk'!G187","v":"Blok Operacyjny"},"","","proszę kliknąć aby wybrać nazwę komórki organizacyjnej",0]
[{"$f":"'baza nisk'!A188","v":"H-025B"},{"$f":"'baza nisk'!B188","v":"Hak operacyjny VOLKMANN 4z. ostry 9x19mm BT244R"},{"$f":"'baza nisk'!D188","v":"NARZ. MEDYCZNE"},null,0,null,{"$f":"'baza nisk'!E188","v":245},0,null,null,{"$f":"'baza nisk'!G188","v":"Blok Operacyjny"},"","","proszę kliknąć aby wybrać nazwę komórki organizacyjnej",0]
[{"$f":"'baza nisk'!A189","v":"H-025C"},{"$f":"'baza nisk'!B189","v":"Hak operacyjny VOLKMANN 6z. ostry 9x29mm BT246R"},{"$f":"'baza nisk'!D189","v":"NARZ. MEDYCZNE"},null,0,null,{"$f":"'baza nisk'!E189","v":245},0,null,null,{"$f":"'baza nisk'!G189","v":"Blok Operacyjny"},"","","proszę kliknąć aby wybrać nazwę komórki organizacyjnej",0]
[{"$f":"'baza nisk'!A190","v":"H-028"},{"$f":"'baza nisk'!B190","v":"Hak operacyjny OLLIER 4z.tępy 35x55mm BT288R"},{"$f":"'baza nisk'!D190","v":"NARZ. MEDYCZNE"},null,0,null,{"$f":"'baza nisk'!E190","v":334},0,null,null,{"$f":"'baza nisk'!G190","v":"Blok Operacyjny"},"","","proszę kliknąć aby wybrać nazwę komórki organizacyjnej",0]
[{"$f":"'baza nisk'!A191","v":"H-030"},{"$f":"'baza nisk'!B191","v":"Hak brzuszny FRITSCH 64x85mm #5 BT659R"},{"$f":"'baza nisk'!D191","v":"NARZ. MEDYCZNE"},null,0,null,{"$f":"'baza nisk'!E191","v":420},0,null,null,{"$f":"'baza nisk'!G191","v":"Blok Operacyjny"},"","","proszę kliknąć aby wybrać nazwę komórki organizacyjnej",0]
[{"$f":"'baza nisk'!A192","v":"H-031"},{"$f":"'baza nisk'!B192","v":"Hak operacyjny CORYLLOS duży 115x65mm BT523R"},{"$f":"'baza nisk'!D192","v":"NARZ. MEDYCZNE"},null,0,null,{"$f":"'baza nisk'!E192","v":700},0,null,null,{"$f":"'baza nisk'!G192","v":"Blok Operacyjny"},"","","proszę kliknąć aby wybrać nazwę komórki organizacyjnej",0]
[{"$f":"'baza nisk'!A193","v":"H-032"},{"$f":"'baza nisk'!B193","v":"Hak operacyjny US-ARMY 26x15/43x15-23x15/40x15"},{"$f":"'baza nisk'!D193","v":"NARZ. MEDYCZNE"},null,0,null,{"$f":"'baza nisk'!E193","v":120},0,null,null,{"$f":"'baza nisk'!G193","v":"Blok Operacyjny"},"","","proszę kliknąć aby wybrać nazwę komórki organizacyjnej",0]
[{"$f":"'baza nisk'!A195","v":"I-011A"},{"$f":"'baza nisk'!B195","v":"Inhalator pneumatyczny dla dorosłych "},{"$f":"'baza nisk'!D195","v":"POZOSTAŁE"},null,0,null,{"$f":"'baza nisk'!E195","v":700},0,null,null,{"$f":"'baza nisk'!G195","v":"Zamiejscowy Oddział Rehabilitacji Ogólnoustrojowej II"},"","","proszę kliknąć aby wybrać nazwę komórki organizacyjnej",0]
[{"$f":"'baza nisk'!A194","v":"I-011A"},{"$f":"'baza nisk'!B194","v":"Inhalator pneumatyczny dla dorosłych "},{"$f":"'baza nisk'!D194","v":"POZOSTAŁE"},null,0,null,{"$f":"'baza nisk'!E194","v":700},{"$f":"E198*G198","v":0},null,null,{"$f":"'baza nisk'!G194","v":"Zamiejscowy Dział Rehabilitacji Leczniczej"},{"$f":"IF($B$2=K198,$B$2,\"\")","v":""},{"$f":"IF($B$2=K198,1,\"\")","v":""},{"$f":"$B$2","v":"proszę kliknąć aby wybrać nazwę komórki organizacyjnej"},{"$f":"$H$2","v":0}]
[{"$f":"'baza nisk'!A197","v":"I-011B"},{"$f":"'baza nisk'!B197","v":"Inhalator pneumatyczny dla dorosłych "},{"$f":"'baza nisk'!D197","v":"POZOSTAŁE"},null,0,null,{"$f":"'baza nisk'!E197","v":144},0,null,null,{"$f":"'baza nisk'!G197","v":"Zamiejscowy Oddział Rehabilitacji Neurologicznej"},"","","proszę kliknąć aby wybrać nazwę komórki organizacyjnej",0]
[{"$f":"'baza nisk'!A196","v":"I-011B"},{"$f":"'baza nisk'!B196","v":"Inhalator pneumatyczny ALPHAneb"},{"$f":"'baza nisk'!D196","v":"POZOSTAŁE"},null,0,null,{"$f":"'baza nisk'!E196","v":144},0,null,null,{"$f":"'baza nisk'!G196","v":"Zamiejscowy Oddział Chirurgii Urazowo - Ortopedycznej"},"","","proszę kliknąć aby wybrać nazwę komórki organizacyjnej",0]
[{"$f":"'baza nisk'!A198","v":"I-011C"},{"$f":"'baza nisk'!B198","v":"Inhalator tłokowy"},{"$f":"'baza nisk'!D198","v":"POZOSTAŁE"},null,0,null,{"$f":"'baza nisk'!E198","v":860},0,null,null,{"$f":"'baza nisk'!G198","v":"Oddział Kardiologii Dziecięcej z Pododdziałem Kardiochirurgi"},"","","proszę kliknąć aby wybrać nazwę komórki organizacyjnej",0]
[{"$f":"'baza nisk'!A199","v":"I-011C"},{"$f":"'baza nisk'!B199","v":"Inhalator tłokowy"},{"$f":"'baza nisk'!D199","v":"POZOSTAŁE"},null,0,null,{"$f":"'baza nisk'!E199","v":860},0,null,null,{"$f":"'baza nisk'!G199","v":"Zamiejscowy Oddział Chirurgii Urazowo - Ortopedycznej"},"","","proszę kliknąć aby wybrać nazwę komórki organizacyjnej",0]
[{"$f":"'baza nisk'!A200","v":"I-011C"},{"$f":"'baza nisk'!B200","v":"Inhalator tłokowy"},{"$f":"'baza nisk'!D200","v":"POZOSTAŁE"},null,0,null,{"$f":"'baza nisk'!E200","v":860},0,null,null,{"$f":"'baza nisk'!G200","v":"Zamiejscowy Oddział Rehabilitacji Neurologicznej"},"","","proszę kliknąć aby wybrać nazwę komórki organizacyjnej",0]
[{"$f":"'baza nisk'!A201","v":"I-013B"},{"$f":"'baza nisk'!B201","v":"Igłotrzymacz  HEGAR-MAYO "},{"$f":"'baza nisk'!D201","v":"NARZ. MEDYCZNE"},null,0,null,{"$f":"'baza nisk'!E201","v":360},0,null,null,{"$f":"'baza nisk'!G201","v":"Blok Operacyjny"},"","","proszę kliknąć aby wybrać nazwę komórki organizacyjnej",0]
[{"$f":"'baza nisk'!A202","v":"I-016"},{"$f":"'baza nisk'!B202","v":"Imadło duże 8mm na 10 użyć"},{"$f":"'baza nisk'!D202","v":"NARZ. MEDYCZNE"},null,0,null,{"$f":"'baza nisk'!E202","v":10000},0,null,null,{"$f":"'baza nisk'!G202","v":"Blok Operacyjny DAVINCI"},"","","proszę kliknąć aby wybrać nazwę komórki organizacyjnej",0]
[{"$f":"'baza nisk'!A203","v":"I-016A"},{"$f":"'baza nisk'!B203","v":"Imadło duże  Nr partii M10130531x1"},{"$f":"'baza nisk'!D203","v":"NARZ. MEDYCZNE"},null,0,null,{"$f":"'baza nisk'!E203","v":10000},0,null,null,{"$f":"'baza nisk'!G203","v":"Blok Operacyjny"},"","","proszę kliknąć aby wybrać nazwę komórki organizacyjnej",0]
[{"$f":"'baza nisk'!A204","v":"I-016B"},{"$f":"'baza nisk'!B204","v":"Imadło duże  Nr partii M10130531x2"},{"$f":"'baza nisk'!D204","v":"NARZ. MEDYCZNE"},null,0,null,{"$f":"'baza nisk'!E204","v":10000},0,null,null,{"$f":"'baza nisk'!G204","v":"Blok Operacyjny"},"","","proszę kliknąć aby wybrać nazwę komórki organizacyjnej",0]
[{"$f":"'baza nisk'!A205","v":"I-016C"},{"$f":"'baza nisk'!B205","v":"Imadło duże Nr partii M11131204X2"},{"$f":"'baza nisk'!D205","v":"NARZ. MEDYCZNE"},null,0,null,{"$f":"'baza nisk'!E205","v":10000},0,null,null,{"$f":"'baza nisk'!G205","v":"Blok Operacyjny"},"","","proszę kliknąć aby wybrać nazwę komórki organizacyjnej",0]
[{"$f":"'baza nisk'!A206","v":"I-016E"},{"$f":"'baza nisk'!B206","v":"Imadło duże  Nr partii N10141003x1"},{"$f":"'baza nisk'!D206","v":"NARZ. MEDYCZNE"},null,0,null,{"$f":"'baza nisk'!E206","v":10000},0,null,null,{"$f":"'baza nisk'!G206","v":"Blok Operacyjny DAVINCI"},"","","proszę kliknąć aby wybrać nazwę komórki organizacyjnej",0]
[{"$f":"'baza nisk'!A207","v":"I-021A"},{"$f":"'baza nisk'!B207","v":"Imadło duże typu SutureCut Nr partii-M10130516x"},{"$f":"'baza nisk'!D207","v":"NARZ. MEDYCZNE"},null,0,null,{"$f":"'baza nisk'!E207","v":10000},0,null,null,{"$f":"'baza nisk'!G207","v":"Blok Operacyjny"},"","","proszę kliknąć aby wybrać nazwę komórki organizacyjnej",0]
[{"$f":"'baza nisk'!A208","v":"I-026"},{"$f":"'baza nisk'!B208","v":"Igłotrzymacz mikrochirurgiczny dł.125mm 5\" szcz"},{"$f":"'baza nisk'!D208","v":"NARZ. MEDYCZNE"},null,0,null,{"$f":"'baza nisk'!E208","v":170},0,null,null,{"$f":"'baza nisk'!G208","v":"Oddział Okulistyczny"},"","","proszę kliknąć aby wybrać nazwę komórki organizacyjnej",0]
[{"$f":"'baza nisk'!A209","v":"I-027"},{"$f":"'baza nisk'!B209","v":"Igłotrzymacz mikrochirurgiczny dł.135mm 5 1/4\"s"},{"$f":"'baza nisk'!D209","v":"NARZ. MEDYCZNE"},null,0,null,{"$f":"'baza nisk'!E209","v":170},0,null,null,{"$f":"'baza nisk'!G209","v":"Oddział Okulistyczny"},"","","proszę kliknąć aby wybrać nazwę komórki organizacyjnej",0]
[{"$f":"'baza nisk'!A210","v":"I-028"},{"$f":"'baza nisk'!B210","v":"Imadło,odgięty pyszczek,dł.125mm typ Castroviej"},{"$f":"'baza nisk'!D210","v":"NARZ. MEDYCZNE"},null,0,null,{"$f":"'baza nisk'!E210","v":1300},0,null,null,{"$f":"'baza nisk'!G210","v":"Oddział Okulistyczny"},"","","proszę kliknąć aby wybrać nazwę komórki organizacyjnej",0]
[{"$f":"'baza nisk'!A211","v":"I-029"},{"$f":"'baza nisk'!B211","v":"Igłotrzymacz typ DE BAKEY dł.230mm prosty z tw."},{"$f":"'baza nisk'!D211","v":"NARZ. MEDYCZNE"},null,0,null,{"$f":"'baza nisk'!E211","v":350},0,null,null,{"$f":"'baza nisk'!G211","v":"Blok Operacyjny"},"","","proszę kliknąć aby wybrać nazwę komórki organizacyjnej",0]
[{"$f":"'baza nisk'!A212","v":"I-029A"},{"$f":"'baza nisk'!B212","v":"Igłotrzymacz typ DE BAKEY dł.177mm prosty z tw."},{"$f":"'baza nisk'!D212","v":"NARZ. MEDYCZNE"},null,0,null,{"$f":"'baza nisk'!E212","v":350},0,null,null,{"$f":"'baza nisk'!G212","v":"Blok Operacyjny"},"","","proszę kliknąć aby wybrać nazwę komórki organizacyjnej",0]
[{"$f":"'baza nisk'!A213","v":"I-030"},{"$f":"'baza nisk'!B213","v":"Igłotrzymacz typ CASTROVIEJO dł.140mm prosty z"},{"$f":"'baza nisk'!D213","v":"NARZ. MEDYCZNE"},null,0,null,{"$f":"'baza nisk'!E213","v":420},0,null,null,{"$f":"'baza nisk'!G213","v":"Blok Operacyjny"},"","","proszę kliknąć aby wybrać nazwę komórki organizacyjnej",0]
[{"$f":"'baza nisk'!A214","v":"I-031"},{"$f":"'baza nisk'!B214","v":"Imadło chirurgiczne HEGAR-MAYO 150mm BM235R"},{"$f":"'baza nisk'!D214","v":"NARZ. MEDYCZNE"},null,0,null,{"$f":"'baza nisk'!E214","v":90},0,null,null,{"$f":"'baza nisk'!G214","v":"Blok Operacyjny"},"","","proszę kliknąć aby wybrać nazwę komórki organizacyjnej",0]
[{"$f":"'baza nisk'!A215","v":"I-031"},{"$f":"'baza nisk'!B215","v":"Imadło chirurgiczne HEGAR-MAYO 150mm BM235R"},{"$f":"'baza nisk'!D215","v":"NARZ. MEDYCZNE"},null,0,null,{"$f":"'baza nisk'!E215","v":90},0,null,null,{"$f":"'baza nisk'!G215","v":"Zamiejscowy Blok Operacyjny"},"","","proszę kliknąć aby wybrać nazwę komórki organizacyjnej",0]
[{"$f":"'baza nisk'!A216","v":"I-031A"},{"$f":"'baza nisk'!B216","v":"Imadło chirurgiczne HEGAR-MAYO 190mm BM242R"},{"$f":"'baza nisk'!D216","v":"NARZ. MEDYCZNE"},null,0,null,{"$f":"'baza nisk'!E216","v":340},0,null,null,{"$f":"'baza nisk'!G216","v":"Blok Operacyjny"},"","","proszę kliknąć aby wybrać nazwę komórki organizacyjnej",0]
[{"$f":"'baza nisk'!A217","v":"I-031A"},{"$f":"'baza nisk'!B217","v":"Imadło chirurgiczne HEGAR-MAYO 190mm BM242R"},{"$f":"'baza nisk'!D217","v":"NARZ. MEDYCZNE"},null,0,null,{"$f":"'baza nisk'!E217","v":340},0,null,null,{"$f":"'baza nisk'!G217","v":"Zamiejscowy Blok Operacyjny"},"","","proszę kliknąć aby wybrać nazwę komórki organizacyjnej",0]
[{"$f":"'baza nisk'!A218","v":"I-031B"},{"$f":"'baza nisk'!B218","v":"Imadło chirurgiczne HEGAR-MAYO 205mm DUROGRIP B"},{"$f":"'baza nisk'!D218","v":"NARZ. MEDYCZNE"},null,0,null,{"$f":"'baza nisk'!E218","v":300},0,null,null,{"$f":"'baza nisk'!G218","v":"Blok Operacyjny"},"","","proszę kliknąć aby wybrać nazwę komórki organizacyjnej",0]
[{"$f":"'baza nisk'!A219","v":"I-031B"},{"$f":"'baza nisk'!B219","v":"Imadło chirurgiczne HEGAR-MAYO 205mm DUROGRIP B"},{"$f":"'baza nisk'!D219","v":"NARZ. MEDYCZNE"},null,0,null,{"$f":"'baza nisk'!E219","v":300},0,null,null,{"$f":"'baza nisk'!G219","v":"Oddział Położniczo – Ginekologiczny"},"","","proszę kliknąć aby wybrać nazwę komórki organizacyjnej",0]
[{"$f":"'baza nisk'!A220","v":"I-031C"},{"$f":"'baza nisk'!B220","v":"Imadło chirurgiczne HEGAR-MAYO 185mm BM236R"},{"$f":"'baza nisk'!D220","v":"NARZ. MEDYCZNE"},null,0,null,{"$f":"'baza nisk'!E220","v":105},0,null,null,{"$f":"'baza nisk'!G220","v":"Blok Operacyjny"},"","","proszę kliknąć aby wybrać nazwę komórki organizacyjnej",0]
[{"$f":"'baza nisk'!A221","v":"I-031D"},{"$f":"'baza nisk'!B221","v":"Imadło chirurgiczne HEGAR-MAYO 15,5cm TC"},{"$f":"'baza nisk'!D221","v":"NARZ. MEDYCZNE"},null,0,null,{"$f":"'baza nisk'!E221","v":300},0,null,null,{"$f":"'baza nisk'!G221","v":"DODO -Pracownia Diagnostyczno - Zabiegowa Naczyń"},"","","proszę kliknąć aby wybrać nazwę komórki organizacyjnej",0]
[{"$f":"'baza nisk'!A223","v":"I-033"},{"$f":"'baza nisk'!B223","v":"Imadło chirurgiczne CRILE-WOOD mocn. 160mm BM22"},{"$f":"'baza nisk'!D223","v":"NARZ. MEDYCZNE"},null,0,null,{"$f":"'baza nisk'!E223","v":300},0,null,null,{"$f":"'baza nisk'!G223","v":"Zamiejscowy Blok Operacyjny"},"","","proszę kliknąć aby wybrać nazwę komórki organizacyjnej",0]
[{"$f":"'baza nisk'!A222","v":"I-033"},{"$f":"'baza nisk'!B222","v":"Imadło chirurgiczne CRILE-WOOD mocn. 160mm BM22"},{"$f":"'baza nisk'!D222","v":"NARZ. MEDYCZNE"},null,0,null,{"$f":"'baza nisk'!E222","v":300},0,null,null,{"$f":"'baza nisk'!G222","v":"Blok Operacyjny"},"","","proszę kliknąć aby wybrać nazwę komórki organizacyjnej",0]
[{"$f":"'baza nisk'!A224","v":"I-034"},{"$f":"'baza nisk'!B224","v":"Imadło chirurgiczne DE'BAKEY 180mm BM 035R"},{"$f":"'baza nisk'!D224","v":"NARZ. MEDYCZNE"},null,0,null,{"$f":"'baza nisk'!E224","v":300},0,null,null,{"$f":"'baza nisk'!G224","v":"Zamiejscowy Blok Operacyjny"},"","","proszę kliknąć aby wybrać nazwę komórki organizacyjnej",0]
[{"$f":"'baza nisk'!A225","v":"I-035"},{"$f":"'baza nisk'!B225","v":"Imadło chirurgiczne RYDER smukłe 155mm DUROGRIP"},{"$f":"'baza nisk'!D225","v":"NARZ. MEDYCZNE"},null,0,null,{"$f":"'baza nisk'!E225","v":400},0,null,null,{"$f":"'baza nisk'!G225","v":"Zamiejscowy Blok Operacyjny"},"","","proszę kliknąć aby wybrać nazwę komórki organizacyjnej",0]
[{"$f":"'baza nisk'!A226","v":"I-036"},{"$f":"'baza nisk'!B226","v":"Imadło chirurgiczne WANGENSTEEN 275mm BM272R"},{"$f":"'baza nisk'!D226","v":"NARZ. MEDYCZNE"},null,0,null,{"$f":"'baza nisk'!E226","v":350},0,null,null,{"$f":"'baza nisk'!G226","v":"Blok Operacyjny"},"","","proszę kliknąć aby wybrać nazwę komórki organizacyjnej",0]
[{"$f":"'baza nisk'!A227","v":"I-037"},{"$f":"'baza nisk'!B227","v":"Instrument BiClamp,długość 20cm, ceramiczny   E"},{"$f":"'baza nisk'!D227","v":"NARZ. MEDYCZNE"},null,0,null,{"$f":"'baza nisk'!E227","v":5000},0,null,null,{"$f":"'baza nisk'!G227","v":"Blok Operacyjny"},"","","proszę kliknąć aby wybrać nazwę komórki organizacyjnej",0]
[{"$f":"'baza nisk'!A228","v":"I-037A"},{"$f":"'baza nisk'!B228","v":"Instrument BiClamp,długość 26cm, E20195-299"},{"$f":"'baza nisk'!D228","v":"NARZ. MEDYCZNE"},null,0,null,{"$f":"'baza nisk'!E228","v":5000},0,null,null,{"$f":"'baza nisk'!G228","v":"Blok Operacyjny"},"","","proszę kliknąć aby wybrać nazwę komórki organizacyjnej",0]
[{"$f":"'baza nisk'!A229","v":"I-037B"},{"$f":"'baza nisk'!B229","v":"Instrument BiClamp,długość 21cm, E20195-200"},{"$f":"'baza nisk'!D229","v":"NARZ. MEDYCZNE"},null,0,null,{"$f":"'baza nisk'!E229","v":6000},0,null,null,{"$f":"'baza nisk'!G229","v":"Blok Operacyjny"},"","","proszę kliknąć aby wybrać nazwę komórki organizacyjnej",0]
[{"$f":"'baza nisk'!A230","v":"I-037C"},{"$f":"'baza nisk'!B230","v":"Instrument BiClamp,długość 28cm, wygięcie 25 st"},{"$f":"'baza nisk'!D230","v":"NARZ. MEDYCZNE"},null,0,null,{"$f":"'baza nisk'!E230","v":6000},0,null,null,{"$f":"'baza nisk'!G230","v":"Blok Operacyjny"},"","","proszę kliknąć aby wybrać nazwę komórki organizacyjnej",0]
[{"$f":"'baza nisk'!A231","v":"I-039"},{"$f":"'baza nisk'!B231","v":"Imadło naczyniowe 18cm"},{"$f":"'baza nisk'!D231","v":"NARZ. MEDYCZNE"},null,0,null,{"$f":"'baza nisk'!E231","v":220},0,null,null,{"$f":"'baza nisk'!G231","v":"DODO -Pracownia Diagnostyczno - Zabiegowa Naczyń"},"","","proszę kliknąć aby wybrać nazwę komórki organizacyjnej",0]
[{"$f":"'baza nisk'!A232","v":"K-019"},{"$f":"'baza nisk'!B232","v":"Kołdra  CLINIC II 160X200 1200g"},{"$f":"'baza nisk'!D232","v":"POŚCIEL SZPITAL"},null,0,null,{"$f":"'baza nisk'!E232","v":98},0,null,null,{"$f":"'baza nisk'!G232","v":"Hotel Pracowniczy"},"","","proszę kliknąć aby wybrać nazwę komórki organizacyjnej",0]
[{"$f":"'baza nisk'!A233","v":"K-019"},{"$f":"'baza nisk'!B233","v":"Kołdra  CLINIC II 160X200 1200g"},{"$f":"'baza nisk'!D233","v":"POŚCIEL SZPITAL"},null,0,null,{"$f":"'baza nisk'!E233","v":98},0,null,null,{"$f":"'baza nisk'!G233","v":"Oddział Angiologiczny z Pododdziałem Diabetologii"},"","","proszę kliknąć aby wybrać nazwę komórki organizacyjnej",0]
[{"$f":"'baza nisk'!A241","v":"K-019"},{"$f":"'baza nisk'!B241","v":"Kołdra  CLINIC II 160X200 1200g"},{"$f":"'baza nisk'!D241","v":"POŚCIEL SZPITAL"},null,0,null,{"$f":"'baza nisk'!E241","v":98},0,null,null,{"$f":"'baza nisk'!G241","v":"Oddział Urologii i Urologii Onkologicznej"},"","","proszę kliknąć aby wybrać nazwę komórki organizacyjnej",0]
[{"$f":"'baza nisk'!A243","v":"K-019"},{"$f":"'baza nisk'!B243","v":"Kołdra  CLINIC II 160X200 1200g"},{"$f":"'baza nisk'!D243","v":"POŚCIEL SZPITAL"},null,0,null,{"$f":"'baza nisk'!E243","v":98},0,null,null,{"$f":"'baza nisk'!G243","v":"Zamiejscowy Oddział Rehabilitacji Ogólnoustrojowej I"},"","","proszę kliknąć aby wybrać nazwę komórki organizacyjnej",0]
[{"$f":"'baza nisk'!A244","v":"K-019"},{"$f":"'baza nisk'!B244","v":"Kołdra  CLINIC II 160X200 1200g"},{"$f":"'baza nisk'!D244","v":"POŚCIEL SZPITAL"},null,0,null,{"$f":"'baza nisk'!E244","v":98},0,null,null,{"$f":"'baza nisk'!G244","v":"Zamiejscowy Oddział Rehabilitacji Ogólnoustrojowej II"},"","","proszę kliknąć aby wybrać nazwę komórki organizacyjnej",0]
[{"$f":"'baza nisk'!A242","v":"K-019"},{"$f":"'baza nisk'!B242","v":"Kołdra  CLINIC II 160X200 1200g"},{"$f":"'baza nisk'!D242","v":"POŚCIEL SZPITAL"},null,0,null,{"$f":"'baza nisk'!E242","v":98},0,null,null,{"$f":"'baza nisk'!G242","v":"Zamiejscowy Oddział Rehabilitacji Neurologicznej"},"","","proszę kliknąć aby wybrać nazwę komórki organizacyjnej",0]
[{"$f":"'baza nisk'!A238","v":"K-019"},{"$f":"'baza nisk'!B238","v":"Kołdra  CLINIC II 160X200 1200g"},{"$f":"'baza nisk'!D238","v":"POŚCIEL SZPITAL"},null,0,null,{"$f":"'baza nisk'!E238","v":98},0,null,null,{"$f":"'baza nisk'!G238","v":"Oddział Kardiologiczny"},"","","proszę kliknąć aby wybrać nazwę komórki organizacyjnej",0]
[{"$f":"'baza nisk'!A239","v":"K-019"},{"$f":"'baza nisk'!B239","v":"Kołdra  CLINIC II 160X200 1200g"},{"$f":"'baza nisk'!D239","v":"POŚCIEL SZPITAL"},null,0,null,{"$f":"'baza nisk'!E239","v":98},0,null,null,{"$f":"'baza nisk'!G239","v":"Oddział Otolaryngologiczny z Pododdziałem Otolaryngologii"},"","","proszę kliknąć aby wybrać nazwę komórki organizacyjnej",0]
[{"$f":"'baza nisk'!A240","v":"K-019"},{"$f":"'baza nisk'!B240","v":"Kołdra  CLINIC II 160X200 1200g"},{"$f":"'baza nisk'!D240","v":"POŚCIEL SZPITAL"},null,0,null,{"$f":"'baza nisk'!E240","v":98},0,null,null,{"$f":"'baza nisk'!G240","v":"Oddział Pediatryczny z Pododdziałem Gastroenterologii "},"","","proszę kliknąć aby wybrać nazwę komórki organizacyjnej",0]
[{"$f":"'baza nisk'!A234","v":"K-019"},{"$f":"'baza nisk'!B234","v":"Kołdra  CLINIC II 160X200 1200g"},{"$f":"'baza nisk'!D234","v":"POŚCIEL SZPITAL"},null,0,null,{"$f":"'baza nisk'!E234","v":98},0,null,null,{"$f":"'baza nisk'!G234","v":"Oddział Chemioterapii z Pododdziałem Chemioterapii Dziennej"},"","","proszę kliknąć aby wybrać nazwę komórki organizacyjnej",0]
[{"$f":"'baza nisk'!A235","v":"K-019"},{"$f":"'baza nisk'!B235","v":"Kołdra  CLINIC II 160X200 1200g"},{"$f":"'baza nisk'!D235","v":"POŚCIEL SZPITAL"},null,0,null,{"$f":"'baza nisk'!E235","v":98},0,null,null,{"$f":"'baza nisk'!G235","v":"Oddział Chirurgii Naczyniowej"},"","","proszę kliknąć aby wybrać nazwę komórki organizacyjnej",0]
[{"$f":"'baza nisk'!A236","v":"K-019"},{"$f":"'baza nisk'!B236","v":"Kołdra  CLINIC II 160X200 1200g"},{"$f":"'baza nisk'!D236","v":"POŚCIEL SZPITAL"},null,0,null,{"$f":"'baza nisk'!E236","v":98},0,null,null,{"$f":"'baza nisk'!G236","v":"Oddział Chirurgii Ogólnej z Pododdziałami"},"","","proszę kliknąć aby wybrać nazwę komórki organizacyjnej",0]
[{"$f":"'baza nisk'!A237","v":"K-019"},{"$f":"'baza nisk'!B237","v":"Kołdra  CLINIC II 160X200 1200g"},{"$f":"'baza nisk'!D237","v":"POŚCIEL SZPITAL"},null,0,null,{"$f":"'baza nisk'!E237","v":98},0,null,null,{"$f":"'baza nisk'!G237","v":"Oddział Chirurgii Onkologicznej"},"","","proszę kliknąć aby wybrać nazwę komórki organizacyjnej",0]
[{"$f":"'baza nisk'!A245","v":"K-019C"},{"$f":"'baza nisk'!B245","v":"Kołdra  CLINIC II 160X200 1200g"},{"$f":"'baza nisk'!D245","v":"POŚCIEL SZPITAL"},null,0,null,{"$f":"'baza nisk'!E245","v":98},0,null,null,{"$f":"'baza nisk'!G245","v":"Hotel Pracowniczy"},"","","proszę kliknąć aby wybrać nazwę komórki organizacyjnej",0]
[{"$f":"'baza nisk'!A246","v":"K-019D"},{"$f":"'baza nisk'!B246","v":"Kołdra  CLINIC II 160X200 1200g"},{"$f":"'baza nisk'!D246","v":"POŚCIEL SZPITAL"},null,0,null,{"$f":"'baza nisk'!E246","v":98},0,null,null,{"$f":"'baza nisk'!G246","v":"Hotel Pracowniczy"},"","","proszę kliknąć aby wybrać nazwę komórki organizacyjnej",0]
[{"$f":"'baza nisk'!A248","v":"K-088"},{"$f":"'baza nisk'!B248","v":"Krzesło Iso tapicerowane"},{"$f":"'baza nisk'!D248","v":"MEBLE"},null,0,null,{"$f":"'baza nisk'!E248","v":140},0,null,null,{"$f":"'baza nisk'!G248","v":"Oddział Chemioterapii z Pododdziałem Chemioterapii Dziennej"},"","","proszę kliknąć aby wybrać nazwę komórki organizacyjnej",0]
[{"$f":"'baza nisk'!A249","v":"K-088"},{"$f":"'baza nisk'!B249","v":"Krzesło Iso tapicerowane"},{"$f":"'baza nisk'!D249","v":"MEBLE"},null,0,null,{"$f":"'baza nisk'!E249","v":140},0,null,null,{"$f":"'baza nisk'!G249","v":"SOR"},"","","proszę kliknąć aby wybrać nazwę komórki organizacyjnej",0]
[{"$f":"'baza nisk'!A247","v":"K-088"},{"$f":"'baza nisk'!B247","v":"Krzesło Iso tapicerowane"},{"$f":"'baza nisk'!D247","v":"MEBLE"},null,0,null,{"$f":"'baza nisk'!E247","v":140},0,null,null,{"$f":"'baza nisk'!G247","v":"Intensywna Terapia"},"","","proszę kliknąć aby wybrać nazwę komórki organizacyjnej",0]
[{"$f":"'baza nisk'!A253","v":"K-088A"},{"$f":"'baza nisk'!B253","v":"Krzesło Iso tapicerowane"},{"$f":"'baza nisk'!D253","v":"MEBLE"},null,0,null,{"$f":"'baza nisk'!E253","v":140},0,null,null,{"$f":"'baza nisk'!G253","v":"Zamiejscowy Dział Rehabilitacji Leczniczej"},"","","proszę kliknąć aby wybrać nazwę komórki organizacyjnej",0]
[{"$f":"'baza nisk'!A252","v":"K-088A"},{"$f":"'baza nisk'!B252","v":"Krzesło Iso tapicerowane"},{"$f":"'baza nisk'!D252","v":"MEBLE"},null,0,null,{"$f":"'baza nisk'!E252","v":140},0,null,null,{"$f":"'baza nisk'!G252","v":"Poradnia Neurochirurgiczna"},"","","proszę kliknąć aby wybrać nazwę komórki organizacyjnej",0]
[{"$f":"'baza nisk'!A251","v":"K-088A"},{"$f":"'baza nisk'!B251","v":"Krzesło Iso tapicerowane"},{"$f":"'baza nisk'!D251","v":"MEBLE"},null,0,null,{"$f":"'baza nisk'!E251","v":140},0,null,null,{"$f":"'baza nisk'!G251","v":"Poradnia Medycyny Pracy"},"","","proszę kliknąć aby wybrać nazwę komórki organizacyjnej",0]
[{"$f":"'baza nisk'!A254","v":"K-088A"},{"$f":"'baza nisk'!B254","v":"Krzesło Iso tapicerowane"},{"$f":"'baza nisk'!D254","v":"MEBLE"},null,0,null,{"$f":"'baza nisk'!E254","v":140},0,null,null,{"$f":"'baza nisk'!G254","v":"Zespół Konsultantów Biznesowych"},"","","proszę kliknąć aby wybrać nazwę komórki organizacyjnej",0]
[{"$f":"'baza nisk'!A250","v":"K-088A"},{"$f":"'baza nisk'!B250","v":"Krzesło Iso tapicerowane"},{"$f":"'baza nisk'!D250","v":"MEBLE"},null,0,null,{"$f":"'baza nisk'!E250","v":140},0,null,null,{"$f":"'baza nisk'!G250","v":"Oddział Dermatologiczny"},"","","proszę kliknąć aby wybrać nazwę komórki organizacyjnej",0]
[{"$f":"'baza nisk'!A255","v":"K-088B"},{"$f":"'baza nisk'!B255","v":"Krzesło Iso tapicerowane"},{"$f":"'baza nisk'!D255","v":"MEBLE"},null,0,null,{"$f":"'baza nisk'!E255","v":140},0,null,null,{"$f":"'baza nisk'!G255","v":"Oddział Pediatryczny"},"","","proszę kliknąć aby wybrać nazwę komórki organizacyjnej",0]
[{"$f":"'baza nisk'!A256","v":"K-088B"},{"$f":"'baza nisk'!B256","v":"Krzesło Iso tapicerowane"},{"$f":"'baza nisk'!D256","v":"MEBLE"},null,0,null,{"$f":"'baza nisk'!E256","v":140},0,null,null,{"$f":"'baza nisk'!G256","v":"SekcjaMarketingu"},"","","proszę kliknąć aby wybrać nazwę komórki organizacyjnej",0]
[{"$f":"'baza nisk'!A257","v":"K-088C"},{"$f":"'baza nisk'!B257","v":"Krzesło Iso tapicerowane"},{"$f":"'baza nisk'!D257","v":"MEBLE"},null,0,null,{"$f":"'baza nisk'!E257","v":140},0,null,null,{"$f":"'baza nisk'!G257","v":"Zamiejscowy Dział Rehabilitacji Leczniczej"},"","","proszę kliknąć aby wybrać nazwę komórki organizacyjnej",0]
[{"$f":"'baza nisk'!A261","v":"K-088D"},{"$f":"'baza nisk'!B261","v":"Krzesło Iso tapicerowane"},{"$f":"'baza nisk'!D261","v":"MEBLE"},null,0,null,{"$f":"'baza nisk'!E261","v":140},0,null,null,{"$f":"'baza nisk'!G261","v":"Zamiejscowy Oddział Rehabilitacji Neurologicznej"},"","","proszę kliknąć aby wybrać nazwę komórki organizacyjnej",0]
[{"$f":"'baza nisk'!A260","v":"K-088D"},{"$f":"'baza nisk'!B260","v":"Krzesło Iso tapicerowane"},{"$f":"'baza nisk'!D260","v":"MEBLE"},null,0,null,{"$f":"'baza nisk'!E260","v":140},{"$f":"E262*G262","v":0},null,null,{"$f":"'baza nisk'!G260","v":"Zamiejscowy Dział Rehabilitacji Leczniczej"},{"$f":"IF($B$2=K262,$B$2,\"\")","v":""},{"$f":"IF($B$2=K262,1,\"\")","v":""},{"$f":"$B$2","v":"proszę kliknąć aby wybrać nazwę komórki organizacyjnej"},{"$f":"$H$2","v":0}]
[{"$f":"'baza nisk'!A258","v":"K-088D"},{"$f":"'baza nisk'!B258","v":"Krzesło Iso tapicerowane"},{"$f":"'baza nisk'!D258","v":"MEBLE"},null,0,null,{"$f":"'baza nisk'!E258","v":140},0,null,null,{"$f":"'baza nisk'!G258","v":"DODO -Pracowania Tomografii Komputerowej"},"","","proszę kliknąć aby wybrać nazwę komórki organizacyjnej",0]
[{"$f":"'baza nisk'!A259","v":"K-088D"},{"$f":"'baza nisk'!B259","v":"Krzesło Iso tapicerowane"},{"$f":"'baza nisk'!D259","v":"MEBLE"},null,0,null,{"$f":"'baza nisk'!E259","v":140},0,null,null,{"$f":"'baza nisk'!G259","v":"DODO -Pracownia Mammografii"},"","","proszę kliknąć aby wybrać nazwę komórki organizacyjnej",0]
[{"$f":"'baza nisk'!A262","v":"K-088E"},{"$f":"'baza nisk'!B262","v":"Krzesło Iso alu S084 2osobowe czy ławka???????"},{"$f":"'baza nisk'!D262","v":"MEBLE"},null,0,null,{"$f":"'baza nisk'!E262","v":254},0,null,null,{"$f":"'baza nisk'!G262","v":"Oddział Chirurgii Onkologicznej"},"","","proszę kliknąć aby wybrać nazwę komórki organizacyjnej",0]
[{"$f":"'baza nisk'!A263","v":"K-088F"},{"$f":"'baza nisk'!B263","v":"Krzesło Iso Wood (drewniane)"},{"$f":"'baza nisk'!D263","v":"MEBLE"},null,0,null,{"$f":"'baza nisk'!E263","v":170},0,null,null,{"$f":"'baza nisk'!G263","v":"Blok Operacyjny"},"","","proszę kliknąć aby wybrać nazwę komórki organizacyjnej",0]
[{"$f":"'baza nisk'!A264","v":"K-088F"},{"$f":"'baza nisk'!B264","v":"Krzesło Iso Wood (drewniane)"},{"$f":"'baza nisk'!D264","v":"MEBLE"},null,0,null,{"$f":"'baza nisk'!E264","v":170},0,null,null,{"$f":"'baza nisk'!G264","v":"Oddział Kardiologii Dziecięcej z Pododdziałem Kardiochirurgi"},"","","proszę kliknąć aby wybrać nazwę komórki organizacyjnej",0]
[{"$f":"'baza nisk'!A265","v":"K-088F"},{"$f":"'baza nisk'!B265","v":"Krzesło Iso Wood (drewniane)"},{"$f":"'baza nisk'!D265","v":"MEBLE"},null,0,null,{"$f":"'baza nisk'!E265","v":170},0,null,null,{"$f":"'baza nisk'!G265","v":"Oddział Położniczo – Ginekologiczny"},"","","proszę kliknąć aby wybrać nazwę komórki organizacyjnej",0]
[{"$f":"'baza nisk'!A266","v":"K-088G"},{"$f":"'baza nisk'!B266","v":"Krzesło Cortina (plastikowe)"},{"$f":"'baza nisk'!D266","v":"MEBLE"},null,0,null,{"$f":"'baza nisk'!E266","v":80},0,null,null,{"$f":"'baza nisk'!G266","v":"Poradnia Chirurgii Naczyniowej"},"","","proszę kliknąć aby wybrać nazwę komórki organizacyjnej",0]
[{"$f":"'baza nisk'!A267","v":"K-088G"},{"$f":"'baza nisk'!B267","v":"Krzesło Cortina (plastikowe)"},{"$f":"'baza nisk'!D267","v":"MEBLE"},null,0,null,{"$f":"'baza nisk'!E267","v":80},0,null,null,{"$f":"'baza nisk'!G267","v":"Zamiejscowy Oddział Rehabilitacji Ogólnoustrojowej II"},"","","proszę kliknąć aby wybrać nazwę komórki organizacyjnej",0]
[{"$f":"'baza nisk'!A269","v":"K-088H"},{"$f":"'baza nisk'!B269","v":"Krzesło  TYPU Samba "},{"$f":"'baza nisk'!D269","v":"MEBLE"},null,0,null,{"$f":"'baza nisk'!E269","v":375},0,null,null,{"$f":"'baza nisk'!G269","v":"Oddział Kardiologii Dziecięcej z Pododdziałem Kardiochirurgi"},"","","proszę kliknąć aby wybrać nazwę komórki organizacyjnej",0]
[{"$f":"'baza nisk'!A268","v":"K-088H"},{"$f":"'baza nisk'!B268","v":"Krzesło  TYPU Samba "},{"$f":"'baza nisk'!D268","v":"MEBLE"},null,0,null,{"$f":"'baza nisk'!E268","v":375},0,null,null,{"$f":"'baza nisk'!G268","v":"Intensywna Terapia"},"","","proszę kliknąć aby wybrać nazwę komórki organizacyjnej",0]
[{"$f":"'baza nisk'!A270","v":"K-088H"},{"$f":"'baza nisk'!B270","v":"Krzesło  TYPU Samba "},{"$f":"'baza nisk'!D270","v":"MEBLE"},null,0,null,{"$f":"'baza nisk'!E270","v":375},0,null,null,{"$f":"'baza nisk'!G270","v":"Programedukacyjny atopowe zapalenie skóry (AZS)"},"","","proszę kliknąć aby wybrać nazwę komórki organizacyjnej",0]
[{"$f":"'baza nisk'!A271","v":"K-088I"},{"$f":"'baza nisk'!B271","v":"Krzesło Iso Black-skaj V-28"},{"$f":"'baza nisk'!D271","v":"MEBLE"},null,0,null,{"$f":"'baza nisk'!E271","v":80},0,null,null,{"$f":"'baza nisk'!G271","v":"Zamiejscowy Oddział Rehabilitacji Neurologicznej"},"","","proszę kliknąć aby wybrać nazwę komórki organizacyjnej",0]
[{"$f":"'baza nisk'!A272","v":"K-088I"},{"$f":"'baza nisk'!B272","v":"Krzesło Iso Black-skaj V-28"},{"$f":"'baza nisk'!D272","v":"MEBLE"},null,0,null,{"$f":"'baza nisk'!E272","v":80},0,null,null,{"$f":"'baza nisk'!G272","v":"Zamiejscowy Oddział Rehabilitacji Ogólnoustrojowej I"},"","","proszę kliknąć aby wybrać nazwę komórki organizacyjnej",0]
[{"$f":"'baza nisk'!A273","v":"K-088I"},{"$f":"'baza nisk'!B273","v":"Krzesło Iso Black-skaj V-28"},{"$f":"'baza nisk'!D273","v":"MEBLE"},null,0,null,{"$f":"'baza nisk'!E273","v":80},0,null,null,{"$f":"'baza nisk'!G273","v":"Zamiejscowy Oddział Rehabilitacji Ogólnoustrojowej II"},"","","proszę kliknąć aby wybrać nazwę komórki organizacyjnej",0]
[{"$f":"'baza nisk'!A274","v":"K-088J"},{"$f":"'baza nisk'!B274","v":"Krzesło Samba chrom"},{"$f":"'baza nisk'!D274","v":"MEBLE"},null,0,null,{"$f":"'baza nisk'!E274","v":260},0,null,null,{"$f":"'baza nisk'!G274","v":"Oddział Neonatologiczny z Pododdziałem Patologii Noworodka"},"","","proszę kliknąć aby wybrać nazwę komórki organizacyjnej",0]
[{"$f":"'baza nisk'!A275","v":"K-088K"},{"$f":"'baza nisk'!B275","v":"Krzesło Styl chrom -V17"},{"$f":"'baza nisk'!D275","v":"MEBLE"},null,0,null,{"$f":"'baza nisk'!E275","v":150},0,null,null,{"$f":"'baza nisk'!G275","v":"Oddział Neonatologiczny z Pododdziałem Patologii Noworodka"},"","","proszę kliknąć aby wybrać nazwę komórki organizacyjnej",0]
[{"$f":"'baza nisk'!A276","v":"K-088L"},{"$f":"'baza nisk'!B276","v":"Krzesło Iso wood -konferencyjne"},{"$f":"'baza nisk'!D276","v":"MEBLE"},null,0,null,{"$f":"'baza nisk'!E276","v":120},0,null,null,{"$f":"'baza nisk'!G276","v":"Poradnia Chirurgii Onkologicznej"},"","","proszę kliknąć aby wybrać nazwę komórki organizacyjnej",0]
[{"$f":"'baza nisk'!A277","v":"K-088M"},{"$f":"'baza nisk'!B277","v":"Krzesło Beta  Chrome"},{"$f":"'baza nisk'!D277","v":"MEBLE"},null,0,null,{"$f":"'baza nisk'!E277","v":100},0,null,null,{"$f":"'baza nisk'!G277","v":"Oddział Kardiologiczny"},"","","proszę kliknąć aby wybrać nazwę komórki organizacyjnej",0]
[{"$f":"'baza nisk'!A278","v":"K-088M"},{"$f":"'baza nisk'!B278","v":"Krzesło Beta  Chrome"},{"$f":"'baza nisk'!D278","v":"MEBLE"},null,0,null,{"$f":"'baza nisk'!E278","v":100},0,null,null,{"$f":"'baza nisk'!G278","v":"Poradnia Kardiologiczna"},"","","proszę kliknąć aby wybrać nazwę komórki organizacyjnej",0]
[{"$f":"'baza nisk'!A279","v":"K-088N"},{"$f":"'baza nisk'!B279","v":"Krzesło OFFIX GTS -M15"},{"$f":"'baza nisk'!D279","v":"MEBLE"},null,0,null,{"$f":"'baza nisk'!E279","v":450},0,null,null,{"$f":"'baza nisk'!G279","v":"Zamiejscowy Oddział Rehabilitacji Neurologicznej"},"","","proszę kliknąć aby wybrać nazwę komórki organizacyjnej",0]
[{"$f":"'baza nisk'!A280","v":"K-091A"},{"$f":"'baza nisk'!B280","v":"Kalkulator "},{"$f":"'baza nisk'!D280","v":"URZĄDZ. BIUROWE"},null,0,null,{"$f":"'baza nisk'!E280","v":60},0,null,null,{"$f":"'baza nisk'!G280","v":"Zespół Konsultantów Biznesowych"},"","","proszę kliknąć aby wybrać nazwę komórki organizacyjnej",0]
[{"$f":"'baza nisk'!A281","v":"K-091B"},{"$f":"'baza nisk'!B281","v":"Kalkulator "},{"$f":"'baza nisk'!D281","v":"URZĄDZ. BIUROWE"},null,0,null,{"$f":"'baza nisk'!E281","v":60},0,null,null,{"$f":"'baza nisk'!G281","v":"Dział Zaopatrzenia i Zamówień Publicznych"},"","","proszę kliknąć aby wybrać nazwę komórki organizacyjnej",0]
[{"$f":"'baza nisk'!A282","v":"K-091C"},{"$f":"'baza nisk'!B282","v":"Kalkulator księgowy"},{"$f":"'baza nisk'!D282","v":"URZĄDZ. BIUROWE"},null,0,null,{"$f":"'baza nisk'!E282","v":139.97},0,null,null,{"$f":"'baza nisk'!G282","v":"Dział Księgowości i Finansów"},"","","proszę kliknąć aby wybrać nazwę komórki organizacyjnej",0]
[{"$f":"'baza nisk'!A283","v":"K-091D"},{"$f":"'baza nisk'!B283","v":"Kalkulator "},{"$f":"'baza nisk'!D283","v":"URZĄDZ. BIUROWE"},null,0,null,{"$f":"'baza nisk'!E283","v":60},0,null,null,{"$f":"'baza nisk'!G283","v":"Dział Sprzedaży Usług Medycznych"},"","","proszę kliknąć aby wybrać nazwę komórki organizacyjnej",0]
[{"$f":"'baza nisk'!A284","v":"K-091D"},{"$f":"'baza nisk'!B284","v":"Kalkulator "},{"$f":"'baza nisk'!D284","v":"URZĄDZ. BIUROWE"},null,0,null,{"$f":"'baza nisk'!E284","v":60},0,null,null,{"$f":"'baza nisk'!G284","v":"Dział Zaopatrzenia i Zamówień Publicznych"},"","","proszę kliknąć aby wybrać nazwę komórki organizacyjnej",0]
[{"$f":"'baza nisk'!A286","v":"K-091E"},{"$f":"'baza nisk'!B286","v":"Kalkulator "},{"$f":"'baza nisk'!D286","v":"URZĄDZ. BIUROWE"},null,0,null,{"$f":"'baza nisk'!E286","v":60},0,null,null,{"$f":"'baza nisk'!G286","v":"Dział Zaopatrzenia i Zamówień Publicznych"},"","","proszę kliknąć aby wybrać nazwę komórki organizacyjnej",0]
[{"$f":"'baza nisk'!A285","v":"K-091E"},{"$f":"'baza nisk'!B285","v":"Kalkulator "},{"$f":"'baza nisk'!D285","v":"URZĄDZ. BIUROWE"},null,0,null,{"$f":"'baza nisk'!E285","v":60},0,null,null,{"$f":"'baza nisk'!G285","v":"Dział Sprzedaży Usług Medycznych"},"","","proszę kliknąć aby wybrać nazwę komórki organizacyjnej",0]
[{"$f":"'baza nisk'!A287","v":"K-091G"},{"$f":"'baza nisk'!B287","v":"Kalkulator księgowy"},{"$f":"'baza nisk'!D287","v":"URZĄDZ. BIUROWE"},null,0,null,{"$f":"'baza nisk'!E287","v":139.97},0,null,null,{"$f":"'baza nisk'!G287","v":"Dział Księgowości i Finansów"},"","","proszę kliknąć aby wybrać nazwę komórki organizacyjnej",0]
[{"$f":"'baza nisk'!A295","v":"K-103"},{"$f":"'baza nisk'!B295","v":"Kozetka -stół rehabilitacyjny "},{"$f":"'baza nisk'!D295","v":"MEBLE MEDYCZNE"},null,0,null,{"$f":"'baza nisk'!E295","v":275.39999999999998},0,null,null,{"$f":"'baza nisk'!G295","v":"Poradnia Neurochirurgiczna"},"","","proszę kliknąć aby wybrać nazwę komórki organizacyjnej",0]
[{"$f":"'baza nisk'!A288","v":"K-103"},{"$f":"'baza nisk'!B288","v":"Kozetka -stół rehabilitacyjny "},{"$f":"'baza nisk'!D288","v":"MEBLE MEDYCZNE"},null,0,null,{"$f":"'baza nisk'!E288","v":275.39999999999998},0,null,null,{"$f":"'baza nisk'!G288","v":"DODO -Pracownia USG"},"","","proszę kliknąć aby wybrać nazwę komórki organizacyjnej",0]
[{"$f":"'baza nisk'!A289","v":"K-103"},{"$f":"'baza nisk'!B289","v":"Kozetka -stół rehabilitacyjny "},{"$f":"'baza nisk'!D289","v":"MEBLE MEDYCZNE"},null,0,null,{"$f":"'baza nisk'!E289","v":275.39999999999998},0,null,null,{"$f":"'baza nisk'!G289","v":"DODO -Zamiejscowa Pracownia RTG"},"","","proszę kliknąć aby wybrać nazwę komórki organizacyjnej",0]
[{"$f":"'baza nisk'!A290","v":"K-103"},{"$f":"'baza nisk'!B290","v":"Kozetka -stół rehabilitacyjny "},{"$f":"'baza nisk'!D290","v":"MEBLE MEDYCZNE"},null,0,null,{"$f":"'baza nisk'!E290","v":275.39999999999998},0,null,null,{"$f":"'baza nisk'!G290","v":"Oddział Chirurgii Naczyniowej"},"","","proszę kliknąć aby wybrać nazwę komórki organizacyjnej",0]
[{"$f":"'baza nisk'!A291","v":"K-103"},{"$f":"'baza nisk'!B291","v":"Kozetka -stół rehabilitacyjny "},{"$f":"'baza nisk'!D291","v":"MEBLE MEDYCZNE"},null,0,null,{"$f":"'baza nisk'!E291","v":275.39999999999998},0,null,null,{"$f":"'baza nisk'!G291","v":"Oddział Kardiologii Dziecięcej z Pododdziałem Kardiochirurgi"},"","","proszę kliknąć aby wybrać nazwę komórki organizacyjnej",0]
[{"$f":"'baza nisk'!A292","v":"K-103"},{"$f":"'baza nisk'!B292","v":"Kozetka -stół rehabilitacyjny "},{"$f":"'baza nisk'!D292","v":"MEBLE MEDYCZNE"},null,0,null,{"$f":"'baza nisk'!E292","v":275.39999999999998},0,null,null,{"$f":"'baza nisk'!G292","v":"Oddział Pediatryczny z Pododdziałem Gastroenterologii "},"","","proszę kliknąć aby wybrać nazwę komórki organizacyjnej",0]
[{"$f":"'baza nisk'!A293","v":"K-103"},{"$f":"'baza nisk'!B293","v":"Kozetka -stół rehabilitacyjny "},{"$f":"'baza nisk'!D293","v":"MEBLE MEDYCZNE"},null,0,null,{"$f":"'baza nisk'!E293","v":275.39999999999998},0,null,null,{"$f":"'baza nisk'!G293","v":"Ośrodek Badań Klinicznych"},"","","proszę kliknąć aby wybrać nazwę komórki organizacyjnej",0]
[{"$f":"'baza nisk'!A294","v":"K-103"},{"$f":"'baza nisk'!B294","v":"Kozetka -stół rehabilitacyjny "},{"$f":"'baza nisk'!D294","v":"MEBLE MEDYCZNE"},null,0,null,{"$f":"'baza nisk'!E294","v":275.39999999999998},0,null,null,{"$f":"'baza nisk'!G294","v":"Poradnia Chirurgii Onkologicznej"},"","","proszę kliknąć aby wybrać nazwę komórki organizacyjnej",0]
[{"$f":"'baza nisk'!A296","v":"K-103B"},{"$f":"'baza nisk'!B296","v":"Kozetka -stół rehabilitacyjny "},{"$f":"'baza nisk'!D296","v":"MEBLE MEDYCZNE"},null,0,null,{"$f":"'baza nisk'!E296","v":275.39999999999998},0,null,null,{"$f":"'baza nisk'!G296","v":"Oddział Położniczo – Ginekologiczny"},"","","proszę kliknąć aby wybrać nazwę komórki organizacyjnej",0]
[{"$f":"'baza nisk'!A297","v":"K-105"},{"$f":"'baza nisk'!B297","v":"Koszula biała szpitalna dla chorego"},{"$f":"'baza nisk'!D297","v":"POŚCIEL SZPITAL"},null,0,null,{"$f":"'baza nisk'!E297","v":40},0,null,null,{"$f":"'baza nisk'!G297","v":"Oddział Angiologiczny z Pododdziałem Diabetologii"},"","","proszę kliknąć aby wybrać nazwę komórki organizacyjnej",0]
[{"$f":"'baza nisk'!A298","v":"K-105"},{"$f":"'baza nisk'!B298","v":"Koszula biała szpitalna dla chorego"},{"$f":"'baza nisk'!D298","v":"POŚCIEL SZPITAL"},null,0,null,{"$f":"'baza nisk'!E298","v":40},0,null,null,{"$f":"'baza nisk'!G298","v":"Oddział Chirurgii Ogólnej z Pododdziałami"},"","","proszę kliknąć aby wybrać nazwę komórki organizacyjnej",0]
[{"$f":"'baza nisk'!A299","v":"K-105A"},{"$f":"'baza nisk'!B299","v":"Koszula szpitalna dla dzieci flanelowa"},{"$f":"'baza nisk'!D299","v":"POŚCIEL SZPITAL"},null,0,null,{"$f":"'baza nisk'!E299","v":40},0,null,null,{"$f":"'baza nisk'!G299","v":"Oddział Otolaryngologiczny z Pododdziałem Otolaryngologii"},"","","proszę kliknąć aby wybrać nazwę komórki organizacyjnej",0]
[{"$f":"'baza nisk'!A302","v":"K-113A"},{"$f":"'baza nisk'!B302","v":"Kontener na kółkach 40x45x60h"},{"$f":"'baza nisk'!D302","v":"MEBLE"},null,0,null,{"$f":"'baza nisk'!E302","v":479},0,null,null,{"$f":"'baza nisk'!G302","v":"SOR"},"","","proszę kliknąć aby wybrać nazwę komórki organizacyjnej",0]
[{"$f":"'baza nisk'!A300","v":"K-113A"},{"$f":"'baza nisk'!B300","v":"Kontener na kółkach 40x45x60h"},{"$f":"'baza nisk'!D300","v":"MEBLE"},null,0,null,{"$f":"'baza nisk'!E300","v":479},0,null,null,{"$f":"'baza nisk'!G300","v":"Dział Zaopatrzenia i Zamówień Publicznych"},"","","proszę kliknąć aby wybrać nazwę komórki organizacyjnej",0]
[{"$f":"'baza nisk'!A301","v":"K-113A"},{"$f":"'baza nisk'!B301","v":"Kontener na kółkach 40x45x60h"},{"$f":"'baza nisk'!D301","v":"MEBLE"},null,0,null,{"$f":"'baza nisk'!E301","v":479},0,null,null,{"$f":"'baza nisk'!G301","v":"Oddział Kardiologii Dziecięcej z Pododdziałem Kardiochirurgi"},"","","proszę kliknąć aby wybrać nazwę komórki organizacyjnej",0]
[{"$f":"'baza nisk'!A303","v":"K-113B"},{"$f":"'baza nisk'!B303","v":"Kontener na kółkach 40x50x50h"},{"$f":"'baza nisk'!D303","v":"MEBLE"},null,0,null,{"$f":"'baza nisk'!E303","v":479},0,null,null,{"$f":"'baza nisk'!G303","v":"Oddział Okulistyczny"},"","","proszę kliknąć aby wybrać nazwę komórki organizacyjnej",0]
[{"$f":"'baza nisk'!A304","v":"K-113C"},{"$f":"'baza nisk'!B304","v":"Kontener na kółkach 35x40x60h"},{"$f":"'baza nisk'!D304","v":"MEBLE"},null,0,null,{"$f":"'baza nisk'!E304","v":479},0,null,null,{"$f":"'baza nisk'!G304","v":"Oddział Okulistyczny"},"","","proszę kliknąć aby wybrać nazwę komórki organizacyjnej",0]
[{"$f":"'baza nisk'!A305","v":"K-113C"},{"$f":"'baza nisk'!B305","v":"Kontener na kółkach 35x40x60h"},{"$f":"'baza nisk'!D305","v":"MEBLE"},null,0,null,{"$f":"'baza nisk'!E305","v":479},0,null,null,{"$f":"'baza nisk'!G305","v":"Poradnia Chirurgii Onkologicznej"},"","","proszę kliknąć aby wybrać nazwę komórki organizacyjnej",0]
[{"$f":"'baza nisk'!A306","v":"K-114B"},{"$f":"'baza nisk'!B306","v":"Kleszcze naczyniowe Kocher 1x2z. zakrzywione 14"},{"$f":"'baza nisk'!D306","v":"NARZ. MEDYCZNE"},null,0,null,{"$f":"'baza nisk'!E306","v":90},0,null,null,{"$f":"'baza nisk'!G306","v":"Blok Operacyjny"},"","","proszę kliknąć aby wybrać nazwę komórki organizacyjnej",0]
[{"$f":"'baza nisk'!A307","v":"K-114B"},{"$f":"'baza nisk'!B307","v":"Kleszcze naczyniowe Kocher 1x2z. zakrzywione 14"},{"$f":"'baza nisk'!D307","v":"NARZ. MEDYCZNE"},null,0,null,{"$f":"'baza nisk'!E307","v":90},0,null,null,{"$f":"'baza nisk'!G307","v":"Poradnia Otolaryngologiczna"},"","","proszę kliknąć aby wybrać nazwę komórki organizacyjnej",0]
[{"$f":"'baza nisk'!A308","v":"K-114C"},{"$f":"'baza nisk'!B308","v":"Kleszcze naczyniowe Kocher-OCHSN. zakrzywione 2"},{"$f":"'baza nisk'!D308","v":"NARZ. MEDYCZNE"},null,0,null,{"$f":"'baza nisk'!E308","v":320},0,null,null,{"$f":"'baza nisk'!G308","v":"Blok Operacyjny"},"","","proszę kliknąć aby wybrać nazwę komórki organizacyjnej",0]
[{"$f":"'baza nisk'!A309","v":"K-114C"},{"$f":"'baza nisk'!B309","v":"Kleszcze naczyniowe Kocher-OCHSN. zakrzywione 2"},{"$f":"'baza nisk'!D309","v":"NARZ. MEDYCZNE"},null,0,null,{"$f":"'baza nisk'!E309","v":320},0,null,null,{"$f":"'baza nisk'!G309","v":"Zamiejscowy Blok Operacyjny"},"","","proszę kliknąć aby wybrać nazwę komórki organizacyjnej",0]
[{"$f":"'baza nisk'!A310","v":"K-114E"},{"$f":"'baza nisk'!B310","v":"Kleszcze naczyniowe Kocher-OCHSN zakrzywione 18"},{"$f":"'baza nisk'!D310","v":"NARZ. MEDYCZNE"},null,0,null,{"$f":"'baza nisk'!E310","v":200},0,null,null,{"$f":"'baza nisk'!G310","v":"Blok Operacyjny"},"","","proszę kliknąć aby wybrać nazwę komórki organizacyjnej",0]
[{"$f":"'baza nisk'!A311","v":"K-122"},{"$f":"'baza nisk'!B311","v":"Kuchenka mikrofalowa"},{"$f":"'baza nisk'!D311","v":"SPRZĘT AGD"},null,0,null,{"$f":"'baza nisk'!E311","v":340},0,null,null,{"$f":"'baza nisk'!G311","v":"Oddział Położniczo – Ginekologiczny"},"","","proszę kliknąć aby wybrać nazwę komórki organizacyjnej",0]
[{"$f":"'baza nisk'!A312","v":"K-122A"},{"$f":"'baza nisk'!B312","v":"Kuchenka mikrofalowa"},{"$f":"'baza nisk'!D312","v":"SPRZĘT AGD"},null,0,null,{"$f":"'baza nisk'!E312","v":340},0,null,null,{"$f":"'baza nisk'!G312","v":"Oddział Pediatryczny z Pododdziałem Gastroenterologii "},"","","proszę kliknąć aby wybrać nazwę komórki organizacyjnej",0]
[{"$f":"'baza nisk'!A313","v":"K-125A"},{"$f":"'baza nisk'!B313","v":"Kocyk dla noworodka 100%bawełna wymiar: 75/98 c"},{"$f":"'baza nisk'!D313","v":"POŚCIEL SZPITAL"},null,0,null,{"$f":"'baza nisk'!E313","v":33},0,null,null,{"$f":"'baza nisk'!G313","v":"Oddział Neonatologiczny z Pododdziałem Patologii Noworodka"},"","","proszę kliknąć aby wybrać nazwę komórki organizacyjnej",0]
[{"$f":"'baza nisk'!A314","v":"K-125A"},{"$f":"'baza nisk'!B314","v":"Kocyk dla noworodka 100%bawełna wymiar: 75/98 c"},{"$f":"'baza nisk'!D314","v":"POŚCIEL SZPITAL"},null,0,null,{"$f":"'baza nisk'!E314","v":33},0,null,null,{"$f":"'baza nisk'!G314","v":"Oddział Położniczo – Ginekologiczny"},"","","proszę kliknąć aby wybrać nazwę komórki organizacyjnej",0]
[{"$f":"'baza nisk'!A320","v":"K-125c"},{"$f":"'baza nisk'!B320","v":"Koc szpitalny 160x210"},{"$f":"'baza nisk'!D320","v":"POŚCIEL SZPITAL"},null,0,null,{"$f":"'baza nisk'!E320","v":90},0,null,null,{"$f":"'baza nisk'!G320","v":"Zamiejscowy Oddział Rehabilitacji Ogólnoustrojowej II"},"","","proszę kliknąć aby wybrać nazwę komórki organizacyjnej",0]
[{"$f":"'baza nisk'!A317","v":"K-125c"},{"$f":"'baza nisk'!B317","v":"Koc szpitalny 160x210"},{"$f":"'baza nisk'!D317","v":"POŚCIEL SZPITAL"},null,0,null,{"$f":"'baza nisk'!E317","v":90},0,null,null,{"$f":"'baza nisk'!G317","v":"Oddział Chirurgii Onkologicznej"},"","","proszę kliknąć aby wybrać nazwę komórki organizacyjnej",0]
[{"$f":"'baza nisk'!A318","v":"K-125c"},{"$f":"'baza nisk'!B318","v":"Koc szpitalny 160x210"},{"$f":"'baza nisk'!D318","v":"POŚCIEL SZPITAL"},null,0,null,{"$f":"'baza nisk'!E318","v":90},0,null,null,{"$f":"'baza nisk'!G318","v":"Oddział Kardiologiczny"},"","","proszę kliknąć aby wybrać nazwę komórki organizacyjnej",0]
[{"$f":"'baza nisk'!A316","v":"K-125c"},{"$f":"'baza nisk'!B316","v":"Koc szpitalny 160x210"},{"$f":"'baza nisk'!D316","v":"POŚCIEL SZPITAL"},null,0,null,{"$f":"'baza nisk'!E316","v":90},0,null,null,{"$f":"'baza nisk'!G316","v":"Oddział Chemioterapii z Pododdziałem Chemioterapii Dziennej"},"","","proszę kliknąć aby wybrać nazwę komórki organizacyjnej",0]
[{"$f":"'baza nisk'!A319","v":"K-125c"},{"$f":"'baza nisk'!B319","v":"Koc szpitalny 160x210"},{"$f":"'baza nisk'!D319","v":"POŚCIEL SZPITAL"},null,0,null,{"$f":"'baza nisk'!E319","v":90},0,null,null,{"$f":"'baza nisk'!G319","v":"Oddział Pediatryczny z Pododdziałem Gastroenterologii "},"","","proszę kliknąć aby wybrać nazwę komórki organizacyjnej",0]
[{"$f":"'baza nisk'!A315","v":"K-125c"},{"$f":"'baza nisk'!B315","v":"Koc szpitalny 160x210"},{"$f":"'baza nisk'!D315","v":"POŚCIEL SZPITAL"},null,0,null,{"$f":"'baza nisk'!E315","v":90},0,null,null,{"$f":"'baza nisk'!G315","v":"Oddział Angiologiczny z Pododdziałem Diabetologii"},"","","proszę kliknąć aby wybrać nazwę komórki organizacyjnej",0]
[{"$f":"'baza nisk'!A321","v":"K-158"},{"$f":"'baza nisk'!B321","v":"Kuchnia gazowa"},{"$f":"'baza nisk'!D321","v":"SPRZĘT AGD"},null,0,null,{"$f":"'baza nisk'!E321","v":680.01},0,null,null,{"$f":"'baza nisk'!G321","v":"Hotel Pracowniczy"},"","","proszę kliknąć aby wybrać nazwę komórki organizacyjnej",0]
[{"$f":"'baza nisk'!A322","v":"K-158A"},{"$f":"'baza nisk'!B322","v":"Kuchnia gazowa"},{"$f":"'baza nisk'!D322","v":"SPRZĘT AGD"},null,0,null,{"$f":"'baza nisk'!E322","v":680.01},0,null,null,{"$f":"'baza nisk'!G322","v":"Dział Gospodarki Nieruchomościami i Utrzymania Ruchu"},"","","proszę kliknąć aby wybrać nazwę komórki organizacyjnej",0]
[{"$f":"'baza nisk'!A323","v":"K-158A"},{"$f":"'baza nisk'!B323","v":"Kuchnia gazowa"},{"$f":"'baza nisk'!D323","v":"SPRZĘT AGD"},null,0,null,{"$f":"'baza nisk'!E323","v":680.01},{"$f":"E326*G326","v":0},null,null,{"$f":"'baza nisk'!G323","v":"Hotel Pracowniczy"},{"$f":"IF($B$2=K326,$B$2,\"\")","v":""},{"$f":"IF($B$2=K326,1,\"\")","v":""},{"$f":"$B$2","v":"proszę kliknąć aby wybrać nazwę komórki organizacyjnej"},{"$f":"$H$2","v":0}]
[{"$f":"'baza nisk'!A324","v":"K-158B"},{"$f":"'baza nisk'!B324","v":"Kuchenka gazowa Amica 58GG4,23OFP"},{"$f":"'baza nisk'!D324","v":"SPRZĘT AGD"},null,0,null,{"$f":"'baza nisk'!E324","v":680.01},0,null,null,{"$f":"'baza nisk'!G324","v":"Hotel Pracowniczy"},"","","proszę kliknąć aby wybrać nazwę komórki organizacyjnej",0]
[{"$f":"'baza nisk'!A325","v":"K-161"},{"$f":"'baza nisk'!B325","v":"Kanapa-sofa 3DL z funkcją"},{"$f":"'baza nisk'!D325","v":"MEBLE"},null,0,null,{"$f":"'baza nisk'!E325","v":1249},0,null,null,{"$f":"'baza nisk'!G325","v":"Intensywna Terapia"},"","","proszę kliknąć aby wybrać nazwę komórki organizacyjnej",0]
[{"$f":"'baza nisk'!A326","v":"K-161A"},{"$f":"'baza nisk'!B326","v":"Kanapa narożna -Narożnik Blue z funkcją tkanina"},{"$f":"'baza nisk'!D326","v":"MEBLE"},null,0,null,{"$f":"'baza nisk'!E326","v":1899},0,null,null,{"$f":"'baza nisk'!G326","v":"Intensywna Terapia"},"","","proszę kliknąć aby wybrać nazwę komórki organizacyjnej",0]
[{"$f":"'baza nisk'!A327","v":"K-177"},{"$f":"'baza nisk'!B327","v":"Kosz sterylizacyjny ze stali kwasoodpornej 580x"},{"$f":"'baza nisk'!D327","v":"POZOSTAŁE"},null,0,null,{"$f":"'baza nisk'!E327","v":450},0,null,null,{"$f":"'baza nisk'!G327","v":"Intensywna Terapia"},"","","proszę kliknąć aby wybrać nazwę komórki organizacyjnej",0]
[{"$f":"'baza nisk'!A328","v":"K-177"},{"$f":"'baza nisk'!B328","v":"Kosz sterylizacyjny ze stali kwasoodpornej 580x"},{"$f":"'baza nisk'!D328","v":"POZOSTAŁE"},null,0,null,{"$f":"'baza nisk'!E328","v":450},0,null,null,{"$f":"'baza nisk'!G328","v":"Oddział Chirurgii Ogólnej z Pododdziałami"},"","","proszę kliknąć aby wybrać nazwę komórki organizacyjnej",0]
[{"$f":"'baza nisk'!A329","v":"K-178"},{"$f":"'baza nisk'!B329","v":"Krzesło Prestige"},{"$f":"'baza nisk'!D329","v":"MEBLE"},null,0,null,{"$f":"'baza nisk'!E329","v":243},0,null,null,{"$f":"'baza nisk'!G329","v":"Oddział Urologii i Urologii Onkologicznej"},"","","proszę kliknąć aby wybrać nazwę komórki organizacyjnej",0]
[{"$f":"'baza nisk'!A330","v":"K-178A"},{"$f":"'baza nisk'!B330","v":"Krzesło Prestige"},{"$f":"'baza nisk'!D330","v":"MEBLE"},null,0,null,{"$f":"'baza nisk'!E330","v":243},0,null,null,{"$f":"'baza nisk'!G330","v":"Oddział Pediatryczny z Pododdziałem Gastroenterologii "},"","","proszę kliknąć aby wybrać nazwę komórki organizacyjnej",0]
[{"$f":"'baza nisk'!A331","v":"K-180"},{"$f":"'baza nisk'!B331","v":"Krzesło Ikar "},{"$f":"'baza nisk'!D331","v":"MEBLE"},null,0,null,{"$f":"'baza nisk'!E331","v":120.54},0,null,null,{"$f":"'baza nisk'!G331","v":"Oddział Okulistyczny"},"","","proszę kliknąć aby wybrać nazwę komórki organizacyjnej",0]
[{"$f":"'baza nisk'!A332","v":"K-180A"},{"$f":"'baza nisk'!B332","v":"Krzesło Ikar "},{"$f":"'baza nisk'!D332","v":"MEBLE"},null,0,null,{"$f":"'baza nisk'!E332","v":120.54},0,null,null,{"$f":"'baza nisk'!G332","v":"Oddział Angiologiczny z Pododdziałem Diabetologii"},"","","proszę kliknąć aby wybrać nazwę komórki organizacyjnej",0]
[{"$f":"'baza nisk'!A333","v":"K-180B"},{"$f":"'baza nisk'!B333","v":"Krzesło Ikar "},{"$f":"'baza nisk'!D333","v":"MEBLE"},null,0,null,{"$f":"'baza nisk'!E333","v":120.54},0,null,null,{"$f":"'baza nisk'!G333","v":"Oddział Kardiologiczny"},"","","proszę kliknąć aby wybrać nazwę komórki organizacyjnej",0]
[{"$f":"'baza nisk'!A334","v":"K-180B"},{"$f":"'baza nisk'!B334","v":"Krzesło Ikar "},{"$f":"'baza nisk'!D334","v":"MEBLE"},null,0,null,{"$f":"'baza nisk'!E334","v":120.54},0,null,null,{"$f":"'baza nisk'!G334","v":"Oddział Pediatryczny"},"","","proszę kliknąć aby wybrać nazwę komórki organizacyjnej",0]
[{"$f":"'baza nisk'!A335","v":"K-180B"},{"$f":"'baza nisk'!B335","v":"Krzesło Ikar "},{"$f":"'baza nisk'!D335","v":"MEBLE"},null,0,null,{"$f":"'baza nisk'!E335","v":120.54},0,null,null,{"$f":"'baza nisk'!G335","v":"Poradnia Neurochirurgiczna"},"","","proszę kliknąć aby wybrać nazwę komórki organizacyjnej",0]
[{"$f":"'baza nisk'!A336","v":"K-180B"},{"$f":"'baza nisk'!B336","v":"Krzesło Ikar "},{"$f":"'baza nisk'!D336","v":"MEBLE"},null,0,null,{"$f":"'baza nisk'!E336","v":120.54},0,null,null,{"$f":"'baza nisk'!G336","v":"Zamiejscowy Oddział Chirurgii Urazowo - Ortopedycznej"},"","","proszę kliknąć aby wybrać nazwę komórki organizacyjnej",0]
[{"$f":"'baza nisk'!A337","v":"K-180C"},{"$f":"'baza nisk'!B337","v":"Krzesło Ikar "},{"$f":"'baza nisk'!D337","v":"MEBLE"},null,0,null,{"$f":"'baza nisk'!E337","v":120.54},0,null,null,{"$f":"'baza nisk'!G337","v":"Poradnia Chirurgii Urazowo - Ortopedycznej"},"","","proszę kliknąć aby wybrać nazwę komórki organizacyjnej",0]
[{"$f":"'baza nisk'!A338","v":"K-180D"},{"$f":"'baza nisk'!B338","v":"Krzesło Ikar "},{"$f":"'baza nisk'!D338","v":"MEBLE"},null,0,null,{"$f":"'baza nisk'!E338","v":120.54},0,null,null,{"$f":"'baza nisk'!G338","v":"Oddział Angiologiczny z Pododdziałem Diabetologii"},"","","proszę kliknąć aby wybrać nazwę komórki organizacyjnej",0]
[{"$f":"'baza nisk'!A340","v":"K-180E"},{"$f":"'baza nisk'!B340","v":"Krzesło Ikar "},{"$f":"'baza nisk'!D340","v":"MEBLE"},null,0,null,{"$f":"'baza nisk'!E340","v":120.54},0,null,null,{"$f":"'baza nisk'!G340","v":"Oddział Kardiologiczny"},"","","proszę kliknąć aby wybrać nazwę komórki organizacyjnej",0]
[{"$f":"'baza nisk'!A341","v":"K-180E"},{"$f":"'baza nisk'!B341","v":"Krzesło Ikar "},{"$f":"'baza nisk'!D341","v":"MEBLE"},null,0,null,{"$f":"'baza nisk'!E341","v":120.54},0,null,null,{"$f":"'baza nisk'!G341","v":"Oddział Neonatologiczny"},"","","proszę kliknąć aby wybrać nazwę komórki organizacyjnej",0]
[{"$f":"'baza nisk'!A342","v":"K-180E"},{"$f":"'baza nisk'!B342","v":"Krzesło Ikar "},{"$f":"'baza nisk'!D342","v":"MEBLE"},null,0,null,{"$f":"'baza nisk'!E342","v":120.54},0,null,null,{"$f":"'baza nisk'!G342","v":"Stacja Dializ"},"","","proszę kliknąć aby wybrać nazwę komórki organizacyjnej",0]
[{"$f":"'baza nisk'!A339","v":"K-180E"},{"$f":"'baza nisk'!B339","v":"Krzesło Ikar "},{"$f":"'baza nisk'!D339","v":"MEBLE"},null,0,null,{"$f":"'baza nisk'!E339","v":120.54},0,null,null,{"$f":"'baza nisk'!G339","v":"Oddział Chemioterapii z Pododdziałem Chemioterapii Dziennej"},"","","proszę kliknąć aby wybrać nazwę komórki organizacyjnej",0]
[{"$f":"'baza nisk'!A343","v":"K-189"},{"$f":"'baza nisk'!B343","v":"Kleszcze zatokowe pediatryczne,lewe STAMMBERGER"},{"$f":"'baza nisk'!D343","v":"NARZ. MEDYCZNE"},null,0,null,{"$f":"'baza nisk'!E343","v":2200},0,null,null,{"$f":"'baza nisk'!G343","v":"Oddział Otolaryngologiczny z Pododdziałem Otolaryngologii"},"","","proszę kliknąć aby wybrać nazwę komórki organizacyjnej",0]
[{"$f":"'baza nisk'!A344","v":"K-189A"},{"$f":"'baza nisk'!B344","v":"Kleszcze zatokowe STAMMBERGER RHINOFORCE II ,pr"},{"$f":"'baza nisk'!D344","v":"NARZ. MEDYCZNE"},null,0,null,{"$f":"'baza nisk'!E344","v":2600},0,null,null,{"$f":"'baza nisk'!G344","v":"Oddział Otolaryngologiczny z Pododdziałem Otolaryngologii"},"","","proszę kliknąć aby wybrać nazwę komórki organizacyjnej",0]
[{"$f":"'baza nisk'!A345","v":"K-189B"},{"$f":"'baza nisk'!B345","v":"Kleszcze zatokowe STAMMBERGER RHINOFORCE II ,le"},{"$f":"'baza nisk'!D345","v":"NARZ. MEDYCZNE"},null,0,null,{"$f":"'baza nisk'!E345","v":2800},0,null,null,{"$f":"'baza nisk'!G345","v":"Oddział Otolaryngologiczny z Pododdziałem Otolaryngologii"},"","","proszę kliknąć aby wybrać nazwę komórki organizacyjnej",0]
[{"$f":"'baza nisk'!A346","v":"K-192"},{"$f":"'baza nisk'!B346","v":"Kasa fiskalna POSNET MOBILE"},{"$f":"'baza nisk'!D346","v":"POZOSTAŁE"},null,0,null,{"$f":"'baza nisk'!E346","v":1230},0,null,null,{"$f":"'baza nisk'!G346","v":"Dział Gospodarki Nieruchomościami i Utrzymania Ruchu"},"","","proszę kliknąć aby wybrać nazwę komórki organizacyjnej",0]
[{"$f":"'baza nisk'!A347","v":"K-203"},{"$f":"'baza nisk'!B347","v":"Kleszcze optyczne do kruszenia kamieni,do zast."},{"$f":"'baza nisk'!D347","v":"NARZ. MEDYCZNE"},null,0,null,{"$f":"'baza nisk'!E347","v":4500},0,null,null,{"$f":"'baza nisk'!G347","v":"Oddział Urologii i Urologii Onkologicznej"},"","","proszę kliknąć aby wybrać nazwę komórki organizacyjnej",0]
[{"$f":"'baza nisk'!A348","v":"K-204"},{"$f":"'baza nisk'!B348","v":"Kleszcze optyczne biopsyjne, obie bransze rucho"},{"$f":"'baza nisk'!D348","v":"NARZ. MEDYCZNE"},null,0,null,{"$f":"'baza nisk'!E348","v":3000},0,null,null,{"$f":"'baza nisk'!G348","v":"Oddział Urologii i Urologii Onkologicznej"},"","","proszę kliknąć aby wybrać nazwę komórki organizacyjnej",0]
[{"$f":"'baza nisk'!A349","v":"K-205"},{"$f":"'baza nisk'!B349","v":"Kleszcze chwytające,bransze trójramienne ząbkow"},{"$f":"'baza nisk'!D349","v":"NARZ. MEDYCZNE"},null,0,null,{"$f":"'baza nisk'!E349","v":1300},0,null,null,{"$f":"'baza nisk'!G349","v":"Oddział Urologii i Urologii Onkologicznej"},"","","proszę kliknąć aby wybrać nazwę komórki organizacyjnej",0]
[{"$f":"'baza nisk'!A350","v":"K-205A"},{"$f":"'baza nisk'!B350","v":"Kleszcze chwytające,bransze trójramienne,ząbkow"},{"$f":"'baza nisk'!D350","v":"NARZ. MEDYCZNE"},null,0,null,{"$f":"'baza nisk'!E350","v":1400},0,null,null,{"$f":"'baza nisk'!G350","v":"Oddział Urologii i Urologii Onkologicznej"},"","","proszę kliknąć aby wybrać nazwę komórki organizacyjnej",0]
[{"$f":"'baza nisk'!A351","v":"K-213"},{"$f":"'baza nisk'!B351","v":"Krzesło biurowe DIKE z oparciem głowy"},{"$f":"'baza nisk'!D351","v":"MEBLE"},null,0,null,{"$f":"'baza nisk'!E351","v":1303.8},0,null,null,{"$f":"'baza nisk'!G351","v":"Dział Gospodarki Nieruchomościami i Utrzymania Ruchu"},"","","proszę kliknąć aby wybrać nazwę komórki organizacyjnej",0]
[{"$f":"'baza nisk'!A352","v":"K-223"},{"$f":"'baza nisk'!B352","v":"Krzesło Smart steel GTS Ring Base"},{"$f":"'baza nisk'!D352","v":"MEBLE"},null,0,null,{"$f":"'baza nisk'!E352","v":330},0,null,null,{"$f":"'baza nisk'!G352","v":"Oddział Położniczo – Ginekologiczny"},"","","proszę kliknąć aby wybrać nazwę komórki organizacyjnej",0]
[{"$f":"'baza nisk'!A353","v":"K-224"},{"$f":"'baza nisk'!B353","v":"Krzeslo Prestige GTS"},{"$f":"'baza nisk'!D353","v":"MEBLE"},null,0,null,{"$f":"'baza nisk'!E353","v":220},0,null,null,{"$f":"'baza nisk'!G353","v":"Oddział Otolaryngologiczny z Pododdziałem Otolaryngologii"},"","","proszę kliknąć aby wybrać nazwę komórki organizacyjnej",0]
[{"$f":"'baza nisk'!A354","v":"K-225"},{"$f":"'baza nisk'!B354","v":"Koszula dla matek karmiących"},{"$f":"'baza nisk'!D354","v":"POŚCIEL SZPITAL"},null,0,null,{"$f":"'baza nisk'!E354","v":50},0,null,null,{"$f":"'baza nisk'!G354","v":"Oddział Położniczo – Ginekologiczny"},"","","proszę kliknąć aby wybrać nazwę komórki organizacyjnej",0]
[{"$f":"'baza nisk'!A355","v":"K-225A"},{"$f":"'baza nisk'!B355","v":"Koszula dla matek karmiących"},{"$f":"'baza nisk'!D355","v":"POŚCIEL SZPITAL"},null,0,null,{"$f":"'baza nisk'!E355","v":50},0,null,null,{"$f":"'baza nisk'!G355","v":"Oddział Położniczo – Ginekologiczny"},"","","proszę kliknąć aby wybrać nazwę komórki organizacyjnej",0]
[{"$f":"'baza nisk'!A356","v":"K-225C"},{"$f":"'baza nisk'!B356","v":"Koszula dla matek karmiących"},{"$f":"'baza nisk'!D356","v":"POŚCIEL SZPITAL"},null,0,null,{"$f":"'baza nisk'!E356","v":50},0,null,null,{"$f":"'baza nisk'!G356","v":"Oddział Położniczo – Ginekologiczny"},"","","proszę kliknąć aby wybrać nazwę komórki organizacyjnej",0]
[{"$f":"'baza nisk'!A357","v":"K-225D"},{"$f":"'baza nisk'!B357","v":"Koszula szpitalna L"},{"$f":"'baza nisk'!D357","v":"POŚCIEL SZPITAL"},null,0,null,{"$f":"'baza nisk'!E357","v":50},0,null,null,{"$f":"'baza nisk'!G357","v":"Oddział Położniczo – Ginekologiczny"},"","","proszę kliknąć aby wybrać nazwę komórki organizacyjnej",0]
[{"$f":"'baza nisk'!A358","v":"K-225E"},{"$f":"'baza nisk'!B358","v":"Koszula szpitalna XL"},{"$f":"'baza nisk'!D358","v":"POŚCIEL SZPITAL"},null,0,null,{"$f":"'baza nisk'!E358","v":50},0,null,null,{"$f":"'baza nisk'!G358","v":"Oddział Położniczo – Ginekologiczny"},"","","proszę kliknąć aby wybrać nazwę komórki organizacyjnej",0]
[{"$f":"'baza nisk'!A359","v":"K-229"},{"$f":"'baza nisk'!B359","v":"Kaniula metalowa standartowa,prosta, do unitu."},{"$f":"'baza nisk'!D359","v":"NARZ. MEDYCZNE"},null,0,null,{"$f":"'baza nisk'!E359","v":400},0,null,null,{"$f":"'baza nisk'!G359","v":"SOR"},"","","proszę kliknąć aby wybrać nazwę komórki organizacyjnej",0]
[{"$f":"'baza nisk'!A360","v":"K-231"},{"$f":"'baza nisk'!B360","v":"Krzesło drewniane"},{"$f":"'baza nisk'!D360","v":"MEBLE"},null,0,null,{"$f":"'baza nisk'!E360","v":199},0,null,null,{"$f":"'baza nisk'!G360","v":"Hotel Pracowniczy"},"","","proszę kliknąć aby wybrać nazwę komórki organizacyjnej",0]
[{"$f":"'baza nisk'!A361","v":"K-238A"},{"$f":"'baza nisk'!B361","v":"Kleszcze ClickLine,monopolarne,śr.5mm, dł.rob.4"},{"$f":"'baza nisk'!D361","v":"NARZ. MEDYCZNE"},null,0,null,{"$f":"'baza nisk'!E361","v":1800},0,null,null,{"$f":"'baza nisk'!G361","v":"Blok Operacyjny"},"","","proszę kliknąć aby wybrać nazwę komórki organizacyjnej",0]
[{"$f":"'baza nisk'!A362","v":"K-238B"},{"$f":"'baza nisk'!B362","v":"Kleszcze ClickLine,monopolarne,śr.5mm, dł.rob.4"},{"$f":"'baza nisk'!D362","v":"NARZ. MEDYCZNE"},null,0,null,{"$f":"'baza nisk'!E362","v":2700},0,null,null,{"$f":"'baza nisk'!G362","v":"Blok Operacyjny"},"","","proszę kliknąć aby wybrać nazwę komórki organizacyjnej",0]
[{"$f":"'baza nisk'!A363","v":"K-239A"},{"$f":"'baza nisk'!B363","v":"Kleszcze ClickLine KELLY,długie, monopolarne,śr"},{"$f":"'baza nisk'!D363","v":"NARZ. MEDYCZNE"},null,0,null,{"$f":"'baza nisk'!E363","v":2600},0,null,null,{"$f":"'baza nisk'!G363","v":"Blok Operacyjny"},"","","proszę kliknąć aby wybrać nazwę komórki organizacyjnej",0]
[{"$f":"'baza nisk'!A364","v":"K-239B"},{"$f":"'baza nisk'!B364","v":"Kleszcze ClickLine KELLY,długie, monopolarne,śr"},{"$f":"'baza nisk'!D364","v":"NARZ. MEDYCZNE"},null,0,null,{"$f":"'baza nisk'!E364","v":2600},0,null,null,{"$f":"'baza nisk'!G364","v":"Blok Operacyjny"},"","","proszę kliknąć aby wybrać nazwę komórki organizacyjnej",0]
[{"$f":"'baza nisk'!A367","v":"K-246"},{"$f":"'baza nisk'!B367","v":"Kleszczyki MAGILL 15cm"},{"$f":"'baza nisk'!D367","v":"NARZ. MEDYCZNE"},null,0,null,{"$f":"'baza nisk'!E367","v":105},0,null,null,{"$f":"'baza nisk'!G367","v":"Oddział Pediatryczny z Pododdziałem Gastroenterologii "},"","","proszę kliknąć aby wybrać nazwę komórki organizacyjnej",0]
[{"$f":"'baza nisk'!A366","v":"K-246"},{"$f":"'baza nisk'!B366","v":"Kleszczyki MAGILL 15cm"},{"$f":"'baza nisk'!D366","v":"NARZ. MEDYCZNE"},null,0,null,{"$f":"'baza nisk'!E366","v":105},0,null,null,{"$f":"'baza nisk'!G366","v":"Oddział Neonatologiczny z Pododdziałem Patologii Noworodka"},"","","proszę kliknąć aby wybrać nazwę komórki organizacyjnej",0]
[{"$f":"'baza nisk'!A365","v":"K-246"},{"$f":"'baza nisk'!B365","v":"Kleszczyki MAGILL 15cm"},{"$f":"'baza nisk'!D365","v":"NARZ. MEDYCZNE"},null,0,null,{"$f":"'baza nisk'!E365","v":105},0,null,null,{"$f":"'baza nisk'!G365","v":"Oddział Kardiologii Dziecięcej z Pododdziałem Kardiochirurgi"},"","","proszę kliknąć aby wybrać nazwę komórki organizacyjnej",0]
[{"$f":"'baza nisk'!A368","v":"K-246A"},{"$f":"'baza nisk'!B368","v":"Kleszczyki MAGILL 20cm"},{"$f":"'baza nisk'!D368","v":"NARZ. MEDYCZNE"},null,0,null,{"$f":"'baza nisk'!E368","v":40},0,null,null,{"$f":"'baza nisk'!G368","v":"DODO -Pracownia Diagnostyczno - Zabiegowa Naczyń"},"","","proszę kliknąć aby wybrać nazwę komórki organizacyjnej",0]
[{"$f":"'baza nisk'!A389","v":"K-246A"},{"$f":"'baza nisk'!B389","v":"Kleszczyki MAGILL 20cm"},{"$f":"'baza nisk'!D389","v":"NARZ. MEDYCZNE"},null,0,null,{"$f":"'baza nisk'!E389","v":40},0,null,null,{"$f":"'baza nisk'!G389","v":"Stacja Dializ"},"","","proszę kliknąć aby wybrać nazwę komórki organizacyjnej",0]
[{"$f":"'baza nisk'!A388","v":"K-246A"},{"$f":"'baza nisk'!B388","v":"Kleszczyki MAGILL 20cm"},{"$f":"'baza nisk'!D388","v":"NARZ. MEDYCZNE"},null,0,null,{"$f":"'baza nisk'!E388","v":40},0,null,null,{"$f":"'baza nisk'!G388","v":"SOR"},"","","proszę kliknąć aby wybrać nazwę komórki organizacyjnej",0]
[{"$f":"'baza nisk'!A391","v":"K-246A"},{"$f":"'baza nisk'!B391","v":"Kleszczyki MAGILL 20cm"},{"$f":"'baza nisk'!D391","v":"NARZ. MEDYCZNE"},null,0,null,{"$f":"'baza nisk'!E391","v":40},0,null,null,{"$f":"'baza nisk'!G391","v":"Zamiejscowy Oddział Rehabilitacji Ogólnoustrojowej II"},"","","proszę kliknąć aby wybrać nazwę komórki organizacyjnej",0]
[{"$f":"'baza nisk'!A390","v":"K-246A"},{"$f":"'baza nisk'!B390","v":"Kleszczyki MAGILL 20cm"},{"$f":"'baza nisk'!D390","v":"NARZ. MEDYCZNE"},null,0,null,{"$f":"'baza nisk'!E390","v":40},0,null,null,{"$f":"'baza nisk'!G390","v":"Zamiejscowy Oddział Rehabilitacji Neurologicznej"},"","","proszę kliknąć aby wybrać nazwę komórki organizacyjnej",0]
[{"$f":"'baza nisk'!A385","v":"K-246A"},{"$f":"'baza nisk'!B385","v":"Kleszczyki MAGILL 20cm"},{"$f":"'baza nisk'!D385","v":"NARZ. MEDYCZNE"},null,0,null,{"$f":"'baza nisk'!E385","v":40},0,null,null,{"$f":"'baza nisk'!G385","v":"Poradnia Okulistyczna"},"","","proszę kliknąć aby wybrać nazwę komórki organizacyjnej",0]
[{"$f":"'baza nisk'!A387","v":"K-246A"},{"$f":"'baza nisk'!B387","v":"Kleszczyki MAGILL 20cm"},{"$f":"'baza nisk'!D387","v":"NARZ. MEDYCZNE"},null,0,null,{"$f":"'baza nisk'!E387","v":40},0,null,null,{"$f":"'baza nisk'!G387","v":"Pracownia Endoskopii"},"","","proszę kliknąć aby wybrać nazwę komórki organizacyjnej",0]
[{"$f":"'baza nisk'!A386","v":"K-246A"},{"$f":"'baza nisk'!B386","v":"Kleszczyki MAGILL 20cm"},{"$f":"'baza nisk'!D386","v":"NARZ. MEDYCZNE"},null,0,null,{"$f":"'baza nisk'!E386","v":40},0,null,null,{"$f":"'baza nisk'!G386","v":"Poradnia Urologiczna"},"","","proszę kliknąć aby wybrać nazwę komórki organizacyjnej",0]
[{"$f":"'baza nisk'!A369","v":"K-246A"},{"$f":"'baza nisk'!B369","v":"Kleszczyki MAGILL 20cm"},{"$f":"'baza nisk'!D369","v":"NARZ. MEDYCZNE"},null,0,null,{"$f":"'baza nisk'!E369","v":40},0,null,null,{"$f":"'baza nisk'!G369","v":"Oddział Angiologiczny z Pododdziałem Diabetologii"},"","","proszę kliknąć aby wybrać nazwę komórki organizacyjnej",0]
[{"$f":"'baza nisk'!A370","v":"K-246A"},{"$f":"'baza nisk'!B370","v":"Kleszczyki MAGILL 20cm"},{"$f":"'baza nisk'!D370","v":"NARZ. MEDYCZNE"},null,0,null,{"$f":"'baza nisk'!E370","v":40},0,null,null,{"$f":"'baza nisk'!G370","v":"Oddział Chirurgii Naczyniowej"},"","","proszę kliknąć aby wybrać nazwę komórki organizacyjnej",0]
[{"$f":"'baza nisk'!A380","v":"K-246A"},{"$f":"'baza nisk'!B380","v":"Kleszczyki MAGILL 20cm"},{"$f":"'baza nisk'!D380","v":"NARZ. MEDYCZNE"},null,0,null,{"$f":"'baza nisk'!E380","v":40},0,null,null,{"$f":"'baza nisk'!G380","v":"Poradnia Angiologiczna"},"","","proszę kliknąć aby wybrać nazwę komórki organizacyjnej",0]
[{"$f":"'baza nisk'!A379","v":"K-246A"},{"$f":"'baza nisk'!B379","v":"Kleszczyki MAGILL 20cm"},{"$f":"'baza nisk'!D379","v":"NARZ. MEDYCZNE"},null,0,null,{"$f":"'baza nisk'!E379","v":40},0,null,null,{"$f":"'baza nisk'!G379","v":"Oddział Urologii i Urologii Onkologicznej"},"","","proszę kliknąć aby wybrać nazwę komórki organizacyjnej",0]
[{"$f":"'baza nisk'!A375","v":"K-246A"},{"$f":"'baza nisk'!B375","v":"Kleszczyki MAGILL 20cm"},{"$f":"'baza nisk'!D375","v":"NARZ. MEDYCZNE"},null,0,null,{"$f":"'baza nisk'!E375","v":40},0,null,null,{"$f":"'baza nisk'!G375","v":"Oddział Okulistyczny"},"","","proszę kliknąć aby wybrać nazwę komórki organizacyjnej",0]
[{"$f":"'baza nisk'!A376","v":"K-246A"},{"$f":"'baza nisk'!B376","v":"Kleszczyki MAGILL 20cm"},{"$f":"'baza nisk'!D376","v":"NARZ. MEDYCZNE"},null,0,null,{"$f":"'baza nisk'!E376","v":40},0,null,null,{"$f":"'baza nisk'!G376","v":"Oddział Otolaryngologiczny z Pododdziałem Otolaryngologii"},"","","proszę kliknąć aby wybrać nazwę komórki organizacyjnej",0]
[{"$f":"'baza nisk'!A377","v":"K-246A"},{"$f":"'baza nisk'!B377","v":"Kleszczyki MAGILL 20cm"},{"$f":"'baza nisk'!D377","v":"NARZ. MEDYCZNE"},null,0,null,{"$f":"'baza nisk'!E377","v":40},0,null,null,{"$f":"'baza nisk'!G377","v":"Oddział Pediatryczny z Pododdziałem Gastroenterologii "},"","","proszę kliknąć aby wybrać nazwę komórki organizacyjnej",0]
[{"$f":"'baza nisk'!A378","v":"K-246A"},{"$f":"'baza nisk'!B378","v":"Kleszczyki MAGILL 20cm"},{"$f":"'baza nisk'!D378","v":"NARZ. MEDYCZNE"},null,0,null,{"$f":"'baza nisk'!E378","v":40},0,null,null,{"$f":"'baza nisk'!G378","v":"Oddział Położniczo – Ginekologiczny"},"","","proszę kliknąć aby wybrać nazwę komórki organizacyjnej",0]
[{"$f":"'baza nisk'!A374","v":"K-246A"},{"$f":"'baza nisk'!B374","v":"Kleszczyki MAGILL 20cm"},{"$f":"'baza nisk'!D374","v":"NARZ. MEDYCZNE"},null,0,null,{"$f":"'baza nisk'!E374","v":40},0,null,null,{"$f":"'baza nisk'!G374","v":"Oddział Nefrologiczny"},"","","proszę kliknąć aby wybrać nazwę komórki organizacyjnej",0]
[{"$f":"'baza nisk'!A381","v":"K-246A"},{"$f":"'baza nisk'!B381","v":"Kleszczyki MAGILL 20cm"},{"$f":"'baza nisk'!D381","v":"NARZ. MEDYCZNE"},null,0,null,{"$f":"'baza nisk'!E381","v":40},0,null,null,{"$f":"'baza nisk'!G381","v":"Poradnia Chirurgii Ogólnej"},"","","proszę kliknąć aby wybrać nazwę komórki organizacyjnej",0]
[{"$f":"'baza nisk'!A382","v":"K-246A"},{"$f":"'baza nisk'!B382","v":"Kleszczyki MAGILL 20cm"},{"$f":"'baza nisk'!D382","v":"NARZ. MEDYCZNE"},null,0,null,{"$f":"'baza nisk'!E382","v":40},0,null,null,{"$f":"'baza nisk'!G382","v":"Poradnia Chirurgii Onkologicznej"},"","","proszę kliknąć aby wybrać nazwę komórki organizacyjnej",0]
[{"$f":"'baza nisk'!A383","v":"K-246A"},{"$f":"'baza nisk'!B383","v":"Kleszczyki MAGILL 20cm"},{"$f":"'baza nisk'!D383","v":"NARZ. MEDYCZNE"},null,0,null,{"$f":"'baza nisk'!E383","v":40},{"$f":"E390*G390","v":0},null,null,{"$f":"'baza nisk'!G383","v":"Poradnia Kardiologiczna dla Dzieci"},{"$f":"IF($B$2=K390,$B$2,\"\")","v":""},{"$f":"IF($B$2=K390,1,\"\")","v":""},{"$f":"$B$2","v":"proszę kliknąć aby wybrać nazwę komórki organizacyjnej"},{"$f":"$H$2","v":0}]
[{"$f":"'baza nisk'!A384","v":"K-246A"},{"$f":"'baza nisk'!B384","v":"Kleszczyki MAGILL 20cm"},{"$f":"'baza nisk'!D384","v":"NARZ. MEDYCZNE"},null,0,null,{"$f":"'baza nisk'!E384","v":40},0,null,null,{"$f":"'baza nisk'!G384","v":"Poradnia Neurochirurgiczna"},"","","proszę kliknąć aby wybrać nazwę komórki organizacyjnej",0]
[{"$f":"'baza nisk'!A373","v":"K-246A"},{"$f":"'baza nisk'!B373","v":"Kleszczyki MAGILL 20cm"},{"$f":"'baza nisk'!D373","v":"NARZ. MEDYCZNE"},null,0,null,{"$f":"'baza nisk'!E373","v":40},0,null,null,{"$f":"'baza nisk'!G373","v":"Oddział Kardiologiczny"},"","","proszę kliknąć aby wybrać nazwę komórki organizacyjnej",0]
[{"$f":"'baza nisk'!A371","v":"K-246A"},{"$f":"'baza nisk'!B371","v":"Kleszczyki MAGILL 20cm"},{"$f":"'baza nisk'!D371","v":"NARZ. MEDYCZNE"},null,0,null,{"$f":"'baza nisk'!E371","v":40},0,null,null,{"$f":"'baza nisk'!G371","v":"Oddział Chirurgii Ogólnej z Pododdziałami"},"","","proszę kliknąć aby wybrać nazwę komórki organizacyjnej",0]
[{"$f":"'baza nisk'!A372","v":"K-246A"},{"$f":"'baza nisk'!B372","v":"Kleszczyki MAGILL 20cm"},{"$f":"'baza nisk'!D372","v":"NARZ. MEDYCZNE"},null,0,null,{"$f":"'baza nisk'!E372","v":40},0,null,null,{"$f":"'baza nisk'!G372","v":"Oddział Dermatologiczny"},"","","proszę kliknąć aby wybrać nazwę komórki organizacyjnej",0]
[{"$f":"'baza nisk'!A392","v":"K-246B"},{"$f":"'baza nisk'!B392","v":"Kleszczyki MAGILL 25cm"},{"$f":"'baza nisk'!D392","v":"NARZ. MEDYCZNE"},null,0,null,{"$f":"'baza nisk'!E392","v":40},0,null,null,{"$f":"'baza nisk'!G392","v":"Oddział Pediatryczny z Pododdziałem Gastroenterologii "},"","","proszę kliknąć aby wybrać nazwę komórki organizacyjnej",0]
[{"$f":"'baza nisk'!A393","v":"K-250"},{"$f":"'baza nisk'!B393","v":"Kleszcze biopsyjne owalne z igłą AF-2423BW"},{"$f":"'baza nisk'!D393","v":"NARZ. MEDYCZNE"},null,0,null,{"$f":"'baza nisk'!E393","v":637.20000000000005},0,null,null,{"$f":"'baza nisk'!G393","v":"Oddział Pediatryczny z Pododdziałem Gastroenterologii "},"","","proszę kliknąć aby wybrać nazwę komórki organizacyjnej",0]
[{"$f":"'baza nisk'!A394","v":"K-251"},{"$f":"'baza nisk'!B394","v":"Kaniula ssąca YANKAUER 285mm GF944R"},{"$f":"'baza nisk'!D394","v":"NARZ. MEDYCZNE"},null,0,null,{"$f":"'baza nisk'!E394","v":130},0,null,null,{"$f":"'baza nisk'!G394","v":"Blok Operacyjny"},"","","proszę kliknąć aby wybrać nazwę komórki organizacyjnej",0]
[{"$f":"'baza nisk'!A395","v":"K-251A"},{"$f":"'baza nisk'!B395","v":"Kaniula ssąca FERGUSSON fi 4,0mm DL R.110mm  GF"},{"$f":"'baza nisk'!D395","v":"NARZ. MEDYCZNE"},null,0,null,{"$f":"'baza nisk'!E395","v":130},0,null,null,{"$f":"'baza nisk'!G395","v":"Blok Operacyjny"},"","","proszę kliknąć aby wybrać nazwę komórki organizacyjnej",0]
[{"$f":"'baza nisk'!A396","v":"K-252A"},{"$f":"'baza nisk'!B396","v":"Kleszczyki naczyniowe SATINSKY 265mm FB605R"},{"$f":"'baza nisk'!D396","v":"NARZ. MEDYCZNE"},null,0,null,{"$f":"'baza nisk'!E396","v":570},0,null,null,{"$f":"'baza nisk'!G396","v":"Blok Operacyjny"},"","","proszę kliknąć aby wybrać nazwę komórki organizacyjnej",0]
[{"$f":"'baza nisk'!A397","v":"K-253"},{"$f":"'baza nisk'!B397","v":"Kleszcze atraumatyczne naczyniowe DERRA duże 26"},{"$f":"'baza nisk'!D397","v":"NARZ. MEDYCZNE"},null,0,null,{"$f":"'baza nisk'!E397","v":670},0,null,null,{"$f":"'baza nisk'!G397","v":"Blok Operacyjny"},"","","proszę kliknąć aby wybrać nazwę komórki organizacyjnej",0]
[{"$f":"'baza nisk'!A398","v":"K-255"},{"$f":"'baza nisk'!B398","v":"Kleszcze preparacyjne MIXTER 250mm BJ062R"},{"$f":"'baza nisk'!D398","v":"NARZ. MEDYCZNE"},null,0,null,{"$f":"'baza nisk'!E398","v":370},0,null,null,{"$f":"'baza nisk'!G398","v":"Blok Operacyjny"},"","","proszę kliknąć aby wybrać nazwę komórki organizacyjnej",0]
[{"$f":"'baza nisk'!A399","v":"K-255A"},{"$f":"'baza nisk'!B399","v":"Kleszcze preparacyjne OVERHOLT delik.#1 260cmBJ"},{"$f":"'baza nisk'!D399","v":"NARZ. MEDYCZNE"},null,0,null,{"$f":"'baza nisk'!E399","v":440},0,null,null,{"$f":"'baza nisk'!G399","v":"Zamiejscowy Blok Operacyjny"},"","","proszę kliknąć aby wybrać nazwę komórki organizacyjnej",0]
[{"$f":"'baza nisk'!A400","v":"K-255B"},{"$f":"'baza nisk'!B400","v":"Kleszcze preparacyjne OVERHOLT-GEISSEND #3 225m"},{"$f":"'baza nisk'!D400","v":"NARZ. MEDYCZNE"},null,0,null,{"$f":"'baza nisk'!E400","v":435},0,null,null,{"$f":"'baza nisk'!G400","v":"Blok Operacyjny"},"","","proszę kliknąć aby wybrać nazwę komórki organizacyjnej",0]
[{"$f":"'baza nisk'!A401","v":"K-255B"},{"$f":"'baza nisk'!B401","v":"Kleszcze preparacyjne OVERHOLT-GEISSEND #3 225m"},{"$f":"'baza nisk'!D401","v":"NARZ. MEDYCZNE"},null,0,null,{"$f":"'baza nisk'!E401","v":435},0,null,null,{"$f":"'baza nisk'!G401","v":"Zamiejscowy Blok Operacyjny"},"","","proszę kliknąć aby wybrać nazwę komórki organizacyjnej",0]
[{"$f":"'baza nisk'!A402","v":"K-255C"},{"$f":"'baza nisk'!B402","v":"Kleszcze preparacyjne OVERHOLT-GEISSEND #2 220m"},{"$f":"'baza nisk'!D402","v":"NARZ. MEDYCZNE"},null,0,null,{"$f":"'baza nisk'!E402","v":435},0,null,null,{"$f":"'baza nisk'!G402","v":"Blok Operacyjny"},"","","proszę kliknąć aby wybrać nazwę komórki organizacyjnej",0]
[{"$f":"'baza nisk'!A403","v":"K-255C"},{"$f":"'baza nisk'!B403","v":"Kleszcze preparacyjne OVERHOLT-GEISSEND #2 220m"},{"$f":"'baza nisk'!D403","v":"NARZ. MEDYCZNE"},null,0,null,{"$f":"'baza nisk'!E403","v":435},0,null,null,{"$f":"'baza nisk'!G403","v":"Pracownia Elektrofizjologii"},"","","proszę kliknąć aby wybrać nazwę komórki organizacyjnej",0]
[{"$f":"'baza nisk'!A404","v":"K-255C"},{"$f":"'baza nisk'!B404","v":"Kleszcze preparacyjne OVERHOLT-GEISSEND #2 220m"},{"$f":"'baza nisk'!D404","v":"NARZ. MEDYCZNE"},null,0,null,{"$f":"'baza nisk'!E404","v":435},0,null,null,{"$f":"'baza nisk'!G404","v":"Zamiejscowy Blok Operacyjny"},"","","proszę kliknąć aby wybrać nazwę komórki organizacyjnej",0]
[{"$f":"'baza nisk'!A405","v":"K-255D"},{"$f":"'baza nisk'!B405","v":"Kleszcze preparacyjne ADSON 180mm, małe BJ014R"},{"$f":"'baza nisk'!D405","v":"NARZ. MEDYCZNE"},null,0,null,{"$f":"'baza nisk'!E405","v":432},0,null,null,{"$f":"'baza nisk'!G405","v":"Blok Operacyjny"},"","","proszę kliknąć aby wybrać nazwę komórki organizacyjnej",0]
[{"$f":"'baza nisk'!A406","v":"K-255E"},{"$f":"'baza nisk'!B406","v":"Kleszcze preparacyjne OVERHOLT-GEISSEND #1 BJ02"},{"$f":"'baza nisk'!D406","v":"NARZ. MEDYCZNE"},null,0,null,{"$f":"'baza nisk'!E406","v":435},0,null,null,{"$f":"'baza nisk'!G406","v":"Blok Operacyjny"},"","","proszę kliknąć aby wybrać nazwę komórki organizacyjnej",0]
[{"$f":"'baza nisk'!A407","v":"K-255F"},{"$f":"'baza nisk'!B407","v":"Kleszcze preparacyjne GEMINI 200mm BJ103R"},{"$f":"'baza nisk'!D407","v":"NARZ. MEDYCZNE"},null,0,null,{"$f":"'baza nisk'!E407","v":260},0,null,null,{"$f":"'baza nisk'!G407","v":"Blok Operacyjny"},"","","proszę kliknąć aby wybrać nazwę komórki organizacyjnej",0]
[{"$f":"'baza nisk'!A408","v":"K-255G"},{"$f":"'baza nisk'!B408","v":"Kleszcze OVERHOLT 21cm,fig.3  07-1711.03"},{"$f":"'baza nisk'!D408","v":"NARZ. MEDYCZNE"},null,0,null,{"$f":"'baza nisk'!E408","v":100},0,null,null,{"$f":"'baza nisk'!G408","v":"DODO -Pracownia Diagnostyczno - Zabiegowa Naczyń"},"","","proszę kliknąć aby wybrać nazwę komórki organizacyjnej",0]
[{"$f":"'baza nisk'!A409","v":"K-255H"},{"$f":"'baza nisk'!B409","v":"Kleszcze OVERHOLT-MARTIN 18,5cm,\"S\" 14.0340.01"},{"$f":"'baza nisk'!D409","v":"NARZ. MEDYCZNE"},null,0,null,{"$f":"'baza nisk'!E409","v":100},0,null,null,{"$f":"'baza nisk'!G409","v":"DODO -Pracownia Diagnostyczno - Zabiegowa Naczyń"},"","","proszę kliknąć aby wybrać nazwę komórki organizacyjnej",0]
[{"$f":"'baza nisk'!A411","v":"K-256"},{"$f":"'baza nisk'!B411","v":"Kleszcze naczyniowe ROCHESTER-PEAN zakrzywione"},{"$f":"'baza nisk'!D411","v":"NARZ. MEDYCZNE"},null,0,null,{"$f":"'baza nisk'!E411","v":220},0,null,null,{"$f":"'baza nisk'!G411","v":"Zamiejscowy Blok Operacyjny"},"","","proszę kliknąć aby wybrać nazwę komórki organizacyjnej",0]
[{"$f":"'baza nisk'!A410","v":"K-256"},{"$f":"'baza nisk'!B410","v":"Kleszcze naczyniowe ROCHESTER-PEAN zakrzywione"},{"$f":"'baza nisk'!D410","v":"NARZ. MEDYCZNE"},null,0,null,{"$f":"'baza nisk'!E410","v":220},0,null,null,{"$f":"'baza nisk'!G410","v":"Blok Operacyjny"},"","","proszę kliknąć aby wybrać nazwę komórki organizacyjnej",0]
[{"$f":"'baza nisk'!A412","v":"K-256A"},{"$f":"'baza nisk'!B412","v":"Kleszcze naczyniowe ROCHESTER-PEAN zakrzywione"},{"$f":"'baza nisk'!D412","v":"NARZ. MEDYCZNE"},null,0,null,{"$f":"'baza nisk'!E412","v":220},0,null,null,{"$f":"'baza nisk'!G412","v":"Blok Operacyjny"},"","","proszę kliknąć aby wybrać nazwę komórki organizacyjnej",0]
[{"$f":"'baza nisk'!A413","v":"K-256A"},{"$f":"'baza nisk'!B413","v":"Kleszcze naczyniowe ROCHESTER-PEAN zakrzywione"},{"$f":"'baza nisk'!D413","v":"NARZ. MEDYCZNE"},null,0,null,{"$f":"'baza nisk'!E413","v":220},0,null,null,{"$f":"'baza nisk'!G413","v":"Zamiejscowy Blok Operacyjny"},"","","proszę kliknąć aby wybrać nazwę komórki organizacyjnej",0]
[{"$f":"'baza nisk'!A417","v":"K-256B"},{"$f":"'baza nisk'!B417","v":"Kleszcze naczyniowe ROCHESTER-PEAN zakrzywione"},{"$f":"'baza nisk'!D417","v":"NARZ. MEDYCZNE"},null,0,null,{"$f":"'baza nisk'!E417","v":220},0,null,null,{"$f":"'baza nisk'!G417","v":"Stacja Dializ"},"","","proszę kliknąć aby wybrać nazwę komórki organizacyjnej",0]
[{"$f":"'baza nisk'!A414","v":"K-256B"},{"$f":"'baza nisk'!B414","v":"Kleszcze naczyniowe ROCHESTER-PEAN zakrzywione"},{"$f":"'baza nisk'!D414","v":"NARZ. MEDYCZNE"},null,0,null,{"$f":"'baza nisk'!E414","v":220},0,null,null,{"$f":"'baza nisk'!G414","v":"Blok Operacyjny"},"","","proszę kliknąć aby wybrać nazwę komórki organizacyjnej",0]
[{"$f":"'baza nisk'!A415","v":"K-256B"},{"$f":"'baza nisk'!B415","v":"Kleszcze naczyniowe ROCHESTER-PEAN zakrzywione"},{"$f":"'baza nisk'!D415","v":"NARZ. MEDYCZNE"},null,0,null,{"$f":"'baza nisk'!E415","v":220},0,null,null,{"$f":"'baza nisk'!G415","v":"Poradnia Angiologiczna"},"","","proszę kliknąć aby wybrać nazwę komórki organizacyjnej",0]
[{"$f":"'baza nisk'!A416","v":"K-256B"},{"$f":"'baza nisk'!B416","v":"Kleszcze naczyniowe ROCHESTER-PEAN zakrzywione"},{"$f":"'baza nisk'!D416","v":"NARZ. MEDYCZNE"},null,0,null,{"$f":"'baza nisk'!E416","v":220},0,null,null,{"$f":"'baza nisk'!G416","v":"Poradnia Otolaryngologiczna"},"","","proszę kliknąć aby wybrać nazwę komórki organizacyjnej",0]
[{"$f":"'baza nisk'!A418","v":"K-256C"},{"$f":"'baza nisk'!B418","v":"Kleszcze naczyniowe ROCHESTER-PEAN proste 240mm"},{"$f":"'baza nisk'!D418","v":"NARZ. MEDYCZNE"},null,0,null,{"$f":"'baza nisk'!E418","v":220},0,null,null,{"$f":"'baza nisk'!G418","v":"Blok Operacyjny"},"","","proszę kliknąć aby wybrać nazwę komórki organizacyjnej",0]
[{"$f":"'baza nisk'!A419","v":"K-256D"},{"$f":"'baza nisk'!B419","v":"Kleszcze naczyniowe ROCHESTER-PEAN zakrzywione"},{"$f":"'baza nisk'!D419","v":"NARZ. MEDYCZNE"},null,0,null,{"$f":"'baza nisk'!E419","v":220},0,null,null,{"$f":"'baza nisk'!G419","v":"Pracownia Elektrofizjologii"},"","","proszę kliknąć aby wybrać nazwę komórki organizacyjnej",0]
[{"$f":"'baza nisk'!A421","v":"K-257"},{"$f":"'baza nisk'!B421","v":"Kleszczyki HALSTEDA proste 125mm  BH110R"},{"$f":"'baza nisk'!D421","v":"NARZ. MEDYCZNE"},null,0,null,{"$f":"'baza nisk'!E421","v":80},0,null,null,{"$f":"'baza nisk'!G421","v":"Oddział Transplantologiczny"},"","","proszę kliknąć aby wybrać nazwę komórki organizacyjnej",0]
[{"$f":"'baza nisk'!A422","v":"K-257"},{"$f":"'baza nisk'!B422","v":"Kleszczyki HALSTEDA proste 125mm  BH110R"},{"$f":"'baza nisk'!D422","v":"NARZ. MEDYCZNE"},null,0,null,{"$f":"'baza nisk'!E422","v":80},0,null,null,{"$f":"'baza nisk'!G422","v":"Poradnia Otolaryngologiczna"},"","","proszę kliknąć aby wybrać nazwę komórki organizacyjnej",0]
[{"$f":"'baza nisk'!A420","v":"K-257"},{"$f":"'baza nisk'!B420","v":"Kleszczyki HALSTEDA proste 125mm  BH110R"},{"$f":"'baza nisk'!D420","v":"NARZ. MEDYCZNE"},null,0,null,{"$f":"'baza nisk'!E420","v":80},0,null,null,{"$f":"'baza nisk'!G420","v":"Blok Operacyjny"},"","","proszę kliknąć aby wybrać nazwę komórki organizacyjnej",0]
[{"$f":"'baza nisk'!A423","v":"K-257A"},{"$f":"'baza nisk'!B423","v":"Kleszczyki HALSTEDA 1x2z. proste 125mm BH120R"},{"$f":"'baza nisk'!D423","v":"NARZ. MEDYCZNE"},null,0,null,{"$f":"'baza nisk'!E423","v":80},0,null,null,{"$f":"'baza nisk'!G423","v":"Pracownia Elektrofizjologii"},"","","proszę kliknąć aby wybrać nazwę komórki organizacyjnej",0]
[{"$f":"'baza nisk'!A424","v":"K-257B"},{"$f":"'baza nisk'!B424","v":"Kleszczyki HALSTEDA zakrzywione 125mm BH111R"},{"$f":"'baza nisk'!D424","v":"NARZ. MEDYCZNE"},null,0,null,{"$f":"'baza nisk'!E424","v":100},0,null,null,{"$f":"'baza nisk'!G424","v":"Blok Operacyjny"},"","","proszę kliknąć aby wybrać nazwę komórki organizacyjnej",0]
[{"$f":"'baza nisk'!A425","v":"K-257C"},{"$f":"'baza nisk'!B425","v":"Kleszczyki HALSTEDA zakrzyw. 100mm,małe BH105R"},{"$f":"'baza nisk'!D425","v":"NARZ. MEDYCZNE"},null,0,null,{"$f":"'baza nisk'!E425","v":100},0,null,null,{"$f":"'baza nisk'!G425","v":"Oddział Chirurgii Onkologicznej"},"","","proszę kliknąć aby wybrać nazwę komórki organizacyjnej",0]
[{"$f":"'baza nisk'!A426","v":"K-257C"},{"$f":"'baza nisk'!B426","v":"Kleszczyki HALSTEDA zakrzyw. 100mm,małe BH105R"},{"$f":"'baza nisk'!D426","v":"NARZ. MEDYCZNE"},null,0,null,{"$f":"'baza nisk'!E426","v":100},0,null,null,{"$f":"'baza nisk'!G426","v":"Poradnia Angiologiczna"},"","","proszę kliknąć aby wybrać nazwę komórki organizacyjnej",0]
[{"$f":"'baza nisk'!A427","v":"K-257C"},{"$f":"'baza nisk'!B427","v":"Kleszczyki HALSTEDA zakrzyw. 100mm,małe BH105R"},{"$f":"'baza nisk'!D427","v":"NARZ. MEDYCZNE"},null,0,null,{"$f":"'baza nisk'!E427","v":100},0,null,null,{"$f":"'baza nisk'!G427","v":"Poradnia Chirurgii Onkologicznej"},"","","proszę kliknąć aby wybrać nazwę komórki organizacyjnej",0]
[{"$f":"'baza nisk'!A428","v":"K-257C"},{"$f":"'baza nisk'!B428","v":"Kleszczyki HALSTEDA zakrzyw. 100mm,małe BH105R"},{"$f":"'baza nisk'!D428","v":"NARZ. MEDYCZNE"},null,0,null,{"$f":"'baza nisk'!E428","v":100},0,null,null,{"$f":"'baza nisk'!G428","v":"Pracownia Elektrofizjologii"},"","","proszę kliknąć aby wybrać nazwę komórki organizacyjnej",0]
[{"$f":"'baza nisk'!A429","v":"K-257D"},{"$f":"'baza nisk'!B429","v":"Kleszczyki HALSTEDA 1x2z. zakrzywione 100mm BH1"},{"$f":"'baza nisk'!D429","v":"NARZ. MEDYCZNE"},null,0,null,{"$f":"'baza nisk'!E429","v":100},0,null,null,{"$f":"'baza nisk'!G429","v":"Poradnia Angiologiczna"},"","","proszę kliknąć aby wybrać nazwę komórki organizacyjnej",0]
[{"$f":"'baza nisk'!A430","v":"K-266"},{"$f":"'baza nisk'!B430","v":"Krzeslo Cortina -plastikowe"},{"$f":"'baza nisk'!D430","v":"MEBLE"},null,0,null,{"$f":"'baza nisk'!E430","v":80},0,null,null,{"$f":"'baza nisk'!G430","v":"Zamiejscowy Oddział Rehabilitacji Ogólnoustrojowej I"},"","","proszę kliknąć aby wybrać nazwę komórki organizacyjnej",0]
[{"$f":"'baza nisk'!A431","v":"K-267"},{"$f":"'baza nisk'!B431","v":"Fotel obrotowy do komputera"},{"$f":"'baza nisk'!D431","v":"MEBLE"},null,0,null,{"$f":"'baza nisk'!E431","v":220},0,null,null,{"$f":"'baza nisk'!G431","v":"Dział Gospodarki Nieruchomościami i Utrzymania Ruchu"},"","","proszę kliknąć aby wybrać nazwę komórki organizacyjnej",0]
[{"$f":"'baza nisk'!A432","v":"K-267"},{"$f":"'baza nisk'!B432","v":"Fotel obrotowy do komputera"},{"$f":"'baza nisk'!D432","v":"MEBLE"},null,0,null,{"$f":"'baza nisk'!E432","v":220},0,null,null,{"$f":"'baza nisk'!G432","v":"Oddział Pediatryczny z Pododdziałem Gastroenterologii "},"","","proszę kliknąć aby wybrać nazwę komórki organizacyjnej",0]
[{"$f":"'baza nisk'!A433","v":"K-267"},{"$f":"'baza nisk'!B433","v":"Fotel obrotowy do komputera"},{"$f":"'baza nisk'!D433","v":"MEBLE"},null,0,null,{"$f":"'baza nisk'!E433","v":220},0,null,null,{"$f":"'baza nisk'!G433","v":"Oddział Położniczo – Ginekologiczny"},"","","proszę kliknąć aby wybrać nazwę komórki organizacyjnej",0]
[{"$f":"'baza nisk'!A434","v":"K-267"},{"$f":"'baza nisk'!B434","v":"Fotel obrotowy do komputera"},{"$f":"'baza nisk'!D434","v":"MEBLE"},null,0,null,{"$f":"'baza nisk'!E434","v":220},0,null,null,{"$f":"'baza nisk'!G434","v":"Zamiejscowy Oddział Rehabilitacji Ogólnoustrojowej I"},"","","proszę kliknąć aby wybrać nazwę komórki organizacyjnej",0]
[{"$f":"'baza nisk'!A435","v":"K-269"},{"$f":"'baza nisk'!B435","v":"Krzesło-Salina fotel ogrodowy 5-cio pozycyjny(b"},{"$f":"'baza nisk'!D435","v":"MEBLE"},null,0,null,{"$f":"'baza nisk'!E435","v":220},0,null,null,{"$f":"'baza nisk'!G435","v":"Oddział Chemioterapii z Pododdziałem Chemioterapii Dziennej"},"","","proszę kliknąć aby wybrać nazwę komórki organizacyjnej",0]
[{"$f":"'baza nisk'!A436","v":"K-271"},{"$f":"'baza nisk'!B436","v":"Kasetka metalowa MG-5P MG-K7"},{"$f":"'baza nisk'!D436","v":"POZOSTAŁE"},null,0,null,{"$f":"'baza nisk'!E436","v":130},0,null,null,{"$f":"'baza nisk'!G436","v":"Oddział Kardiologiczny"},"","","proszę kliknąć aby wybrać nazwę komórki organizacyjnej",0]
[{"$f":"'baza nisk'!A437","v":"K-273"},{"$f":"'baza nisk'!B437","v":"Krzesło Hit W-03 czarne"},{"$f":"'baza nisk'!D437","v":"MEBLE"},null,0,null,{"$f":"'baza nisk'!E437","v":238.62},0,null,null,{"$f":"'baza nisk'!G437","v":"Apteka Szpitalna"},"","","proszę kliknąć aby wybrać nazwę komórki organizacyjnej",0]
[{"$f":"'baza nisk'!A438","v":"K-273"},{"$f":"'baza nisk'!B438","v":"Krzesło Hit W-03 czarne"},{"$f":"'baza nisk'!D438","v":"MEBLE"},null,0,null,{"$f":"'baza nisk'!E438","v":238.62},0,null,null,{"$f":"'baza nisk'!G438","v":"Dział Organizacyjno - Prawny"},"","","proszę kliknąć aby wybrać nazwę komórki organizacyjnej",0]
[{"$f":"'baza nisk'!A439","v":"K-273"},{"$f":"'baza nisk'!B439","v":"Krzesło Hit W-03 czarne"},{"$f":"'baza nisk'!D439","v":"MEBLE"},null,0,null,{"$f":"'baza nisk'!E439","v":238.62},0,null,null,{"$f":"'baza nisk'!G439","v":"Pracownik Socjalny"},"","","proszę kliknąć aby wybrać nazwę komórki organizacyjnej",0]
[{"$f":"'baza nisk'!A440","v":"K-273"},{"$f":"'baza nisk'!B440","v":"Krzesło Hit W-03 czarne"},{"$f":"'baza nisk'!D440","v":"MEBLE"},null,0,null,{"$f":"'baza nisk'!E440","v":238.62},0,null,null,{"$f":"'baza nisk'!G440","v":"Zespół Konsultantów Biznesowych"},"","","proszę kliknąć aby wybrać nazwę komórki organizacyjnej",0]
[{"$f":"'baza nisk'!A441","v":"K-274"},{"$f":"'baza nisk'!B441","v":"Krzesło TECHNO-1523  Hocker"},{"$f":"'baza nisk'!D441","v":"MEBLE"},null,0,null,{"$f":"'baza nisk'!E441","v":238.62},0,null,null,{"$f":"'baza nisk'!G441","v":"Oddział Kardiologiczny"},"","","proszę kliknąć aby wybrać nazwę komórki organizacyjnej",0]
[{"$f":"'baza nisk'!A442","v":"K-284"},{"$f":"'baza nisk'!B442","v":"Kosz ze stali nierdzewnej z uchwytem na szynę[d"},{"$f":"'baza nisk'!D442","v":"POZOSTAŁE"},null,0,null,{"$f":"'baza nisk'!E442","v":400},0,null,null,{"$f":"'baza nisk'!G442","v":"Oddział Kardiologiczny"},"","","proszę kliknąć aby wybrać nazwę komórki organizacyjnej",0]
[{"$f":"'baza nisk'!A443","v":"K-284A"},{"$f":"'baza nisk'!B443","v":"Kosz ze stali nierdzewnej o dł.500mm"},{"$f":"'baza nisk'!D443","v":"POZOSTAŁE"},null,0,null,{"$f":"'baza nisk'!E443","v":400},0,null,null,{"$f":"'baza nisk'!G443","v":"Oddział Kardiologii Dziecięcej z Pododdziałem Kardiochirurgi"},"","","proszę kliknąć aby wybrać nazwę komórki organizacyjnej",0]
[{"$f":"'baza nisk'!A444","v":"K-285"},{"$f":"'baza nisk'!B444","v":"Kleszcze jelitowe ClickLine,monopolarne, śr.5mm"},{"$f":"'baza nisk'!D444","v":"NARZ. MEDYCZNE"},null,0,null,{"$f":"'baza nisk'!E444","v":1830.4},0,null,null,{"$f":"'baza nisk'!G444","v":"Blok Operacyjny"},"","","proszę kliknąć aby wybrać nazwę komórki organizacyjnej",0]
[{"$f":"'baza nisk'!A445","v":"K-285A"},{"$f":"'baza nisk'!B445","v":"Kleszcze jelitowe JUDD-ALLIS 3x4z 200mm EA026R"},{"$f":"'baza nisk'!D445","v":"NARZ. MEDYCZNE"},null,0,null,{"$f":"'baza nisk'!E445","v":1830.4},0,null,null,{"$f":"'baza nisk'!G445","v":"Blok Operacyjny"},"","","proszę kliknąć aby wybrać nazwę komórki organizacyjnej",0]
[{"$f":"'baza nisk'!A446","v":"K-286"},{"$f":"'baza nisk'!B446","v":"Kleszcze ClickLine,\"Pazury\"2x3,uchwyt metalowy,"},{"$f":"'baza nisk'!D446","v":"NARZ. MEDYCZNE"},null,0,null,{"$f":"'baza nisk'!E446","v":1837.29},0,null,null,{"$f":"'baza nisk'!G446","v":"Blok Operacyjny"},"","","proszę kliknąć aby wybrać nazwę komórki organizacyjnej",0]
[{"$f":"'baza nisk'!A447","v":"K-287"},{"$f":"'baza nisk'!B447","v":"Kleszcze ClickLine MANHES,uchwyt metalowy,śr.5m"},{"$f":"'baza nisk'!D447","v":"NARZ. MEDYCZNE"},null,0,null,{"$f":"'baza nisk'!E447","v":1730.43},0,null,null,{"$f":"'baza nisk'!G447","v":"Blok Operacyjny"},"","","proszę kliknąć aby wybrać nazwę komórki organizacyjnej",0]
[{"$f":"'baza nisk'!A448","v":"K-288"},{"$f":"'baza nisk'!B448","v":"Kleszcze chwytające RoBi,bipolarne, okienkowe,ś"},{"$f":"'baza nisk'!D448","v":"NARZ. MEDYCZNE"},null,0,null,{"$f":"'baza nisk'!E448","v":3278.16},0,null,null,{"$f":"'baza nisk'!G448","v":"Blok Operacyjny"},"","","proszę kliknąć aby wybrać nazwę komórki organizacyjnej",0]
[{"$f":"'baza nisk'!A449","v":"K-289"},{"$f":"'baza nisk'!B449","v":"Kulociąg ClickLine SAWALHE,długi,uchwyt metalow"},{"$f":"'baza nisk'!D449","v":"NARZ. MEDYCZNE"},null,0,null,{"$f":"'baza nisk'!E449","v":2416.39},0,null,null,{"$f":"'baza nisk'!G449","v":"Blok Operacyjny"},"","","proszę kliknąć aby wybrać nazwę komórki organizacyjnej",0]
[{"$f":"'baza nisk'!A450","v":"K-290"},{"$f":"'baza nisk'!B450","v":"Kleszcze ClickLine,miseczkowe,uchwyt metalowy,ś"},{"$f":"'baza nisk'!D450","v":"NARZ. MEDYCZNE"},null,0,null,{"$f":"'baza nisk'!E450","v":1833.83},0,null,null,{"$f":"'baza nisk'!G450","v":"Blok Operacyjny"},"","","proszę kliknąć aby wybrać nazwę komórki organizacyjnej",0]
[{"$f":"'baza nisk'!A451","v":"K-291"},{"$f":"'baza nisk'!B451","v":"Kleszcze chwytające,do fragmentów kamieni,5Fr,d"},{"$f":"'baza nisk'!D451","v":"NARZ. MEDYCZNE"},null,0,null,{"$f":"'baza nisk'!E451","v":1833.83},{"$f":"E454*G454","v":0},null,null,{"$f":"'baza nisk'!G451","v":"Oddział Urologii i Urologii Onkologicznej"},{"$f":"IF($B$2=K454,$B$2,\"\")","v":""},{"$f":"IF($B$2=K454,1,\"\")","v":""},{"$f":"$B$2","v":"proszę kliknąć aby wybrać nazwę komórki organizacyjnej"},{"$f":"$H$2","v":0}]
[{"$f":"'baza nisk'!A452","v":"K-292"},{"$f":"'baza nisk'!B452","v":"Kleszcze chwytające PEREZ-CASTRO,5Fr, dł.60 cm,"},{"$f":"'baza nisk'!D452","v":"NARZ. MEDYCZNE"},null,0,null,{"$f":"'baza nisk'!E452","v":1833.83},0,null,null,{"$f":"'baza nisk'!G452","v":"Oddział Urologii i Urologii Onkologicznej"},"","","proszę kliknąć aby wybrać nazwę komórki organizacyjnej",0]
[{"$f":"'baza nisk'!A453","v":"K-293"},{"$f":"'baza nisk'!B453","v":"Kleszcze rozdzielające,5Fr,dł.60 cm, jedna bran"},{"$f":"'baza nisk'!D453","v":"NARZ. MEDYCZNE"},null,0,null,{"$f":"'baza nisk'!E453","v":1833.83},0,null,null,{"$f":"'baza nisk'!G453","v":"Oddział Urologii i Urologii Onkologicznej"},"","","proszę kliknąć aby wybrać nazwę komórki organizacyjnej",0]
[{"$f":"'baza nisk'!A454","v":"K-294"},{"$f":"'baza nisk'!B454","v":"Kleszcze chwytające,obie bransze ruchome,5Fr.dł"},{"$f":"'baza nisk'!D454","v":"NARZ. MEDYCZNE"},null,0,null,{"$f":"'baza nisk'!E454","v":1300},0,null,null,{"$f":"'baza nisk'!G454","v":"Oddział Urologii i Urologii Onkologicznej"},"","","proszę kliknąć aby wybrać nazwę komórki organizacyjnej",0]
[{"$f":"'baza nisk'!A455","v":"K-295"},{"$f":"'baza nisk'!B455","v":"Kleszcze biopsyjne,obie bransze ruchome,5Fr.dł."},{"$f":"'baza nisk'!D455","v":"NARZ. MEDYCZNE"},null,0,null,{"$f":"'baza nisk'!E455","v":1300},0,null,null,{"$f":"'baza nisk'!G455","v":"Oddział Urologii i Urologii Onkologicznej"},"","","proszę kliknąć aby wybrać nazwę komórki organizacyjnej",0]
[{"$f":"'baza nisk'!A456","v":"K-298"},{"$f":"'baza nisk'!B456","v":"Kleszcze naczyniowe PEAN zakrzyw.140mm BH 415R"},{"$f":"'baza nisk'!D456","v":"NARZ. MEDYCZNE"},null,0,null,{"$f":"'baza nisk'!E456","v":50},0,null,null,{"$f":"'baza nisk'!G456","v":"Pracownia Elektrofizjologii"},"","","proszę kliknąć aby wybrać nazwę komórki organizacyjnej",0]
[{"$f":"'baza nisk'!A457","v":"K-298A"},{"$f":"'baza nisk'!B457","v":"Kleszcze naczyniowe PEAN odgięte długie KN-063-"},{"$f":"'baza nisk'!D457","v":"NARZ. MEDYCZNE"},null,0,null,{"$f":"'baza nisk'!E457","v":80},0,null,null,{"$f":"'baza nisk'!G457","v":"Blok Operacyjny"},"","","proszę kliknąć aby wybrać nazwę komórki organizacyjnej",0]
[{"$f":"'baza nisk'!A458","v":"K-299A"},{"$f":"'baza nisk'!B458","v":"Kleszczyki naczyniowe ROCHESTER-OCHSMR 1x2z. pr"},{"$f":"'baza nisk'!D458","v":"NARZ. MEDYCZNE"},null,0,null,{"$f":"'baza nisk'!E458","v":80},0,null,null,{"$f":"'baza nisk'!G458","v":"Stacja Dializ"},"","","proszę kliknąć aby wybrać nazwę komórki organizacyjnej",0]
[{"$f":"'baza nisk'!A459","v":"K-300A"},{"$f":"'baza nisk'!B459","v":"Kleszcze naczyniowe Kocher 1x2z. proste 150mm"},{"$f":"'baza nisk'!D459","v":"NARZ. MEDYCZNE"},null,0,null,{"$f":"'baza nisk'!E459","v":110},0,null,null,{"$f":"'baza nisk'!G459","v":"Oddział Położniczo – Ginekologiczny"},"","","proszę kliknąć aby wybrać nazwę komórki organizacyjnej",0]
[{"$f":"'baza nisk'!A460","v":"K-300B"},{"$f":"'baza nisk'!B460","v":"Kleszcze naczyniowe Kocher 1x2z. proste 140mm"},{"$f":"'baza nisk'!D460","v":"NARZ. MEDYCZNE"},null,0,null,{"$f":"'baza nisk'!E460","v":110},0,null,null,{"$f":"'baza nisk'!G460","v":"Oddział Położniczo – Ginekologiczny"},"","","proszę kliknąć aby wybrać nazwę komórki organizacyjnej",0]
[{"$f":"'baza nisk'!A461","v":"K-307"},{"$f":"'baza nisk'!B461","v":"Komoda "},{"$f":"'baza nisk'!D461","v":"MEBLE"},null,0,null,{"$f":"'baza nisk'!E461","v":479.7},0,null,null,{"$f":"'baza nisk'!G461","v":"Dział Zaopatrzenia i Zamówień Publicznych"},"","","proszę kliknąć aby wybrać nazwę komórki organizacyjnej",0]
[{"$f":"'baza nisk'!A462","v":"K-307A"},{"$f":"'baza nisk'!B462","v":"Komoda "},{"$f":"'baza nisk'!D462","v":"MEBLE"},null,0,null,{"$f":"'baza nisk'!E462","v":479.7},0,null,null,{"$f":"'baza nisk'!G462","v":"Oddział Kardiologii Dziecięcej z Pododdziałem Kardiochirurgi"},"","","proszę kliknąć aby wybrać nazwę komórki organizacyjnej",0]
[{"$f":"'baza nisk'!A464","v":"K-309"},{"$f":"'baza nisk'!B464","v":"Kosz druciany perforowany 406x253x106mm JF254R"},{"$f":"'baza nisk'!D464","v":"NARZ. MEDYCZNE"},null,0,null,{"$f":"'baza nisk'!E464","v":500},0,null,null,{"$f":"'baza nisk'!G464","v":"Zamiejscowy Blok Operacyjny"},"","","proszę kliknąć aby wybrać nazwę komórki organizacyjnej",0]
[{"$f":"'baza nisk'!A463","v":"K-309"},{"$f":"'baza nisk'!B463","v":"Kosz druciany perforowany 406x253x106mm JF254R"},{"$f":"'baza nisk'!D463","v":"NARZ. MEDYCZNE"},null,0,null,{"$f":"'baza nisk'!E463","v":500},0,null,null,{"$f":"'baza nisk'!G463","v":"Blok Operacyjny"},"","","proszę kliknąć aby wybrać nazwę komórki organizacyjnej",0]
[{"$f":"'baza nisk'!A465","v":"K-309A"},{"$f":"'baza nisk'!B465","v":"Kosz druciany perforowany 540X253X106mm JF224R"},{"$f":"'baza nisk'!D465","v":"NARZ. MEDYCZNE"},null,0,null,{"$f":"'baza nisk'!E465","v":500},0,null,null,{"$f":"'baza nisk'!G465","v":"Blok Operacyjny"},"","","proszę kliknąć aby wybrać nazwę komórki organizacyjnej",0]
[{"$f":"'baza nisk'!A469","v":"K-317"},{"$f":"'baza nisk'!B469","v":"Krzeslo  do  komputera Stillo 10 GTP"},{"$f":"'baza nisk'!D469","v":"MEBLE"},null,0,null,{"$f":"'baza nisk'!E469","v":350},0,null,null,{"$f":"'baza nisk'!G469","v":"Dział Rejestracji Statystyki i Dokumentacji Medycznej"},"","","proszę kliknąć aby wybrać nazwę komórki organizacyjnej",0]
[{"$f":"'baza nisk'!A470","v":"K-317"},{"$f":"'baza nisk'!B470","v":"Krzeslo  do  komputera Stillo 10 GTP"},{"$f":"'baza nisk'!D470","v":"MEBLE"},null,0,null,{"$f":"'baza nisk'!E470","v":350},0,null,null,{"$f":"'baza nisk'!G470","v":"Dział Zaopatrzenia i Zamówień Publicznych"},"","","proszę kliknąć aby wybrać nazwę komórki organizacyjnej",0]
[{"$f":"'baza nisk'!A471","v":"K-317"},{"$f":"'baza nisk'!B471","v":"Krzeslo  do  komputera Stillo 10 GTP"},{"$f":"'baza nisk'!D471","v":"MEBLE"},null,0,null,{"$f":"'baza nisk'!E471","v":350},0,null,null,{"$f":"'baza nisk'!G471","v":"Dział Zatrudnienia i Wynagrodzeń"},"","","proszę kliknąć aby wybrać nazwę komórki organizacyjnej",0]
[{"$f":"'baza nisk'!A472","v":"K-317"},{"$f":"'baza nisk'!B472","v":"Krzeslo  do  komputera Stillo 10 GTP"},{"$f":"'baza nisk'!D472","v":"MEBLE"},null,0,null,{"$f":"'baza nisk'!E472","v":350},0,null,null,{"$f":"'baza nisk'!G472","v":"Intensywna Terapia"},"","","proszę kliknąć aby wybrać nazwę komórki organizacyjnej",0]
[{"$f":"'baza nisk'!A473","v":"K-317"},{"$f":"'baza nisk'!B473","v":"Krzeslo  do  komputera Stillo 10 GTP"},{"$f":"'baza nisk'!D473","v":"MEBLE"},null,0,null,{"$f":"'baza nisk'!E473","v":350},0,null,null,{"$f":"'baza nisk'!G473","v":"Oddział Kardiologii Dziecięcej z Pododdziałem Kardiochirurgi"},"","","proszę kliknąć aby wybrać nazwę komórki organizacyjnej",0]
[{"$f":"'baza nisk'!A474","v":"K-317"},{"$f":"'baza nisk'!B474","v":"Krzeslo  do  komputera Stillo 10 GTP"},{"$f":"'baza nisk'!D474","v":"MEBLE"},null,0,null,{"$f":"'baza nisk'!E474","v":350},0,null,null,{"$f":"'baza nisk'!G474","v":"Poradnia Onkologiczna"},"","","proszę kliknąć aby wybrać nazwę komórki organizacyjnej",0]
[{"$f":"'baza nisk'!A475","v":"K-317"},{"$f":"'baza nisk'!B475","v":"Krzeslo  do  komputera Stillo 10 GTP"},{"$f":"'baza nisk'!D475","v":"MEBLE"},null,0,null,{"$f":"'baza nisk'!E475","v":350},0,null,null,{"$f":"'baza nisk'!G475","v":"Sekretariat"},"","","proszę kliknąć aby wybrać nazwę komórki organizacyjnej",0]
[{"$f":"'baza nisk'!A476","v":"K-317"},{"$f":"'baza nisk'!B476","v":"Krzeslo  do  komputera Stillo 10 GTP"},{"$f":"'baza nisk'!D476","v":"MEBLE"},null,0,null,{"$f":"'baza nisk'!E476","v":350},0,null,null,{"$f":"'baza nisk'!G476","v":"SOR"},"","","proszę kliknąć aby wybrać nazwę komórki organizacyjnej",0]
[{"$f":"'baza nisk'!A467","v":"K-317"},{"$f":"'baza nisk'!B467","v":"Krzeslo  do  komputera Stillo 10 GTP"},{"$f":"'baza nisk'!D467","v":"MEBLE"},null,0,null,{"$f":"'baza nisk'!E467","v":350},0,null,null,{"$f":"'baza nisk'!G467","v":"Dział Księgowości i Finansów"},"","","proszę kliknąć aby wybrać nazwę komórki organizacyjnej",0]
[{"$f":"'baza nisk'!A468","v":"K-317"},{"$f":"'baza nisk'!B468","v":"Krzeslo  do  komputera Stillo 10 GTP"},{"$f":"'baza nisk'!D468","v":"MEBLE"},null,0,null,{"$f":"'baza nisk'!E468","v":350},0,null,null,{"$f":"'baza nisk'!G468","v":"Dział Planowania, Analiz i Finansowania Inwestycji"},"","","proszę kliknąć aby wybrać nazwę komórki organizacyjnej",0]
[{"$f":"'baza nisk'!A466","v":"K-317"},{"$f":"'baza nisk'!B466","v":"Krzeslo  do  komputera Stillo 10 GTP"},{"$f":"'baza nisk'!D466","v":"MEBLE"},null,0,null,{"$f":"'baza nisk'!E466","v":350},0,null,null,{"$f":"'baza nisk'!G466","v":"Dział Gospodarki Nieruchomościami i Utrzymania Ruchu"},"","","proszę kliknąć aby wybrać nazwę komórki organizacyjnej",0]
[{"$f":"'baza nisk'!A477","v":"K-317A"},{"$f":"'baza nisk'!B477","v":"Krzeslo  do  komputera Stillo 10 GTP"},{"$f":"'baza nisk'!D477","v":"MEBLE"},null,0,null,{"$f":"'baza nisk'!E477","v":350},0,null,null,{"$f":"'baza nisk'!G477","v":"Oddział Neonatologiczny z Pododdziałem Patologii Noworodka"},"","","proszę kliknąć aby wybrać nazwę komórki organizacyjnej",0]
[{"$f":"'baza nisk'!A478","v":"K-317B"},{"$f":"'baza nisk'!B478","v":"Krzeslo  do  komputera Stillo 10 GTP"},{"$f":"'baza nisk'!D478","v":"MEBLE"},null,0,null,{"$f":"'baza nisk'!E478","v":350},0,null,null,{"$f":"'baza nisk'!G478","v":"Poradnia Chirurgii Onkologicznej"},"","","proszę kliknąć aby wybrać nazwę komórki organizacyjnej",0]
[{"$f":"'baza nisk'!A479","v":"K-317B"},{"$f":"'baza nisk'!B479","v":"Krzeslo  do  komputera Stillo 10 GTP"},{"$f":"'baza nisk'!D479","v":"MEBLE"},null,0,null,{"$f":"'baza nisk'!E479","v":350},0,null,null,{"$f":"'baza nisk'!G479","v":"Zamiejscowy Oddział Rehabilitacji Ogólnoustrojowej II"},"","","proszę kliknąć aby wybrać nazwę komórki organizacyjnej",0]
[{"$f":"'baza nisk'!A480","v":"K-319"},{"$f":"'baza nisk'!B480","v":"Krzesło konferencyjne Profim ARCA 21 SL metalik"},{"$f":"'baza nisk'!D480","v":"MEBLE"},null,0,null,{"$f":"'baza nisk'!E480","v":799.5},0,null,null,{"$f":"'baza nisk'!G480","v":"Dział Rejestracji Statystyki i Dokumentacji Medycznej"},"","","proszę kliknąć aby wybrać nazwę komórki organizacyjnej",0]
[{"$f":"'baza nisk'!A481","v":"K-319"},{"$f":"'baza nisk'!B481","v":"Krzesło konferencyjne Profim ARCA 21 SL metalik"},{"$f":"'baza nisk'!D481","v":"MEBLE"},null,0,null,{"$f":"'baza nisk'!E481","v":799.5},0,null,null,{"$f":"'baza nisk'!G481","v":"SekcjaGospodarcza i Obsługa (cześć wspólna)"},"","","proszę kliknąć aby wybrać nazwę komórki organizacyjnej",0]
[{"$f":"'baza nisk'!A482","v":"K-319A"},{"$f":"'baza nisk'!B482","v":"Krzesło konferencyjne Profim  Sensi K1H chrom"},{"$f":"'baza nisk'!D482","v":"MEBLE"},null,0,null,{"$f":"'baza nisk'!E482","v":799.5},0,null,null,{"$f":"'baza nisk'!G482","v":"Dział Rejestracji Statystyki i Dokumentacji Medycznej"},"","","proszę kliknąć aby wybrać nazwę komórki organizacyjnej",0]
[{"$f":"'baza nisk'!A483","v":"K-320"},{"$f":"'baza nisk'!B483","v":"Krzesło obrotowe Profim Arca 21SL metalik"},{"$f":"'baza nisk'!D483","v":"MEBLE"},null,0,null,{"$f":"'baza nisk'!E483","v":799.5},0,null,null,{"$f":"'baza nisk'!G483","v":"Dział Rejestracji Statystyki i Dokumentacji Medycznej"},"","","proszę kliknąć aby wybrać nazwę komórki organizacyjnej",0]
[{"$f":"'baza nisk'!A484","v":"K-320A"},{"$f":"'baza nisk'!B484","v":"Krzesło Bingo GTP Plus wood"},{"$f":"'baza nisk'!D484","v":"MEBLE"},null,0,null,{"$f":"'baza nisk'!E484","v":565},0,null,null,{"$f":"'baza nisk'!G484","v":"Oddział Okulistyczny"},"","","proszę kliknąć aby wybrać nazwę komórki organizacyjnej",0]
[{"$f":"'baza nisk'!A485","v":"K-321"},{"$f":"'baza nisk'!B485","v":"Krzesło Vilmar białe w czarne linie"},{"$f":"'baza nisk'!D485","v":"MEBLE"},null,0,null,{"$f":"'baza nisk'!E485","v":120},0,null,null,{"$f":"'baza nisk'!G485","v":"Dział Rejestracji Statystyki i Dokumentacji Medycznej"},"","","proszę kliknąć aby wybrać nazwę komórki organizacyjnej",0]
[{"$f":"'baza nisk'!A486","v":"K-322"},{"$f":"'baza nisk'!B486","v":"Kubik kontener KUB-KN-021 -z szfladami"},{"$f":"'baza nisk'!D486","v":"MEBLE"},null,0,null,{"$f":"'baza nisk'!E486","v":900},0,null,null,{"$f":"'baza nisk'!G486","v":"Dział Rejestracji Statystyki i Dokumentacji Medycznej"},"","","proszę kliknąć aby wybrać nazwę komórki organizacyjnej",0]
[{"$f":"'baza nisk'!A487","v":"K-322A"},{"$f":"'baza nisk'!B487","v":"Kubik kontener KUB-KN-022-z szfladami"},{"$f":"'baza nisk'!D487","v":"MEBLE"},null,0,null,{"$f":"'baza nisk'!E487","v":900},0,null,null,{"$f":"'baza nisk'!G487","v":"Dział Rejestracji Statystyki i Dokumentacji Medycznej"},"","","proszę kliknąć aby wybrać nazwę komórki organizacyjnej",0]
[{"$f":"'baza nisk'!A488","v":"K-327"},{"$f":"'baza nisk'!B488","v":"Krzeslo H261-ciemny beż"},{"$f":"'baza nisk'!D488","v":"MEBLE"},null,0,null,{"$f":"'baza nisk'!E488","v":180},0,null,null,{"$f":"'baza nisk'!G488","v":"Oddział Kardiologiczny"},"","","proszę kliknąć aby wybrać nazwę komórki organizacyjnej",0]
[{"$f":"'baza nisk'!A489","v":"K-327A"},{"$f":"'baza nisk'!B489","v":"Krzeslo KT stelaż jabłoń,obicie Ekoskóra 21S-Or"},{"$f":"'baza nisk'!D489","v":"MEBLE"},null,0,null,{"$f":"'baza nisk'!E489","v":180},0,null,null,{"$f":"'baza nisk'!G489","v":"Hotel Pracowniczy"},"","","proszę kliknąć aby wybrać nazwę komórki organizacyjnej",0]
[{"$f":"'baza nisk'!A490","v":"K-332"},{"$f":"'baza nisk'!B490","v":"Kleszcze do zaciskania drenów dł150mm 6\" szczęk"},{"$f":"'baza nisk'!D490","v":"NARZ. MEDYCZNE"},null,0,null,{"$f":"'baza nisk'!E490","v":60.27},0,null,null,{"$f":"'baza nisk'!G490","v":"Oddział Okulistyczny"},"","","proszę kliknąć aby wybrać nazwę komórki organizacyjnej",0]
[{"$f":"'baza nisk'!A491","v":"K-334"},{"$f":"'baza nisk'!B491","v":"Kleszczyki naczyniowe typu JACKE 130mm odgięte"},{"$f":"'baza nisk'!D491","v":"NARZ. MEDYCZNE"},null,0,null,{"$f":"'baza nisk'!E491","v":72.52},0,null,null,{"$f":"'baza nisk'!G491","v":"Blok Operacyjny"},"","","proszę kliknąć aby wybrać nazwę komórki organizacyjnej",0]
[{"$f":"'baza nisk'!A492","v":"K-340"},{"$f":"'baza nisk'!B492","v":"Kleszczyki atraumatyczne ALLIS 6,2mm 160mm EA09"},{"$f":"'baza nisk'!D492","v":"NARZ. MEDYCZNE"},null,0,null,{"$f":"'baza nisk'!E492","v":440},0,null,null,{"$f":"'baza nisk'!G492","v":"Oddział Otolaryngologiczny z Pododdziałem Otolaryngologii"},"","","proszę kliknąć aby wybrać nazwę komórki organizacyjnej",0]
[{"$f":"'baza nisk'!A493","v":"K-341B"},{"$f":"'baza nisk'!B493","v":"Kleszcze atraumatyczne naczyniowe DE'BAKEY 38/8"},{"$f":"'baza nisk'!D493","v":"NARZ. MEDYCZNE"},null,0,null,{"$f":"'baza nisk'!E493","v":850},0,null,null,{"$f":"'baza nisk'!G493","v":"Blok Operacyjny"},"","","proszę kliknąć aby wybrać nazwę komórki organizacyjnej",0]
[{"$f":"'baza nisk'!A494","v":"K-347"},{"$f":"'baza nisk'!B494","v":"Kleszczyki naczyniowe delikatne typ Hals KN-320"},{"$f":"'baza nisk'!D494","v":"NARZ. MEDYCZNE"},null,0,null,{"$f":"'baza nisk'!E494","v":90},0,null,null,{"$f":"'baza nisk'!G494","v":"Blok Operacyjny"},"","","proszę kliknąć aby wybrać nazwę komórki organizacyjnej",0]
[{"$f":"'baza nisk'!A495","v":"K-348"},{"$f":"'baza nisk'!B495","v":"Kleszcze naczyniowe ROCHESTER-PEAN zakrzywione"},{"$f":"'baza nisk'!D495","v":"NARZ. MEDYCZNE"},null,0,null,{"$f":"'baza nisk'!E495","v":100},0,null,null,{"$f":"'baza nisk'!G495","v":"Blok Operacyjny"},"","","proszę kliknąć aby wybrać nazwę komórki organizacyjnej",0]
[{"$f":"'baza nisk'!A496","v":"K-350"},{"$f":"'baza nisk'!B496","v":"Kleszczyki laparaskopowe BiClamp, Maryland [kpl"},{"$f":"'baza nisk'!D496","v":"NARZ. MEDYCZNE"},null,0,null,{"$f":"'baza nisk'!E496","v":266.11},0,null,null,{"$f":"'baza nisk'!G496","v":"Blok Operacyjny"},"","","proszę kliknąć aby wybrać nazwę komórki organizacyjnej",0]
[{"$f":"'baza nisk'!A497","v":"L-006"},{"$f":"'baza nisk'!B497","v":"Lodówka Beko"},{"$f":"'baza nisk'!D497","v":"SPRZĘT AGD"},null,0,null,{"$f":"'baza nisk'!E497","v":1100},0,null,null,{"$f":"'baza nisk'!G497","v":"Intensywna Terapia"},"","","proszę kliknąć aby wybrać nazwę komórki organizacyjnej",0]
[{"$f":"'baza nisk'!A498","v":"L-006"},{"$f":"'baza nisk'!B498","v":"Lodówka Beko"},{"$f":"'baza nisk'!D498","v":"SPRZĘT AGD"},null,0,null,{"$f":"'baza nisk'!E498","v":1100},0,null,null,{"$f":"'baza nisk'!G498","v":"Oddział Dermatologiczny"},"","","proszę kliknąć aby wybrać nazwę komórki organizacyjnej",0]
[{"$f":"'baza nisk'!A499","v":"L-006A"},{"$f":"'baza nisk'!B499","v":"Lodówka"},{"$f":"'baza nisk'!D499","v":"SPRZĘT AGD"},null,0,null,{"$f":"'baza nisk'!E499","v":1299},0,null,null,{"$f":"'baza nisk'!G499","v":"Dział Centralnej Sterylizatorni i DDD"},"","","proszę kliknąć aby wybrać nazwę komórki organizacyjnej",0]
[{"$f":"'baza nisk'!A500","v":"L-006A"},{"$f":"'baza nisk'!B500","v":"Lodówka"},{"$f":"'baza nisk'!D500","v":"SPRZĘT AGD"},null,0,null,{"$f":"'baza nisk'!E500","v":1299},0,null,null,{"$f":"'baza nisk'!G500","v":"Oddział Dermatologiczny"},"","","proszę kliknąć aby wybrać nazwę komórki organizacyjnej",0]
[{"$f":"'baza nisk'!A502","v":"L-006B"},{"$f":"'baza nisk'!B502","v":"Lodówko-zamrażarka INDESIT"},{"$f":"'baza nisk'!D502","v":"SPRZĘT AGD"},null,0,null,{"$f":"'baza nisk'!E502","v":1299},0,null,null,{"$f":"'baza nisk'!G502","v":"Hotel Pracowniczy"},"","","proszę kliknąć aby wybrać nazwę komórki organizacyjnej",0]
[{"$f":"'baza nisk'!A501","v":"L-006B"},{"$f":"'baza nisk'!B501","v":"Lodówko-zamrażarka INDESIT"},{"$f":"'baza nisk'!D501","v":"SPRZĘT AGD"},null,0,null,{"$f":"'baza nisk'!E501","v":1299},0,null,null,{"$f":"'baza nisk'!G501","v":"Dział Gospodarki Nieruchomościami i Utrzymania Ruchu"},"","","proszę kliknąć aby wybrać nazwę komórki organizacyjnej",0]
[{"$f":"'baza nisk'!A503","v":"L-006C"},{"$f":"'baza nisk'!B503","v":"Lodówka Liebherr"},{"$f":"'baza nisk'!D503","v":"SPRZĘT AGD"},null,0,null,{"$f":"'baza nisk'!E503","v":1299},0,null,null,{"$f":"'baza nisk'!G503","v":"Oddział Dermatologiczny"},"","","proszę kliknąć aby wybrać nazwę komórki organizacyjnej",0]
[{"$f":"'baza nisk'!A504","v":"L-006E"},{"$f":"'baza nisk'!B504","v":"Lodówka MPM"},{"$f":"'baza nisk'!D504","v":"POZOSTAŁE"},null,0,null,{"$f":"'baza nisk'!E504","v":670},0,null,null,{"$f":"'baza nisk'!G504","v":"Intensywna Terapia"},"","","proszę kliknąć aby wybrać nazwę komórki organizacyjnej",0]
[{"$f":"'baza nisk'!A505","v":"L-006F"},{"$f":"'baza nisk'!B505","v":"Lodówka Electrolux"},{"$f":"'baza nisk'!D505","v":"SPRZĘT AGD"},null,0,null,{"$f":"'baza nisk'!E505","v":849.99},0,null,null,{"$f":"'baza nisk'!G505","v":"Oddział Położniczo – Ginekologiczny"},"","","proszę kliknąć aby wybrać nazwę komórki organizacyjnej",0]
[{"$f":"'baza nisk'!A507","v":"L-006G"},{"$f":"'baza nisk'!B507","v":"Lodówka MPM"},{"$f":"'baza nisk'!D507","v":"SPRZĘT AGD"},null,0,null,{"$f":"'baza nisk'!E507","v":670},0,null,null,{"$f":"'baza nisk'!G507","v":"Intensywna Terapia"},"","","proszę kliknąć aby wybrać nazwę komórki organizacyjnej",0]
[{"$f":"'baza nisk'!A506","v":"L-006G"},{"$f":"'baza nisk'!B506","v":"Lodówka MPM"},{"$f":"'baza nisk'!D506","v":"SPRZĘT AGD"},null,0,null,{"$f":"'baza nisk'!E506","v":670},0,null,null,{"$f":"'baza nisk'!G506","v":"Hotel Pracowniczy"},"","","proszę kliknąć aby wybrać nazwę komórki organizacyjnej",0]
[{"$f":"'baza nisk'!A508","v":"L-006H"},{"$f":"'baza nisk'!B508","v":"Lodówka Beko"},{"$f":"'baza nisk'!D508","v":"SPRZĘT AGD"},null,0,null,{"$f":"'baza nisk'!E508","v":1300},0,null,null,{"$f":"'baza nisk'!G508","v":"Zamiejscowy Oddział Rehabilitacji Neurologicznej"},"","","proszę kliknąć aby wybrać nazwę komórki organizacyjnej",0]
[{"$f":"'baza nisk'!A509","v":"L-006I"},{"$f":"'baza nisk'!B509","v":"Lodówka LG"},{"$f":"'baza nisk'!D509","v":"SPRZĘT AGD"},null,0,null,{"$f":"'baza nisk'!E509","v":899},0,null,null,{"$f":"'baza nisk'!G509","v":"Oddział Kardiologiczny"},"","","proszę kliknąć aby wybrać nazwę komórki organizacyjnej",0]
[{"$f":"'baza nisk'!A510","v":"L-006J"},{"$f":"'baza nisk'!B510","v":"Lodówka Indesit "},{"$f":"'baza nisk'!D510","v":"SPRZĘT AGD"},null,0,null,{"$f":"'baza nisk'!E510","v":699},0,null,null,{"$f":"'baza nisk'!G510","v":"Intensywna Terapia"},"","","proszę kliknąć aby wybrać nazwę komórki organizacyjnej",0]
[{"$f":"'baza nisk'!A511","v":"L-006K"},{"$f":"'baza nisk'!B511","v":"Lodówka Candy"},{"$f":"'baza nisk'!D511","v":"SPRZĘT AGD"},null,0,null,{"$f":"'baza nisk'!E511","v":649},0,null,null,{"$f":"'baza nisk'!G511","v":"Intensywna Terapia"},"","","proszę kliknąć aby wybrać nazwę komórki organizacyjnej",0]
[{"$f":"'baza nisk'!A512","v":"L-006L"},{"$f":"'baza nisk'!B512","v":"Lodówka Electrolux"},{"$f":"'baza nisk'!D512","v":"SPRZĘT AGD"},null,0,null,{"$f":"'baza nisk'!E512","v":849.99},0,null,null,{"$f":"'baza nisk'!G512","v":"Oddział Neonatologiczny z Pododdziałem Patologii Noworodka"},"","","proszę kliknąć aby wybrać nazwę komórki organizacyjnej",0]
[{"$f":"'baza nisk'!A513","v":"L-006Ł"},{"$f":"'baza nisk'!B513","v":"Lodówka Candy"},{"$f":"'baza nisk'!D513","v":"SPRZĘT AGD"},null,0,null,{"$f":"'baza nisk'!E513","v":649},0,null,null,{"$f":"'baza nisk'!G513","v":"Oddział Kardiologii Dziecięcej z Pododdziałem Kardiochirurgi"},"","","proszę kliknąć aby wybrać nazwę komórki organizacyjnej",0]
[{"$f":"'baza nisk'!A514","v":"L-007A"},{"$f":"'baza nisk'!B514","v":"Lusterko krtaniowe z uchwytem śr.20mm"},{"$f":"'baza nisk'!D514","v":"NARZ. MEDYCZNE"},null,0,null,{"$f":"'baza nisk'!E514","v":28},0,null,null,{"$f":"'baza nisk'!G514","v":"Oddział Otolaryngologiczny z Pododdziałem Otolaryngologii"},"","","proszę kliknąć aby wybrać nazwę komórki organizacyjnej",0]
[{"$f":"'baza nisk'!A515","v":"L-007B"},{"$f":"'baza nisk'!B515","v":"Lusterko krtaniowe z uchwytem śr.22mm"},{"$f":"'baza nisk'!D515","v":"NARZ. MEDYCZNE"},null,0,null,{"$f":"'baza nisk'!E515","v":28},{"$f":"E518*G518","v":0},null,null,{"$f":"'baza nisk'!G515","v":"Oddział Otolaryngologiczny z Pododdziałem Otolaryngologii"},{"$f":"IF($B$2=K518,$B$2,\"\")","v":""},{"$f":"IF($B$2=K518,1,\"\")","v":""},{"$f":"$B$2","v":"proszę kliknąć aby wybrać nazwę komórki organizacyjnej"},{"$f":"$H$2","v":0}]
[{"$f":"'baza nisk'!A516","v":"L-007C"},{"$f":"'baza nisk'!B516","v":"Lusterko krtaniowe z uchwytem śr.18mm"},{"$f":"'baza nisk'!D516","v":"NARZ. MEDYCZNE"},null,0,null,{"$f":"'baza nisk'!E516","v":28},0,null,null,{"$f":"'baza nisk'!G516","v":"Poradnia Otolaryngologiczna"},"","","proszę kliknąć aby wybrać nazwę komórki organizacyjnej",0]
[{"$f":"'baza nisk'!A517","v":"L-013"},{"$f":"'baza nisk'!B517","v":"Laktator elektryczny Electric Plus Electric Plu"},{"$f":"'baza nisk'!D517","v":"MED. NISK. ŚR. TRW."},null,0,null,{"$f":"'baza nisk'!E517","v":3300},0,null,null,{"$f":"'baza nisk'!G517","v":"Oddział Położniczo – Ginekologiczny"},"","","proszę kliknąć aby wybrać nazwę komórki organizacyjnej",0]
[{"$f":"'baza nisk'!A518","v":"L-014"},{"$f":"'baza nisk'!B518","v":"Lampa z podświetloną soczewką soczewka powiększ"},{"$f":"'baza nisk'!D518","v":"MED. NISK. ŚR. TRW."},null,0,null,{"$f":"'baza nisk'!E518","v":442.8},0,null,null,{"$f":"'baza nisk'!G518","v":"Dział Centralnej Sterylizatorni i DDD"},"","","proszę kliknąć aby wybrać nazwę komórki organizacyjnej",0]
[{"$f":"'baza nisk'!A520","v":"L-015"},{"$f":"'baza nisk'!B520","v":"Lampa do terapii światłem spolaryzowanym Solari"},{"$f":"'baza nisk'!D520","v":"MED. NISK. ŚR. TRW."},null,0,null,{"$f":"'baza nisk'!E520","v":1500},0,null,null,{"$f":"'baza nisk'!G520","v":"Oddział Nefrologiczny"},"","","proszę kliknąć aby wybrać nazwę komórki organizacyjnej",0]
[{"$f":"'baza nisk'!A519","v":"L-015"},{"$f":"'baza nisk'!B519","v":"Lampa do terapii światłem spolaryzowanym Solari"},{"$f":"'baza nisk'!D519","v":"MED. NISK. ŚR. TRW."},null,0,null,{"$f":"'baza nisk'!E519","v":1500},0,null,null,{"$f":"'baza nisk'!G519","v":"Oddział Chirurgii Naczyniowej"},"","","proszę kliknąć aby wybrać nazwę komórki organizacyjnej",0]
[{"$f":"'baza nisk'!A521","v":"L-015"},{"$f":"'baza nisk'!B521","v":"Lampa do terapii światłem spolaryzowanym Solari"},{"$f":"'baza nisk'!D521","v":"MED. NISK. ŚR. TRW."},null,0,null,{"$f":"'baza nisk'!E521","v":1500},0,null,null,{"$f":"'baza nisk'!G521","v":"Oddział Położniczo – Ginekologiczny"},"","","proszę kliknąć aby wybrać nazwę komórki organizacyjnej",0]
[{"$f":"'baza nisk'!A523","v":"L-015"},{"$f":"'baza nisk'!B523","v":"Lampa do terapii światłem spolaryzowanym Solari"},{"$f":"'baza nisk'!D523","v":"MED. NISK. ŚR. TRW."},null,0,null,{"$f":"'baza nisk'!E523","v":1500},0,null,null,{"$f":"'baza nisk'!G523","v":"Zamiejscowy Oddział Rehabilitacji Ogólnoustrojowej II"},"","","proszę kliknąć aby wybrać nazwę komórki organizacyjnej",0]
[{"$f":"'baza nisk'!A522","v":"L-015"},{"$f":"'baza nisk'!B522","v":"Lampa do terapii światłem spolaryzowanym Solari"},{"$f":"'baza nisk'!D522","v":"MED. NISK. ŚR. TRW."},null,0,null,{"$f":"'baza nisk'!E522","v":1500},0,null,null,{"$f":"'baza nisk'!G522","v":"Zamiejscowy Dział Rehabilitacji Leczniczej"},"","","proszę kliknąć aby wybrać nazwę komórki organizacyjnej",0]
[{"$f":"'baza nisk'!A524","v":"L-017"},{"$f":"'baza nisk'!B524","v":"Lampka biurowa"},{"$f":"'baza nisk'!D524","v":"URZĄDZ. BIUROWE"},null,0,null,{"$f":"'baza nisk'!E524","v":90},0,null,null,{"$f":"'baza nisk'!G524","v":"Anestezjologia"},"","","proszę kliknąć aby wybrać nazwę komórki organizacyjnej",0]
[{"$f":"'baza nisk'!A525","v":"L-017"},{"$f":"'baza nisk'!B525","v":"Lampka biurowa"},{"$f":"'baza nisk'!D525","v":"URZĄDZ. BIUROWE"},null,0,null,{"$f":"'baza nisk'!E525","v":90},0,null,null,{"$f":"'baza nisk'!G525","v":"Zamiejscowy Oddział Rehabilitacji Neurologicznej"},"","","proszę kliknąć aby wybrać nazwę komórki organizacyjnej",0]
[{"$f":"'baza nisk'!A526","v":"L-017A"},{"$f":"'baza nisk'!B526","v":"Lampka biurowa"},{"$f":"'baza nisk'!D526","v":"URZĄDZ. BIUROWE"},null,0,null,{"$f":"'baza nisk'!E526","v":90},0,null,null,{"$f":"'baza nisk'!G526","v":"DODO -Pracownia Diagnostyczno - Zabiegowa Naczyń"},"","","proszę kliknąć aby wybrać nazwę komórki organizacyjnej",0]
[{"$f":"'baza nisk'!A527","v":"L-017A"},{"$f":"'baza nisk'!B527","v":"Lampka biurowa"},{"$f":"'baza nisk'!D527","v":"URZĄDZ. BIUROWE"},null,0,null,{"$f":"'baza nisk'!E527","v":90},0,null,null,{"$f":"'baza nisk'!G527","v":"Dział Zaopatrzenia i Zamówień Publicznych"},"","","proszę kliknąć aby wybrać nazwę komórki organizacyjnej",0]
[{"$f":"'baza nisk'!A528","v":"L-017B"},{"$f":"'baza nisk'!B528","v":"Lampka biurowa"},{"$f":"'baza nisk'!D528","v":"URZĄDZ. BIUROWE"},null,0,null,{"$f":"'baza nisk'!E528","v":90},0,null,null,{"$f":"'baza nisk'!G528","v":"Dział Sprzedaży Usług Medycznych"},"","","proszę kliknąć aby wybrać nazwę komórki organizacyjnej",0]
[{"$f":"'baza nisk'!A529","v":"L-017C"},{"$f":"'baza nisk'!B529","v":"Lampka biurowa"},{"$f":"'baza nisk'!D529","v":"URZĄDZ. BIUROWE"},null,0,null,{"$f":"'baza nisk'!E529","v":90},0,null,null,{"$f":"'baza nisk'!G529","v":"Dział Zatrudnienia i Wynagrodzeń"},"","","proszę kliknąć aby wybrać nazwę komórki organizacyjnej",0]
[{"$f":"'baza nisk'!A530","v":"L-017C"},{"$f":"'baza nisk'!B530","v":"Lampka biurowa"},{"$f":"'baza nisk'!D530","v":"URZĄDZ. BIUROWE"},null,0,null,{"$f":"'baza nisk'!E530","v":90},0,null,null,{"$f":"'baza nisk'!G530","v":"Oddział Pediatryczny z Pododdziałem Gastroenterologii "},"","","proszę kliknąć aby wybrać nazwę komórki organizacyjnej",0]
[{"$f":"'baza nisk'!A531","v":"L-017D"},{"$f":"'baza nisk'!B531","v":"Lampka biurowa"},{"$f":"'baza nisk'!D531","v":"URZĄDZ. BIUROWE"},null,0,null,{"$f":"'baza nisk'!E531","v":90},0,null,null,{"$f":"'baza nisk'!G531","v":"Dział Zatrudnienia i Wynagrodzeń"},"","","proszę kliknąć aby wybrać nazwę komórki organizacyjnej",0]
[{"$f":"'baza nisk'!A532","v":"L-017E"},{"$f":"'baza nisk'!B532","v":"Lampka biurowa"},{"$f":"'baza nisk'!D532","v":"URZĄDZ. BIUROWE"},null,0,null,{"$f":"'baza nisk'!E532","v":90},0,null,null,{"$f":"'baza nisk'!G532","v":"Dział Zaopatrzenia i Zamówień Publicznych"},"","","proszę kliknąć aby wybrać nazwę komórki organizacyjnej",0]
[{"$f":"'baza nisk'!A533","v":"L-017E"},{"$f":"'baza nisk'!B533","v":"Lampka biurowa"},{"$f":"'baza nisk'!D533","v":"URZĄDZ. BIUROWE"},null,0,null,{"$f":"'baza nisk'!E533","v":90},0,null,null,{"$f":"'baza nisk'!G533","v":"Oddział Neonatologiczny z Pododdziałem Patologii Noworodka"},"","","proszę kliknąć aby wybrać nazwę komórki organizacyjnej",0]
[{"$f":"'baza nisk'!A534","v":"L-017E"},{"$f":"'baza nisk'!B534","v":"Lampka biurowa"},{"$f":"'baza nisk'!D534","v":"URZĄDZ. BIUROWE"},null,0,null,{"$f":"'baza nisk'!E534","v":90},0,null,null,{"$f":"'baza nisk'!G534","v":"Oddział Okulistyczny"},"","","proszę kliknąć aby wybrać nazwę komórki organizacyjnej",0]
[{"$f":"'baza nisk'!A535","v":"L-017E"},{"$f":"'baza nisk'!B535","v":"Lampka biurowa"},{"$f":"'baza nisk'!D535","v":"URZĄDZ. BIUROWE"},null,0,null,{"$f":"'baza nisk'!E535","v":90},0,null,null,{"$f":"'baza nisk'!G535","v":"Oddział Pediatryczny z Pododdziałem Gastroenterologii "},"","","proszę kliknąć aby wybrać nazwę komórki organizacyjnej",0]
[{"$f":"'baza nisk'!A536","v":"L-017E"},{"$f":"'baza nisk'!B536","v":"Lampka biurowa"},{"$f":"'baza nisk'!D536","v":"URZĄDZ. BIUROWE"},null,0,null,{"$f":"'baza nisk'!E536","v":90},0,null,null,{"$f":"'baza nisk'!G536","v":"Oddział Położniczo – Ginekologiczny"},"","","proszę kliknąć aby wybrać nazwę komórki organizacyjnej",0]
[{"$f":"'baza nisk'!A537","v":"L-017E"},{"$f":"'baza nisk'!B537","v":"Lampka biurowa"},{"$f":"'baza nisk'!D537","v":"URZĄDZ. BIUROWE"},null,0,null,{"$f":"'baza nisk'!E537","v":90},0,null,null,{"$f":"'baza nisk'!G537","v":"Sekretariat"},"","","proszę kliknąć aby wybrać nazwę komórki organizacyjnej",0]
[{"$f":"'baza nisk'!A538","v":"L-017E"},{"$f":"'baza nisk'!B538","v":"Lampka biurowa"},{"$f":"'baza nisk'!D538","v":"URZĄDZ. BIUROWE"},null,0,null,{"$f":"'baza nisk'!E538","v":90},0,null,null,{"$f":"'baza nisk'!G538","v":"Szkoła Rodzenia"},"","","proszę kliknąć aby wybrać nazwę komórki organizacyjnej",0]
[{"$f":"'baza nisk'!A539","v":"L-017H"},{"$f":"'baza nisk'!B539","v":"Lampka biurowa"},{"$f":"'baza nisk'!D539","v":"URZĄDZ. BIUROWE"},null,0,null,{"$f":"'baza nisk'!E539","v":90},0,null,null,{"$f":"'baza nisk'!G539","v":"Dział Księgowości i Finansów"},"","","proszę kliknąć aby wybrać nazwę komórki organizacyjnej",0]
[{"$f":"'baza nisk'!A540","v":"L-017I"},{"$f":"'baza nisk'!B540","v":"Lampka biurowa"},{"$f":"'baza nisk'!D540","v":"URZĄDZ. BIUROWE"},null,0,null,{"$f":"'baza nisk'!E540","v":90},0,null,null,{"$f":"'baza nisk'!G540","v":"Oddział Kardiologii Dziecięcej z Pododdziałem Kardiochirurgi"},"","","proszę kliknąć aby wybrać nazwę komórki organizacyjnej",0]
[{"$f":"'baza nisk'!A541","v":"L-017J"},{"$f":"'baza nisk'!B541","v":"Lampka biurowa"},{"$f":"'baza nisk'!D541","v":"URZĄDZ. BIUROWE"},null,0,null,{"$f":"'baza nisk'!E541","v":90},0,null,null,{"$f":"'baza nisk'!G541","v":"Pracownia Hemodynamiki"},"","","proszę kliknąć aby wybrać nazwę komórki organizacyjnej",0]
[{"$f":"'baza nisk'!A542","v":"L-017K"},{"$f":"'baza nisk'!B542","v":"Lampka biurowa"},{"$f":"'baza nisk'!D542","v":"URZĄDZ. BIUROWE"},null,0,null,{"$f":"'baza nisk'!E542","v":90},0,null,null,{"$f":"'baza nisk'!G542","v":"SekcjaKontroli Zakażeń Szpitalnych"},"","","proszę kliknąć aby wybrać nazwę komórki organizacyjnej",0]
[{"$f":"'baza nisk'!A543","v":"L-018"},{"$f":"'baza nisk'!B543","v":"Lampa naczołowa Clar N55mm bateryjna z żarówką"},{"$f":"'baza nisk'!D543","v":"MED. NISK. ŚR. TRW."},null,0,null,{"$f":"'baza nisk'!E543","v":1800},0,null,null,{"$f":"'baza nisk'!G543","v":"Oddział Otolaryngologiczny z Pododdziałem Otolaryngologii"},"","","proszę kliknąć aby wybrać nazwę komórki organizacyjnej",0]
[{"$f":"'baza nisk'!A544","v":"L-019"},{"$f":"'baza nisk'!B544","v":"Lampa naczołowa Clar N55mm akumulatorowa z łado"},{"$f":"'baza nisk'!D544","v":"MED. NISK. ŚR. TRW."},null,0,null,{"$f":"'baza nisk'!E544","v":1800},0,null,null,{"$f":"'baza nisk'!G544","v":"Oddział Otolaryngologiczny z Pododdziałem Otolaryngologii"},"","","proszę kliknąć aby wybrać nazwę komórki organizacyjnej",0]
[{"$f":"'baza nisk'!A545","v":"L-020"},{"$f":"'baza nisk'!B545","v":"Latarka neurologiczna w etuii FORTELUX"},{"$f":"'baza nisk'!D545","v":"MED. NISK. ŚR. TRW."},null,0,null,{"$f":"'baza nisk'!E545","v":100},0,null,null,{"$f":"'baza nisk'!G545","v":"Intensywna Terapia"},"","","proszę kliknąć aby wybrać nazwę komórki organizacyjnej",0]
[{"$f":"'baza nisk'!A546","v":"L-029"},{"$f":"'baza nisk'!B546","v":"Lampa bakteriobójcza przepływowa"},{"$f":"'baza nisk'!D546","v":"MED. NISK. ŚR. TRW."},null,0,null,{"$f":"'baza nisk'!E546","v":1168.5},0,null,null,{"$f":"'baza nisk'!G546","v":"Intensywna Terapia"},"","","proszę kliknąć aby wybrać nazwę komórki organizacyjnej",0]
[{"$f":"'baza nisk'!A547","v":"L-029A"},{"$f":"'baza nisk'!B547","v":"Lampa bakteriobójcza przepływowa"},{"$f":"'baza nisk'!D547","v":"MED. NISK. ŚR. TRW."},null,0,null,{"$f":"'baza nisk'!E547","v":1168.5},0,null,null,{"$f":"'baza nisk'!G547","v":"Poradnia Chirurgii Onkologicznej"},"","","proszę kliknąć aby wybrać nazwę komórki organizacyjnej",0]
[{"$f":"'baza nisk'!A548","v":"L-029B"},{"$f":"'baza nisk'!B548","v":"Lampa bakteriobójcza przepływowa"},{"$f":"'baza nisk'!D548","v":"MED. NISK. ŚR. TRW."},null,0,null,{"$f":"'baza nisk'!E548","v":1168.5},0,null,null,{"$f":"'baza nisk'!G548","v":"Oddział Pediatryczny z Pododdziałem Gastroenterologii "},"","","proszę kliknąć aby wybrać nazwę komórki organizacyjnej",0]
[{"$f":"'baza nisk'!A549","v":"L-029C"},{"$f":"'baza nisk'!B549","v":"Lampa bakteriobójcza przepływowa"},{"$f":"'baza nisk'!D549","v":"MED. NISK. ŚR. TRW."},null,0,null,{"$f":"'baza nisk'!E549","v":1168.5},0,null,null,{"$f":"'baza nisk'!G549","v":"Oddział Pediatryczny z Pododdziałem Gastroenterologii "},"","","proszę kliknąć aby wybrać nazwę komórki organizacyjnej",0]
[{"$f":"'baza nisk'!A550","v":"L-029D"},{"$f":"'baza nisk'!B550","v":"Lampa bakteriobójcza przepływowa"},{"$f":"'baza nisk'!D550","v":"MED. NISK. ŚR. TRW."},null,0,null,{"$f":"'baza nisk'!E550","v":1168.5},0,null,null,{"$f":"'baza nisk'!G550","v":"Oddział Położniczo – Ginekologiczny"},"","","proszę kliknąć aby wybrać nazwę komórki organizacyjnej",0]
[{"$f":"'baza nisk'!A551","v":"L-029E"},{"$f":"'baza nisk'!B551","v":"Lampa bakteriobójcza przepływowa"},{"$f":"'baza nisk'!D551","v":"MED. NISK. ŚR. TRW."},null,0,null,{"$f":"'baza nisk'!E551","v":1168.5},0,null,null,{"$f":"'baza nisk'!G551","v":"Zamiejscowy Oddział Rehabilitacji Ogólnoustrojowej I"},"","","proszę kliknąć aby wybrać nazwę komórki organizacyjnej",0]
[{"$f":"'baza nisk'!A552","v":"L-029F"},{"$f":"'baza nisk'!B552","v":"Lampa bakteriobójcza przepływowa"},{"$f":"'baza nisk'!D552","v":"MED. NISK. ŚR. TRW."},null,0,null,{"$f":"'baza nisk'!E552","v":1168.5},0,null,null,{"$f":"'baza nisk'!G552","v":"Oddział Kardiologii Dziecięcej z Pododdziałem Kardiochirurgi"},"","","proszę kliknąć aby wybrać nazwę komórki organizacyjnej",0]
[{"$f":"'baza nisk'!A553","v":"L-029F"},{"$f":"'baza nisk'!B553","v":"Lampa bakteriobójcza przepływowa"},{"$f":"'baza nisk'!D553","v":"MED. NISK. ŚR. TRW."},null,0,null,{"$f":"'baza nisk'!E553","v":1168.5},0,null,null,{"$f":"'baza nisk'!G553","v":"Oddział Położniczo – Ginekologiczny"},"","","proszę kliknąć aby wybrać nazwę komórki organizacyjnej",0]
[{"$f":"'baza nisk'!A554","v":"L-036"},{"$f":"'baza nisk'!B554","v":"Laktator Lactina Electric Plus,wraz ze stojakam"},{"$f":"'baza nisk'!D554","v":"POZOSTAŁE"},null,0,null,{"$f":"'baza nisk'!E554","v":3400},0,null,null,{"$f":"'baza nisk'!G554","v":"Szkoła Rodzenia"},"","","proszę kliknąć aby wybrać nazwę komórki organizacyjnej",0]
[{"$f":"'baza nisk'!A555","v":"L-037"},{"$f":"'baza nisk'!B555","v":"Lampa operacyjna,zabiegowa PH-121.1"},{"$f":"'baza nisk'!D555","v":"MED. NISK. ŚR. TRW."},null,0,null,{"$f":"'baza nisk'!E555","v":1807.92},0,null,null,{"$f":"'baza nisk'!G555","v":"Szkoła Rodzenia"},"","","proszę kliknąć aby wybrać nazwę komórki organizacyjnej",0]
[{"$f":"'baza nisk'!A556","v":"L-038"},{"$f":"'baza nisk'!B556","v":"Latarka KaWe Cliplight kolor czarny"},{"$f":"'baza nisk'!D556","v":"NARZ. MEDYCZNE"},null,0,null,{"$f":"'baza nisk'!E556","v":83.04},0,null,null,{"$f":"'baza nisk'!G556","v":"Intensywna Terapia"},"","","proszę kliknąć aby wybrać nazwę komórki organizacyjnej",0]
[{"$f":"'baza nisk'!A557","v":"L-038A"},{"$f":"'baza nisk'!B557","v":"Latarka KaWe Cliplight kolor niebieski"},{"$f":"'baza nisk'!D557","v":"NARZ. MEDYCZNE"},null,0,null,{"$f":"'baza nisk'!E557","v":108},0,null,null,{"$f":"'baza nisk'!G557","v":"Intensywna Terapia"},"","","proszę kliknąć aby wybrać nazwę komórki organizacyjnej",0]
[{"$f":"'baza nisk'!A558","v":"L-040"},{"$f":"'baza nisk'!B558","v":"Laryngoskop do trudnych intubacji typu McCoy/FM"},{"$f":"'baza nisk'!D558","v":"NARZ. MEDYCZNE"},null,0,null,{"$f":"'baza nisk'!E558","v":1353},0,null,null,{"$f":"'baza nisk'!G558","v":"Anestezjologia"},"","","proszę kliknąć aby wybrać nazwę komórki organizacyjnej",0]
[{"$f":"'baza nisk'!A559","v":"L-076"},{"$f":"'baza nisk'!B559","v":"Laminator Fellowes Saturn A4"},{"$f":"'baza nisk'!D559","v":"URZĄDZ. BIUROWE"},null,0,null,{"$f":"'baza nisk'!E559","v":1014.75},0,null,null,{"$f":"'baza nisk'!G559","v":"Szkoła Rodzenia"},"","","proszę kliknąć aby wybrać nazwę komórki organizacyjnej",0]
[{"$f":"'baza nisk'!A560","v":"L-078"},{"$f":"'baza nisk'!B560","v":"Lampa diagnostyczna BH 132"},{"$f":"'baza nisk'!D560","v":"MED. NISK. ŚR. TRW."},null,0,null,{"$f":"'baza nisk'!E560","v":1782},0,null,null,{"$f":"'baza nisk'!G560","v":"Oddział Pediatryczny z Pododdziałem Gastroenterologii "},"","","proszę kliknąć aby wybrać nazwę komórki organizacyjnej",0]
[{"$f":"'baza nisk'!A561","v":"L-079"},{"$f":"'baza nisk'!B561","v":"Lampa zabiegowa bezcieniowa PH-121.2"},{"$f":"'baza nisk'!D561","v":"MED. NISK. ŚR. TRW."},null,0,null,{"$f":"'baza nisk'!E561","v":1807.92},0,null,null,{"$f":"'baza nisk'!G561","v":"Oddział Położniczo – Ginekologiczny"},"","","proszę kliknąć aby wybrać nazwę komórki organizacyjnej",0]
[{"$f":"'baza nisk'!A562","v":"Ł-011"},{"$f":"'baza nisk'!B562","v":"Ława 90x54x55h"},{"$f":"'baza nisk'!D562","v":"MEBLE"},null,0,null,{"$f":"'baza nisk'!E562","v":300},0,null,null,{"$f":"'baza nisk'!G562","v":"Oddział Neonatologiczny"},"","","proszę kliknąć aby wybrać nazwę komórki organizacyjnej",0]
[{"$f":"'baza nisk'!A563","v":"Ł-013"},{"$f":"'baza nisk'!B563","v":"Łóżko pojedyńcze z materacem"},{"$f":"'baza nisk'!D563","v":"MEBLE"},null,0,null,{"$f":"'baza nisk'!E563","v":483.1825},0,null,null,{"$f":"'baza nisk'!G563","v":"Hotel Pracowniczy"},"","","proszę kliknąć aby wybrać nazwę komórki organizacyjnej",0]
[{"$f":"'baza nisk'!A564","v":"Ł-013A"},{"$f":"'baza nisk'!B564","v":"Łóżko medyczne wraz z barierkami bocznymi Solid"},{"$f":"'baza nisk'!D564","v":"MEBLE"},null,0,null,{"$f":"'baza nisk'!E564","v":1944},0,null,null,{"$f":"'baza nisk'!G564","v":"Oddział Dermatologiczny"},"","","proszę kliknąć aby wybrać nazwę komórki organizacyjnej",0]
[{"$f":"'baza nisk'!A565","v":"Ł-013B"},{"$f":"'baza nisk'!B565","v":"Łóżko medyczne Solido 2S"},{"$f":"'baza nisk'!D565","v":"MEBLE"},null,0,null,{"$f":"'baza nisk'!E565","v":1728},0,null,null,{"$f":"'baza nisk'!G565","v":"Oddział Kardiologii Dziecięcej z Pododdziałem Kardiochirurgi"},"","","proszę kliknąć aby wybrać nazwę komórki organizacyjnej",0]
[{"$f":"'baza nisk'!A566","v":"Ł-013C"},{"$f":"'baza nisk'!B566","v":"Łóżko młodzieżowe Solido 2S"},{"$f":"'baza nisk'!D566","v":"MEBLE"},null,0,null,{"$f":"'baza nisk'!E566","v":1728},0,null,null,{"$f":"'baza nisk'!G566","v":"Oddział Kardiologii Dziecięcej z Pododdziałem Kardiochirurgi"},"","","proszę kliknąć aby wybrać nazwę komórki organizacyjnej",0]
[{"$f":"'baza nisk'!A567","v":"Ł-013D"},{"$f":"'baza nisk'!B567","v":"Łóżko dziecięce Junior Plus"},{"$f":"'baza nisk'!D567","v":"MEBLE"},null,0,null,{"$f":"'baza nisk'!E567","v":2284.1999999999998},0,null,null,{"$f":"'baza nisk'!G567","v":"Oddział Kardiologii Dziecięcej z Pododdziałem Kardiochirurgi"},"","","proszę kliknąć aby wybrać nazwę komórki organizacyjnej",0]
[{"$f":"'baza nisk'!A568","v":"Ł-013E"},{"$f":"'baza nisk'!B568","v":"Łóżko składane dla rodziców HILO"},{"$f":"'baza nisk'!D568","v":"MEBLE"},null,0,null,{"$f":"'baza nisk'!E568","v":940},0,null,null,{"$f":"'baza nisk'!G568","v":"Oddział Pediatryczny z Pododdziałem Gastroenterologii "},"","","proszę kliknąć aby wybrać nazwę komórki organizacyjnej",0]
[{"$f":"'baza nisk'!A569","v":"Ł-013F"},{"$f":"'baza nisk'!B569","v":"Łóżko pojedyńcze z materacem \"GRZEŚ\", 90x200 -J"},{"$f":"'baza nisk'!D569","v":"MEBLE"},null,0,null,{"$f":"'baza nisk'!E569","v":483.1825},0,null,null,{"$f":"'baza nisk'!G569","v":"Hotel Pracowniczy"},"","","proszę kliknąć aby wybrać nazwę komórki organizacyjnej",0]
[{"$f":"'baza nisk'!A570","v":"Ł-013G"},{"$f":"'baza nisk'!B570","v":"Łóżeczko noworodkowe BM-02"},{"$f":"'baza nisk'!D570","v":"MEBLE"},null,0,null,{"$f":"'baza nisk'!E570","v":930},0,null,null,{"$f":"'baza nisk'!G570","v":"Oddział Neonatologiczny z Pododdziałem Patologii Noworodka"},"","","proszę kliknąć aby wybrać nazwę komórki organizacyjnej",0]
[{"$f":"'baza nisk'!A571","v":"Ł-015"},{"$f":"'baza nisk'!B571","v":"Ławka Rio 3 - trzysiedziskowa plastikowa czarny"},{"$f":"'baza nisk'!D571","v":"MEBLE"},null,0,null,{"$f":"'baza nisk'!E571","v":475},0,null,null,{"$f":"'baza nisk'!G571","v":"Poradnia Onkologiczna"},"","","proszę kliknąć aby wybrać nazwę komórki organizacyjnej",0]
[{"$f":"'baza nisk'!A572","v":"Ł-015A"},{"$f":"'baza nisk'!B572","v":"Ławka  Beta 5 black"},{"$f":"'baza nisk'!D572","v":"MEBLE"},null,0,null,{"$f":"'baza nisk'!E572","v":475},0,null,null,{"$f":"'baza nisk'!G572","v":"Oddział Okulistyczny"},"","","proszę kliknąć aby wybrać nazwę komórki organizacyjnej",0]
[{"$f":"'baza nisk'!A573","v":"Ł-019"},{"$f":"'baza nisk'!B573","v":"Łyżka do laryngoskopu światłowodowa AP NR 3 McC"},{"$f":"'baza nisk'!D573","v":"NARZ. MEDYCZNE"},null,0,null,{"$f":"'baza nisk'!E573","v":274},0,null,null,{"$f":"'baza nisk'!G573","v":"Anestezjologia"},"","","proszę kliknąć aby wybrać nazwę komórki organizacyjnej",0]
[{"$f":"'baza nisk'!A574","v":"Ł-019"},{"$f":"'baza nisk'!B574","v":"Łyżka do laryngoskopu światłowodowa AP NR 3 McC"},{"$f":"'baza nisk'!D574","v":"NARZ. MEDYCZNE"},null,0,null,{"$f":"'baza nisk'!E574","v":274},0,null,null,{"$f":"'baza nisk'!G574","v":"Intensywna Terapia"},"","","proszę kliknąć aby wybrać nazwę komórki organizacyjnej",0]
[{"$f":"'baza nisk'!A575","v":"Ł-019A"},{"$f":"'baza nisk'!B575","v":"Łyżka do laryngoskopu światłowodowa AP NR 4 McC"},{"$f":"'baza nisk'!D575","v":"NARZ. MEDYCZNE"},null,0,null,{"$f":"'baza nisk'!E575","v":274},0,null,null,{"$f":"'baza nisk'!G575","v":"Anestezjologia"},"","","proszę kliknąć aby wybrać nazwę komórki organizacyjnej",0]
[{"$f":"'baza nisk'!A576","v":"Ł-022"},{"$f":"'baza nisk'!B576","v":"Łącznik cystoskop-optyka,z jednym zamykanym kan"},{"$f":"'baza nisk'!D576","v":"NARZ. MEDYCZNE"},null,0,null,{"$f":"'baza nisk'!E576","v":850},0,null,null,{"$f":"'baza nisk'!G576","v":"Oddział Urologii i Urologii Onkologicznej"},"","","proszę kliknąć aby wybrać nazwę komórki organizacyjnej",0]
[{"$f":"'baza nisk'!A577","v":"Ł-022"},{"$f":"'baza nisk'!B577","v":"Łącznik cystoskop-optyka,z jednym zamykanym kan"},{"$f":"'baza nisk'!D577","v":"NARZ. MEDYCZNE"},null,0,null,{"$f":"'baza nisk'!E577","v":850},0,null,null,{"$f":"'baza nisk'!G577","v":"Poradnia Urologiczna"},"","","proszę kliknąć aby wybrać nazwę komórki organizacyjnej",0]
[{"$f":"'baza nisk'!A578","v":"Ł-025"},{"$f":"'baza nisk'!B578","v":"Łyżki do defibrylatora Lifepack 20e dla dorosły"},{"$f":"'baza nisk'!D578","v":"NARZ. MEDYCZNE"},null,0,null,{"$f":"'baza nisk'!E578","v":2675},0,null,null,{"$f":"'baza nisk'!G578","v":"Oddział Kardiologiczny"},"","","proszę kliknąć aby wybrać nazwę komórki organizacyjnej",0]
[{"$f":"'baza nisk'!A579","v":"M-015E"},{"$f":"'baza nisk'!B579","v":"Monitor bezdechu Babysense II"},{"$f":"'baza nisk'!D579","v":"MED. NISK. ŚR. TRW."},null,0,null,{"$f":"'baza nisk'!E579","v":600},{"$f":"E582*G582","v":0},null,null,{"$f":"'baza nisk'!G579","v":"Oddział Neonatologiczny z Pododdziałem Patologii Noworodka"},{"$f":"IF($B$2=K582,$B$2,\"\")","v":""},{"$f":"IF($B$2=K582,1,\"\")","v":""},{"$f":"$B$2","v":"proszę kliknąć aby wybrać nazwę komórki organizacyjnej"},{"$f":"$H$2","v":0}]
[{"$f":"'baza nisk'!A581","v":"M-018B"},{"$f":"'baza nisk'!B581","v":"Materac przeciwodleżynowy TRANCELL II 4010012"},{"$f":"'baza nisk'!D581","v":"MED. NISK. ŚR. TRW."},null,0,null,{"$f":"'baza nisk'!E581","v":2500},0,null,null,{"$f":"'baza nisk'!G581","v":"Zamiejscowy Oddział Rehabilitacji Neurologicznej"},"","","proszę kliknąć aby wybrać nazwę komórki organizacyjnej",0]
[{"$f":"'baza nisk'!A580","v":"M-018B"},{"$f":"'baza nisk'!B580","v":"Materac przeciwodleżynowy TRANCELL II 4010012"},{"$f":"'baza nisk'!D580","v":"MED. NISK. ŚR. TRW."},null,0,null,{"$f":"'baza nisk'!E580","v":1695.6},0,null,null,{"$f":"'baza nisk'!G580","v":"Oddział Chirurgii Ogólnej z Pododdziałami"},"","","proszę kliknąć aby wybrać nazwę komórki organizacyjnej",0]
[{"$f":"'baza nisk'!A582","v":"M-018C"},{"$f":"'baza nisk'!B582","v":"Materac przeciwodleżynowy ALPHA TRANCELL DELUXE"},{"$f":"'baza nisk'!D582","v":"MED. NISK. ŚR. TRW."},null,0,null,{"$f":"'baza nisk'!E582","v":1800},0,null,null,{"$f":"'baza nisk'!G582","v":"Oddział Chirurgii Naczyniowej"},"","","proszę kliknąć aby wybrać nazwę komórki organizacyjnej",0]
[{"$f":"'baza nisk'!A583","v":"M-018C"},{"$f":"'baza nisk'!B583","v":"Materac przeciwodleżynowy ALPHA TRANCELL DELUXE"},{"$f":"'baza nisk'!D583","v":"MED. NISK. ŚR. TRW."},null,0,null,{"$f":"'baza nisk'!E583","v":2500},0,null,null,{"$f":"'baza nisk'!G583","v":"Zamiejscowy Oddział Rehabilitacji Neurologicznej"},"","","proszę kliknąć aby wybrać nazwę komórki organizacyjnej",0]
[{"$f":"'baza nisk'!A584","v":"M-018D"},{"$f":"'baza nisk'!B584","v":"Materac żelowy przeciwodleżynowy-GELMAT"},{"$f":"'baza nisk'!D584","v":"MED. NISK. ŚR. TRW."},null,0,null,{"$f":"'baza nisk'!E584","v":367.2},0,null,null,{"$f":"'baza nisk'!G584","v":"Anestezjologia"},"","","proszę kliknąć aby wybrać nazwę komórki organizacyjnej",0]
[{"$f":"'baza nisk'!A585","v":"M-044A"},{"$f":"'baza nisk'!B585","v":"Młotek neurologiczny BABINSKY 22cm"},{"$f":"'baza nisk'!D585","v":"NARZ. MEDYCZNE"},null,0,null,{"$f":"'baza nisk'!E585","v":70},0,null,null,{"$f":"'baza nisk'!G585","v":"Intensywna Terapia"},"","","proszę kliknąć aby wybrać nazwę komórki organizacyjnej",0]
[{"$f":"'baza nisk'!A586","v":"M-044B"},{"$f":"'baza nisk'!B586","v":"Młotek neurologiczny BABINSKY SPIRIT  CK-503"},{"$f":"'baza nisk'!D586","v":"NARZ. MEDYCZNE"},null,0,null,{"$f":"'baza nisk'!E586","v":70},0,null,null,{"$f":"'baza nisk'!G586","v":"Intensywna Terapia"},"","","proszę kliknąć aby wybrać nazwę komórki organizacyjnej",0]
[{"$f":"'baza nisk'!A587","v":"M-044C"},{"$f":"'baza nisk'!B587","v":"Młotek neurologiczny BABINSKY 1-340"},{"$f":"'baza nisk'!D587","v":"NARZ. MEDYCZNE"},null,0,null,{"$f":"'baza nisk'!E587","v":70},0,null,null,{"$f":"'baza nisk'!G587","v":"Intensywna Terapia"},"","","proszę kliknąć aby wybrać nazwę komórki organizacyjnej",0]
[{"$f":"'baza nisk'!A588","v":"M-044C"},{"$f":"'baza nisk'!B588","v":"Młotek neurologiczny BABINSKY 1-340"},{"$f":"'baza nisk'!D588","v":"NARZ. MEDYCZNE"},null,0,null,{"$f":"'baza nisk'!E588","v":70},0,null,null,{"$f":"'baza nisk'!G588","v":"Oddział Otolaryngologiczny z Pododdziałem Otolaryngologii"},"","","proszę kliknąć aby wybrać nazwę komórki organizacyjnej",0]
[{"$f":"'baza nisk'!A589","v":"M-044C"},{"$f":"'baza nisk'!B589","v":"Młotek neurologiczny BABINSKY 1-340"},{"$f":"'baza nisk'!D589","v":"NARZ. MEDYCZNE"},null,0,null,{"$f":"'baza nisk'!E589","v":70},0,null,null,{"$f":"'baza nisk'!G589","v":"SOR"},"","","proszę kliknąć aby wybrać nazwę komórki organizacyjnej",0]
[{"$f":"'baza nisk'!A590","v":"M-044C"},{"$f":"'baza nisk'!B590","v":"Młotek neurologiczny BABINSKY 1-340"},{"$f":"'baza nisk'!D590","v":"NARZ. MEDYCZNE"},null,0,null,{"$f":"'baza nisk'!E590","v":70},0,null,null,{"$f":"'baza nisk'!G590","v":"Zamiejscowy Dział Rehabilitacji Leczniczej"},"","","proszę kliknąć aby wybrać nazwę komórki organizacyjnej",0]
[{"$f":"'baza nisk'!A591","v":"M-077"},{"$f":"'baza nisk'!B591","v":"Materac podpory pod nogę,duży,lewy AXIS"},{"$f":"'baza nisk'!D591","v":"MED. NISK. ŚR. TRW."},null,0,null,{"$f":"'baza nisk'!E591","v":950.4},0,null,null,{"$f":"'baza nisk'!G591","v":"Blok Operacyjny"},"","","proszę kliknąć aby wybrać nazwę komórki organizacyjnej",0]
[{"$f":"'baza nisk'!A592","v":"M-086"},{"$f":"'baza nisk'!B592","v":"Materac M-18"},{"$f":"'baza nisk'!D592","v":"MED. NISK. ŚR. TRW."},null,0,null,{"$f":"'baza nisk'!E592","v":226.8},0,null,null,{"$f":"'baza nisk'!G592","v":"Oddział Dermatologiczny"},"","","proszę kliknąć aby wybrać nazwę komórki organizacyjnej",0]
[{"$f":"'baza nisk'!A593","v":"M-086A"},{"$f":"'baza nisk'!B593","v":"Materac M-18"},{"$f":"'baza nisk'!D593","v":"MED. NISK. ŚR. TRW."},null,0,null,{"$f":"'baza nisk'!E593","v":226.8},0,null,null,{"$f":"'baza nisk'!G593","v":"Oddział Kardiologii Dziecięcej z Pododdziałem Kardiochirurgi"},"","","proszę kliknąć aby wybrać nazwę komórki organizacyjnej",0]
[{"$f":"'baza nisk'!A594","v":"M-088"},{"$f":"'baza nisk'!B594","v":"Mata funkcyjna do taboretu porodowego -Dullstei"},{"$f":"'baza nisk'!D594","v":"MEBLE MEDYCZNE"},null,0,null,{"$f":"'baza nisk'!E594","v":2460},0,null,null,{"$f":"'baza nisk'!G594","v":"Szkoła Rodzenia"},"","","proszę kliknąć aby wybrać nazwę komórki organizacyjnej",0]
[{"$f":"'baza nisk'!A596","v":"M-091"},{"$f":"'baza nisk'!B596","v":"Mikrokleszczyki HALSTEDA zakrz.125mm BH109R"},{"$f":"'baza nisk'!D596","v":"NARZ. MEDYCZNE"},null,0,null,{"$f":"'baza nisk'!E596","v":100},0,null,null,{"$f":"'baza nisk'!G596","v":"Poradnia Angiologiczna"},"","","proszę kliknąć aby wybrać nazwę komórki organizacyjnej",0]
[{"$f":"'baza nisk'!A595","v":"M-091"},{"$f":"'baza nisk'!B595","v":"Mikrokleszczyki HALSTEDA zakrz.125mm BH109R"},{"$f":"'baza nisk'!D595","v":"NARZ. MEDYCZNE"},null,0,null,{"$f":"'baza nisk'!E595","v":100},0,null,null,{"$f":"'baza nisk'!G595","v":"Blok Operacyjny"},"","","proszę kliknąć aby wybrać nazwę komórki organizacyjnej",0]
[{"$f":"'baza nisk'!A597","v":"M-091A"},{"$f":"'baza nisk'!B597","v":"Mikrokleszczyki preparacyjne ADSON 140mm BJ008R"},{"$f":"'baza nisk'!D597","v":"NARZ. MEDYCZNE"},null,0,null,{"$f":"'baza nisk'!E597","v":250},0,null,null,{"$f":"'baza nisk'!G597","v":"Zamiejscowy Blok Operacyjny"},"","","proszę kliknąć aby wybrać nazwę komórki organizacyjnej",0]
[{"$f":"'baza nisk'!A598","v":"M-094"},{"$f":"'baza nisk'!B598","v":"Mikro nożyczki sprężynowe 45st.drobny pyszczek-"},{"$f":"'baza nisk'!D598","v":"NARZ. MEDYCZNE"},null,0,null,{"$f":"'baza nisk'!E598","v":2350},0,null,null,{"$f":"'baza nisk'!G598","v":"Blok Operacyjny"},"","","proszę kliknąć aby wybrać nazwę komórki organizacyjnej",0]
[{"$f":"'baza nisk'!A599","v":"M-095"},{"$f":"'baza nisk'!B599","v":"Mikropinceta pierścień 1mm zakrzywiona 150mm DI"},{"$f":"'baza nisk'!D599","v":"NARZ. MEDYCZNE"},null,0,null,{"$f":"'baza nisk'!E599","v":1600},0,null,null,{"$f":"'baza nisk'!G599","v":"Blok Operacyjny"},"","","proszę kliknąć aby wybrać nazwę komórki organizacyjnej",0]
[{"$f":"'baza nisk'!A600","v":"M-096"},{"$f":"'baza nisk'!B600","v":"Mikro imadło 120mm DIADUST FM524R"},{"$f":"'baza nisk'!D600","v":"NARZ. MEDYCZNE"},null,0,null,{"$f":"'baza nisk'!E600","v":1600},0,null,null,{"$f":"'baza nisk'!G600","v":"Blok Operacyjny"},"","","proszę kliknąć aby wybrać nazwę komórki organizacyjnej",0]
[{"$f":"'baza nisk'!A601","v":"M-096A"},{"$f":"'baza nisk'!B601","v":"Mikro imadło okrągły uchwyt 120mm DIADUST FM520"},{"$f":"'baza nisk'!D601","v":"NARZ. MEDYCZNE"},null,0,null,{"$f":"'baza nisk'!E601","v":1600},0,null,null,{"$f":"'baza nisk'!G601","v":"Blok Operacyjny"},"","","proszę kliknąć aby wybrać nazwę komórki organizacyjnej",0]
[{"$f":"'baza nisk'!A602","v":"N-008A"},{"$f":"'baza nisk'!B602","v":"Nosze płachtowe na stelażu alum.składane w torb"},{"$f":"'baza nisk'!D602","v":"MED. NISK. ŚR. TRW."},null,0,null,{"$f":"'baza nisk'!E602","v":930},0,null,null,{"$f":"'baza nisk'!G602","v":"Zamiejscowy Oddział Rehabilitacji Neurologicznej"},"","","proszę kliknąć aby wybrać nazwę komórki organizacyjnej",0]
[{"$f":"'baza nisk'!A603","v":"N-008A"},{"$f":"'baza nisk'!B603","v":"Nosze płachtowe na stelażu alum.składane w torb"},{"$f":"'baza nisk'!D603","v":"MED. NISK. ŚR. TRW."},null,0,null,{"$f":"'baza nisk'!E603","v":930.01},0,null,null,{"$f":"'baza nisk'!G603","v":"Zamiejscowy Oddział Rehabilitacji Ogólnoustrojowej I"},"","","proszę kliknąć aby wybrać nazwę komórki organizacyjnej",0]
[{"$f":"'baza nisk'!A604","v":"N-008A"},{"$f":"'baza nisk'!B604","v":"Nosze płachtowe na stelażu alum.składane w torb"},{"$f":"'baza nisk'!D604","v":"MED. NISK. ŚR. TRW."},null,0,null,{"$f":"'baza nisk'!E604","v":465},0,null,null,{"$f":"'baza nisk'!G604","v":"Zamiejscowy Oddział Rehabilitacji Ogólnoustrojowej II"},"","","proszę kliknąć aby wybrać nazwę komórki organizacyjnej",0]
[{"$f":"'baza nisk'!A609","v":"N-009"},{"$f":"'baza nisk'!B609","v":"Niszczarka do dokumentów"},{"$f":"'baza nisk'!D609","v":"URZĄDZ. BIUROWE"},null,0,null,{"$f":"'baza nisk'!E609","v":800},0,null,null,{"$f":"'baza nisk'!G609","v":"Zespół Konsultantów Biznesowych"},"","","proszę kliknąć aby wybrać nazwę komórki organizacyjnej",0]
[{"$f":"'baza nisk'!A607","v":"N-009"},{"$f":"'baza nisk'!B607","v":"Niszczarka do dokumentów"},{"$f":"'baza nisk'!D607","v":"URZĄDZ. BIUROWE"},null,0,null,{"$f":"'baza nisk'!E607","v":800},0,null,null,{"$f":"'baza nisk'!G607","v":"Oddział Okulistyczny"},"","","proszę kliknąć aby wybrać nazwę komórki organizacyjnej",0]
[{"$f":"'baza nisk'!A608","v":"N-009"},{"$f":"'baza nisk'!B608","v":"Niszczarka do dokumentów"},{"$f":"'baza nisk'!D608","v":"URZĄDZ. BIUROWE"},null,0,null,{"$f":"'baza nisk'!E608","v":800},0,null,null,{"$f":"'baza nisk'!G608","v":"SOR"},"","","proszę kliknąć aby wybrać nazwę komórki organizacyjnej",0]
[{"$f":"'baza nisk'!A605","v":"N-009"},{"$f":"'baza nisk'!B605","v":"Niszczarka do dokumentów"},{"$f":"'baza nisk'!D605","v":"URZĄDZ. BIUROWE"},null,0,null,{"$f":"'baza nisk'!E605","v":800},0,null,null,{"$f":"'baza nisk'!G605","v":"Intensywna Terapia"},"","","proszę kliknąć aby wybrać nazwę komórki organizacyjnej",0]
[{"$f":"'baza nisk'!A606","v":"N-009"},{"$f":"'baza nisk'!B606","v":"Niszczarka do dokumentów"},{"$f":"'baza nisk'!D606","v":"URZĄDZ. BIUROWE"},null,0,null,{"$f":"'baza nisk'!E606","v":800},0,null,null,{"$f":"'baza nisk'!G606","v":"Oddział Chirurgii Onkologicznej"},"","","proszę kliknąć aby wybrać nazwę komórki organizacyjnej",0]
[{"$f":"'baza nisk'!A610","v":"N-009B"},{"$f":"'baza nisk'!B610","v":"Niszczarka do dokumentów"},{"$f":"'baza nisk'!D610","v":"URZĄDZ. BIUROWE"},null,0,null,{"$f":"'baza nisk'!E610","v":800},0,null,null,{"$f":"'baza nisk'!G610","v":"Oddział Dermatologiczny"},"","","proszę kliknąć aby wybrać nazwę komórki organizacyjnej",0]
[{"$f":"'baza nisk'!A611","v":"N-009B"},{"$f":"'baza nisk'!B611","v":"Niszczarka do dokumentów"},{"$f":"'baza nisk'!D611","v":"URZĄDZ. BIUROWE"},null,0,null,{"$f":"'baza nisk'!E611","v":800},0,null,null,{"$f":"'baza nisk'!G611","v":"Zamiejscowy Oddział Rehabilitacji Ogólnoustrojowej I"},"","","proszę kliknąć aby wybrać nazwę komórki organizacyjnej",0]
[{"$f":"'baza nisk'!A612","v":"N-009C"},{"$f":"'baza nisk'!B612","v":"Niszczarka do dokumentów"},{"$f":"'baza nisk'!D612","v":"URZĄDZ. BIUROWE"},null,0,null,{"$f":"'baza nisk'!E612","v":800},0,null,null,{"$f":"'baza nisk'!G612","v":"Blok Operacyjny"},"","","proszę kliknąć aby wybrać nazwę komórki organizacyjnej",0]
[{"$f":"'baza nisk'!A613","v":"N-009D"},{"$f":"'baza nisk'!B613","v":"Niszczarka do dokumentów"},{"$f":"'baza nisk'!D613","v":"URZĄDZ. BIUROWE"},null,0,null,{"$f":"'baza nisk'!E613","v":800},0,null,null,{"$f":"'baza nisk'!G613","v":"Zamiejscowy Oddział Rehabilitacji Neurologicznej"},"","","proszę kliknąć aby wybrać nazwę komórki organizacyjnej",0]
[{"$f":"'baza nisk'!A614","v":"N-009E"},{"$f":"'baza nisk'!B614","v":"Niszczarka do dokumentów"},{"$f":"'baza nisk'!D614","v":"URZĄDZ. BIUROWE"},null,0,null,{"$f":"'baza nisk'!E614","v":800},0,null,null,{"$f":"'baza nisk'!G614","v":"Dział Sprzedaży Usług Medycznych"},"","","proszę kliknąć aby wybrać nazwę komórki organizacyjnej",0]
[{"$f":"'baza nisk'!A615","v":"N-009F"},{"$f":"'baza nisk'!B615","v":"Niszczarka do dokumentów"},{"$f":"'baza nisk'!D615","v":"URZĄDZ. BIUROWE"},null,0,null,{"$f":"'baza nisk'!E615","v":800},0,null,null,{"$f":"'baza nisk'!G615","v":"Anestezjologia"},"","","proszę kliknąć aby wybrać nazwę komórki organizacyjnej",0]
[{"$f":"'baza nisk'!A616","v":"N-009G"},{"$f":"'baza nisk'!B616","v":"Niszczarka do dokumentów"},{"$f":"'baza nisk'!D616","v":"URZĄDZ. BIUROWE"},null,0,null,{"$f":"'baza nisk'!E616","v":800},0,null,null,{"$f":"'baza nisk'!G616","v":"Oddział Pediatryczny z Pododdziałem Gastroenterologii "},"","","proszę kliknąć aby wybrać nazwę komórki organizacyjnej",0]
[{"$f":"'baza nisk'!A617","v":"N-009H"},{"$f":"'baza nisk'!B617","v":"Niszczarka do dokumentów"},{"$f":"'baza nisk'!D617","v":"URZĄDZ. BIUROWE"},null,0,null,{"$f":"'baza nisk'!E617","v":800},0,null,null,{"$f":"'baza nisk'!G617","v":"Dział Rejestracji Statystyki i Dokumentacji Medycznej"},"","","proszę kliknąć aby wybrać nazwę komórki organizacyjnej",0]
[{"$f":"'baza nisk'!A622","v":"N-009I"},{"$f":"'baza nisk'!B622","v":"Niszczarka do dokumentów"},{"$f":"'baza nisk'!D622","v":"URZĄDZ. BIUROWE"},null,0,null,{"$f":"'baza nisk'!E622","v":800},0,null,null,{"$f":"'baza nisk'!G622","v":"Oddział Pediatryczny z Pododdziałem Gastroenterologii "},"","","proszę kliknąć aby wybrać nazwę komórki organizacyjnej",0]
[{"$f":"'baza nisk'!A619","v":"N-009I"},{"$f":"'baza nisk'!B619","v":"Niszczarka do dokumentów"},{"$f":"'baza nisk'!D619","v":"URZĄDZ. BIUROWE"},null,0,null,{"$f":"'baza nisk'!E619","v":800},0,null,null,{"$f":"'baza nisk'!G619","v":"Dział Księgowości i Finansów"},"","","proszę kliknąć aby wybrać nazwę komórki organizacyjnej",0]
[{"$f":"'baza nisk'!A618","v":"N-009I"},{"$f":"'baza nisk'!B618","v":"Niszczarka do dokumentów"},{"$f":"'baza nisk'!D618","v":"URZĄDZ. BIUROWE"},null,0,null,{"$f":"'baza nisk'!E618","v":800},0,null,null,{"$f":"'baza nisk'!G618","v":"Dział Gospodarki Nieruchomościami i Utrzymania Ruchu"},"","","proszę kliknąć aby wybrać nazwę komórki organizacyjnej",0]
[{"$f":"'baza nisk'!A620","v":"N-009I"},{"$f":"'baza nisk'!B620","v":"Niszczarka do dokumentów"},{"$f":"'baza nisk'!D620","v":"URZĄDZ. BIUROWE"},null,0,null,{"$f":"'baza nisk'!E620","v":800},0,null,null,{"$f":"'baza nisk'!G620","v":"Oddział Chirurgii Ogólnej z Pododdziałami"},"","","proszę kliknąć aby wybrać nazwę komórki organizacyjnej",0]
[{"$f":"'baza nisk'!A621","v":"N-009I"},{"$f":"'baza nisk'!B621","v":"Niszczarka do dokumentów"},{"$f":"'baza nisk'!D621","v":"URZĄDZ. BIUROWE"},null,0,null,{"$f":"'baza nisk'!E621","v":800},0,null,null,{"$f":"'baza nisk'!G621","v":"Oddział Kardiologii Dziecięcej z Pododdziałem Kardiochirurgi"},"","","proszę kliknąć aby wybrać nazwę komórki organizacyjnej",0]
[{"$f":"'baza nisk'!A623","v":"N-009I"},{"$f":"'baza nisk'!B623","v":"Niszczarka do dokumentów"},{"$f":"'baza nisk'!D623","v":"URZĄDZ. BIUROWE"},null,0,null,{"$f":"'baza nisk'!E623","v":800},0,null,null,{"$f":"'baza nisk'!G623","v":"Oddział Urologii i Urologii Onkologicznej"},"","","proszę kliknąć aby wybrać nazwę komórki organizacyjnej",0]
[{"$f":"'baza nisk'!A624","v":"N-009I"},{"$f":"'baza nisk'!B624","v":"Niszczarka do dokumentów"},{"$f":"'baza nisk'!D624","v":"URZĄDZ. BIUROWE"},null,0,null,{"$f":"'baza nisk'!E624","v":800},0,null,null,{"$f":"'baza nisk'!G624","v":"Poradnia Kardiologiczna dla Dzieci"},"","","proszę kliknąć aby wybrać nazwę komórki organizacyjnej",0]
[{"$f":"'baza nisk'!A625","v":"N-009I"},{"$f":"'baza nisk'!B625","v":"Niszczarka do dokumentów"},{"$f":"'baza nisk'!D625","v":"URZĄDZ. BIUROWE"},null,0,null,{"$f":"'baza nisk'!E625","v":800},0,null,null,{"$f":"'baza nisk'!G625","v":"Zamiejscowy Oddział Chirurgii Urazowo - Ortopedycznej"},"","","proszę kliknąć aby wybrać nazwę komórki organizacyjnej",0]
[{"$f":"'baza nisk'!A627","v":"N-009J"},{"$f":"'baza nisk'!B627","v":"Niszczarka do dokumentów"},{"$f":"'baza nisk'!D627","v":"URZĄDZ. BIUROWE"},null,0,null,{"$f":"'baza nisk'!E627","v":800},0,null,null,{"$f":"'baza nisk'!G627","v":"DODO -Pracownia RTG"},"","","proszę kliknąć aby wybrać nazwę komórki organizacyjnej",0]
[{"$f":"'baza nisk'!A628","v":"N-009J"},{"$f":"'baza nisk'!B628","v":"Niszczarka do dokumentów"},{"$f":"'baza nisk'!D628","v":"URZĄDZ. BIUROWE"},null,0,null,{"$f":"'baza nisk'!E628","v":800},0,null,null,{"$f":"'baza nisk'!G628","v":"Oddział Angiologiczny z Pododdziałem Diabetologii"},"","","proszę kliknąć aby wybrać nazwę komórki organizacyjnej",0]
[{"$f":"'baza nisk'!A629","v":"N-009J"},{"$f":"'baza nisk'!B629","v":"Niszczarka do dokumentów"},{"$f":"'baza nisk'!D629","v":"URZĄDZ. BIUROWE"},null,0,null,{"$f":"'baza nisk'!E629","v":800},0,null,null,{"$f":"'baza nisk'!G629","v":"Oddział Chemioterapii z Pododdziałem Chemioterapii Dziennej"},"","","proszę kliknąć aby wybrać nazwę komórki organizacyjnej",0]
[{"$f":"'baza nisk'!A626","v":"N-009J"},{"$f":"'baza nisk'!B626","v":"Niszczarka do dokumentów"},{"$f":"'baza nisk'!D626","v":"URZĄDZ. BIUROWE"},null,0,null,{"$f":"'baza nisk'!E626","v":800},0,null,null,{"$f":"'baza nisk'!G626","v":"DODO -Pracownia Rezonansu Magnetycznego"},"","","proszę kliknąć aby wybrać nazwę komórki organizacyjnej",0]
[{"$f":"'baza nisk'!A630","v":"N-009J"},{"$f":"'baza nisk'!B630","v":"Niszczarka do dokumentów"},{"$f":"'baza nisk'!D630","v":"URZĄDZ. BIUROWE"},null,0,null,{"$f":"'baza nisk'!E630","v":800},0,null,null,{"$f":"'baza nisk'!G630","v":"Oddział Chirurgii Naczyniowej"},"","","proszę kliknąć aby wybrać nazwę komórki organizacyjnej",0]
[{"$f":"'baza nisk'!A640","v":"N-009J"},{"$f":"'baza nisk'!B640","v":"Niszczarka do dokumentów"},{"$f":"'baza nisk'!D640","v":"URZĄDZ. BIUROWE"},null,0,null,{"$f":"'baza nisk'!E640","v":800},0,null,null,{"$f":"'baza nisk'!G640","v":"Zamiejscowy Oddział Rehabilitacji Neurologicznej"},"","","proszę kliknąć aby wybrać nazwę komórki organizacyjnej",0]
[{"$f":"'baza nisk'!A639","v":"N-009J"},{"$f":"'baza nisk'!B639","v":"Niszczarka do dokumentów"},{"$f":"'baza nisk'!D639","v":"URZĄDZ. BIUROWE"},null,0,null,{"$f":"'baza nisk'!E639","v":800},0,null,null,{"$f":"'baza nisk'!G639","v":"Stacja Dializ"},"","","proszę kliknąć aby wybrać nazwę komórki organizacyjnej",0]
[{"$f":"'baza nisk'!A638","v":"N-009J"},{"$f":"'baza nisk'!B638","v":"Niszczarka do dokumentów"},{"$f":"'baza nisk'!D638","v":"URZĄDZ. BIUROWE"},null,0,null,{"$f":"'baza nisk'!E638","v":800},0,null,null,{"$f":"'baza nisk'!G638","v":"SOR"},"","","proszę kliknąć aby wybrać nazwę komórki organizacyjnej",0]
[{"$f":"'baza nisk'!A635","v":"N-009J"},{"$f":"'baza nisk'!B635","v":"Niszczarka do dokumentów"},{"$f":"'baza nisk'!D635","v":"URZĄDZ. BIUROWE"},null,0,null,{"$f":"'baza nisk'!E635","v":800},0,null,null,{"$f":"'baza nisk'!G635","v":"Oddział Położniczo – Ginekologiczny"},"","","proszę kliknąć aby wybrać nazwę komórki organizacyjnej",0]
[{"$f":"'baza nisk'!A633","v":"N-009J"},{"$f":"'baza nisk'!B633","v":"Niszczarka do dokumentów"},{"$f":"'baza nisk'!D633","v":"URZĄDZ. BIUROWE"},null,0,null,{"$f":"'baza nisk'!E633","v":800},0,null,null,{"$f":"'baza nisk'!G633","v":"Oddział Neonatologiczny z Pododdziałem Patologii Noworodka"},"","","proszę kliknąć aby wybrać nazwę komórki organizacyjnej",0]
[{"$f":"'baza nisk'!A632","v":"N-009J"},{"$f":"'baza nisk'!B632","v":"Niszczarka do dokumentów"},{"$f":"'baza nisk'!D632","v":"URZĄDZ. BIUROWE"},null,0,null,{"$f":"'baza nisk'!E632","v":800},0,null,null,{"$f":"'baza nisk'!G632","v":"Oddział Kardiologiczny"},"","","proszę kliknąć aby wybrać nazwę komórki organizacyjnej",0]
[{"$f":"'baza nisk'!A634","v":"N-009J"},{"$f":"'baza nisk'!B634","v":"Niszczarka do dokumentów"},{"$f":"'baza nisk'!D634","v":"URZĄDZ. BIUROWE"},null,0,null,{"$f":"'baza nisk'!E634","v":800},0,null,null,{"$f":"'baza nisk'!G634","v":"Oddział Otolaryngologiczny z Pododdziałem Otolaryngologii"},"","","proszę kliknąć aby wybrać nazwę komórki organizacyjnej",0]
[{"$f":"'baza nisk'!A631","v":"N-009J"},{"$f":"'baza nisk'!B631","v":"Niszczarka do dokumentów"},{"$f":"'baza nisk'!D631","v":"URZĄDZ. BIUROWE"},null,0,null,{"$f":"'baza nisk'!E631","v":800},0,null,null,{"$f":"'baza nisk'!G631","v":"Oddział Chirurgii Ogólnej z Pododdziałami"},"","","proszę kliknąć aby wybrać nazwę komórki organizacyjnej",0]
[{"$f":"'baza nisk'!A637","v":"N-009J"},{"$f":"'baza nisk'!B637","v":"Niszczarka do dokumentów"},{"$f":"'baza nisk'!D637","v":"URZĄDZ. BIUROWE"},null,0,null,{"$f":"'baza nisk'!E637","v":800},0,null,null,{"$f":"'baza nisk'!G637","v":"Samodzielne Stanowiska Administracyjne"},"","","proszę kliknąć aby wybrać nazwę komórki organizacyjnej",0]
[{"$f":"'baza nisk'!A636","v":"N-009J"},{"$f":"'baza nisk'!B636","v":"Niszczarka do dokumentów"},{"$f":"'baza nisk'!D636","v":"URZĄDZ. BIUROWE"},null,0,null,{"$f":"'baza nisk'!E636","v":800},0,null,null,{"$f":"'baza nisk'!G636","v":"Poradnia Chirurgii Ogólnej"},"","","proszę kliknąć aby wybrać nazwę komórki organizacyjnej",0]
[{"$f":"'baza nisk'!A641","v":"N-012"},{"$f":"'baza nisk'!B641","v":"Nadstawka"},{"$f":"'baza nisk'!D641","v":"MEBLE"},null,0,null,{"$f":"'baza nisk'!E641","v":300},0,null,null,{"$f":"'baza nisk'!G641","v":"Oddział Neonatologiczny"},"","","proszę kliknąć aby wybrać nazwę komórki organizacyjnej",0]
[{"$f":"'baza nisk'!A642","v":"N-012A"},{"$f":"'baza nisk'!B642","v":"Nadstawka"},{"$f":"'baza nisk'!D642","v":"MEBLE"},null,0,null,{"$f":"'baza nisk'!E642","v":300},0,null,null,{"$f":"'baza nisk'!G642","v":"Oddział Neonatologiczny"},"","","proszę kliknąć aby wybrać nazwę komórki organizacyjnej",0]
[{"$f":"'baza nisk'!A643","v":"N-012A"},{"$f":"'baza nisk'!B643","v":"Nadstawka"},{"$f":"'baza nisk'!D643","v":"MEBLE"},null,0,null,{"$f":"'baza nisk'!E643","v":300},{"$f":"E646*G646","v":0},null,null,{"$f":"'baza nisk'!G643","v":"Poradnia Chirurgii Onkologicznej"},{"$f":"IF($B$2=K646,$B$2,\"\")","v":""},{"$f":"IF($B$2=K646,1,\"\")","v":""},{"$f":"$B$2","v":"proszę kliknąć aby wybrać nazwę komórki organizacyjnej"},{"$f":"$H$2","v":0}]
[{"$f":"'baza nisk'!A644","v":"N-012B"},{"$f":"'baza nisk'!B644","v":"Nadstawka nad segregatorami"},{"$f":"'baza nisk'!D644","v":"MEBLE"},null,0,null,{"$f":"'baza nisk'!E644","v":300},0,null,null,{"$f":"'baza nisk'!G644","v":"Dział Gospodarki Nieruchomościami i Utrzymania Ruchu"},"","","proszę kliknąć aby wybrać nazwę komórki organizacyjnej",0]
[{"$f":"'baza nisk'!A645","v":"N-014A"},{"$f":"'baza nisk'!B645","v":"Nożyczki chirurgiczne 14cm proste"},{"$f":"'baza nisk'!D645","v":"NARZ. MEDYCZNE"},null,0,null,{"$f":"'baza nisk'!E645","v":50},0,null,null,{"$f":"'baza nisk'!G645","v":"Oddział Urologii i Urologii Onkologicznej"},"","","proszę kliknąć aby wybrać nazwę komórki organizacyjnej",0]
[{"$f":"'baza nisk'!A646","v":"N-014B"},{"$f":"'baza nisk'!B646","v":"Nożyczki chirurgiczne proste 145mm T/O BC324R"},{"$f":"'baza nisk'!D646","v":"NARZ. MEDYCZNE"},null,0,null,{"$f":"'baza nisk'!E646","v":70},0,null,null,{"$f":"'baza nisk'!G646","v":"Blok Operacyjny"},"","","proszę kliknąć aby wybrać nazwę komórki organizacyjnej",0]
[{"$f":"'baza nisk'!A648","v":"N-014B"},{"$f":"'baza nisk'!B648","v":"Nożyczki chirurgiczne proste 145mm T/O BC324R"},{"$f":"'baza nisk'!D648","v":"NARZ. MEDYCZNE"},null,0,null,{"$f":"'baza nisk'!E648","v":70},0,null,null,{"$f":"'baza nisk'!G648","v":"Pracownia Elektrofizjologii"},"","","proszę kliknąć aby wybrać nazwę komórki organizacyjnej",0]
[{"$f":"'baza nisk'!A649","v":"N-014B"},{"$f":"'baza nisk'!B649","v":"Nożyczki chirurgiczne proste 145mm T/O BC324R"},{"$f":"'baza nisk'!D649","v":"NARZ. MEDYCZNE"},null,0,null,{"$f":"'baza nisk'!E649","v":70},0,null,null,{"$f":"'baza nisk'!G649","v":"Zamiejscowy Blok Operacyjny"},"","","proszę kliknąć aby wybrać nazwę komórki organizacyjnej",0]
[{"$f":"'baza nisk'!A647","v":"N-014B"},{"$f":"'baza nisk'!B647","v":"Nożyczki chirurgiczne proste 145mm T/O BC324R"},{"$f":"'baza nisk'!D647","v":"NARZ. MEDYCZNE"},null,0,null,{"$f":"'baza nisk'!E647","v":70},0,null,null,{"$f":"'baza nisk'!G647","v":"Oddział Transplantologiczny"},"","","proszę kliknąć aby wybrać nazwę komórki organizacyjnej",0]
[{"$f":"'baza nisk'!A650","v":"N-015A"},{"$f":"'baza nisk'!B650","v":"Nożyczki preparacyjne T.LEXER. odgięte 165mm T/"},{"$f":"'baza nisk'!D650","v":"NARZ. MEDYCZNE"},null,0,null,{"$f":"'baza nisk'!E650","v":450},0,null,null,{"$f":"'baza nisk'!G650","v":"Blok Operacyjny"},"","","proszę kliknąć aby wybrać nazwę komórki organizacyjnej",0]
[{"$f":"'baza nisk'!A651","v":"N-015A"},{"$f":"'baza nisk'!B651","v":"Nożyczki preparacyjne T.LEXER. odgięte 165mm T/"},{"$f":"'baza nisk'!D651","v":"NARZ. MEDYCZNE"},null,0,null,{"$f":"'baza nisk'!E651","v":450},0,null,null,{"$f":"'baza nisk'!G651","v":"Zamiejscowy Blok Operacyjny"},"","","proszę kliknąć aby wybrać nazwę komórki organizacyjnej",0]
[{"$f":"'baza nisk'!A652","v":"N-015B"},{"$f":"'baza nisk'!B652","v":"Nożyczki preparacyjne T.KLINKENBERGLOTH odgięte"},{"$f":"'baza nisk'!D652","v":"NARZ. MEDYCZNE"},null,0,null,{"$f":"'baza nisk'!E652","v":400},0,null,null,{"$f":"'baza nisk'!G652","v":"Blok Operacyjny"},"","","proszę kliknąć aby wybrać nazwę komórki organizacyjnej",0]
[{"$f":"'baza nisk'!A653","v":"N-015C"},{"$f":"'baza nisk'!B653","v":"Nożyczki preparacyjne T.LEXER. odgięte 165mm T/"},{"$f":"'baza nisk'!D653","v":"NARZ. MEDYCZNE"},null,0,null,{"$f":"'baza nisk'!E653","v":950},0,null,null,{"$f":"'baza nisk'!G653","v":"Blok Operacyjny"},"","","proszę kliknąć aby wybrać nazwę komórki organizacyjnej",0]
[{"$f":"'baza nisk'!A655","v":"N-015D"},{"$f":"'baza nisk'!B655","v":"Nożyczki preparacyjne T.JAMESON odgięte 150mm B"},{"$f":"'baza nisk'!D655","v":"NARZ. MEDYCZNE"},null,0,null,{"$f":"'baza nisk'!E655","v":260},0,null,null,{"$f":"'baza nisk'!G655","v":"Pracownia Elektrofizjologii"},"","","proszę kliknąć aby wybrać nazwę komórki organizacyjnej",0]
[{"$f":"'baza nisk'!A654","v":"N-015D"},{"$f":"'baza nisk'!B654","v":"Nożyczki preparacyjne T.JAMESON odgięte 150mm B"},{"$f":"'baza nisk'!D654","v":"NARZ. MEDYCZNE"},null,0,null,{"$f":"'baza nisk'!E654","v":260},0,null,null,{"$f":"'baza nisk'!G654","v":"Oddział Transplantologiczny"},"","","proszę kliknąć aby wybrać nazwę komórki organizacyjnej",0]
[{"$f":"'baza nisk'!A656","v":"N-015E"},{"$f":"'baza nisk'!B656","v":"Nożyczki preparacyjne T.NELSONMETZ. odgięte 230"},{"$f":"'baza nisk'!D656","v":"NARZ. MEDYCZNE"},null,0,null,{"$f":"'baza nisk'!E656","v":220.74},0,null,null,{"$f":"'baza nisk'!G656","v":"Blok Operacyjny"},"","","proszę kliknąć aby wybrać nazwę komórki organizacyjnej",0]
[{"$f":"'baza nisk'!A657","v":"N-015F"},{"$f":"'baza nisk'!B657","v":"Nożyczki preparacyjne proste 18cm"},{"$f":"'baza nisk'!D657","v":"NARZ. MEDYCZNE"},null,0,null,{"$f":"'baza nisk'!E657","v":60},0,null,null,{"$f":"'baza nisk'!G657","v":"Oddział Kardiologiczny"},"","","proszę kliknąć aby wybrać nazwę komórki organizacyjnej",0]
[{"$f":"'baza nisk'!A658","v":"N-020"},{"$f":"'baza nisk'!B658","v":"Nożyczki do zdjęcia szwów SPENCER dł.13cm kat."},{"$f":"'baza nisk'!D658","v":"NARZ. MEDYCZNE"},null,0,null,{"$f":"'baza nisk'!E658","v":34},0,null,null,{"$f":"'baza nisk'!G658","v":"DODO -Pracownia Diagnostyczno - Zabiegowa Naczyń"},"","","proszę kliknąć aby wybrać nazwę komórki organizacyjnej",0]
[{"$f":"'baza nisk'!A659","v":"N-020A"},{"$f":"'baza nisk'!B659","v":"Nożyczki do zdjęcia szwów SPENCER 115mm-odgięte"},{"$f":"'baza nisk'!D659","v":"NARZ. MEDYCZNE"},null,0,null,{"$f":"'baza nisk'!E659","v":80},0,null,null,{"$f":"'baza nisk'!G659","v":"Oddział Urologii i Urologii Onkologicznej"},"","","proszę kliknąć aby wybrać nazwę komórki organizacyjnej",0]
[{"$f":"'baza nisk'!A660","v":"N-020B"},{"$f":"'baza nisk'!B660","v":"Nożyczki do zdjęcia szwów SPENCER dł.12cm"},{"$f":"'baza nisk'!D660","v":"NARZ. MEDYCZNE"},null,0,null,{"$f":"'baza nisk'!E660","v":32},0,null,null,{"$f":"'baza nisk'!G660","v":"DODO -Pracownia Diagnostyczno - Zabiegowa Naczyń"},"","","proszę kliknąć aby wybrać nazwę komórki organizacyjnej",0]
[{"$f":"'baza nisk'!A661","v":"N-028A"},{"$f":"'baza nisk'!B661","v":"Nożyczki mikrochirurgiczne oczne do mięśni pros"},{"$f":"'baza nisk'!D661","v":"NARZ. MEDYCZNE"},null,0,null,{"$f":"'baza nisk'!E661","v":100},0,null,null,{"$f":"'baza nisk'!G661","v":"Oddział Okulistyczny"},"","","proszę kliknąć aby wybrać nazwę komórki organizacyjnej",0]
[{"$f":"'baza nisk'!A662","v":"N-029"},{"$f":"'baza nisk'!B662","v":"Nożyczki mikrochirurgiczne odgięte dł.120mm 4 3"},{"$f":"'baza nisk'!D662","v":"NARZ. MEDYCZNE"},null,0,null,{"$f":"'baza nisk'!E662","v":735},0,null,null,{"$f":"'baza nisk'!G662","v":"Oddział Okulistyczny"},"","","proszę kliknąć aby wybrać nazwę komórki organizacyjnej",0]
[{"$f":"'baza nisk'!A663","v":"N-029A"},{"$f":"'baza nisk'!B663","v":"Nożyczki mikrochirurgiczne dł.180mm odgięte koń"},{"$f":"'baza nisk'!D663","v":"NARZ. MEDYCZNE"},null,0,null,{"$f":"'baza nisk'!E663","v":153.04},0,null,null,{"$f":"'baza nisk'!G663","v":"Blok Operacyjny"},"","","proszę kliknąć aby wybrać nazwę komórki organizacyjnej",0]
[{"$f":"'baza nisk'!A664","v":"N-030"},{"$f":"'baza nisk'!B664","v":"Nakładka do nożyczek monopolarnych typu HotShea"},{"$f":"'baza nisk'!D664","v":"NARZĘDZIA WIELORAZOWE"},null,0,null,{"$f":"'baza nisk'!E664","v":1000},0,null,null,{"$f":"'baza nisk'!G664","v":"Blok Operacyjny"},"","","proszę kliknąć aby wybrać nazwę komórki organizacyjnej",0]
[{"$f":"'baza nisk'!A665","v":"N-030"},{"$f":"'baza nisk'!B665","v":"Nakładka do nożyczek monopolarnych typu HotShea"},{"$f":"'baza nisk'!D665","v":"NARZĘDZIA WIELORAZOWE"},null,0,null,{"$f":"'baza nisk'!E665","v":1000},0,null,null,{"$f":"'baza nisk'!G665","v":"Blok Operacyjny DAVINCI"},"","","proszę kliknąć aby wybrać nazwę komórki organizacyjnej",0]
[{"$f":"'baza nisk'!A666","v":"N-033A"},{"$f":"'baza nisk'!B666","v":"Nożyczki monopolarne zakrzywione typu HotShears"},{"$f":"'baza nisk'!D666","v":"NARZ. MEDYCZNE"},null,0,null,{"$f":"'baza nisk'!E666","v":16000},0,null,null,{"$f":"'baza nisk'!G666","v":"Blok Operacyjny"},"","","proszę kliknąć aby wybrać nazwę komórki organizacyjnej",0]
[{"$f":"'baza nisk'!A667","v":"N-033B"},{"$f":"'baza nisk'!B667","v":"Nożyczki monopolarne zakrzywione typu HotShears"},{"$f":"'baza nisk'!D667","v":"NARZ. MEDYCZNE"},null,0,null,{"$f":"'baza nisk'!E667","v":16000},0,null,null,{"$f":"'baza nisk'!G667","v":"Blok Operacyjny"},"","","proszę kliknąć aby wybrać nazwę komórki organizacyjnej",0]
[{"$f":"'baza nisk'!A668","v":"N-033C"},{"$f":"'baza nisk'!B668","v":"Nożyczki monopolarne zakrzywione typu HotShears"},{"$f":"'baza nisk'!D668","v":"NARZ. MEDYCZNE"},null,0,null,{"$f":"'baza nisk'!E668","v":16000},0,null,null,{"$f":"'baza nisk'!G668","v":"Blok Operacyjny"},"","","proszę kliknąć aby wybrać nazwę komórki organizacyjnej",0]
[{"$f":"'baza nisk'!A669","v":"N-033D"},{"$f":"'baza nisk'!B669","v":"Nożyczki monopolarne zakrzywione typu HotShears"},{"$f":"'baza nisk'!D669","v":"NARZ. MEDYCZNE"},null,0,null,{"$f":"'baza nisk'!E669","v":16000},0,null,null,{"$f":"'baza nisk'!G669","v":"Blok Operacyjny DAVINCI"},"","","proszę kliknąć aby wybrać nazwę komórki organizacyjnej",0]
[{"$f":"'baza nisk'!A670","v":"N-033E"},{"$f":"'baza nisk'!B670","v":"Nożyczki monopolarne zakrzywione typu HotShears"},{"$f":"'baza nisk'!D670","v":"NARZ. MEDYCZNE"},null,0,null,{"$f":"'baza nisk'!E670","v":16000},0,null,null,{"$f":"'baza nisk'!G670","v":"Blok Operacyjny DAVINCI"},"","","proszę kliknąć aby wybrać nazwę komórki organizacyjnej",0]
[{"$f":"'baza nisk'!A671","v":"N-034"},{"$f":"'baza nisk'!B671","v":"Nożyczki do pępowiny końce tępe odgięte 16cm"},{"$f":"'baza nisk'!D671","v":"NARZ. MEDYCZNE"},null,0,null,{"$f":"'baza nisk'!E671","v":45},0,null,null,{"$f":"'baza nisk'!G671","v":"Anestezjologia"},"","","proszę kliknąć aby wybrać nazwę komórki organizacyjnej",0]
[{"$f":"'baza nisk'!A672","v":"N-034"},{"$f":"'baza nisk'!B672","v":"Nożyczki do pępowiny końce tępe odgięte 16cm"},{"$f":"'baza nisk'!D672","v":"NARZ. MEDYCZNE"},null,0,null,{"$f":"'baza nisk'!E672","v":45},0,null,null,{"$f":"'baza nisk'!G672","v":"Intensywna Terapia"},"","","proszę kliknąć aby wybrać nazwę komórki organizacyjnej",0]
[{"$f":"'baza nisk'!A673","v":"N-036"},{"$f":"'baza nisk'!B673","v":"Nóż do uretrotomu 27578A"},{"$f":"'baza nisk'!D673","v":"NARZ. MEDYCZNE"},null,0,null,{"$f":"'baza nisk'!E673","v":430},0,null,null,{"$f":"'baza nisk'!G673","v":"Oddział Urologii i Urologii Onkologicznej"},"","","proszę kliknąć aby wybrać nazwę komórki organizacyjnej",0]
[{"$f":"'baza nisk'!A674","v":"N-037"},{"$f":"'baza nisk'!B674","v":"Nóż zimny do uretrotomu,ostrze w kształcie hacz"},{"$f":"'baza nisk'!D674","v":"NARZ. MEDYCZNE"},null,0,null,{"$f":"'baza nisk'!E674","v":400},0,null,null,{"$f":"'baza nisk'!G674","v":"Oddział Urologii i Urologii Onkologicznej"},"","","proszę kliknąć aby wybrać nazwę komórki organizacyjnej",0]
[{"$f":"'baza nisk'!A675","v":"N-037A"},{"$f":"'baza nisk'!B675","v":"Nóż zimny SACHSE do uretrotomu,prosty"},{"$f":"'baza nisk'!D675","v":"NARZ. MEDYCZNE"},null,0,null,{"$f":"'baza nisk'!E675","v":400},0,null,null,{"$f":"'baza nisk'!G675","v":"Oddział Urologii i Urologii Onkologicznej"},"","","proszę kliknąć aby wybrać nazwę komórki organizacyjnej",0]
[{"$f":"'baza nisk'!A676","v":"N-038"},{"$f":"'baza nisk'!B676","v":"Nożyczki do przewodów ślinowych delikatne,zagię"},{"$f":"'baza nisk'!D676","v":"NARZ. MEDYCZNE"},null,0,null,{"$f":"'baza nisk'!E676","v":700},0,null,null,{"$f":"'baza nisk'!G676","v":"Oddział Otolaryngologiczny z Pododdziałem Otolaryngologii"},"","","proszę kliknąć aby wybrać nazwę komórki organizacyjnej",0]
[{"$f":"'baza nisk'!A677","v":"N-043A"},{"$f":"'baza nisk'!B677","v":"Nożyczki ClickLine,zakrzywione, monopolarne,śr."},{"$f":"'baza nisk'!D677","v":"NARZ. MEDYCZNE"},null,0,null,{"$f":"'baza nisk'!E677","v":1823.49},0,null,null,{"$f":"'baza nisk'!G677","v":"Blok Operacyjny"},"","","proszę kliknąć aby wybrać nazwę komórki organizacyjnej",0]
[{"$f":"'baza nisk'!A678","v":"N-047"},{"$f":"'baza nisk'!B678","v":"Nożyczki mikrochirurgiczne odgięte dł.120mm 4 3"},{"$f":"'baza nisk'!D678","v":"NARZ. MEDYCZNE"},null,0,null,{"$f":"'baza nisk'!E678","v":800},0,null,null,{"$f":"'baza nisk'!G678","v":"Oddział Okulistyczny"},"","","proszę kliknąć aby wybrać nazwę komórki organizacyjnej",0]
[{"$f":"'baza nisk'!A679","v":"N-048"},{"$f":"'baza nisk'!B679","v":"Nożyczki do ECCE/faco"},{"$f":"'baza nisk'!D679","v":"NARZ. MEDYCZNE"},null,0,null,{"$f":"'baza nisk'!E679","v":1154.79},0,null,null,{"$f":"'baza nisk'!G679","v":"Oddział Okulistyczny"},"","","proszę kliknąć aby wybrać nazwę komórki organizacyjnej",0]
[{"$f":"'baza nisk'!A680","v":"N-049"},{"$f":"'baza nisk'!B680","v":"Nożyczki ClickLine METZENBAUM, monopolarne,śr.5"},{"$f":"'baza nisk'!D680","v":"NARZ. MEDYCZNE"},null,0,null,{"$f":"'baza nisk'!E680","v":1751.1},0,null,null,{"$f":"'baza nisk'!G680","v":"Blok Operacyjny"},"","","proszę kliknąć aby wybrać nazwę komórki organizacyjnej",0]
[{"$f":"'baza nisk'!A681","v":"N-050"},{"$f":"'baza nisk'!B681","v":"Nożyczki,jedno ostrze ruchome 5Fr.dł.40 cm"},{"$f":"'baza nisk'!D681","v":"NARZ. MEDYCZNE"},null,0,null,{"$f":"'baza nisk'!E681","v":644.49},0,null,null,{"$f":"'baza nisk'!G681","v":"Oddział Urologii i Urologii Onkologicznej"},"","","proszę kliknąć aby wybrać nazwę komórki organizacyjnej",0]
[{"$f":"'baza nisk'!A682","v":"N-051"},{"$f":"'baza nisk'!B682","v":"Nożyczki chirurgiczne typu METZENBAUM dł.180mm"},{"$f":"'baza nisk'!D682","v":"NARZ. MEDYCZNE"},null,0,null,{"$f":"'baza nisk'!E682","v":300},0,null,null,{"$f":"'baza nisk'!G682","v":"Blok Operacyjny"},"","","proszę kliknąć aby wybrać nazwę komórki organizacyjnej",0]
[{"$f":"'baza nisk'!A683","v":"N-051A"},{"$f":"'baza nisk'!B683","v":"Nożyczki chirurgiczne typu METZENBAUM dł.200mm"},{"$f":"'baza nisk'!D683","v":"NARZ. MEDYCZNE"},null,0,null,{"$f":"'baza nisk'!E683","v":299.27},0,null,null,{"$f":"'baza nisk'!G683","v":"Blok Operacyjny"},"","","proszę kliknąć aby wybrać nazwę komórki organizacyjnej",0]
[{"$f":"'baza nisk'!A684","v":"N-051B"},{"$f":"'baza nisk'!B684","v":"Nożyczki chirurgiczne typu METZENBAUM dł.145mm"},{"$f":"'baza nisk'!D684","v":"NARZ. MEDYCZNE"},null,0,null,{"$f":"'baza nisk'!E684","v":212.06},0,null,null,{"$f":"'baza nisk'!G684","v":"Blok Operacyjny"},"","","proszę kliknąć aby wybrać nazwę komórki organizacyjnej",0]
[{"$f":"'baza nisk'!A686","v":"N-051C"},{"$f":"'baza nisk'!B686","v":"Nozyczki chirurgiczne typu METZENBAUM dł.180mm"},{"$f":"'baza nisk'!D686","v":"NARZ. MEDYCZNE"},null,0,null,{"$f":"'baza nisk'!E686","v":320.38},0,null,null,{"$f":"'baza nisk'!G686","v":"DODO -Pracownia Diagnostyczno - Zabiegowa Naczyń"},"","","proszę kliknąć aby wybrać nazwę komórki organizacyjnej",0]
[{"$f":"'baza nisk'!A685","v":"N-051C"},{"$f":"'baza nisk'!B685","v":"Nozyczki chirurgiczne typu METZENBAUM dł.180mm"},{"$f":"'baza nisk'!D685","v":"NARZ. MEDYCZNE"},null,0,null,{"$f":"'baza nisk'!E685","v":320.38},0,null,null,{"$f":"'baza nisk'!G685","v":"Blok Operacyjny"},"","","proszę kliknąć aby wybrać nazwę komórki organizacyjnej",0]
[{"$f":"'baza nisk'!A687","v":"N-053"},{"$f":"'baza nisk'!B687","v":"Nożyczki naczyniowe T.POTTSDEMAR odgiete 25*185"},{"$f":"'baza nisk'!D687","v":"NARZ. MEDYCZNE"},null,0,null,{"$f":"'baza nisk'!E687","v":320.38},0,null,null,{"$f":"'baza nisk'!G687","v":"Blok Operacyjny"},"","","proszę kliknąć aby wybrać nazwę komórki organizacyjnej",0]
[{"$f":"'baza nisk'!A688","v":"N-053"},{"$f":"'baza nisk'!B688","v":"Nożyczki naczyniowe T.POTTSDEMAR odgiete 25*185"},{"$f":"'baza nisk'!D688","v":"NARZ. MEDYCZNE"},null,0,null,{"$f":"'baza nisk'!E688","v":320.38},0,null,null,{"$f":"'baza nisk'!G688","v":"Poradnia Otolaryngologiczna"},"","","proszę kliknąć aby wybrać nazwę komórki organizacyjnej",0]
[{"$f":"'baza nisk'!A689","v":"N-054"},{"$f":"'baza nisk'!B689","v":"Nożyczki naczyniowe T.DE'BAKEY odgięte 60st 155"},{"$f":"'baza nisk'!D689","v":"NARZ. MEDYCZNE"},null,0,null,{"$f":"'baza nisk'!E689","v":320.38},0,null,null,{"$f":"'baza nisk'!G689","v":"Blok Operacyjny"},"","","proszę kliknąć aby wybrać nazwę komórki organizacyjnej",0]
[{"$f":"'baza nisk'!A690","v":"N-055"},{"$f":"'baza nisk'!B690","v":"Narożnik MAK"},{"$f":"'baza nisk'!D690","v":"MEBLE"},null,0,null,{"$f":"'baza nisk'!E690","v":1200},0,null,null,{"$f":"'baza nisk'!G690","v":"Oddział Kardiologiczny"},"","","proszę kliknąć aby wybrać nazwę komórki organizacyjnej",0]
[{"$f":"'baza nisk'!A691","v":"N-056"},{"$f":"'baza nisk'!B691","v":"Negatoskop 1-klatkowy z reg.luminacji NGP-11"},{"$f":"'baza nisk'!D691","v":"MED. NISK. ŚR. TRW."},null,0,null,{"$f":"'baza nisk'!E691","v":700},0,null,null,{"$f":"'baza nisk'!G691","v":"Poradnia Chirurgii Onkologicznej"},"","","proszę kliknąć aby wybrać nazwę komórki organizacyjnej",0]
[{"$f":"'baza nisk'!A692","v":"N-057"},{"$f":"'baza nisk'!B692","v":"Nóż preparacyjny T.TOENNISADSON odgięty dł.175m"},{"$f":"'baza nisk'!D692","v":"NARZ. MEDYCZNE"},null,0,null,{"$f":"'baza nisk'!E692","v":572},0,null,null,{"$f":"'baza nisk'!G692","v":"Blok Operacyjny"},"","","proszę kliknąć aby wybrać nazwę komórki organizacyjnej",0]
[{"$f":"'baza nisk'!A693","v":"N-073"},{"$f":"'baza nisk'!B693","v":"Nożyczki FOMON 15cm"},{"$f":"'baza nisk'!D693","v":"NARZ. MEDYCZNE"},null,0,null,{"$f":"'baza nisk'!E693","v":133},0,null,null,{"$f":"'baza nisk'!G693","v":"DODO -Pracownia Diagnostyczno - Zabiegowa Naczyń"},"","","proszę kliknąć aby wybrać nazwę komórki organizacyjnej",0]
[{"$f":"'baza nisk'!A694","v":"O-022"},{"$f":"'baza nisk'!B694","v":"Obuwie operacyjne zielone nr.36"},{"$f":"'baza nisk'!D694","v":"ODZIEŻ ROBOCZA I OCHRONNA"},null,0,null,{"$f":"'baza nisk'!E694","v":150},0,null,null,{"$f":"'baza nisk'!G694","v":"Blok Operacyjny"},"","","proszę kliknąć aby wybrać nazwę komórki organizacyjnej",0]
[{"$f":"'baza nisk'!A695","v":"O-022A"},{"$f":"'baza nisk'!B695","v":"Obuwie operacyjne zielone nr.37"},{"$f":"'baza nisk'!D695","v":"ODZIEŻ ROBOCZA I OCHRONNA"},null,0,null,{"$f":"'baza nisk'!E695","v":150},0,null,null,{"$f":"'baza nisk'!G695","v":"Blok Operacyjny"},"","","proszę kliknąć aby wybrać nazwę komórki organizacyjnej",0]
[{"$f":"'baza nisk'!A696","v":"O-022B"},{"$f":"'baza nisk'!B696","v":"Obuwie operacyjne zielone nr.39"},{"$f":"'baza nisk'!D696","v":"ODZIEŻ ROBOCZA I OCHRONNA"},null,0,null,{"$f":"'baza nisk'!E696","v":150},0,null,null,{"$f":"'baza nisk'!G696","v":"Blok Operacyjny"},"","","proszę kliknąć aby wybrać nazwę komórki organizacyjnej",0]
[{"$f":"'baza nisk'!A697","v":"O-022C"},{"$f":"'baza nisk'!B697","v":"Obuwie operacyjne zielone nr.40"},{"$f":"'baza nisk'!D697","v":"ODZIEŻ ROBOCZA I OCHRONNA"},null,0,null,{"$f":"'baza nisk'!E697","v":150},0,null,null,{"$f":"'baza nisk'!G697","v":"Blok Operacyjny"},"","","proszę kliknąć aby wybrać nazwę komórki organizacyjnej",0]
[{"$f":"'baza nisk'!A698","v":"O-022D"},{"$f":"'baza nisk'!B698","v":"Obuwie operacyjne zielone nr.41"},{"$f":"'baza nisk'!D698","v":"ODZIEŻ ROBOCZA I OCHRONNA"},null,0,null,{"$f":"'baza nisk'!E698","v":150},0,null,null,{"$f":"'baza nisk'!G698","v":"Blok Operacyjny"},"","","proszę kliknąć aby wybrać nazwę komórki organizacyjnej",0]
[{"$f":"'baza nisk'!A699","v":"O-022E"},{"$f":"'baza nisk'!B699","v":"Obuwie operacyjne zielone nr.42"},{"$f":"'baza nisk'!D699","v":"ODZIEŻ ROBOCZA I OCHRONNA"},null,0,null,{"$f":"'baza nisk'!E699","v":150},0,null,null,{"$f":"'baza nisk'!G699","v":"Blok Operacyjny"},"","","proszę kliknąć aby wybrać nazwę komórki organizacyjnej",0]
[{"$f":"'baza nisk'!A700","v":"O-022F"},{"$f":"'baza nisk'!B700","v":"Obuwie operacyjne zielone nr.43"},{"$f":"'baza nisk'!D700","v":"ODZIEŻ ROBOCZA I OCHRONNA"},null,0,null,{"$f":"'baza nisk'!E700","v":150},0,null,null,{"$f":"'baza nisk'!G700","v":"Dział Centralnej Sterylizatorni i DDD"},"","","proszę kliknąć aby wybrać nazwę komórki organizacyjnej",0]
[{"$f":"'baza nisk'!A701","v":"O-022G"},{"$f":"'baza nisk'!B701","v":"Obuwie operacyjne zielone nr.45"},{"$f":"'baza nisk'!D701","v":"ODZIEŻ ROBOCZA I OCHRONNA"},null,0,null,{"$f":"'baza nisk'!E701","v":150},0,null,null,{"$f":"'baza nisk'!G701","v":"Blok Operacyjny"},"","","proszę kliknąć aby wybrać nazwę komórki organizacyjnej",0]
[{"$f":"'baza nisk'!A702","v":"O-022H"},{"$f":"'baza nisk'!B702","v":"Obuwie operacyjne niebieskie nr.39"},{"$f":"'baza nisk'!D702","v":"ODZIEŻ ROBOCZA I OCHRONNA"},null,0,null,{"$f":"'baza nisk'!E702","v":150},0,null,null,{"$f":"'baza nisk'!G702","v":"Oddział Chirurgii Onkologicznej"},"","","proszę kliknąć aby wybrać nazwę komórki organizacyjnej",0]
[{"$f":"'baza nisk'!A703","v":"O-022I"},{"$f":"'baza nisk'!B703","v":"Obuwie operacyjne niebieskie nr.45"},{"$f":"'baza nisk'!D703","v":"ODZIEŻ ROBOCZA I OCHRONNA"},null,0,null,{"$f":"'baza nisk'!E703","v":150},0,null,null,{"$f":"'baza nisk'!G703","v":"Oddział Urologii i Urologii Onkologicznej"},"","","proszę kliknąć aby wybrać nazwę komórki organizacyjnej",0]
[{"$f":"'baza nisk'!A704","v":"O-022J"},{"$f":"'baza nisk'!B704","v":"Obuwie operacyjne niebieskie nr.46"},{"$f":"'baza nisk'!D704","v":"ODZIEŻ ROBOCZA I OCHRONNA"},null,0,null,{"$f":"'baza nisk'!E704","v":150},0,null,null,{"$f":"'baza nisk'!G704","v":"Oddział Urologii i Urologii Onkologicznej"},"","","proszę kliknąć aby wybrać nazwę komórki organizacyjnej",0]
[{"$f":"'baza nisk'!A705","v":"O-022k"},{"$f":"'baza nisk'!B705","v":"Obuwie operacyjne niebieskie nr.36"},{"$f":"'baza nisk'!D705","v":"ODZIEŻ ROBOCZA I OCHRONNA"},null,0,null,{"$f":"'baza nisk'!E705","v":150},0,null,null,{"$f":"'baza nisk'!G705","v":"Oddział Chirurgii Onkologicznej"},"","","proszę kliknąć aby wybrać nazwę komórki organizacyjnej",0]
[{"$f":"'baza nisk'!A706","v":"O-022L"},{"$f":"'baza nisk'!B706","v":"Obuwie operacyjne niebieskie nr.37"},{"$f":"'baza nisk'!D706","v":"ODZIEŻ ROBOCZA I OCHRONNA"},null,0,null,{"$f":"'baza nisk'!E706","v":150},0,null,null,{"$f":"'baza nisk'!G706","v":"Oddział Urologii i Urologii Onkologicznej"},"","","proszę kliknąć aby wybrać nazwę komórki organizacyjnej",0]
[{"$f":"'baza nisk'!A707","v":"O-022Ł"},{"$f":"'baza nisk'!B707","v":"Obuwie operacyjne niebieskie nr.38"},{"$f":"'baza nisk'!D707","v":"ODZIEŻ ROBOCZA I OCHRONNA"},null,0,null,{"$f":"'baza nisk'!E707","v":150},{"$f":"E710*G710","v":0},null,null,{"$f":"'baza nisk'!G707","v":"Oddział Chirurgii Onkologicznej"},{"$f":"IF($B$2=K710,$B$2,\"\")","v":""},{"$f":"IF($B$2=K710,1,\"\")","v":""},{"$f":"$B$2","v":"proszę kliknąć aby wybrać nazwę komórki organizacyjnej"},{"$f":"$H$2","v":0}]
[{"$f":"'baza nisk'!A708","v":"O-022M"},{"$f":"'baza nisk'!B708","v":"Obuwie operacyjne niebieskie nr.40"},{"$f":"'baza nisk'!D708","v":"ODZIEŻ ROBOCZA I OCHRONNA"},null,0,null,{"$f":"'baza nisk'!E708","v":150},0,null,null,{"$f":"'baza nisk'!G708","v":"Oddział Położniczo – Ginekologiczny"},"","","proszę kliknąć aby wybrać nazwę komórki organizacyjnej",0]
[{"$f":"'baza nisk'!A710","v":"O-022N"},{"$f":"'baza nisk'!B710","v":"Obuwie operacyjne niebieskie nr.42"},{"$f":"'baza nisk'!D710","v":"ODZIEŻ ROBOCZA I OCHRONNA"},null,0,null,{"$f":"'baza nisk'!E710","v":150},0,null,null,{"$f":"'baza nisk'!G710","v":"Oddział Urologii i Urologii Onkologicznej"},"","","proszę kliknąć aby wybrać nazwę komórki organizacyjnej",0]
[{"$f":"'baza nisk'!A709","v":"O-022N"},{"$f":"'baza nisk'!B709","v":"Obuwie operacyjne niebieskie nr.42"},{"$f":"'baza nisk'!D709","v":"ODZIEŻ ROBOCZA I OCHRONNA"},null,0,null,{"$f":"'baza nisk'!E709","v":150},0,null,null,{"$f":"'baza nisk'!G709","v":"Oddział Położniczo – Ginekologiczny"},"","","proszę kliknąć aby wybrać nazwę komórki organizacyjnej",0]
[{"$f":"'baza nisk'!A711","v":"O-022O"},{"$f":"'baza nisk'!B711","v":"Obuwie operacyjne niebieskie nr.44"},{"$f":"'baza nisk'!D711","v":"ODZIEŻ ROBOCZA I OCHRONNA"},null,0,null,{"$f":"'baza nisk'!E711","v":150},0,null,null,{"$f":"'baza nisk'!G711","v":"Oddział Położniczo – Ginekologiczny"},"","","proszę kliknąć aby wybrać nazwę komórki organizacyjnej",0]
[{"$f":"'baza nisk'!A712","v":"O-022P"},{"$f":"'baza nisk'!B712","v":"Obuwie operacyjne zielone nr.38"},{"$f":"'baza nisk'!D712","v":"ODZIEŻ ROBOCZA I OCHRONNA"},null,0,null,{"$f":"'baza nisk'!E712","v":150},0,null,null,{"$f":"'baza nisk'!G712","v":"Blok Operacyjny"},"","","proszę kliknąć aby wybrać nazwę komórki organizacyjnej",0]
[{"$f":"'baza nisk'!A713","v":"O-022T"},{"$f":"'baza nisk'!B713","v":"Obuwie operacyjne zielone nr.44"},{"$f":"'baza nisk'!D713","v":"ODZIEŻ ROBOCZA I OCHRONNA"},null,0,null,{"$f":"'baza nisk'!E713","v":100},0,null,null,{"$f":"'baza nisk'!G713","v":"Dział Centralnej Sterylizatorni i DDD"},"","","proszę kliknąć aby wybrać nazwę komórki organizacyjnej",0]
[{"$f":"'baza nisk'!A714","v":"O-047"},{"$f":"'baza nisk'!B714","v":"Obturator j.uż, 8mm   420023-02"},{"$f":"'baza nisk'!D714","v":"NARZ. MEDYCZNE"},null,0,null,{"$f":"'baza nisk'!E714","v":3024},0,null,null,{"$f":"'baza nisk'!G714","v":"Blok Operacyjny"},"","","proszę kliknąć aby wybrać nazwę komórki organizacyjnej",0]
[{"$f":"'baza nisk'!A715","v":"O-047"},{"$f":"'baza nisk'!B715","v":"Obturator j.uż, 8mm   420023-02"},{"$f":"'baza nisk'!D715","v":"NARZ. MEDYCZNE"},null,0,null,{"$f":"'baza nisk'!E715","v":3024},0,null,null,{"$f":"'baza nisk'!G715","v":"Blok Operacyjny DAVINCI"},"","","proszę kliknąć aby wybrać nazwę komórki organizacyjnej",0]
[{"$f":"'baza nisk'!A716","v":"O-047A"},{"$f":"'baza nisk'!B716","v":"Obturator tępy,8mm,da Vinci"},{"$f":"'baza nisk'!D716","v":"NARZ. MEDYCZNE"},null,0,null,{"$f":"'baza nisk'!E716","v":3024},0,null,null,{"$f":"'baza nisk'!G716","v":"Blok Operacyjny"},"","","proszę kliknąć aby wybrać nazwę komórki organizacyjnej",0]
[{"$f":"'baza nisk'!A717","v":"O-053"},{"$f":"'baza nisk'!B717","v":"Oprawki próbne okularowe TF2"},{"$f":"'baza nisk'!D717","v":"MED. NISK. ŚR. TRW."},null,0,null,{"$f":"'baza nisk'!E717","v":650},0,null,null,{"$f":"'baza nisk'!G717","v":"Oddział Okulistyczny"},"","","proszę kliknąć aby wybrać nazwę komórki organizacyjnej",0]
[{"$f":"'baza nisk'!A718","v":"O-082A"},{"$f":"'baza nisk'!B718","v":"Ochrona tarczycy RTG - AT sliniak 8"},{"$f":"'baza nisk'!D718","v":"ODZIEŻ OCHRONNA RADIOLOGICZNA"},null,0,null,{"$f":"'baza nisk'!E718","v":370},0,null,null,{"$f":"'baza nisk'!G718","v":"Pracownia Hemodynamiki"},"","","proszę kliknąć aby wybrać nazwę komórki organizacyjnej",0]
[{"$f":"'baza nisk'!A720","v":"O-082B"},{"$f":"'baza nisk'!B720","v":"Ochrona tarczycy model 840T 0,50mm Pb"},{"$f":"'baza nisk'!D720","v":"ODZIEŻ OCHRONNA RADIOLOGICZNA"},null,0,null,{"$f":"'baza nisk'!E720","v":370},0,null,null,{"$f":"'baza nisk'!G720","v":"Oddział Urologii i Urologii Onkologicznej"},"","","proszę kliknąć aby wybrać nazwę komórki organizacyjnej",0]
[{"$f":"'baza nisk'!A719","v":"O-082B"},{"$f":"'baza nisk'!B719","v":"Ochrona tarczycy model 840T 0,50mm Pb"},{"$f":"'baza nisk'!D719","v":"ODZIEŻ OCHRONNA RADIOLOGICZNA"},null,0,null,{"$f":"'baza nisk'!E719","v":370},0,null,null,{"$f":"'baza nisk'!G719","v":"Oddział Kardiologii Dziecięcej z Pododdziałem Kardiochirurgi"},"","","proszę kliknąć aby wybrać nazwę komórki organizacyjnej",0]
[{"$f":"'baza nisk'!A721","v":"O-086"},{"$f":"'baza nisk'!B721","v":"Obuwie gumowe damskie roz.36"},{"$f":"'baza nisk'!D721","v":"ODZIEŻ ROBOCZA I OCHRONNA"},null,0,null,{"$f":"'baza nisk'!E721","v":45},0,null,null,{"$f":"'baza nisk'!G721","v":"Anestezjologia"},"","","proszę kliknąć aby wybrać nazwę komórki organizacyjnej",0]
[{"$f":"'baza nisk'!A722","v":"O-086A"},{"$f":"'baza nisk'!B722","v":"Obuwie gumowe damskie roz.38"},{"$f":"'baza nisk'!D722","v":"ODZIEŻ ROBOCZA I OCHRONNA"},null,0,null,{"$f":"'baza nisk'!E722","v":45},0,null,null,{"$f":"'baza nisk'!G722","v":"Anestezjologia"},"","","proszę kliknąć aby wybrać nazwę komórki organizacyjnej",0]
[{"$f":"'baza nisk'!A723","v":"O-086B"},{"$f":"'baza nisk'!B723","v":"Obuwie gumowe damskie roz.40"},{"$f":"'baza nisk'!D723","v":"ODZIEŻ ROBOCZA I OCHRONNA"},null,0,null,{"$f":"'baza nisk'!E723","v":45},0,null,null,{"$f":"'baza nisk'!G723","v":"Anestezjologia"},"","","proszę kliknąć aby wybrać nazwę komórki organizacyjnej",0]
[{"$f":"'baza nisk'!A724","v":"O-088"},{"$f":"'baza nisk'!B724","v":"Obturator standardowy,do zast.z płaszczami rese"},{"$f":"'baza nisk'!D724","v":"NARZ. MEDYCZNE"},null,0,null,{"$f":"'baza nisk'!E724","v":440},0,null,null,{"$f":"'baza nisk'!G724","v":"Oddział Urologii i Urologii Onkologicznej"},"","","proszę kliknąć aby wybrać nazwę komórki organizacyjnej",0]
[{"$f":"'baza nisk'!A725","v":"O-089"},{"$f":"'baza nisk'!B725","v":"Obturator,do zast.z płaszczem uretrotomu 21 Fr."},{"$f":"'baza nisk'!D725","v":"NARZ. MEDYCZNE"},null,0,null,{"$f":"'baza nisk'!E725","v":1000},0,null,null,{"$f":"'baza nisk'!G725","v":"Oddział Urologii i Urologii Onkologicznej"},"","","proszę kliknąć aby wybrać nazwę komórki organizacyjnej",0]
[{"$f":"'baza nisk'!A726","v":"O-131"},{"$f":"'baza nisk'!B726","v":"Odkurzacz  "},{"$f":"'baza nisk'!D726","v":"SPRZĘT AGD"},null,0,null,{"$f":"'baza nisk'!E726","v":800},0,null,null,{"$f":"'baza nisk'!G726","v":"Oddział Pediatryczny z Pododdziałem Gastroenterologii "},"","","proszę kliknąć aby wybrać nazwę komórki organizacyjnej",0]
[{"$f":"'baza nisk'!A727","v":"O-131A"},{"$f":"'baza nisk'!B727","v":"Odkurzacz  "},{"$f":"'baza nisk'!D727","v":"SPRZĘT AGD"},null,0,null,{"$f":"'baza nisk'!E727","v":800},0,null,null,{"$f":"'baza nisk'!G727","v":"Dział Gospodarki Nieruchomościami i Utrzymania Ruchu"},"","","proszę kliknąć aby wybrać nazwę komórki organizacyjnej",0]
[{"$f":"'baza nisk'!A728","v":"P-051D"},{"$f":"'baza nisk'!B728","v":"Pokrywa 1/1 PRIMELINE,tył kolor czerwony JP001"},{"$f":"'baza nisk'!D728","v":"NARZ. MEDYCZNE"},null,0,null,{"$f":"'baza nisk'!E728","v":1800},0,null,null,{"$f":"'baza nisk'!G728","v":"Dział Centralnej Sterylizatorni i DDD"},"","","proszę kliknąć aby wybrać nazwę komórki organizacyjnej",0]
[{"$f":"'baza nisk'!A729","v":"P-065"},{"$f":"'baza nisk'!B729","v":"Penseta Colibri rogówkowa, 0,12mm, 1x2 ząbki, p"},{"$f":"'baza nisk'!D729","v":"NARZ. MEDYCZNE"},null,0,null,{"$f":"'baza nisk'!E729","v":1030},0,null,null,{"$f":"'baza nisk'!G729","v":"Oddział Okulistyczny"},"","","proszę kliknąć aby wybrać nazwę komórki organizacyjnej",0]
[{"$f":"'baza nisk'!A730","v":"P-066A"},{"$f":"'baza nisk'!B730","v":"Poduszka równoważna-Balance Pad Elite z wypustk"},{"$f":"'baza nisk'!D730","v":"MATERIAŁY DO REHABILITACJI"},null,0,null,{"$f":"'baza nisk'!E730","v":197.1},0,null,null,{"$f":"'baza nisk'!G730","v":"Zamiejscowy Dział Rehabilitacji Leczniczej"},"","","proszę kliknąć aby wybrać nazwę komórki organizacyjnej",0]
[{"$f":"'baza nisk'!A731","v":"P-088"},{"$f":"'baza nisk'!B731","v":"Pryzmat do tonometru aplanacyjnego"},{"$f":"'baza nisk'!D731","v":"MED. NISK. ŚR. TRW."},null,0,null,{"$f":"'baza nisk'!E731","v":378},0,null,null,{"$f":"'baza nisk'!G731","v":"Oddział Okulistyczny"},"","","proszę kliknąć aby wybrać nazwę komórki organizacyjnej",0]
[{"$f":"'baza nisk'!A733","v":"P-094"},{"$f":"'baza nisk'!B733","v":"Podgrzewacz do butelek dla niemowląt"},{"$f":"'baza nisk'!D733","v":"SPRZĘT AGD"},null,0,null,{"$f":"'baza nisk'!E733","v":120},0,null,null,{"$f":"'baza nisk'!G733","v":"Oddział Neonatologiczny z Pododdziałem Patologii Noworodka"},"","","proszę kliknąć aby wybrać nazwę komórki organizacyjnej",0]
[{"$f":"'baza nisk'!A732","v":"P-094"},{"$f":"'baza nisk'!B732","v":"Podgrzewacz do butelek dla niemowląt"},{"$f":"'baza nisk'!D732","v":"SPRZĘT AGD"},null,0,null,{"$f":"'baza nisk'!E732","v":120},0,null,null,{"$f":"'baza nisk'!G732","v":"Oddział Kardiologii Dziecięcej z Pododdziałem Kardiochirurgi"},"","","proszę kliknąć aby wybrać nazwę komórki organizacyjnej",0]
[{"$f":"'baza nisk'!A734","v":"P-094A"},{"$f":"'baza nisk'!B734","v":"Podgrzewacz do butelek dla niemowląt"},{"$f":"'baza nisk'!D734","v":"SPRZĘT AGD"},null,0,null,{"$f":"'baza nisk'!E734","v":120},0,null,null,{"$f":"'baza nisk'!G734","v":"Oddział Kardiologii Dziecięcej z Pododdziałem Kardiochirurgi"},"","","proszę kliknąć aby wybrać nazwę komórki organizacyjnej",0]
[{"$f":"'baza nisk'!A735","v":"P-094C"},{"$f":"'baza nisk'!B735","v":"Podgrzewacz do butelek dla niemowląt"},{"$f":"'baza nisk'!D735","v":"SPRZĘT AGD"},null,0,null,{"$f":"'baza nisk'!E735","v":120},0,null,null,{"$f":"'baza nisk'!G735","v":"Oddział Neonatologiczny z Pododdziałem Patologii Noworodka"},"","","proszę kliknąć aby wybrać nazwę komórki organizacyjnej",0]
[{"$f":"'baza nisk'!A736","v":"P-094D"},{"$f":"'baza nisk'!B736","v":"Podgrzewacz do butelek dla niemowląt"},{"$f":"'baza nisk'!D736","v":"SPRZĘT AGD"},null,0,null,{"$f":"'baza nisk'!E736","v":120},0,null,null,{"$f":"'baza nisk'!G736","v":"Oddział Neonatologiczny z Pododdziałem Patologii Noworodka"},"","","proszę kliknąć aby wybrać nazwę komórki organizacyjnej",0]
[{"$f":"'baza nisk'!A748","v":"P-097"},{"$f":"'baza nisk'!B748","v":"Poduszka  70X80 CLINIC II 1000g"},{"$f":"'baza nisk'!D748","v":"POŚCIEL SZPITAL"},null,0,null,{"$f":"'baza nisk'!E748","v":49},0,null,null,{"$f":"'baza nisk'!G748","v":"Oddział Transplantologiczny"},"","","proszę kliknąć aby wybrać nazwę komórki organizacyjnej",0]
[{"$f":"'baza nisk'!A747","v":"P-097"},{"$f":"'baza nisk'!B747","v":"Poduszka  70X80 CLINIC II 1000g"},{"$f":"'baza nisk'!D747","v":"POŚCIEL SZPITAL"},null,0,null,{"$f":"'baza nisk'!E747","v":49},0,null,null,{"$f":"'baza nisk'!G747","v":"Oddział Położniczo – Ginekologiczny"},"","","proszę kliknąć aby wybrać nazwę komórki organizacyjnej",0]
[{"$f":"'baza nisk'!A754","v":"P-097"},{"$f":"'baza nisk'!B754","v":"Poduszka  70X80 CLINIC II 1000g"},{"$f":"'baza nisk'!D754","v":"POŚCIEL SZPITAL"},null,0,null,{"$f":"'baza nisk'!E754","v":49},0,null,null,{"$f":"'baza nisk'!G754","v":"Zamiejscowy Oddział Rehabilitacji Ogólnoustrojowej II"},"","","proszę kliknąć aby wybrać nazwę komórki organizacyjnej",0]
[{"$f":"'baza nisk'!A752","v":"P-097"},{"$f":"'baza nisk'!B752","v":"Poduszka  70X80 CLINIC II 1000g"},{"$f":"'baza nisk'!D752","v":"POŚCIEL SZPITAL"},null,0,null,{"$f":"'baza nisk'!E752","v":49},0,null,null,{"$f":"'baza nisk'!G752","v":"Zamiejscowy Oddział Rehabilitacji Neurologicznej"},"","","proszę kliknąć aby wybrać nazwę komórki organizacyjnej",0]
[{"$f":"'baza nisk'!A749","v":"P-097"},{"$f":"'baza nisk'!B749","v":"Poduszka  70X80 CLINIC II 1000g"},{"$f":"'baza nisk'!D749","v":"POŚCIEL SZPITAL"},null,0,null,{"$f":"'baza nisk'!E749","v":49},0,null,null,{"$f":"'baza nisk'!G749","v":"Oddział Urologii i Urologii Onkologicznej"},"","","proszę kliknąć aby wybrać nazwę komórki organizacyjnej",0]
[{"$f":"'baza nisk'!A751","v":"P-097"},{"$f":"'baza nisk'!B751","v":"Poduszka  70X80 CLINIC II 1000g"},{"$f":"'baza nisk'!D751","v":"POŚCIEL SZPITAL"},null,0,null,{"$f":"'baza nisk'!E751","v":49},0,null,null,{"$f":"'baza nisk'!G751","v":"Zamiejscowy Oddział Chirurgii Urazowo - Ortopedycznej"},"","","proszę kliknąć aby wybrać nazwę komórki organizacyjnej",0]
[{"$f":"'baza nisk'!A741","v":"P-097"},{"$f":"'baza nisk'!B741","v":"Poduszka  70X80 CLINIC II 1000g"},{"$f":"'baza nisk'!D741","v":"POŚCIEL SZPITAL"},null,0,null,{"$f":"'baza nisk'!E741","v":49},0,null,null,{"$f":"'baza nisk'!G741","v":"Oddział Chirurgii Onkologicznej"},"","","proszę kliknąć aby wybrać nazwę komórki organizacyjnej",0]
[{"$f":"'baza nisk'!A742","v":"P-097"},{"$f":"'baza nisk'!B742","v":"Poduszka  70X80 CLINIC II 1000g"},{"$f":"'baza nisk'!D742","v":"POŚCIEL SZPITAL"},null,0,null,{"$f":"'baza nisk'!E742","v":49},0,null,null,{"$f":"'baza nisk'!G742","v":"Oddział Kardiologiczny"},"","","proszę kliknąć aby wybrać nazwę komórki organizacyjnej",0]
[{"$f":"'baza nisk'!A746","v":"P-097"},{"$f":"'baza nisk'!B746","v":"Poduszka  70X80 CLINIC II 1000g"},{"$f":"'baza nisk'!D746","v":"POŚCIEL SZPITAL"},null,0,null,{"$f":"'baza nisk'!E746","v":49},0,null,null,{"$f":"'baza nisk'!G746","v":"Oddział Pediatryczny z Pododdziałem Gastroenterologii "},"","","proszę kliknąć aby wybrać nazwę komórki organizacyjnej",0]
[{"$f":"'baza nisk'!A750","v":"P-097"},{"$f":"'baza nisk'!B750","v":"Poduszka  70X80 CLINIC II 1000g"},{"$f":"'baza nisk'!D750","v":"POŚCIEL SZPITAL"},null,0,null,{"$f":"'baza nisk'!E750","v":49},0,null,null,{"$f":"'baza nisk'!G750","v":"SOR"},"","","proszę kliknąć aby wybrać nazwę komórki organizacyjnej",0]
[{"$f":"'baza nisk'!A737","v":"P-097"},{"$f":"'baza nisk'!B737","v":"Poduszka  70X80 CLINIC II 1000g"},{"$f":"'baza nisk'!D737","v":"POŚCIEL SZPITAL"},null,0,null,{"$f":"'baza nisk'!E737","v":49},0,null,null,{"$f":"'baza nisk'!G737","v":"Hotel Pracowniczy"},"","","proszę kliknąć aby wybrać nazwę komórki organizacyjnej",0]
[{"$f":"'baza nisk'!A738","v":"P-097"},{"$f":"'baza nisk'!B738","v":"Poduszka  70X80 CLINIC II 1000g"},{"$f":"'baza nisk'!D738","v":"POŚCIEL SZPITAL"},null,0,null,{"$f":"'baza nisk'!E738","v":49},0,null,null,{"$f":"'baza nisk'!G738","v":"Oddział Angiologiczny z Pododdziałem Diabetologii"},"","","proszę kliknąć aby wybrać nazwę komórki organizacyjnej",0]
[{"$f":"'baza nisk'!A739","v":"P-097"},{"$f":"'baza nisk'!B739","v":"Poduszka  70X80 CLINIC II 1000g"},{"$f":"'baza nisk'!D739","v":"POŚCIEL SZPITAL"},null,0,null,{"$f":"'baza nisk'!E739","v":49},0,null,null,{"$f":"'baza nisk'!G739","v":"Oddział Chirurgii Naczyniowej"},"","","proszę kliknąć aby wybrać nazwę komórki organizacyjnej",0]
[{"$f":"'baza nisk'!A740","v":"P-097"},{"$f":"'baza nisk'!B740","v":"Poduszka  70X80 CLINIC II 1000g"},{"$f":"'baza nisk'!D740","v":"POŚCIEL SZPITAL"},null,0,null,{"$f":"'baza nisk'!E740","v":49},0,null,null,{"$f":"'baza nisk'!G740","v":"Oddział Chirurgii Ogólnej z Pododdziałami"},"","","proszę kliknąć aby wybrać nazwę komórki organizacyjnej",0]
[{"$f":"'baza nisk'!A753","v":"P-097"},{"$f":"'baza nisk'!B753","v":"Poduszka  70X80 CLINIC II 1000g"},{"$f":"'baza nisk'!D753","v":"POŚCIEL SZPITAL"},null,0,null,{"$f":"'baza nisk'!E753","v":49},0,null,null,{"$f":"'baza nisk'!G753","v":"Zamiejscowy Oddział Rehabilitacji Ogólnoustrojowej I"},"","","proszę kliknąć aby wybrać nazwę komórki organizacyjnej",0]
[{"$f":"'baza nisk'!A743","v":"P-097"},{"$f":"'baza nisk'!B743","v":"Poduszka  70X80 CLINIC II 1000g"},{"$f":"'baza nisk'!D743","v":"POŚCIEL SZPITAL"},null,0,null,{"$f":"'baza nisk'!E743","v":49},0,null,null,{"$f":"'baza nisk'!G743","v":"Oddział Kardiologii Dziecięcej z Pododdziałem Kardiochirurgi"},"","","proszę kliknąć aby wybrać nazwę komórki organizacyjnej",0]
[{"$f":"'baza nisk'!A744","v":"P-097"},{"$f":"'baza nisk'!B744","v":"Poduszka  70X80 CLINIC II 1000g"},{"$f":"'baza nisk'!D744","v":"POŚCIEL SZPITAL"},null,0,null,{"$f":"'baza nisk'!E744","v":49},0,null,null,{"$f":"'baza nisk'!G744","v":"Oddział Nefrologiczny"},"","","proszę kliknąć aby wybrać nazwę komórki organizacyjnej",0]
[{"$f":"'baza nisk'!A745","v":"P-097"},{"$f":"'baza nisk'!B745","v":"Poduszka  70X80 CLINIC II 1000g"},{"$f":"'baza nisk'!D745","v":"POŚCIEL SZPITAL"},null,0,null,{"$f":"'baza nisk'!E745","v":49},0,null,null,{"$f":"'baza nisk'!G745","v":"Oddział Otolaryngologiczny z Pododdziałem Otolaryngologii"},"","","proszę kliknąć aby wybrać nazwę komórki organizacyjnej",0]
[{"$f":"'baza nisk'!A757","v":"P-097A"},{"$f":"'baza nisk'!B757","v":"Poduszka  40X40 CLINIC III 250g"},{"$f":"'baza nisk'!D757","v":"POŚCIEL SZPITAL"},null,0,null,{"$f":"'baza nisk'!E757","v":14},0,null,null,{"$f":"'baza nisk'!G757","v":"Oddział Otolaryngologiczny z Pododdziałem Otolaryngologii"},"","","proszę kliknąć aby wybrać nazwę komórki organizacyjnej",0]
[{"$f":"'baza nisk'!A758","v":"P-097A"},{"$f":"'baza nisk'!B758","v":"Poduszka  40X40 CLINIC III 250g"},{"$f":"'baza nisk'!D758","v":"POŚCIEL SZPITAL"},null,0,null,{"$f":"'baza nisk'!E758","v":14},0,null,null,{"$f":"'baza nisk'!G758","v":"Oddział Pediatryczny z Pododdziałem Gastroenterologii "},"","","proszę kliknąć aby wybrać nazwę komórki organizacyjnej",0]
[{"$f":"'baza nisk'!A756","v":"P-097A"},{"$f":"'baza nisk'!B756","v":"Poduszka  40X40 CLINIC III 250g"},{"$f":"'baza nisk'!D756","v":"POŚCIEL SZPITAL"},null,0,null,{"$f":"'baza nisk'!E756","v":14},0,null,null,{"$f":"'baza nisk'!G756","v":"Oddział Kardiologii Dziecięcej z Pododdziałem Kardiochirurgi"},"","","proszę kliknąć aby wybrać nazwę komórki organizacyjnej",0]
[{"$f":"'baza nisk'!A755","v":"P-097A"},{"$f":"'baza nisk'!B755","v":"Poduszka  40X40 CLINIC III 250g"},{"$f":"'baza nisk'!D755","v":"POŚCIEL SZPITAL"},null,0,null,{"$f":"'baza nisk'!E755","v":14},0,null,null,{"$f":"'baza nisk'!G755","v":"Oddział Kardiologiczny"},"","","proszę kliknąć aby wybrać nazwę komórki organizacyjnej",0]
[{"$f":"'baza nisk'!A759","v":"P-097A"},{"$f":"'baza nisk'!B759","v":"Poduszka  40X40 CLINIC III 250g"},{"$f":"'baza nisk'!D759","v":"POŚCIEL SZPITAL"},null,0,null,{"$f":"'baza nisk'!E759","v":14},0,null,null,{"$f":"'baza nisk'!G759","v":"Oddział Położniczo – Ginekologiczny"},"","","proszę kliknąć aby wybrać nazwę komórki organizacyjnej",0]
[{"$f":"'baza nisk'!A761","v":"P-097B"},{"$f":"'baza nisk'!B761","v":"Poduszka  50X50 CLINIC"},{"$f":"'baza nisk'!D761","v":"POŚCIEL SZPITAL"},null,0,null,{"$f":"'baza nisk'!E761","v":25},0,null,null,{"$f":"'baza nisk'!G761","v":"Oddział Pediatryczny z Pododdziałem Gastroenterologii "},"","","proszę kliknąć aby wybrać nazwę komórki organizacyjnej",0]
[{"$f":"'baza nisk'!A760","v":"P-097B"},{"$f":"'baza nisk'!B760","v":"Poduszka  50X50 CLINIC"},{"$f":"'baza nisk'!D760","v":"POŚCIEL SZPITAL"},null,0,null,{"$f":"'baza nisk'!E760","v":25},0,null,null,{"$f":"'baza nisk'!G760","v":"Oddział Otolaryngologiczny z Pododdziałem Otolaryngologii"},"","","proszę kliknąć aby wybrać nazwę komórki organizacyjnej",0]
[{"$f":"'baza nisk'!A762","v":"P-097C"},{"$f":"'baza nisk'!B762","v":"Poduszka 70X80"},{"$f":"'baza nisk'!D762","v":"POŚCIEL SZPITAL"},null,0,null,{"$f":"'baza nisk'!E762","v":60},0,null,null,{"$f":"'baza nisk'!G762","v":"Hotel Pracowniczy"},"","","proszę kliknąć aby wybrać nazwę komórki organizacyjnej",0]
[{"$f":"'baza nisk'!A763","v":"P-099"},{"$f":"'baza nisk'!B763","v":"Podkład bawełniany biały 90x160"},{"$f":"'baza nisk'!D763","v":"POŚCIEL SZPITAL"},null,0,null,{"$f":"'baza nisk'!E763","v":9},0,null,null,{"$f":"'baza nisk'!G763","v":"Oddział Chirurgii Naczyniowej"},"","","proszę kliknąć aby wybrać nazwę komórki organizacyjnej",0]
[{"$f":"'baza nisk'!A764","v":"P-099"},{"$f":"'baza nisk'!B764","v":"Podkład bawełniany biały 90x160"},{"$f":"'baza nisk'!D764","v":"POŚCIEL SZPITAL"},null,0,null,{"$f":"'baza nisk'!E764","v":9},0,null,null,{"$f":"'baza nisk'!G764","v":"SekcjaGospodarcza i Obsługa (cześć wspólna)"},"","","proszę kliknąć aby wybrać nazwę komórki organizacyjnej",0]
[{"$f":"'baza nisk'!A765","v":"P-099A"},{"$f":"'baza nisk'!B765","v":"Podkład  biały 80x160"},{"$f":"'baza nisk'!D765","v":"POŚCIEL SZPITAL"},null,0,null,{"$f":"'baza nisk'!E765","v":9},0,null,null,{"$f":"'baza nisk'!G765","v":"Dział Gospodarki Nieruchomościami i Utrzymania Ruchu"},"","","proszę kliknąć aby wybrać nazwę komórki organizacyjnej",0]
[{"$f":"'baza nisk'!A766","v":"P-099A"},{"$f":"'baza nisk'!B766","v":"Podkład  biały 80x160"},{"$f":"'baza nisk'!D766","v":"POŚCIEL SZPITAL"},null,0,null,{"$f":"'baza nisk'!E766","v":9},0,null,null,{"$f":"'baza nisk'!G766","v":"Dział Zaopatrzenia i Zamówień Publicznych"},"","","proszę kliknąć aby wybrać nazwę komórki organizacyjnej",0]
[{"$f":"'baza nisk'!A767","v":"P-099A"},{"$f":"'baza nisk'!B767","v":"Podkład  biały 80x160"},{"$f":"'baza nisk'!D767","v":"POŚCIEL SZPITAL"},null,0,null,{"$f":"'baza nisk'!E767","v":9},0,null,null,{"$f":"'baza nisk'!G767","v":"Intensywna Terapia"},"","","proszę kliknąć aby wybrać nazwę komórki organizacyjnej",0]
[{"$f":"'baza nisk'!A768","v":"P-099A"},{"$f":"'baza nisk'!B768","v":"Podkład  biały 80x160"},{"$f":"'baza nisk'!D768","v":"POŚCIEL SZPITAL"},null,0,null,{"$f":"'baza nisk'!E768","v":9},0,null,null,{"$f":"'baza nisk'!G768","v":"Oddział Położniczo – Ginekologiczny"},"","","proszę kliknąć aby wybrać nazwę komórki organizacyjnej",0]
[{"$f":"'baza nisk'!A769","v":"P-099A"},{"$f":"'baza nisk'!B769","v":"Podkład  biały 80x160"},{"$f":"'baza nisk'!D769","v":"POŚCIEL SZPITAL"},null,0,null,{"$f":"'baza nisk'!E769","v":9},0,null,null,{"$f":"'baza nisk'!G769","v":"SekcjaGospodarcza i Obsługa (cześć wspólna)"},"","","proszę kliknąć aby wybrać nazwę komórki organizacyjnej",0]
[{"$f":"'baza nisk'!A777","v":"P-100B"},{"$f":"'baza nisk'!B777","v":"Prześcieradło bawełniane białe 160x250"},{"$f":"'baza nisk'!D777","v":"POŚCIEL SZPITAL"},null,0,null,{"$f":"'baza nisk'!E777","v":25},0,null,null,{"$f":"'baza nisk'!G777","v":"Oddział Pediatryczny z Pododdziałem Gastroenterologii "},"","","proszę kliknąć aby wybrać nazwę komórki organizacyjnej",0]
[{"$f":"'baza nisk'!A778","v":"P-100B"},{"$f":"'baza nisk'!B778","v":"Prześcieradło bawełniane białe 160x250"},{"$f":"'baza nisk'!D778","v":"POŚCIEL SZPITAL"},null,0,null,{"$f":"'baza nisk'!E778","v":25},{"$f":"E774*G774","v":0},null,null,{"$f":"'baza nisk'!G778","v":"Oddział Położniczo – Ginekologiczny"},{"$f":"IF($B$2=K774,$B$2,\"\")","v":""},{"$f":"IF($B$2=K774,1,\"\")","v":""},{"$f":"$B$2","v":"proszę kliknąć aby wybrać nazwę komórki organizacyjnej"},{"$f":"$H$2","v":0}]
[{"$f":"'baza nisk'!A779","v":"P-100B"},{"$f":"'baza nisk'!B779","v":"Prześcieradło bawełniane białe 160x250"},{"$f":"'baza nisk'!D779","v":"POŚCIEL SZPITAL"},null,0,null,{"$f":"'baza nisk'!E779","v":25},0,null,null,{"$f":"'baza nisk'!G779","v":"Oddział Urologii i Urologii Onkologicznej"},"","","proszę kliknąć aby wybrać nazwę komórki organizacyjnej",0]
[{"$f":"'baza nisk'!A774","v":"P-100B"},{"$f":"'baza nisk'!B774","v":"Prześcieradło bawełniane białe 160x250"},{"$f":"'baza nisk'!D774","v":"POŚCIEL SZPITAL"},null,0,null,{"$f":"'baza nisk'!E774","v":25},0,null,null,{"$f":"'baza nisk'!G774","v":"Oddział Kardiologiczny"},"","","proszę kliknąć aby wybrać nazwę komórki organizacyjnej",0]
[{"$f":"'baza nisk'!A780","v":"P-100B"},{"$f":"'baza nisk'!B780","v":"Prześcieradło bawełniane białe 160x250"},{"$f":"'baza nisk'!D780","v":"POŚCIEL SZPITAL"},null,0,null,{"$f":"'baza nisk'!E780","v":25},0,null,null,{"$f":"'baza nisk'!G780","v":"SekcjaGospodarcza i Obsługa (cześć wspólna)"},"","","proszę kliknąć aby wybrać nazwę komórki organizacyjnej",0]
[{"$f":"'baza nisk'!A781","v":"P-100B"},{"$f":"'baza nisk'!B781","v":"Prześcieradło bawełniane białe 160x250"},{"$f":"'baza nisk'!D781","v":"POŚCIEL SZPITAL"},null,0,null,{"$f":"'baza nisk'!E781","v":25},0,null,null,{"$f":"'baza nisk'!G781","v":"Stacja Dializ"},"","","proszę kliknąć aby wybrać nazwę komórki organizacyjnej",0]
[{"$f":"'baza nisk'!A782","v":"P-100B"},{"$f":"'baza nisk'!B782","v":"Prześcieradło bawełniane białe 160x250"},{"$f":"'baza nisk'!D782","v":"POŚCIEL SZPITAL"},null,0,null,{"$f":"'baza nisk'!E782","v":25},0,null,null,{"$f":"'baza nisk'!G782","v":"Zamiejscowy Oddział Chirurgii Urazowo - Ortopedycznej"},"","","proszę kliknąć aby wybrać nazwę komórki organizacyjnej",0]
[{"$f":"'baza nisk'!A783","v":"P-100B"},{"$f":"'baza nisk'!B783","v":"Prześcieradło bawełniane białe 160x250"},{"$f":"'baza nisk'!D783","v":"POŚCIEL SZPITAL"},null,0,null,{"$f":"'baza nisk'!E783","v":25},0,null,null,{"$f":"'baza nisk'!G783","v":"Zamiejscowy Oddział Rehabilitacji Neurologicznej"},"","","proszę kliknąć aby wybrać nazwę komórki organizacyjnej",0]
[{"$f":"'baza nisk'!A775","v":"P-100B"},{"$f":"'baza nisk'!B775","v":"Prześcieradło bawełniane białe 160x250"},{"$f":"'baza nisk'!D775","v":"POŚCIEL SZPITAL"},null,0,null,{"$f":"'baza nisk'!E775","v":25},0,null,null,{"$f":"'baza nisk'!G775","v":"Oddział Kardiologii Dziecięcej z Pododdziałem Kardiochirurgi"},"","","proszę kliknąć aby wybrać nazwę komórki organizacyjnej",0]
[{"$f":"'baza nisk'!A776","v":"P-100B"},{"$f":"'baza nisk'!B776","v":"Prześcieradło bawełniane białe 160x250"},{"$f":"'baza nisk'!D776","v":"POŚCIEL SZPITAL"},null,0,null,{"$f":"'baza nisk'!E776","v":25},0,null,null,{"$f":"'baza nisk'!G776","v":"Oddział Nefrologiczny"},"","","proszę kliknąć aby wybrać nazwę komórki organizacyjnej",0]
[{"$f":"'baza nisk'!A784","v":"P-100B"},{"$f":"'baza nisk'!B784","v":"Prześcieradło bawełniane białe 160x250"},{"$f":"'baza nisk'!D784","v":"POŚCIEL SZPITAL"},null,0,null,{"$f":"'baza nisk'!E784","v":25},0,null,null,{"$f":"'baza nisk'!G784","v":"Zamiejscowy Oddział Rehabilitacji Ogólnoustrojowej I"},"","","proszę kliknąć aby wybrać nazwę komórki organizacyjnej",0]
[{"$f":"'baza nisk'!A770","v":"P-100B"},{"$f":"'baza nisk'!B770","v":"Prześcieradło bawełniane białe 160x250"},{"$f":"'baza nisk'!D770","v":"POŚCIEL SZPITAL"},null,0,null,{"$f":"'baza nisk'!E770","v":25},0,null,null,{"$f":"'baza nisk'!G770","v":"Intensywna Terapia"},"","","proszę kliknąć aby wybrać nazwę komórki organizacyjnej",0]
[{"$f":"'baza nisk'!A771","v":"P-100B"},{"$f":"'baza nisk'!B771","v":"Prześcieradło bawełniane białe 160x250"},{"$f":"'baza nisk'!D771","v":"POŚCIEL SZPITAL"},null,0,null,{"$f":"'baza nisk'!E771","v":25},0,null,null,{"$f":"'baza nisk'!G771","v":"Oddział Chemioterapii z Pododdziałem Chemioterapii Dziennej"},"","","proszę kliknąć aby wybrać nazwę komórki organizacyjnej",0]
[{"$f":"'baza nisk'!A772","v":"P-100B"},{"$f":"'baza nisk'!B772","v":"Prześcieradło bawełniane białe 160x250"},{"$f":"'baza nisk'!D772","v":"POŚCIEL SZPITAL"},null,0,null,{"$f":"'baza nisk'!E772","v":25},0,null,null,{"$f":"'baza nisk'!G772","v":"Oddział Chirurgii Ogólnej z Pododdziałami"},"","","proszę kliknąć aby wybrać nazwę komórki organizacyjnej",0]
[{"$f":"'baza nisk'!A785","v":"P-100B"},{"$f":"'baza nisk'!B785","v":"Prześcieradło bawełniane białe 160x250"},{"$f":"'baza nisk'!D785","v":"POŚCIEL SZPITAL"},null,0,null,{"$f":"'baza nisk'!E785","v":25},0,null,null,{"$f":"'baza nisk'!G785","v":"Zamiejscowy Oddział Rehabilitacji Ogólnoustrojowej II"},"","","proszę kliknąć aby wybrać nazwę komórki organizacyjnej",0]
[{"$f":"'baza nisk'!A773","v":"P-100B"},{"$f":"'baza nisk'!B773","v":"Prześcieradło bawełniane białe 160x250"},{"$f":"'baza nisk'!D773","v":"POŚCIEL SZPITAL"},null,0,null,{"$f":"'baza nisk'!E773","v":25},0,null,null,{"$f":"'baza nisk'!G773","v":"Oddział Chirurgii Onkologicznej"},"","","proszę kliknąć aby wybrać nazwę komórki organizacyjnej",0]
[{"$f":"'baza nisk'!A790","v":"P-100C"},{"$f":"'baza nisk'!B790","v":"Prześcieradło 240X160"},{"$f":"'baza nisk'!D790","v":"POŚCIEL SZPITAL"},null,0,null,{"$f":"'baza nisk'!E790","v":25},0,null,null,{"$f":"'baza nisk'!G790","v":"Oddział Kardiologiczny"},"","","proszę kliknąć aby wybrać nazwę komórki organizacyjnej",0]
[{"$f":"'baza nisk'!A791","v":"P-100C"},{"$f":"'baza nisk'!B791","v":"Prześcieradło 240X160"},{"$f":"'baza nisk'!D791","v":"POŚCIEL SZPITAL"},null,0,null,{"$f":"'baza nisk'!E791","v":25},0,null,null,{"$f":"'baza nisk'!G791","v":"Oddział Kardiologii Dziecięcej z Pododdziałem Kardiochirurgi"},"","","proszę kliknąć aby wybrać nazwę komórki organizacyjnej",0]
[{"$f":"'baza nisk'!A792","v":"P-100C"},{"$f":"'baza nisk'!B792","v":"Prześcieradło 240X160"},{"$f":"'baza nisk'!D792","v":"POŚCIEL SZPITAL"},null,0,null,{"$f":"'baza nisk'!E792","v":25},0,null,null,{"$f":"'baza nisk'!G792","v":"Oddział Nefrologiczny"},"","","proszę kliknąć aby wybrać nazwę komórki organizacyjnej",0]
[{"$f":"'baza nisk'!A786","v":"P-100C"},{"$f":"'baza nisk'!B786","v":"Prześcieradło 240X160"},{"$f":"'baza nisk'!D786","v":"POŚCIEL SZPITAL"},null,0,null,{"$f":"'baza nisk'!E786","v":25},0,null,null,{"$f":"'baza nisk'!G786","v":"Dział Gospodarki Nieruchomościami i Utrzymania Ruchu"},"","","proszę kliknąć aby wybrać nazwę komórki organizacyjnej",0]
[{"$f":"'baza nisk'!A787","v":"P-100C"},{"$f":"'baza nisk'!B787","v":"Prześcieradło 240X160"},{"$f":"'baza nisk'!D787","v":"POŚCIEL SZPITAL"},null,0,null,{"$f":"'baza nisk'!E787","v":25},0,null,null,{"$f":"'baza nisk'!G787","v":"Oddział Chirurgii Naczyniowej"},"","","proszę kliknąć aby wybrać nazwę komórki organizacyjnej",0]
[{"$f":"'baza nisk'!A799","v":"P-100C"},{"$f":"'baza nisk'!B799","v":"Prześcieradło 240X160"},{"$f":"'baza nisk'!D799","v":"POŚCIEL SZPITAL"},null,0,null,{"$f":"'baza nisk'!E799","v":25},0,null,null,{"$f":"'baza nisk'!G799","v":"Zamiejscowy Oddział Chirurgii Urazowo - Ortopedycznej"},"","","proszę kliknąć aby wybrać nazwę komórki organizacyjnej",0]
[{"$f":"'baza nisk'!A788","v":"P-100C"},{"$f":"'baza nisk'!B788","v":"Prześcieradło 240X160"},{"$f":"'baza nisk'!D788","v":"POŚCIEL SZPITAL"},null,0,null,{"$f":"'baza nisk'!E788","v":25},0,null,null,{"$f":"'baza nisk'!G788","v":"Oddział Chirurgii Ogólnej z Pododdziałami"},"","","proszę kliknąć aby wybrać nazwę komórki organizacyjnej",0]
[{"$f":"'baza nisk'!A800","v":"P-100C"},{"$f":"'baza nisk'!B800","v":"Prześcieradło 240X160"},{"$f":"'baza nisk'!D800","v":"POŚCIEL SZPITAL"},null,0,null,{"$f":"'baza nisk'!E800","v":25},0,null,null,{"$f":"'baza nisk'!G800","v":"Zamiejscowy Oddział Rehabilitacji Ogólnoustrojowej I"},"","","proszę kliknąć aby wybrać nazwę komórki organizacyjnej",0]
[{"$f":"'baza nisk'!A801","v":"P-100C"},{"$f":"'baza nisk'!B801","v":"Prześcieradło 240X160"},{"$f":"'baza nisk'!D801","v":"POŚCIEL SZPITAL"},null,0,null,{"$f":"'baza nisk'!E801","v":25},0,null,null,{"$f":"'baza nisk'!G801","v":"Zamiejscowy Oddział Rehabilitacji Ogólnoustrojowej II"},"","","proszę kliknąć aby wybrać nazwę komórki organizacyjnej",0]
[{"$f":"'baza nisk'!A796","v":"P-100C"},{"$f":"'baza nisk'!B796","v":"Prześcieradło 240X160"},{"$f":"'baza nisk'!D796","v":"POŚCIEL SZPITAL"},null,0,null,{"$f":"'baza nisk'!E796","v":25},0,null,null,{"$f":"'baza nisk'!G796","v":"Oddział Transplantologiczny"},"","","proszę kliknąć aby wybrać nazwę komórki organizacyjnej",0]
[{"$f":"'baza nisk'!A797","v":"P-100C"},{"$f":"'baza nisk'!B797","v":"Prześcieradło 240X160"},{"$f":"'baza nisk'!D797","v":"POŚCIEL SZPITAL"},null,0,null,{"$f":"'baza nisk'!E797","v":25},0,null,null,{"$f":"'baza nisk'!G797","v":"SOR"},"","","proszę kliknąć aby wybrać nazwę komórki organizacyjnej",0]
[{"$f":"'baza nisk'!A798","v":"P-100C"},{"$f":"'baza nisk'!B798","v":"Prześcieradło 240X160"},{"$f":"'baza nisk'!D798","v":"POŚCIEL SZPITAL"},null,0,null,{"$f":"'baza nisk'!E798","v":25},0,null,null,{"$f":"'baza nisk'!G798","v":"Stacja Dializ"},"","","proszę kliknąć aby wybrać nazwę komórki organizacyjnej",0]
[{"$f":"'baza nisk'!A794","v":"P-100C"},{"$f":"'baza nisk'!B794","v":"Prześcieradło 240X160"},{"$f":"'baza nisk'!D794","v":"POŚCIEL SZPITAL"},null,0,null,{"$f":"'baza nisk'!E794","v":25},0,null,null,{"$f":"'baza nisk'!G794","v":"Oddział Otolaryngologiczny z Pododdziałem Otolaryngologii"},"","","proszę kliknąć aby wybrać nazwę komórki organizacyjnej",0]
[{"$f":"'baza nisk'!A795","v":"P-100C"},{"$f":"'baza nisk'!B795","v":"Prześcieradło 240X160"},{"$f":"'baza nisk'!D795","v":"POŚCIEL SZPITAL"},null,0,null,{"$f":"'baza nisk'!E795","v":25},0,null,null,{"$f":"'baza nisk'!G795","v":"Oddział Położniczo – Ginekologiczny"},"","","proszę kliknąć aby wybrać nazwę komórki organizacyjnej",0]
[{"$f":"'baza nisk'!A793","v":"P-100C"},{"$f":"'baza nisk'!B793","v":"Prześcieradło 240X160"},{"$f":"'baza nisk'!D793","v":"POŚCIEL SZPITAL"},null,0,null,{"$f":"'baza nisk'!E793","v":25},0,null,null,{"$f":"'baza nisk'!G793","v":"Oddział Okulistyczny"},"","","proszę kliknąć aby wybrać nazwę komórki organizacyjnej",0]
[{"$f":"'baza nisk'!A789","v":"P-100C"},{"$f":"'baza nisk'!B789","v":"Prześcieradło 240X160"},{"$f":"'baza nisk'!D789","v":"POŚCIEL SZPITAL"},null,0,null,{"$f":"'baza nisk'!E789","v":25},0,null,null,{"$f":"'baza nisk'!G789","v":"Oddział Dermatologiczny"},"","","proszę kliknąć aby wybrać nazwę komórki organizacyjnej",0]
[{"$f":"'baza nisk'!A802","v":"P-100D"},{"$f":"'baza nisk'!B802","v":"Prześcieradło zielone 240x180"},{"$f":"'baza nisk'!D802","v":"POŚCIEL SZPITAL"},null,0,null,{"$f":"'baza nisk'!E802","v":30},0,null,null,{"$f":"'baza nisk'!G802","v":"Zamiejscowy Blok Operacyjny"},"","","proszę kliknąć aby wybrać nazwę komórki organizacyjnej",0]
[{"$f":"'baza nisk'!A803","v":"P-102"},{"$f":"'baza nisk'!B803","v":"Prześcieradło flanelowe 74X110"},{"$f":"'baza nisk'!D803","v":"POŚCIEL SZPITAL"},null,0,null,{"$f":"'baza nisk'!E803","v":20},0,null,null,{"$f":"'baza nisk'!G803","v":"Oddział Neonatologiczny z Pododdziałem Patologii Noworodka"},"","","proszę kliknąć aby wybrać nazwę komórki organizacyjnej",0]
[{"$f":"'baza nisk'!A804","v":"P-102A"},{"$f":"'baza nisk'!B804","v":"Prześcieradełko 100%bawełna typu flanela 100x10"},{"$f":"'baza nisk'!D804","v":"POŚCIEL SZPITAL"},null,0,null,{"$f":"'baza nisk'!E804","v":25},0,null,null,{"$f":"'baza nisk'!G804","v":"Oddział Neonatologiczny z Pododdziałem Patologii Noworodka"},"","","proszę kliknąć aby wybrać nazwę komórki organizacyjnej",0]
[{"$f":"'baza nisk'!A805","v":"P-102B"},{"$f":"'baza nisk'!B805","v":"Prześcieradełko 100% bawełna wym.74x110"},{"$f":"'baza nisk'!D805","v":"POŚCIEL SZPITAL"},null,0,null,{"$f":"'baza nisk'!E805","v":25},0,null,null,{"$f":"'baza nisk'!G805","v":"Oddział Neonatologiczny z Pododdziałem Patologii Noworodka"},"","","proszę kliknąć aby wybrać nazwę komórki organizacyjnej",0]
[{"$f":"'baza nisk'!A806","v":"P-103C"},{"$f":"'baza nisk'!B806","v":"Prześcieradła operacyjne zielone 250X200"},{"$f":"'baza nisk'!D806","v":"POŚCIEL SZPITAL"},null,0,null,{"$f":"'baza nisk'!E806","v":41.04},0,null,null,{"$f":"'baza nisk'!G806","v":"Zamiejscowy Blok Operacyjny"},"","","proszę kliknąć aby wybrać nazwę komórki organizacyjnej",0]
[{"$f":"'baza nisk'!A807","v":"P-103D"},{"$f":"'baza nisk'!B807","v":"Prześcieradła  200x220-kolor oliwka"},{"$f":"'baza nisk'!D807","v":"POŚCIEL SZPITAL"},null,0,null,{"$f":"'baza nisk'!E807","v":25},0,null,null,{"$f":"'baza nisk'!G807","v":"Oddział Pediatryczny z Pododdziałem Gastroenterologii "},"","","proszę kliknąć aby wybrać nazwę komórki organizacyjnej",0]
[{"$f":"'baza nisk'!A808","v":"P-103E"},{"$f":"'baza nisk'!B808","v":"Prześcieradło operacyjne niebies 220x160"},{"$f":"'baza nisk'!D808","v":"POŚCIEL SZPITAL"},null,0,null,{"$f":"'baza nisk'!E808","v":41},0,null,null,{"$f":"'baza nisk'!G808","v":"Oddział Otolaryngologiczny z Pododdziałem Otolaryngologii"},"","","proszę kliknąć aby wybrać nazwę komórki organizacyjnej",0]
[{"$f":"'baza nisk'!A809","v":"P-104"},{"$f":"'baza nisk'!B809","v":"Poszwa 210x160"},{"$f":"'baza nisk'!D809","v":"POŚCIEL SZPITAL"},null,0,null,{"$f":"'baza nisk'!E809","v":40},0,null,null,{"$f":"'baza nisk'!G809","v":"Oddział Chirurgii Naczyniowej"},"","","proszę kliknąć aby wybrać nazwę komórki organizacyjnej",0]
[{"$f":"'baza nisk'!A812","v":"P-104A"},{"$f":"'baza nisk'!B812","v":"Poszwa 160X220-biała bawełniana"},{"$f":"'baza nisk'!D812","v":"POŚCIEL SZPITAL"},null,0,null,{"$f":"'baza nisk'!E812","v":40},0,null,null,{"$f":"'baza nisk'!G812","v":"Intensywna Terapia"},"","","proszę kliknąć aby wybrać nazwę komórki organizacyjnej",0]
[{"$f":"'baza nisk'!A811","v":"P-104A"},{"$f":"'baza nisk'!B811","v":"Poszwa 160X220-biała bawełniana"},{"$f":"'baza nisk'!D811","v":"POŚCIEL SZPITAL"},null,0,null,{"$f":"'baza nisk'!E811","v":40},0,null,null,{"$f":"'baza nisk'!G811","v":"Dział Zaopatrzenia i Zamówień Publicznych"},"","","proszę kliknąć aby wybrać nazwę komórki organizacyjnej",0]
[{"$f":"'baza nisk'!A810","v":"P-104A"},{"$f":"'baza nisk'!B810","v":"Poszwa 160X220-biała bawełniana"},{"$f":"'baza nisk'!D810","v":"POŚCIEL SZPITAL"},null,0,null,{"$f":"'baza nisk'!E810","v":40},0,null,null,{"$f":"'baza nisk'!G810","v":"Dział Gospodarki Nieruchomościami i Utrzymania Ruchu"},"","","proszę kliknąć aby wybrać nazwę komórki organizacyjnej",0]
[{"$f":"'baza nisk'!A813","v":"P-104A"},{"$f":"'baza nisk'!B813","v":"Poszwa 160X220-biała bawełniana"},{"$f":"'baza nisk'!D813","v":"POŚCIEL SZPITAL"},null,0,null,{"$f":"'baza nisk'!E813","v":40},0,null,null,{"$f":"'baza nisk'!G813","v":"Oddział Chemioterapii z Pododdziałem Chemioterapii Dziennej"},"","","proszę kliknąć aby wybrać nazwę komórki organizacyjnej",0]
[{"$f":"'baza nisk'!A814","v":"P-104A"},{"$f":"'baza nisk'!B814","v":"Poszwa 160X220-biała bawełniana"},{"$f":"'baza nisk'!D814","v":"POŚCIEL SZPITAL"},null,0,null,{"$f":"'baza nisk'!E814","v":40},0,null,null,{"$f":"'baza nisk'!G814","v":"Oddział Chirurgii Ogólnej z Pododdziałami"},"","","proszę kliknąć aby wybrać nazwę komórki organizacyjnej",0]
[{"$f":"'baza nisk'!A815","v":"P-104A"},{"$f":"'baza nisk'!B815","v":"Poszwa 160X220-biała bawełniana"},{"$f":"'baza nisk'!D815","v":"POŚCIEL SZPITAL"},null,0,null,{"$f":"'baza nisk'!E815","v":40},0,null,null,{"$f":"'baza nisk'!G815","v":"Oddział Chirurgii Onkologicznej"},"","","proszę kliknąć aby wybrać nazwę komórki organizacyjnej",0]
[{"$f":"'baza nisk'!A816","v":"P-104A"},{"$f":"'baza nisk'!B816","v":"Poszwa 160X220-biała bawełniana"},{"$f":"'baza nisk'!D816","v":"POŚCIEL SZPITAL"},null,0,null,{"$f":"'baza nisk'!E816","v":40},0,null,null,{"$f":"'baza nisk'!G816","v":"Oddział Kardiologiczny"},"","","proszę kliknąć aby wybrać nazwę komórki organizacyjnej",0]
[{"$f":"'baza nisk'!A817","v":"P-104A"},{"$f":"'baza nisk'!B817","v":"Poszwa 160X220-biała bawełniana"},{"$f":"'baza nisk'!D817","v":"POŚCIEL SZPITAL"},null,0,null,{"$f":"'baza nisk'!E817","v":40},0,null,null,{"$f":"'baza nisk'!G817","v":"Oddział Kardiologii Dziecięcej z Pododdziałem Kardiochirurgi"},"","","proszę kliknąć aby wybrać nazwę komórki organizacyjnej",0]
[{"$f":"'baza nisk'!A818","v":"P-104A"},{"$f":"'baza nisk'!B818","v":"Poszwa 160X220-biała bawełniana"},{"$f":"'baza nisk'!D818","v":"POŚCIEL SZPITAL"},null,0,null,{"$f":"'baza nisk'!E818","v":40},0,null,null,{"$f":"'baza nisk'!G818","v":"Oddział Pediatryczny z Pododdziałem Gastroenterologii "},"","","proszę kliknąć aby wybrać nazwę komórki organizacyjnej",0]
[{"$f":"'baza nisk'!A819","v":"P-104A"},{"$f":"'baza nisk'!B819","v":"Poszwa 160X220-biała bawełniana"},{"$f":"'baza nisk'!D819","v":"POŚCIEL SZPITAL"},null,0,null,{"$f":"'baza nisk'!E819","v":40},0,null,null,{"$f":"'baza nisk'!G819","v":"Oddział Położniczo – Ginekologiczny"},"","","proszę kliknąć aby wybrać nazwę komórki organizacyjnej",0]
[{"$f":"'baza nisk'!A820","v":"P-104A"},{"$f":"'baza nisk'!B820","v":"Poszwa 160X220-biała bawełniana"},{"$f":"'baza nisk'!D820","v":"POŚCIEL SZPITAL"},null,0,null,{"$f":"'baza nisk'!E820","v":40},0,null,null,{"$f":"'baza nisk'!G820","v":"Oddział Urologii i Urologii Onkologicznej"},"","","proszę kliknąć aby wybrać nazwę komórki organizacyjnej",0]
[{"$f":"'baza nisk'!A821","v":"P-104A"},{"$f":"'baza nisk'!B821","v":"Poszwa 160X220-biała bawełniana"},{"$f":"'baza nisk'!D821","v":"POŚCIEL SZPITAL"},null,0,null,{"$f":"'baza nisk'!E821","v":40},0,null,null,{"$f":"'baza nisk'!G821","v":"SekcjaGospodarcza i Obsługa (cześć wspólna)"},"","","proszę kliknąć aby wybrać nazwę komórki organizacyjnej",0]
[{"$f":"'baza nisk'!A822","v":"P-104A"},{"$f":"'baza nisk'!B822","v":"Poszwa 160X220-biała bawełniana"},{"$f":"'baza nisk'!D822","v":"POŚCIEL SZPITAL"},null,0,null,{"$f":"'baza nisk'!E822","v":40},0,null,null,{"$f":"'baza nisk'!G822","v":"Stacja Dializ"},"","","proszę kliknąć aby wybrać nazwę komórki organizacyjnej",0]
[{"$f":"'baza nisk'!A823","v":"P-104A"},{"$f":"'baza nisk'!B823","v":"Poszwa 160X220-biała bawełniana"},{"$f":"'baza nisk'!D823","v":"POŚCIEL SZPITAL"},null,0,null,{"$f":"'baza nisk'!E823","v":40},0,null,null,{"$f":"'baza nisk'!G823","v":"Zamiejscowy Oddział Chirurgii Urazowo - Ortopedycznej"},"","","proszę kliknąć aby wybrać nazwę komórki organizacyjnej",0]
[{"$f":"'baza nisk'!A824","v":"P-104A"},{"$f":"'baza nisk'!B824","v":"Poszwa 160X220-biała bawełniana"},{"$f":"'baza nisk'!D824","v":"POŚCIEL SZPITAL"},null,0,null,{"$f":"'baza nisk'!E824","v":40},0,null,null,{"$f":"'baza nisk'!G824","v":"Zamiejscowy Oddział Rehabilitacji Neurologicznej"},"","","proszę kliknąć aby wybrać nazwę komórki organizacyjnej",0]
[{"$f":"'baza nisk'!A825","v":"P-104A"},{"$f":"'baza nisk'!B825","v":"Poszwa 160X220-biała bawełniana"},{"$f":"'baza nisk'!D825","v":"POŚCIEL SZPITAL"},null,0,null,{"$f":"'baza nisk'!E825","v":40},0,null,null,{"$f":"'baza nisk'!G825","v":"Zamiejscowy Oddział Rehabilitacji Ogólnoustrojowej II"},"","","proszę kliknąć aby wybrać nazwę komórki organizacyjnej",0]
[{"$f":"'baza nisk'!A841","v":"P-104B"},{"$f":"'baza nisk'!B841","v":"Poszwa 160X200"},{"$f":"'baza nisk'!D841","v":"POŚCIEL SZPITAL"},null,0,null,{"$f":"'baza nisk'!E841","v":40},0,null,null,{"$f":"'baza nisk'!G841","v":"Zamiejscowy Oddział Chirurgii Urazowo - Ortopedycznej"},"","","proszę kliknąć aby wybrać nazwę komórki organizacyjnej",0]
[{"$f":"'baza nisk'!A842","v":"P-104B"},{"$f":"'baza nisk'!B842","v":"Poszwa 160X200"},{"$f":"'baza nisk'!D842","v":"POŚCIEL SZPITAL"},null,0,null,{"$f":"'baza nisk'!E842","v":40},0,null,null,{"$f":"'baza nisk'!G842","v":"Zamiejscowy Oddział Rehabilitacji Ogólnoustrojowej I"},"","","proszę kliknąć aby wybrać nazwę komórki organizacyjnej",0]
[{"$f":"'baza nisk'!A843","v":"P-104B"},{"$f":"'baza nisk'!B843","v":"Poszwa 160X200"},{"$f":"'baza nisk'!D843","v":"POŚCIEL SZPITAL"},null,0,null,{"$f":"'baza nisk'!E843","v":40},0,null,null,{"$f":"'baza nisk'!G843","v":"Zamiejscowy Oddział Rehabilitacji Ogólnoustrojowej II"},"","","proszę kliknąć aby wybrać nazwę komórki organizacyjnej",0]
[{"$f":"'baza nisk'!A839","v":"P-104B"},{"$f":"'baza nisk'!B839","v":"Poszwa 160X200"},{"$f":"'baza nisk'!D839","v":"POŚCIEL SZPITAL"},null,0,null,{"$f":"'baza nisk'!E839","v":40},0,null,null,{"$f":"'baza nisk'!G839","v":"SOR"},"","","proszę kliknąć aby wybrać nazwę komórki organizacyjnej",0]
[{"$f":"'baza nisk'!A840","v":"P-104B"},{"$f":"'baza nisk'!B840","v":"Poszwa 160X200"},{"$f":"'baza nisk'!D840","v":"POŚCIEL SZPITAL"},null,0,null,{"$f":"'baza nisk'!E840","v":40},0,null,null,{"$f":"'baza nisk'!G840","v":"Stacja Dializ"},"","","proszę kliknąć aby wybrać nazwę komórki organizacyjnej",0]
[{"$f":"'baza nisk'!A831","v":"P-104B"},{"$f":"'baza nisk'!B831","v":"Poszwa 160X200"},{"$f":"'baza nisk'!D831","v":"POŚCIEL SZPITAL"},null,0,null,{"$f":"'baza nisk'!E831","v":40},0,null,null,{"$f":"'baza nisk'!G831","v":"Oddział Kardiologiczny"},"","","proszę kliknąć aby wybrać nazwę komórki organizacyjnej",0]
[{"$f":"'baza nisk'!A832","v":"P-104B"},{"$f":"'baza nisk'!B832","v":"Poszwa 160X200"},{"$f":"'baza nisk'!D832","v":"POŚCIEL SZPITAL"},null,0,null,{"$f":"'baza nisk'!E832","v":40},0,null,null,{"$f":"'baza nisk'!G832","v":"Oddział Kardiologii Dziecięcej z Pododdziałem Kardiochirurgi"},"","","proszę kliknąć aby wybrać nazwę komórki organizacyjnej",0]
[{"$f":"'baza nisk'!A833","v":"P-104B"},{"$f":"'baza nisk'!B833","v":"Poszwa 160X200"},{"$f":"'baza nisk'!D833","v":"POŚCIEL SZPITAL"},null,0,null,{"$f":"'baza nisk'!E833","v":40},0,null,null,{"$f":"'baza nisk'!G833","v":"Oddział Nefrologiczny"},"","","proszę kliknąć aby wybrać nazwę komórki organizacyjnej",0]
[{"$f":"'baza nisk'!A834","v":"P-104B"},{"$f":"'baza nisk'!B834","v":"Poszwa 160X200"},{"$f":"'baza nisk'!D834","v":"POŚCIEL SZPITAL"},null,0,null,{"$f":"'baza nisk'!E834","v":40},0,null,null,{"$f":"'baza nisk'!G834","v":"Oddział Okulistyczny"},"","","proszę kliknąć aby wybrać nazwę komórki organizacyjnej",0]
[{"$f":"'baza nisk'!A835","v":"P-104B"},{"$f":"'baza nisk'!B835","v":"Poszwa 160X200"},{"$f":"'baza nisk'!D835","v":"POŚCIEL SZPITAL"},null,0,null,{"$f":"'baza nisk'!E835","v":40},{"$f":"E838*G838","v":0},null,null,{"$f":"'baza nisk'!G835","v":"Oddział Otolaryngologiczny z Pododdziałem Otolaryngologii"},{"$f":"IF($B$2=K838,$B$2,\"\")","v":""},{"$f":"IF($B$2=K838,1,\"\")","v":""},{"$f":"$B$2","v":"proszę kliknąć aby wybrać nazwę komórki organizacyjnej"},{"$f":"$H$2","v":0}]
[{"$f":"'baza nisk'!A836","v":"P-104B"},{"$f":"'baza nisk'!B836","v":"Poszwa 160X200"},{"$f":"'baza nisk'!D836","v":"POŚCIEL SZPITAL"},null,0,null,{"$f":"'baza nisk'!E836","v":40},0,null,null,{"$f":"'baza nisk'!G836","v":"Oddział Położniczo – Ginekologiczny"},"","","proszę kliknąć aby wybrać nazwę komórki organizacyjnej",0]
[{"$f":"'baza nisk'!A837","v":"P-104B"},{"$f":"'baza nisk'!B837","v":"Poszwa 160X200"},{"$f":"'baza nisk'!D837","v":"POŚCIEL SZPITAL"},null,0,null,{"$f":"'baza nisk'!E837","v":40},0,null,null,{"$f":"'baza nisk'!G837","v":"Oddział Transplantologiczny"},"","","proszę kliknąć aby wybrać nazwę komórki organizacyjnej",0]
[{"$f":"'baza nisk'!A826","v":"P-104B"},{"$f":"'baza nisk'!B826","v":"Poszwa 160X200"},{"$f":"'baza nisk'!D826","v":"POŚCIEL SZPITAL"},null,0,null,{"$f":"'baza nisk'!E826","v":40},0,null,null,{"$f":"'baza nisk'!G826","v":"Dział Gospodarki Nieruchomościami i Utrzymania Ruchu"},"","","proszę kliknąć aby wybrać nazwę komórki organizacyjnej",0]
[{"$f":"'baza nisk'!A827","v":"P-104B"},{"$f":"'baza nisk'!B827","v":"Poszwa 160X200"},{"$f":"'baza nisk'!D827","v":"POŚCIEL SZPITAL"},null,0,null,{"$f":"'baza nisk'!E827","v":40},0,null,null,{"$f":"'baza nisk'!G827","v":"Oddział Angiologiczny z Pododdziałem Diabetologii"},"","","proszę kliknąć aby wybrać nazwę komórki organizacyjnej",0]
[{"$f":"'baza nisk'!A828","v":"P-104B"},{"$f":"'baza nisk'!B828","v":"Poszwa 160X200"},{"$f":"'baza nisk'!D828","v":"POŚCIEL SZPITAL"},null,0,null,{"$f":"'baza nisk'!E828","v":40},0,null,null,{"$f":"'baza nisk'!G828","v":"Oddział Chirurgii Naczyniowej"},"","","proszę kliknąć aby wybrać nazwę komórki organizacyjnej",0]
[{"$f":"'baza nisk'!A829","v":"P-104B"},{"$f":"'baza nisk'!B829","v":"Poszwa 160X200"},{"$f":"'baza nisk'!D829","v":"POŚCIEL SZPITAL"},null,0,null,{"$f":"'baza nisk'!E829","v":40},0,null,null,{"$f":"'baza nisk'!G829","v":"Oddział Chirurgii Ogólnej z Pododdziałami"},"","","proszę kliknąć aby wybrać nazwę komórki organizacyjnej",0]
[{"$f":"'baza nisk'!A830","v":"P-104B"},{"$f":"'baza nisk'!B830","v":"Poszwa 160X200"},{"$f":"'baza nisk'!D830","v":"POŚCIEL SZPITAL"},null,0,null,{"$f":"'baza nisk'!E830","v":40},0,null,null,{"$f":"'baza nisk'!G830","v":"Oddział Dermatologiczny"},"","","proszę kliknąć aby wybrać nazwę komórki organizacyjnej",0]
[{"$f":"'baza nisk'!A838","v":"P-104B"},{"$f":"'baza nisk'!B838","v":"Poszwa 160X200"},{"$f":"'baza nisk'!D838","v":"POŚCIEL SZPITAL"},null,0,null,{"$f":"'baza nisk'!E838","v":40},0,null,null,{"$f":"'baza nisk'!G838","v":"Oddział Urologii i Urologii Onkologicznej"},"","","proszę kliknąć aby wybrać nazwę komórki organizacyjnej",0]
[{"$f":"'baza nisk'!A844","v":"P-105"},{"$f":"'baza nisk'!B844","v":"Poszwa-160x200 -  kolorowa dla dzieci"},{"$f":"'baza nisk'!D844","v":"POŚCIEL SZPITAL"},null,0,null,{"$f":"'baza nisk'!E844","v":40},0,null,null,{"$f":"'baza nisk'!G844","v":"Oddział Pediatryczny z Pododdziałem Gastroenterologii "},"","","proszę kliknąć aby wybrać nazwę komórki organizacyjnej",0]
[{"$f":"'baza nisk'!A845","v":"P-105A"},{"$f":"'baza nisk'!B845","v":"Poszwa-150x200 -  kolorowa"},{"$f":"'baza nisk'!D845","v":"POŚCIEL SZPITAL"},null,0,null,{"$f":"'baza nisk'!E845","v":40},0,null,null,{"$f":"'baza nisk'!G845","v":"Hotel Pracowniczy"},"","","proszę kliknąć aby wybrać nazwę komórki organizacyjnej",0]
[{"$f":"'baza nisk'!A862","v":"P-107"},{"$f":"'baza nisk'!B862","v":"Poszewka 70X80"},{"$f":"'baza nisk'!D862","v":"POŚCIEL SZPITAL"},null,0,null,{"$f":"'baza nisk'!E862","v":11},0,null,null,{"$f":"'baza nisk'!G862","v":"Zamiejscowy Oddział Rehabilitacji Ogólnoustrojowej II"},"","","proszę kliknąć aby wybrać nazwę komórki organizacyjnej",0]
[{"$f":"'baza nisk'!A846","v":"P-107"},{"$f":"'baza nisk'!B846","v":"Poszewka 70X80"},{"$f":"'baza nisk'!D846","v":"POŚCIEL SZPITAL"},null,0,null,{"$f":"'baza nisk'!E846","v":11},0,null,null,{"$f":"'baza nisk'!G846","v":"Dział Gospodarki Nieruchomościami i Utrzymania Ruchu"},"","","proszę kliknąć aby wybrać nazwę komórki organizacyjnej",0]
[{"$f":"'baza nisk'!A847","v":"P-107"},{"$f":"'baza nisk'!B847","v":"Poszewka 70X80"},{"$f":"'baza nisk'!D847","v":"POŚCIEL SZPITAL"},null,0,null,{"$f":"'baza nisk'!E847","v":11},0,null,null,{"$f":"'baza nisk'!G847","v":"Oddział Angiologiczny z Pododdziałem Diabetologii"},"","","proszę kliknąć aby wybrać nazwę komórki organizacyjnej",0]
[{"$f":"'baza nisk'!A848","v":"P-107"},{"$f":"'baza nisk'!B848","v":"Poszewka 70X80"},{"$f":"'baza nisk'!D848","v":"POŚCIEL SZPITAL"},null,0,null,{"$f":"'baza nisk'!E848","v":11},0,null,null,{"$f":"'baza nisk'!G848","v":"Oddział Chirurgii Naczyniowej"},"","","proszę kliknąć aby wybrać nazwę komórki organizacyjnej",0]
[{"$f":"'baza nisk'!A849","v":"P-107"},{"$f":"'baza nisk'!B849","v":"Poszewka 70X80"},{"$f":"'baza nisk'!D849","v":"POŚCIEL SZPITAL"},null,0,null,{"$f":"'baza nisk'!E849","v":11},0,null,null,{"$f":"'baza nisk'!G849","v":"Oddział Chirurgii Ogólnej z Pododdziałami"},"","","proszę kliknąć aby wybrać nazwę komórki organizacyjnej",0]
[{"$f":"'baza nisk'!A850","v":"P-107"},{"$f":"'baza nisk'!B850","v":"Poszewka 70X80"},{"$f":"'baza nisk'!D850","v":"POŚCIEL SZPITAL"},null,0,null,{"$f":"'baza nisk'!E850","v":11},0,null,null,{"$f":"'baza nisk'!G850","v":"Oddział Dermatologiczny"},"","","proszę kliknąć aby wybrać nazwę komórki organizacyjnej",0]
[{"$f":"'baza nisk'!A851","v":"P-107"},{"$f":"'baza nisk'!B851","v":"Poszewka 70X80"},{"$f":"'baza nisk'!D851","v":"POŚCIEL SZPITAL"},null,0,null,{"$f":"'baza nisk'!E851","v":11},0,null,null,{"$f":"'baza nisk'!G851","v":"Oddział Kardiologiczny"},"","","proszę kliknąć aby wybrać nazwę komórki organizacyjnej",0]
[{"$f":"'baza nisk'!A852","v":"P-107"},{"$f":"'baza nisk'!B852","v":"Poszewka 70X80"},{"$f":"'baza nisk'!D852","v":"POŚCIEL SZPITAL"},null,0,null,{"$f":"'baza nisk'!E852","v":11},0,null,null,{"$f":"'baza nisk'!G852","v":"Oddział Kardiologii Dziecięcej z Pododdziałem Kardiochirurgi"},"","","proszę kliknąć aby wybrać nazwę komórki organizacyjnej",0]
[{"$f":"'baza nisk'!A853","v":"P-107"},{"$f":"'baza nisk'!B853","v":"Poszewka 70X80"},{"$f":"'baza nisk'!D853","v":"POŚCIEL SZPITAL"},null,0,null,{"$f":"'baza nisk'!E853","v":11},0,null,null,{"$f":"'baza nisk'!G853","v":"Oddział Nefrologiczny"},"","","proszę kliknąć aby wybrać nazwę komórki organizacyjnej",0]
[{"$f":"'baza nisk'!A854","v":"P-107"},{"$f":"'baza nisk'!B854","v":"Poszewka 70X80"},{"$f":"'baza nisk'!D854","v":"POŚCIEL SZPITAL"},null,0,null,{"$f":"'baza nisk'!E854","v":11},0,null,null,{"$f":"'baza nisk'!G854","v":"Oddział Okulistyczny"},"","","proszę kliknąć aby wybrać nazwę komórki organizacyjnej",0]
[{"$f":"'baza nisk'!A855","v":"P-107"},{"$f":"'baza nisk'!B855","v":"Poszewka 70X80"},{"$f":"'baza nisk'!D855","v":"POŚCIEL SZPITAL"},null,0,null,{"$f":"'baza nisk'!E855","v":11},0,null,null,{"$f":"'baza nisk'!G855","v":"Oddział Otolaryngologiczny z Pododdziałem Otolaryngologii"},"","","proszę kliknąć aby wybrać nazwę komórki organizacyjnej",0]
[{"$f":"'baza nisk'!A856","v":"P-107"},{"$f":"'baza nisk'!B856","v":"Poszewka 70X80"},{"$f":"'baza nisk'!D856","v":"POŚCIEL SZPITAL"},null,0,null,{"$f":"'baza nisk'!E856","v":11},0,null,null,{"$f":"'baza nisk'!G856","v":"Oddział Położniczo – Ginekologiczny"},"","","proszę kliknąć aby wybrać nazwę komórki organizacyjnej",0]
[{"$f":"'baza nisk'!A857","v":"P-107"},{"$f":"'baza nisk'!B857","v":"Poszewka 70X80"},{"$f":"'baza nisk'!D857","v":"POŚCIEL SZPITAL"},null,0,null,{"$f":"'baza nisk'!E857","v":11},0,null,null,{"$f":"'baza nisk'!G857","v":"Oddział Transplantologiczny"},"","","proszę kliknąć aby wybrać nazwę komórki organizacyjnej",0]
[{"$f":"'baza nisk'!A858","v":"P-107"},{"$f":"'baza nisk'!B858","v":"Poszewka 70X80"},{"$f":"'baza nisk'!D858","v":"POŚCIEL SZPITAL"},null,0,null,{"$f":"'baza nisk'!E858","v":11},0,null,null,{"$f":"'baza nisk'!G858","v":"Oddział Urologii i Urologii Onkologicznej"},"","","proszę kliknąć aby wybrać nazwę komórki organizacyjnej",0]
[{"$f":"'baza nisk'!A859","v":"P-107"},{"$f":"'baza nisk'!B859","v":"Poszewka 70X80"},{"$f":"'baza nisk'!D859","v":"POŚCIEL SZPITAL"},null,0,null,{"$f":"'baza nisk'!E859","v":11},0,null,null,{"$f":"'baza nisk'!G859","v":"SOR"},"","","proszę kliknąć aby wybrać nazwę komórki organizacyjnej",0]
[{"$f":"'baza nisk'!A860","v":"P-107"},{"$f":"'baza nisk'!B860","v":"Poszewka 70X80"},{"$f":"'baza nisk'!D860","v":"POŚCIEL SZPITAL"},null,0,null,{"$f":"'baza nisk'!E860","v":11},0,null,null,{"$f":"'baza nisk'!G860","v":"Zamiejscowy Oddział Chirurgii Urazowo - Ortopedycznej"},"","","proszę kliknąć aby wybrać nazwę komórki organizacyjnej",0]
[{"$f":"'baza nisk'!A861","v":"P-107"},{"$f":"'baza nisk'!B861","v":"Poszewka 70X80"},{"$f":"'baza nisk'!D861","v":"POŚCIEL SZPITAL"},null,0,null,{"$f":"'baza nisk'!E861","v":11},0,null,null,{"$f":"'baza nisk'!G861","v":"Zamiejscowy Oddział Rehabilitacji Ogólnoustrojowej I"},"","","proszę kliknąć aby wybrać nazwę komórki organizacyjnej",0]
[{"$f":"'baza nisk'!A863","v":"P-107A"},{"$f":"'baza nisk'!B863","v":"Poszewka 70x80-biala,bawełniana"},{"$f":"'baza nisk'!D863","v":"POŚCIEL SZPITAL"},null,0,null,{"$f":"'baza nisk'!E863","v":11},0,null,null,{"$f":"'baza nisk'!G863","v":"Oddział Chemioterapii z Pododdziałem Chemioterapii Dziennej"},"","","proszę kliknąć aby wybrać nazwę komórki organizacyjnej",0]
[{"$f":"'baza nisk'!A864","v":"P-107A"},{"$f":"'baza nisk'!B864","v":"Poszewka 70x80-biala,bawełniana"},{"$f":"'baza nisk'!D864","v":"POŚCIEL SZPITAL"},null,0,null,{"$f":"'baza nisk'!E864","v":11},0,null,null,{"$f":"'baza nisk'!G864","v":"Oddział Chirurgii Naczyniowej"},"","","proszę kliknąć aby wybrać nazwę komórki organizacyjnej",0]
[{"$f":"'baza nisk'!A865","v":"P-107A"},{"$f":"'baza nisk'!B865","v":"Poszewka 70x80-biala,bawełniana"},{"$f":"'baza nisk'!D865","v":"POŚCIEL SZPITAL"},null,0,null,{"$f":"'baza nisk'!E865","v":11},0,null,null,{"$f":"'baza nisk'!G865","v":"Oddział Chirurgii Ogólnej z Pododdziałami"},"","","proszę kliknąć aby wybrać nazwę komórki organizacyjnej",0]
[{"$f":"'baza nisk'!A866","v":"P-107A"},{"$f":"'baza nisk'!B866","v":"Poszewka 70x80-biala,bawełniana"},{"$f":"'baza nisk'!D866","v":"POŚCIEL SZPITAL"},null,0,null,{"$f":"'baza nisk'!E866","v":11},0,null,null,{"$f":"'baza nisk'!G866","v":"Oddział Chirurgii Onkologicznej"},"","","proszę kliknąć aby wybrać nazwę komórki organizacyjnej",0]
[{"$f":"'baza nisk'!A867","v":"P-107A"},{"$f":"'baza nisk'!B867","v":"Poszewka 70x80-biala,bawełniana"},{"$f":"'baza nisk'!D867","v":"POŚCIEL SZPITAL"},null,0,null,{"$f":"'baza nisk'!E867","v":11},0,null,null,{"$f":"'baza nisk'!G867","v":"Oddział Kardiologiczny"},"","","proszę kliknąć aby wybrać nazwę komórki organizacyjnej",0]
[{"$f":"'baza nisk'!A868","v":"P-107A"},{"$f":"'baza nisk'!B868","v":"Poszewka 70x80-biala,bawełniana"},{"$f":"'baza nisk'!D868","v":"POŚCIEL SZPITAL"},null,0,null,{"$f":"'baza nisk'!E868","v":11},0,null,null,{"$f":"'baza nisk'!G868","v":"Oddział Kardiologii Dziecięcej z Pododdziałem Kardiochirurgi"},"","","proszę kliknąć aby wybrać nazwę komórki organizacyjnej",0]
[{"$f":"'baza nisk'!A869","v":"P-107A"},{"$f":"'baza nisk'!B869","v":"Poszewka 70x80-biala,bawełniana"},{"$f":"'baza nisk'!D869","v":"POŚCIEL SZPITAL"},null,0,null,{"$f":"'baza nisk'!E869","v":11},0,null,null,{"$f":"'baza nisk'!G869","v":"Oddział Pediatryczny z Pododdziałem Gastroenterologii "},"","","proszę kliknąć aby wybrać nazwę komórki organizacyjnej",0]
[{"$f":"'baza nisk'!A870","v":"P-107A"},{"$f":"'baza nisk'!B870","v":"Poszewka 70x80-biala,bawełniana"},{"$f":"'baza nisk'!D870","v":"POŚCIEL SZPITAL"},null,0,null,{"$f":"'baza nisk'!E870","v":11},0,null,null,{"$f":"'baza nisk'!G870","v":"Oddział Położniczo – Ginekologiczny"},"","","proszę kliknąć aby wybrać nazwę komórki organizacyjnej",0]
[{"$f":"'baza nisk'!A871","v":"P-107A"},{"$f":"'baza nisk'!B871","v":"Poszewka 70x80-biala,bawełniana"},{"$f":"'baza nisk'!D871","v":"POŚCIEL SZPITAL"},null,0,null,{"$f":"'baza nisk'!E871","v":11},0,null,null,{"$f":"'baza nisk'!G871","v":"Oddział Urologii i Urologii Onkologicznej"},"","","proszę kliknąć aby wybrać nazwę komórki organizacyjnej",0]
[{"$f":"'baza nisk'!A872","v":"P-107A"},{"$f":"'baza nisk'!B872","v":"Poszewka 70x80-biala,bawełniana"},{"$f":"'baza nisk'!D872","v":"POŚCIEL SZPITAL"},null,0,null,{"$f":"'baza nisk'!E872","v":11},0,null,null,{"$f":"'baza nisk'!G872","v":"SekcjaGospodarcza i Obsługa (cześć wspólna)"},"","","proszę kliknąć aby wybrać nazwę komórki organizacyjnej",0]
[{"$f":"'baza nisk'!A873","v":"P-107A"},{"$f":"'baza nisk'!B873","v":"Poszewka 70x80-biala,bawełniana"},{"$f":"'baza nisk'!D873","v":"POŚCIEL SZPITAL"},null,0,null,{"$f":"'baza nisk'!E873","v":11},0,null,null,{"$f":"'baza nisk'!G873","v":"Stacja Dializ"},"","","proszę kliknąć aby wybrać nazwę komórki organizacyjnej",0]
[{"$f":"'baza nisk'!A874","v":"P-107A"},{"$f":"'baza nisk'!B874","v":"Poszewka 70x80-biala,bawełniana"},{"$f":"'baza nisk'!D874","v":"POŚCIEL SZPITAL"},null,0,null,{"$f":"'baza nisk'!E874","v":11},0,null,null,{"$f":"'baza nisk'!G874","v":"Zamiejscowy Oddział Chirurgii Urazowo - Ortopedycznej"},"","","proszę kliknąć aby wybrać nazwę komórki organizacyjnej",0]
[{"$f":"'baza nisk'!A875","v":"P-107A"},{"$f":"'baza nisk'!B875","v":"Poszewka 70x80-biala,bawełniana"},{"$f":"'baza nisk'!D875","v":"POŚCIEL SZPITAL"},null,0,null,{"$f":"'baza nisk'!E875","v":11},0,null,null,{"$f":"'baza nisk'!G875","v":"Zamiejscowy Oddział Rehabilitacji Neurologicznej"},"","","proszę kliknąć aby wybrać nazwę komórki organizacyjnej",0]
[{"$f":"'baza nisk'!A876","v":"P-107A"},{"$f":"'baza nisk'!B876","v":"Poszewka 70x80-biala,bawełniana"},{"$f":"'baza nisk'!D876","v":"POŚCIEL SZPITAL"},null,0,null,{"$f":"'baza nisk'!E876","v":11},0,null,null,{"$f":"'baza nisk'!G876","v":"Zamiejscowy Oddział Rehabilitacji Ogólnoustrojowej I"},"","","proszę kliknąć aby wybrać nazwę komórki organizacyjnej",0]
[{"$f":"'baza nisk'!A877","v":"P-107A"},{"$f":"'baza nisk'!B877","v":"Poszewka 70x80-biala,bawełniana"},{"$f":"'baza nisk'!D877","v":"POŚCIEL SZPITAL"},null,0,null,{"$f":"'baza nisk'!E877","v":11},0,null,null,{"$f":"'baza nisk'!G877","v":"Zamiejscowy Oddział Rehabilitacji Ogólnoustrojowej II"},"","","proszę kliknąć aby wybrać nazwę komórki organizacyjnej",0]
[{"$f":"'baza nisk'!A878","v":"P-107B"},{"$f":"'baza nisk'!B878","v":"Poszewka 70x80-kolorowa dla dzieci"},{"$f":"'baza nisk'!D878","v":"POŚCIEL SZPITAL"},null,0,null,{"$f":"'baza nisk'!E878","v":11},0,null,null,{"$f":"'baza nisk'!G878","v":"Oddział Pediatryczny z Pododdziałem Gastroenterologii "},"","","proszę kliknąć aby wybrać nazwę komórki organizacyjnej",0]
[{"$f":"'baza nisk'!A879","v":"P-108"},{"$f":"'baza nisk'!B879","v":"Poszewka kolorowa"},{"$f":"'baza nisk'!D879","v":"POŚCIEL SZPITAL"},null,0,null,{"$f":"'baza nisk'!E879","v":11},0,null,null,{"$f":"'baza nisk'!G879","v":"Hotel Pracowniczy"},"","","proszę kliknąć aby wybrać nazwę komórki organizacyjnej",0]
[{"$f":"'baza nisk'!A882","v":"P-109A"},{"$f":"'baza nisk'!B882","v":"Piżama szpitalna"},{"$f":"'baza nisk'!D882","v":"POŚCIEL SZPITAL"},null,0,null,{"$f":"'baza nisk'!E882","v":42},0,null,null,{"$f":"'baza nisk'!G882","v":"Oddział Chirurgii Ogólnej z Pododdziałami"},"","","proszę kliknąć aby wybrać nazwę komórki organizacyjnej",0]
[{"$f":"'baza nisk'!A881","v":"P-109A"},{"$f":"'baza nisk'!B881","v":"Piżama szpitalna"},{"$f":"'baza nisk'!D881","v":"POŚCIEL SZPITAL"},null,0,null,{"$f":"'baza nisk'!E881","v":42},0,null,null,{"$f":"'baza nisk'!G881","v":"Oddział Angiologiczny z Pododdziałem Diabetologii"},"","","proszę kliknąć aby wybrać nazwę komórki organizacyjnej",0]
[{"$f":"'baza nisk'!A880","v":"P-109A"},{"$f":"'baza nisk'!B880","v":"Piżama szpitalna"},{"$f":"'baza nisk'!D880","v":"POŚCIEL SZPITAL"},null,0,null,{"$f":"'baza nisk'!E880","v":42},0,null,null,{"$f":"'baza nisk'!G880","v":"Dział Rejestracji Statystyki i Dokumentacji Medycznej"},"","","proszę kliknąć aby wybrać nazwę komórki organizacyjnej",0]
[{"$f":"'baza nisk'!A883","v":"P-126"},{"$f":"'baza nisk'!B883","v":"Poszewki na kocyki "},{"$f":"'baza nisk'!D883","v":"POŚCIEL SZPITAL"},null,0,null,{"$f":"'baza nisk'!E883","v":15},0,null,null,{"$f":"'baza nisk'!G883","v":"Oddział Położniczo – Ginekologiczny"},"","","proszę kliknąć aby wybrać nazwę komórki organizacyjnej",0]
[{"$f":"'baza nisk'!A884","v":"P-126A"},{"$f":"'baza nisk'!B884","v":"Poszewki na kocyki "},{"$f":"'baza nisk'!D884","v":"POŚCIEL SZPITAL"},null,0,null,{"$f":"'baza nisk'!E884","v":15},0,null,null,{"$f":"'baza nisk'!G884","v":"Oddział Neonatologiczny z Pododdziałem Patologii Noworodka"},"","","proszę kliknąć aby wybrać nazwę komórki organizacyjnej",0]
[{"$f":"'baza nisk'!A885","v":"P-126B"},{"$f":"'baza nisk'!B885","v":"Poszewki na kocyki "},{"$f":"'baza nisk'!D885","v":"POŚCIEL SZPITAL"},null,0,null,{"$f":"'baza nisk'!E885","v":15},0,null,null,{"$f":"'baza nisk'!G885","v":"Oddział Neonatologiczny z Pododdziałem Patologii Noworodka"},"","","proszę kliknąć aby wybrać nazwę komórki organizacyjnej",0]
[{"$f":"'baza nisk'!A887","v":"P-131"},{"$f":"'baza nisk'!B887","v":"Pieluchy z tetry"},{"$f":"'baza nisk'!D887","v":"POŚCIEL SZPITAL"},null,0,null,{"$f":"'baza nisk'!E887","v":6},0,null,null,{"$f":"'baza nisk'!G887","v":"Oddział Położniczo – Ginekologiczny"},"","","proszę kliknąć aby wybrać nazwę komórki organizacyjnej",0]
[{"$f":"'baza nisk'!A886","v":"P-131"},{"$f":"'baza nisk'!B886","v":"Pieluchy z tetry"},{"$f":"'baza nisk'!D886","v":"POŚCIEL SZPITAL"},null,0,null,{"$f":"'baza nisk'!E886","v":6},0,null,null,{"$f":"'baza nisk'!G886","v":"Oddział Neonatologiczny z Pododdziałem Patologii Noworodka"},"","","proszę kliknąć aby wybrać nazwę komórki organizacyjnej",0]
[{"$f":"'baza nisk'!A888","v":"P-143"},{"$f":"'baza nisk'!B888","v":"Pompa do żywienia dojelitowego"},{"$f":"'baza nisk'!D888","v":"MED. NISK. ŚR. TRW."},null,0,null,{"$f":"'baza nisk'!E888","v":1400},0,null,null,{"$f":"'baza nisk'!G888","v":"Intensywna Terapia"},"","","proszę kliknąć aby wybrać nazwę komórki organizacyjnej",0]
[{"$f":"'baza nisk'!A889","v":"P-143"},{"$f":"'baza nisk'!B889","v":"Pompa do żywienia dojelitowego"},{"$f":"'baza nisk'!D889","v":"MED. NISK. ŚR. TRW."},null,0,null,{"$f":"'baza nisk'!E889","v":1400},0,null,null,{"$f":"'baza nisk'!G889","v":"Oddział Kardiologiczny"},"","","proszę kliknąć aby wybrać nazwę komórki organizacyjnej",0]
[{"$f":"'baza nisk'!A890","v":"P-145A"},{"$f":"'baza nisk'!B890","v":"Przenośnik rolkowy ROLEX"},{"$f":"'baza nisk'!D890","v":"POZOSTAŁE"},null,0,null,{"$f":"'baza nisk'!E890","v":1044.9000000000001},0,null,null,{"$f":"'baza nisk'!G890","v":"Anestezjologia"},"","","proszę kliknąć aby wybrać nazwę komórki organizacyjnej",0]
[{"$f":"'baza nisk'!A891","v":"P-145A"},{"$f":"'baza nisk'!B891","v":"Przenośnik rolkowy ROLEX"},{"$f":"'baza nisk'!D891","v":"POZOSTAŁE"},null,0,null,{"$f":"'baza nisk'!E891","v":1044.9000000000001},0,null,null,{"$f":"'baza nisk'!G891","v":"Oddział Chirurgii Naczyniowej"},"","","proszę kliknąć aby wybrać nazwę komórki organizacyjnej",0]
[{"$f":"'baza nisk'!A892","v":"P-152"},{"$f":"'baza nisk'!B892","v":"Parawan pojedyńczy med.P-90"},{"$f":"'baza nisk'!D892","v":"POZOSTAŁE"},null,0,null,{"$f":"'baza nisk'!E892","v":184.4},0,null,null,{"$f":"'baza nisk'!G892","v":"Oddział Kardiologiczny"},"","","proszę kliknąć aby wybrać nazwę komórki organizacyjnej",0]
[{"$f":"'baza nisk'!A893","v":"P-152"},{"$f":"'baza nisk'!B893","v":"Parawan pojedyńczy med.P-90"},{"$f":"'baza nisk'!D893","v":"POZOSTAŁE"},null,0,null,{"$f":"'baza nisk'!E893","v":184.4},0,null,null,{"$f":"'baza nisk'!G893","v":"Oddział Położniczo – Ginekologiczny"},"","","proszę kliknąć aby wybrać nazwę komórki organizacyjnej",0]
[{"$f":"'baza nisk'!A894","v":"P-152"},{"$f":"'baza nisk'!B894","v":"Parawan pojedyńczy med.P-90"},{"$f":"'baza nisk'!D894","v":"POZOSTAŁE"},null,0,null,{"$f":"'baza nisk'!E894","v":184.4},0,null,null,{"$f":"'baza nisk'!G894","v":"Stacja Dializ"},"","","proszę kliknąć aby wybrać nazwę komórki organizacyjnej",0]
[{"$f":"'baza nisk'!A895","v":"P-152"},{"$f":"'baza nisk'!B895","v":"Parawan pojedyńczy med.P-90"},{"$f":"'baza nisk'!D895","v":"POZOSTAŁE"},null,0,null,{"$f":"'baza nisk'!E895","v":184.4},0,null,null,{"$f":"'baza nisk'!G895","v":"Zamiejscowy Oddział Chirurgii Urazowo - Ortopedycznej"},"","","proszę kliknąć aby wybrać nazwę komórki organizacyjnej",0]
[{"$f":"'baza nisk'!A896","v":"P-152"},{"$f":"'baza nisk'!B896","v":"Parawan pojedyńczy med.P-90"},{"$f":"'baza nisk'!D896","v":"POZOSTAŁE"},null,0,null,{"$f":"'baza nisk'!E896","v":184.4},0,null,null,{"$f":"'baza nisk'!G896","v":"Zamiejscowy Oddział Rehabilitacji Ogólnoustrojowej II"},"","","proszę kliknąć aby wybrać nazwę komórki organizacyjnej",0]
[{"$f":"'baza nisk'!A897","v":"P-152A"},{"$f":"'baza nisk'!B897","v":"Parawan 2-skrzydłowy z elementów P-90"},{"$f":"'baza nisk'!D897","v":"POZOSTAŁE"},null,0,null,{"$f":"'baza nisk'!E897","v":499},0,null,null,{"$f":"'baza nisk'!G897","v":"Zamiejscowy Oddział Rehabilitacji Ogólnoustrojowej I"},"","","proszę kliknąć aby wybrać nazwę komórki organizacyjnej",0]
[{"$f":"'baza nisk'!A898","v":"P-156"},{"$f":"'baza nisk'!B898","v":"Płaszcz resektoskopu 25Fr,dziób krótki, z 1LUER"},{"$f":"'baza nisk'!D898","v":"NARZ. MEDYCZNE"},null,0,null,{"$f":"'baza nisk'!E898","v":1600},0,null,null,{"$f":"'baza nisk'!G898","v":"Oddział Urologii i Urologii Onkologicznej"},"","","proszę kliknąć aby wybrać nazwę komórki organizacyjnej",0]
[{"$f":"'baza nisk'!A899","v":"P-156A"},{"$f":"'baza nisk'!B899","v":"Płaszcz resektoskopu 26Fr,dziób skośny z 2 LUER"},{"$f":"'baza nisk'!D899","v":"NARZ. MEDYCZNE"},null,0,null,{"$f":"'baza nisk'!E899","v":2600},{"$f":"E902*G902","v":0},null,null,{"$f":"'baza nisk'!G899","v":"Oddział Urologii i Urologii Onkologicznej"},{"$f":"IF($B$2=K902,$B$2,\"\")","v":""},{"$f":"IF($B$2=K902,1,\"\")","v":""},{"$f":"$B$2","v":"proszę kliknąć aby wybrać nazwę komórki organizacyjnej"},{"$f":"$H$2","v":0}]
[{"$f":"'baza nisk'!A900","v":"P-156B"},{"$f":"'baza nisk'!B900","v":"Płaszcz resektoskopu 27 Fr,dziób pochyły z 1LUE"},{"$f":"'baza nisk'!D900","v":"NARZ. MEDYCZNE"},null,0,null,{"$f":"'baza nisk'!E900","v":2000},0,null,null,{"$f":"'baza nisk'!G900","v":"Oddział Urologii i Urologii Onkologicznej"},"","","proszę kliknąć aby wybrać nazwę komórki organizacyjnej",0]
[{"$f":"'baza nisk'!A901","v":"P-156C"},{"$f":"'baza nisk'!B901","v":"Płaszcz resektoskopu 27 Fr,dziób pochyły z zawo"},{"$f":"'baza nisk'!D901","v":"NARZ. MEDYCZNE"},null,0,null,{"$f":"'baza nisk'!E901","v":2300},0,null,null,{"$f":"'baza nisk'!G901","v":"Oddział Urologii i Urologii Onkologicznej"},"","","proszę kliknąć aby wybrać nazwę komórki organizacyjnej",0]
[{"$f":"'baza nisk'!A902","v":"P-163A"},{"$f":"'baza nisk'!B902","v":"Pinceta chirurgiczna B-200:4,8  3x4"},{"$f":"'baza nisk'!D902","v":"NARZ. MEDYCZNE"},null,0,null,{"$f":"'baza nisk'!E902","v":104},0,null,null,{"$f":"'baza nisk'!G902","v":"Oddział Urologii i Urologii Onkologicznej"},"","","proszę kliknąć aby wybrać nazwę komórki organizacyjnej",0]
[{"$f":"'baza nisk'!A903","v":"P-180"},{"$f":"'baza nisk'!B903","v":"Pętla tnąca bipolarna 24Fr do zast z optyką 261"},{"$f":"'baza nisk'!D903","v":"NARZ. MEDYCZNE"},null,0,null,{"$f":"'baza nisk'!E903","v":530},0,null,null,{"$f":"'baza nisk'!G903","v":"Oddział Położniczo – Ginekologiczny"},"","","proszę kliknąć aby wybrać nazwę komórki organizacyjnej",0]
[{"$f":"'baza nisk'!A904","v":"P-180A"},{"$f":"'baza nisk'!B904","v":"Pętla tnąca,bipolarna,24/26 Fr.do zast.z optyką"},{"$f":"'baza nisk'!D904","v":"NARZ. MEDYCZNE"},null,0,null,{"$f":"'baza nisk'!E904","v":440},0,null,null,{"$f":"'baza nisk'!G904","v":"Oddział Urologii i Urologii Onkologicznej"},"","","proszę kliknąć aby wybrać nazwę komórki organizacyjnej",0]
[{"$f":"'baza nisk'!A905","v":"P-189"},{"$f":"'baza nisk'!B905","v":"Pozycjoner głowy i szyi dla dorosłych 272x237x9"},{"$f":"'baza nisk'!D905","v":"MATERIAŁY DO REHABILITACJI"},null,0,null,{"$f":"'baza nisk'!E905","v":1000},0,null,null,{"$f":"'baza nisk'!G905","v":"Oddział Okulistyczny"},"","","proszę kliknąć aby wybrać nazwę komórki organizacyjnej",0]
[{"$f":"'baza nisk'!A906","v":"P-189A"},{"$f":"'baza nisk'!B906","v":"Pozycjoner w pozycji na wznak- dla niemowląt [p"},{"$f":"'baza nisk'!D906","v":"MATERIAŁY DO REHABILITACJI"},null,0,null,{"$f":"'baza nisk'!E906","v":500},0,null,null,{"$f":"'baza nisk'!G906","v":"DODO -Pracownia RTG"},"","","proszę kliknąć aby wybrać nazwę komórki organizacyjnej",0]
[{"$f":"'baza nisk'!A907","v":"P-189B"},{"$f":"'baza nisk'!B907","v":"Pozycjoner w pozycji na wznak- dla małych dziec"},{"$f":"'baza nisk'!D907","v":"MATERIAŁY DO REHABILITACJI"},null,0,null,{"$f":"'baza nisk'!E907","v":800},0,null,null,{"$f":"'baza nisk'!G907","v":"DODO -Pracownia RTG"},"","","proszę kliknąć aby wybrać nazwę komórki organizacyjnej",0]
[{"$f":"'baza nisk'!A908","v":"P-189C"},{"$f":"'baza nisk'!B908","v":"Pozycjoner boczny dla niemowląt 60x30x13cm"},{"$f":"'baza nisk'!D908","v":"MATERIAŁY DO REHABILITACJI"},null,0,null,{"$f":"'baza nisk'!E908","v":600},0,null,null,{"$f":"'baza nisk'!G908","v":"DODO -Pracownia RTG"},"","","proszę kliknąć aby wybrać nazwę komórki organizacyjnej",0]
[{"$f":"'baza nisk'!A909","v":"P-189D"},{"$f":"'baza nisk'!B909","v":"Pozycjoner żelowy 4006.0200 firmy Maquet pod gł"},{"$f":"'baza nisk'!D909","v":"MATERIAŁY DO REHABILITACJI"},null,0,null,{"$f":"'baza nisk'!E909","v":700},0,null,null,{"$f":"'baza nisk'!G909","v":"Oddział Położniczo – Ginekologiczny"},"","","proszę kliknąć aby wybrać nazwę komórki organizacyjnej",0]
[{"$f":"'baza nisk'!A910","v":"P-190"},{"$f":"'baza nisk'!B910","v":"Pinceta do opon mózgowych B-200:1,4"},{"$f":"'baza nisk'!D910","v":"NARZ. MEDYCZNE"},null,0,null,{"$f":"'baza nisk'!E910","v":67.709999999999994},0,null,null,{"$f":"'baza nisk'!G910","v":"Blok Operacyjny"},"","","proszę kliknąć aby wybrać nazwę komórki organizacyjnej",0]
[{"$f":"'baza nisk'!A911","v":"P-190"},{"$f":"'baza nisk'!B911","v":"Pinceta do opon mózgowych B-200:1,4"},{"$f":"'baza nisk'!D911","v":"NARZ. MEDYCZNE"},null,0,null,{"$f":"'baza nisk'!E911","v":67.709999999999994},0,null,null,{"$f":"'baza nisk'!G911","v":"Oddział Urologii i Urologii Onkologicznej"},"","","proszę kliknąć aby wybrać nazwę komórki organizacyjnej",0]
[{"$f":"'baza nisk'!A912","v":"P-190A"},{"$f":"'baza nisk'!B912","v":"Pinceta do opon mózgowych B-180:1,4"},{"$f":"'baza nisk'!D912","v":"NARZ. MEDYCZNE"},null,0,null,{"$f":"'baza nisk'!E912","v":67.709999999999994},0,null,null,{"$f":"'baza nisk'!G912","v":"Blok Operacyjny"},"","","proszę kliknąć aby wybrać nazwę komórki organizacyjnej",0]
[{"$f":"'baza nisk'!A913","v":"P-190B"},{"$f":"'baza nisk'!B913","v":"Pinceta do opon mózgowych A-200:1,4"},{"$f":"'baza nisk'!D913","v":"NARZ. MEDYCZNE"},null,0,null,{"$f":"'baza nisk'!E913","v":67.709999999999994},0,null,null,{"$f":"'baza nisk'!G913","v":"Blok Operacyjny"},"","","proszę kliknąć aby wybrać nazwę komórki organizacyjnej",0]
[{"$f":"'baza nisk'!A914","v":"P-197"},{"$f":"'baza nisk'!B914","v":"Płaszcz cystoskopowy 20 Fr,z dwoma przyłączami"},{"$f":"'baza nisk'!D914","v":"NARZ. MEDYCZNE"},null,0,null,{"$f":"'baza nisk'!E914","v":2000},0,null,null,{"$f":"'baza nisk'!G914","v":"Oddział Urologii i Urologii Onkologicznej"},"","","proszę kliknąć aby wybrać nazwę komórki organizacyjnej",0]
[{"$f":"'baza nisk'!A915","v":"P-197"},{"$f":"'baza nisk'!B915","v":"Płaszcz cystoskopowy 20 Fr,z dwoma przyłączami"},{"$f":"'baza nisk'!D915","v":"NARZ. MEDYCZNE"},null,0,null,{"$f":"'baza nisk'!E915","v":2000},0,null,null,{"$f":"'baza nisk'!G915","v":"Poradnia Urologiczna"},"","","proszę kliknąć aby wybrać nazwę komórki organizacyjnej",0]
[{"$f":"'baza nisk'!A916","v":"P-197A"},{"$f":"'baza nisk'!B916","v":"Płaszcz cystoskopowy 22 Fr,z dwoma przyłączami"},{"$f":"'baza nisk'!D916","v":"NARZ. MEDYCZNE"},null,0,null,{"$f":"'baza nisk'!E916","v":1850},0,null,null,{"$f":"'baza nisk'!G916","v":"Oddział Urologii i Urologii Onkologicznej"},"","","proszę kliknąć aby wybrać nazwę komórki organizacyjnej",0]
[{"$f":"'baza nisk'!A917","v":"P-197A"},{"$f":"'baza nisk'!B917","v":"Płaszcz cystoskopowy 22 Fr,z dwoma przyłączami"},{"$f":"'baza nisk'!D917","v":"NARZ. MEDYCZNE"},null,0,null,{"$f":"'baza nisk'!E917","v":1850},0,null,null,{"$f":"'baza nisk'!G917","v":"Poradnia Urologiczna"},"","","proszę kliknąć aby wybrać nazwę komórki organizacyjnej",0]
[{"$f":"'baza nisk'!A918","v":"P-198"},{"$f":"'baza nisk'!B918","v":"Pętla tnąca,zagięta,monopolarna,do zast.z płasz"},{"$f":"'baza nisk'!D918","v":"NARZ. MEDYCZNE"},null,0,null,{"$f":"'baza nisk'!E918","v":200},0,null,null,{"$f":"'baza nisk'!G918","v":"Oddział Urologii i Urologii Onkologicznej"},"","","proszę kliknąć aby wybrać nazwę komórki organizacyjnej",0]
[{"$f":"'baza nisk'!A919","v":"P-198A"},{"$f":"'baza nisk'!B919","v":"Pętla tnąca,zagięta,monopolarna,do zast.z płasz"},{"$f":"'baza nisk'!D919","v":"NARZ. MEDYCZNE"},null,0,null,{"$f":"'baza nisk'!E919","v":200},0,null,null,{"$f":"'baza nisk'!G919","v":"Oddział Urologii i Urologii Onkologicznej"},"","","proszę kliknąć aby wybrać nazwę komórki organizacyjnej",0]
[{"$f":"'baza nisk'!A920","v":"P-199"},{"$f":"'baza nisk'!B920","v":"Pinceta koagulacyjna bipolarna,izolowana bagnet"},{"$f":"'baza nisk'!D920","v":"NARZ. MEDYCZNE"},null,0,null,{"$f":"'baza nisk'!E920","v":2500},0,null,null,{"$f":"'baza nisk'!G920","v":"Oddział Otolaryngologiczny z Pododdziałem Otolaryngologii"},"","","proszę kliknąć aby wybrać nazwę komórki organizacyjnej",0]
[{"$f":"'baza nisk'!A921","v":"P-202"},{"$f":"'baza nisk'!B921","v":"Penseta chirurgiczna 18,13S"},{"$f":"'baza nisk'!D921","v":"NARZ. MEDYCZNE"},null,0,null,{"$f":"'baza nisk'!E921","v":865},0,null,null,{"$f":"'baza nisk'!G921","v":"Oddział Okulistyczny"},"","","proszę kliknąć aby wybrać nazwę komórki organizacyjnej",0]
[{"$f":"'baza nisk'!A922","v":"P-207"},{"$f":"'baza nisk'!B922","v":"Przenośnik taśmowo-rolkowy"},{"$f":"'baza nisk'!D922","v":"POZOSTAŁE"},null,0,null,{"$f":"'baza nisk'!E922","v":1200},0,null,null,{"$f":"'baza nisk'!G922","v":"Anestezjologia"},"","","proszę kliknąć aby wybrać nazwę komórki organizacyjnej",0]
[{"$f":"'baza nisk'!A923","v":"P-209"},{"$f":"'baza nisk'!B923","v":"Podkładka pod głowę obustronna dla dorosłych"},{"$f":"'baza nisk'!D923","v":"MATERIAŁY DO REHABILITACJI"},null,0,null,{"$f":"'baza nisk'!E923","v":430},0,null,null,{"$f":"'baza nisk'!G923","v":"DODO -Pracownia RTG"},"","","proszę kliknąć aby wybrać nazwę komórki organizacyjnej",0]
[{"$f":"'baza nisk'!A924","v":"P-210"},{"$f":"'baza nisk'!B924","v":"Pompa  ALPHABED"},{"$f":"'baza nisk'!D924","v":"MED. NISK. ŚR. TRW."},null,0,null,{"$f":"'baza nisk'!E924","v":1100},0,null,null,{"$f":"'baza nisk'!G924","v":"Oddział Chirurgii Ogólnej z Pododdziałami"},"","","proszę kliknąć aby wybrać nazwę komórki organizacyjnej",0]
[{"$f":"'baza nisk'!A925","v":"P-210"},{"$f":"'baza nisk'!B925","v":"Pompa  ALPHABED"},{"$f":"'baza nisk'!D925","v":"MED. NISK. ŚR. TRW."},null,0,null,{"$f":"'baza nisk'!E925","v":1100},0,null,null,{"$f":"'baza nisk'!G925","v":"Oddział Kardiologiczny"},"","","proszę kliknąć aby wybrać nazwę komórki organizacyjnej",0]
[{"$f":"'baza nisk'!A926","v":"P-211"},{"$f":"'baza nisk'!B926","v":"Pompa  ALPHABED"},{"$f":"'baza nisk'!D926","v":"MED. NISK. ŚR. TRW."},null,0,null,{"$f":"'baza nisk'!E926","v":1100},0,null,null,{"$f":"'baza nisk'!G926","v":"Oddział Chirurgii Naczyniowej"},"","","proszę kliknąć aby wybrać nazwę komórki organizacyjnej",0]
[{"$f":"'baza nisk'!A927","v":"P-211"},{"$f":"'baza nisk'!B927","v":"Pompa  ALPHABED"},{"$f":"'baza nisk'!D927","v":"MED. NISK. ŚR. TRW."},null,0,null,{"$f":"'baza nisk'!E927","v":1100},0,null,null,{"$f":"'baza nisk'!G927","v":"Oddział Chirurgii Ogólnej z Pododdziałami"},"","","proszę kliknąć aby wybrać nazwę komórki organizacyjnej",0]
[{"$f":"'baza nisk'!A928","v":"P-211"},{"$f":"'baza nisk'!B928","v":"Pompa  ALPHABED"},{"$f":"'baza nisk'!D928","v":"MED. NISK. ŚR. TRW."},null,0,null,{"$f":"'baza nisk'!E928","v":1100},0,null,null,{"$f":"'baza nisk'!G928","v":"Zamiejscowy Oddział Rehabilitacji Neurologicznej"},"","","proszę kliknąć aby wybrać nazwę komórki organizacyjnej",0]
[{"$f":"'baza nisk'!A929","v":"P-228"},{"$f":"'baza nisk'!B929","v":"Pompa infuzyjna strzykawkowa INJECTOMAT MC"},{"$f":"'baza nisk'!D929","v":"MED. NISK. ŚR. TRW."},null,0,null,{"$f":"'baza nisk'!E929","v":3200},0,null,null,{"$f":"'baza nisk'!G929","v":"Anestezjologia"},"","","proszę kliknąć aby wybrać nazwę komórki organizacyjnej",0]
[{"$f":"'baza nisk'!A930","v":"P-228"},{"$f":"'baza nisk'!B930","v":"Pompa infuzyjna strzykawkowa INJECTOMAT MC"},{"$f":"'baza nisk'!D930","v":"MED. NISK. ŚR. TRW."},null,0,null,{"$f":"'baza nisk'!E930","v":3200},0,null,null,{"$f":"'baza nisk'!G930","v":"Intensywna Terapia"},"","","proszę kliknąć aby wybrać nazwę komórki organizacyjnej",0]
[{"$f":"'baza nisk'!A931","v":"P-228"},{"$f":"'baza nisk'!B931","v":"Pompa infuzyjna strzykawkowa INJECTOMAT MC"},{"$f":"'baza nisk'!D931","v":"MED. NISK. ŚR. TRW."},null,0,null,{"$f":"'baza nisk'!E931","v":3200},0,null,null,{"$f":"'baza nisk'!G931","v":"Oddział Okulistyczny"},"","","proszę kliknąć aby wybrać nazwę komórki organizacyjnej",0]
[{"$f":"'baza nisk'!A932","v":"P-228"},{"$f":"'baza nisk'!B932","v":"Pompa infuzyjna strzykawkowa INJECTOMAT MC"},{"$f":"'baza nisk'!D932","v":"MED. NISK. ŚR. TRW."},null,0,null,{"$f":"'baza nisk'!E932","v":3200},0,null,null,{"$f":"'baza nisk'!G932","v":"Oddział Położniczo – Ginekologiczny"},"","","proszę kliknąć aby wybrać nazwę komórki organizacyjnej",0]
[{"$f":"'baza nisk'!A933","v":"P-229"},{"$f":"'baza nisk'!B933","v":"Podgrzewacz do krwi i płynów infuzyjnych ET-TF-"},{"$f":"'baza nisk'!D933","v":"MED. NISK. ŚR. TRW."},null,0,null,{"$f":"'baza nisk'!E933","v":2500},0,null,null,{"$f":"'baza nisk'!G933","v":"Anestezjologia"},"","","proszę kliknąć aby wybrać nazwę komórki organizacyjnej",0]
[{"$f":"'baza nisk'!A934","v":"P-229"},{"$f":"'baza nisk'!B934","v":"Podgrzewacz do krwi i płynów infuzyjnych ET-TF-"},{"$f":"'baza nisk'!D934","v":"MED. NISK. ŚR. TRW."},null,0,null,{"$f":"'baza nisk'!E934","v":2500},0,null,null,{"$f":"'baza nisk'!G934","v":"Intensywna Terapia"},"","","proszę kliknąć aby wybrać nazwę komórki organizacyjnej",0]
[{"$f":"'baza nisk'!A935","v":"P-232"},{"$f":"'baza nisk'!B935","v":"Pokrowiec do materaca NIMBUS 4"},{"$f":"'baza nisk'!D935","v":"MED. NISK. ŚR. TRW."},null,0,null,{"$f":"'baza nisk'!E935","v":3600},0,null,null,{"$f":"'baza nisk'!G935","v":"Oddział Kardiologiczny"},"","","proszę kliknąć aby wybrać nazwę komórki organizacyjnej",0]
[{"$f":"'baza nisk'!A936","v":"P-232A"},{"$f":"'baza nisk'!B936","v":"Pokrowiec do materaca NIMBUS 3 PROFESIONAL"},{"$f":"'baza nisk'!D936","v":"MED. NISK. ŚR. TRW."},null,0,null,{"$f":"'baza nisk'!E936","v":3600},0,null,null,{"$f":"'baza nisk'!G936","v":"Intensywna Terapia"},"","","proszę kliknąć aby wybrać nazwę komórki organizacyjnej",0]
[{"$f":"'baza nisk'!A937","v":"P-233"},{"$f":"'baza nisk'!B937","v":"Prześcieradło z gumką"},{"$f":"'baza nisk'!D937","v":"POŚCIEL SZPITAL"},null,0,null,{"$f":"'baza nisk'!E937","v":30},0,null,null,{"$f":"'baza nisk'!G937","v":"Hotel Pracowniczy"},"","","proszę kliknąć aby wybrać nazwę komórki organizacyjnej",0]
[{"$f":"'baza nisk'!A938","v":"P-235"},{"$f":"'baza nisk'!B938","v":"Pościel 160x200"},{"$f":"'baza nisk'!D938","v":"POŚCIEL SZPITAL"},null,0,null,{"$f":"'baza nisk'!E938","v":150},0,null,null,{"$f":"'baza nisk'!G938","v":"Hotel Pracowniczy"},"","","proszę kliknąć aby wybrać nazwę komórki organizacyjnej",0]
[{"$f":"'baza nisk'!A939","v":"P-241"},{"$f":"'baza nisk'!B939","v":"Pistolet SELECTA [8 końcówek] do mycia ręcznego"},{"$f":"'baza nisk'!D939","v":"MED. NISK. ŚR. TRW."},null,0,null,{"$f":"'baza nisk'!E939","v":1881.9},0,null,null,{"$f":"'baza nisk'!G939","v":"Pracownia Endoskopii"},"","","proszę kliknąć aby wybrać nazwę komórki organizacyjnej",0]
[{"$f":"'baza nisk'!A940","v":"P-249"},{"$f":"'baza nisk'!B940","v":"Przewijak"},{"$f":"'baza nisk'!D940","v":"MEBLE"},null,0,null,{"$f":"'baza nisk'!E940","v":458.48750000000001},0,null,null,{"$f":"'baza nisk'!G940","v":"Oddział Pediatryczny z Pododdziałem Gastroenterologii "},"","","proszę kliknąć aby wybrać nazwę komórki organizacyjnej",0]
[{"$f":"'baza nisk'!A941","v":"P-249A"},{"$f":"'baza nisk'!B941","v":"Przewijak z materacykiem 130x57x88h"},{"$f":"'baza nisk'!D941","v":"MEBLE"},null,0,null,{"$f":"'baza nisk'!E941","v":1599},0,null,null,{"$f":"'baza nisk'!G941","v":"Oddział Kardiologii Dziecięcej z Pododdziałem Kardiochirurgi"},"","","proszę kliknąć aby wybrać nazwę komórki organizacyjnej",0]
[{"$f":"'baza nisk'!A942","v":"P-249B"},{"$f":"'baza nisk'!B942","v":"Przewijak dwustronny"},{"$f":"'baza nisk'!D942","v":"MEBLE"},null,0,null,{"$f":"'baza nisk'!E942","v":900},0,null,null,{"$f":"'baza nisk'!G942","v":"Oddział Pediatryczny z Pododdziałem Gastroenterologii "},"","","proszę kliknąć aby wybrać nazwę komórki organizacyjnej",0]
[{"$f":"'baza nisk'!A943","v":"P-287"},{"$f":"'baza nisk'!B943","v":"Płaszcz operacyjny do nefroskopu,26Fr, przepływ"},{"$f":"'baza nisk'!D943","v":"NARZ. MEDYCZNE"},null,0,null,{"$f":"'baza nisk'!E943","v":1500},0,null,null,{"$f":"'baza nisk'!G943","v":"Oddział Urologii i Urologii Onkologicznej"},"","","proszę kliknąć aby wybrać nazwę komórki organizacyjnej",0]
[{"$f":"'baza nisk'!A944","v":"P-288"},{"$f":"'baza nisk'!B944","v":"Płaszcz operacyjny 15/18 Fr,do nefroskopu"},{"$f":"'baza nisk'!D944","v":"NARZ. MEDYCZNE"},null,0,null,{"$f":"'baza nisk'!E944","v":1750},0,null,null,{"$f":"'baza nisk'!G944","v":"Oddział Urologii i Urologii Onkologicznej"},"","","proszę kliknąć aby wybrać nazwę komórki organizacyjnej",0]
[{"$f":"'baza nisk'!A945","v":"P-288A"},{"$f":"'baza nisk'!B945","v":"Płaszcz operacyjny 16,5/19,5 Fr,do nefroskopu"},{"$f":"'baza nisk'!D945","v":"NARZ. MEDYCZNE"},null,0,null,{"$f":"'baza nisk'!E945","v":1750},0,null,null,{"$f":"'baza nisk'!G945","v":"Oddział Urologii i Urologii Onkologicznej"},"","","proszę kliknąć aby wybrać nazwę komórki organizacyjnej",0]
[{"$f":"'baza nisk'!A946","v":"P-288B"},{"$f":"'baza nisk'!B946","v":"Płaszcz operacyjny 21/24 Fr,do nefroskopu"},{"$f":"'baza nisk'!D946","v":"NARZ. MEDYCZNE"},null,0,null,{"$f":"'baza nisk'!E946","v":1750},0,null,null,{"$f":"'baza nisk'!G946","v":"Oddział Urologii i Urologii Onkologicznej"},"","","proszę kliknąć aby wybrać nazwę komórki organizacyjnej",0]
[{"$f":"'baza nisk'!A947","v":"P-290"},{"$f":"'baza nisk'!B947","v":"Płaszcz uretrotomu SACHSE 21 Fr.z kanałami i 2"},{"$f":"'baza nisk'!D947","v":"NARZ. MEDYCZNE"},null,0,null,{"$f":"'baza nisk'!E947","v":1900},0,null,null,{"$f":"'baza nisk'!G947","v":"Oddział Urologii i Urologii Onkologicznej"},"","","proszę kliknąć aby wybrać nazwę komórki organizacyjnej",0]
[{"$f":"'baza nisk'!A948","v":"P-292"},{"$f":"'baza nisk'!B948","v":"Przepływomierz tlenu MT02 z manometrem [AGA] nr"},{"$f":"'baza nisk'!D948","v":"MED. NISK. ŚR. TRW."},null,0,null,{"$f":"'baza nisk'!E948","v":550},0,null,null,{"$f":"'baza nisk'!G948","v":"Oddział Kardiologiczny"},"","","proszę kliknąć aby wybrać nazwę komórki organizacyjnej",0]
[{"$f":"'baza nisk'!A949","v":"P-293"},{"$f":"'baza nisk'!B949","v":"Prześcieradło dziecięce 160x240"},{"$f":"'baza nisk'!D949","v":"POŚCIEL SZPITAL"},null,0,null,{"$f":"'baza nisk'!E949","v":11.99},0,null,null,{"$f":"'baza nisk'!G949","v":"Oddział Pediatryczny z Pododdziałem Gastroenterologii "},"","","proszę kliknąć aby wybrać nazwę komórki organizacyjnej",0]
[{"$f":"'baza nisk'!A950","v":"P-309"},{"$f":"'baza nisk'!B950","v":"Penseta epilacyjna, szeroka płaska rączka, dł.c"},{"$f":"'baza nisk'!D950","v":"NARZ. MEDYCZNE"},null,0,null,{"$f":"'baza nisk'!E950","v":350},0,null,null,{"$f":"'baza nisk'!G950","v":"Oddział Okulistyczny"},"","","proszę kliknąć aby wybrać nazwę komórki organizacyjnej",0]
[{"$f":"'baza nisk'!A951","v":"P-310"},{"$f":"'baza nisk'!B951","v":"Penseta Colibri rogówkowa, 0,12mm, 1x2 ząbki, p"},{"$f":"'baza nisk'!D951","v":"NARZ. MEDYCZNE"},null,0,null,{"$f":"'baza nisk'!E951","v":1200},0,null,null,{"$f":"'baza nisk'!G951","v":"Oddział Okulistyczny"},"","","proszę kliknąć aby wybrać nazwę komórki organizacyjnej",0]
[{"$f":"'baza nisk'!A952","v":"P-311"},{"$f":"'baza nisk'!B952","v":"Penseta Colibri rogówkowa, 0,12mm, 1x2 ząbki, p"},{"$f":"'baza nisk'!D952","v":"NARZ. MEDYCZNE"},null,0,null,{"$f":"'baza nisk'!E952","v":1200},0,null,null,{"$f":"'baza nisk'!G952","v":"Oddział Okulistyczny"},"","","proszę kliknąć aby wybrać nazwę komórki organizacyjnej",0]
[{"$f":"'baza nisk'!A953","v":"P-313"},{"$f":"'baza nisk'!B953","v":"Penseta chirurgiczna do katarakty- McPherson"},{"$f":"'baza nisk'!D953","v":"NARZ. MEDYCZNE"},null,0,null,{"$f":"'baza nisk'!E953","v":1200},0,null,null,{"$f":"'baza nisk'!G953","v":"Oddział Okulistyczny"},"","","proszę kliknąć aby wybrać nazwę komórki organizacyjnej",0]
[{"$f":"'baza nisk'!A954","v":"P-315"},{"$f":"'baza nisk'!B954","v":"Penseta Bonn forceps,long model with tying plat"},{"$f":"'baza nisk'!D954","v":"NARZ. MEDYCZNE"},null,0,null,{"$f":"'baza nisk'!E954","v":1134},0,null,null,{"$f":"'baza nisk'!G954","v":"Oddział Okulistyczny"},"","","proszę kliknąć aby wybrać nazwę komórki organizacyjnej",0]
[{"$f":"'baza nisk'!A955","v":"P-316"},{"$f":"'baza nisk'!B955","v":"Penseta McPherson (gaskin fragment forceps)iol"},{"$f":"'baza nisk'!D955","v":"NARZ. MEDYCZNE"},null,0,null,{"$f":"'baza nisk'!E955","v":631.79999999999995},0,null,null,{"$f":"'baza nisk'!G955","v":"Oddział Okulistyczny"},"","","proszę kliknąć aby wybrać nazwę komórki organizacyjnej",0]
[{"$f":"'baza nisk'!A956","v":"P-317"},{"$f":"'baza nisk'!B956","v":"Penseta do wiązania, kompozytowa, prosta"},{"$f":"'baza nisk'!D956","v":"NARZ. MEDYCZNE"},null,0,null,{"$f":"'baza nisk'!E956","v":648},0,null,null,{"$f":"'baza nisk'!G956","v":"Oddział Okulistyczny"},"","","proszę kliknąć aby wybrać nazwę komórki organizacyjnej",0]
[{"$f":"'baza nisk'!A957","v":"P-318"},{"$f":"'baza nisk'!B957","v":"Penseta rogówkowa typ Bonn prosta dł.9,5cm, ząb"},{"$f":"'baza nisk'!D957","v":"NARZ. MEDYCZNE"},null,0,null,{"$f":"'baza nisk'!E957","v":1803.6},0,null,null,{"$f":"'baza nisk'!G957","v":"Oddział Okulistyczny"},"","","proszę kliknąć aby wybrać nazwę komórki organizacyjnej",0]
[{"$f":"'baza nisk'!A958","v":"P-319"},{"$f":"'baza nisk'!B958","v":"Penseta z mikroząbkami 0,1mm,prosta"},{"$f":"'baza nisk'!D958","v":"NARZ. MEDYCZNE"},null,0,null,{"$f":"'baza nisk'!E958","v":1533.6},0,null,null,{"$f":"'baza nisk'!G958","v":"Oddział Okulistyczny"},"","","proszę kliknąć aby wybrać nazwę komórki organizacyjnej",0]
[{"$f":"'baza nisk'!A959","v":"P-320"},{"$f":"'baza nisk'!B959","v":"Pensetka typu Ecard 23G W06"},{"$f":"'baza nisk'!D959","v":"NARZ. MEDYCZNE"},null,0,null,{"$f":"'baza nisk'!E959","v":4860},0,null,null,{"$f":"'baza nisk'!G959","v":"Oddział Okulistyczny"},"","","proszę kliknąć aby wybrać nazwę komórki organizacyjnej",0]
[{"$f":"'baza nisk'!A960","v":"P-320A"},{"$f":"'baza nisk'!B960","v":"Pensetka typu Ecard 23G WP06"},{"$f":"'baza nisk'!D960","v":"NARZ. MEDYCZNE"},null,0,null,{"$f":"'baza nisk'!E960","v":5400},0,null,null,{"$f":"'baza nisk'!G960","v":"Oddział Okulistyczny"},"","","proszę kliknąć aby wybrać nazwę komórki organizacyjnej",0]
[{"$f":"'baza nisk'!A961","v":"P-322"},{"$f":"'baza nisk'!B961","v":"Przystawka do biurka 112x45x75h"},{"$f":"'baza nisk'!D961","v":"MEBLE"},null,0,null,{"$f":"'baza nisk'!E961","v":553.5},0,null,null,{"$f":"'baza nisk'!G961","v":"Oddział Kardiologii Dziecięcej z Pododdziałem Kardiochirurgi"},"","","proszę kliknąć aby wybrać nazwę komórki organizacyjnej",0]
[{"$f":"'baza nisk'!A962","v":"P-322A"},{"$f":"'baza nisk'!B962","v":"Przystawka do biurka"},{"$f":"'baza nisk'!D962","v":"MEBLE"},null,0,null,{"$f":"'baza nisk'!E962","v":553.5},0,null,null,{"$f":"'baza nisk'!G962","v":"SekcjaKontroli Zakażeń Szpitalnych"},"","","proszę kliknąć aby wybrać nazwę komórki organizacyjnej",0]
[{"$f":"'baza nisk'!A963","v":"P-324"},{"$f":"'baza nisk'!B963","v":"Pled z trzech warstw flaneli,pikowany 100x110cm"},{"$f":"'baza nisk'!D963","v":"POŚCIEL SZPITAL"},null,0,null,{"$f":"'baza nisk'!E963","v":27.06},{"$f":"E966*G966","v":0},null,null,{"$f":"'baza nisk'!G963","v":"Oddział Neonatologiczny z Pododdziałem Patologii Noworodka"},{"$f":"IF($B$2=K966,$B$2,\"\")","v":""},{"$f":"IF($B$2=K966,1,\"\")","v":""},{"$f":"$B$2","v":"proszę kliknąć aby wybrać nazwę komórki organizacyjnej"},{"$f":"$H$2","v":0}]
[{"$f":"'baza nisk'!A964","v":"P-326"},{"$f":"'baza nisk'!B964","v":"Pinceta atraumatyczna  DE BAKEY dł.200:2mm pros"},{"$f":"'baza nisk'!D964","v":"NARZ. MEDYCZNE"},null,0,null,{"$f":"'baza nisk'!E964","v":131},0,null,null,{"$f":"'baza nisk'!G964","v":"Blok Operacyjny"},"","","proszę kliknąć aby wybrać nazwę komórki organizacyjnej",0]
[{"$f":"'baza nisk'!A965","v":"P-326A"},{"$f":"'baza nisk'!B965","v":"Pinceta atraumatyczna typ DE BAKEY dł.150:2mm o"},{"$f":"'baza nisk'!D965","v":"NARZ. MEDYCZNE"},null,0,null,{"$f":"'baza nisk'!E965","v":131},0,null,null,{"$f":"'baza nisk'!G965","v":"Blok Operacyjny"},"","","proszę kliknąć aby wybrać nazwę komórki organizacyjnej",0]
[{"$f":"'baza nisk'!A966","v":"P-326B"},{"$f":"'baza nisk'!B966","v":"Pinceta atraumatyczna  DE BAKEY dł.15:2mm prost"},{"$f":"'baza nisk'!D966","v":"NARZ. MEDYCZNE"},null,0,null,{"$f":"'baza nisk'!E966","v":131},0,null,null,{"$f":"'baza nisk'!G966","v":"Blok Operacyjny"},"","","proszę kliknąć aby wybrać nazwę komórki organizacyjnej",0]
[{"$f":"'baza nisk'!A967","v":"P-327"},{"$f":"'baza nisk'!B967","v":"Pinceta mikrochirurgiczna okrągła, odgięta 185m"},{"$f":"'baza nisk'!D967","v":"NARZ. MEDYCZNE"},null,0,null,{"$f":"'baza nisk'!E967","v":608.59},0,null,null,{"$f":"'baza nisk'!G967","v":"Blok Operacyjny"},"","","proszę kliknąć aby wybrać nazwę komórki organizacyjnej",0]
[{"$f":"'baza nisk'!A968","v":"P-332"},{"$f":"'baza nisk'!B968","v":"Pinceta atraumatyczna szczęka 2,0mm szer.150mm"},{"$f":"'baza nisk'!D968","v":"NARZ. MEDYCZNE"},null,0,null,{"$f":"'baza nisk'!E968","v":220},0,null,null,{"$f":"'baza nisk'!G968","v":"Blok Operacyjny"},"","","proszę kliknąć aby wybrać nazwę komórki organizacyjnej",0]
[{"$f":"'baza nisk'!A969","v":"P-332"},{"$f":"'baza nisk'!B969","v":"Pinceta atraumatyczna szczęka 2,0mm szer.150mm"},{"$f":"'baza nisk'!D969","v":"NARZ. MEDYCZNE"},null,0,null,{"$f":"'baza nisk'!E969","v":220},0,null,null,{"$f":"'baza nisk'!G969","v":"Oddział Kardiologii Dziecięcej z Pododdziałem Kardiochirurgi"},"","","proszę kliknąć aby wybrać nazwę komórki organizacyjnej",0]
[{"$f":"'baza nisk'!A970","v":"P-332"},{"$f":"'baza nisk'!B970","v":"Pinceta atraumatyczna szczęka 2,0mm szer.150mm"},{"$f":"'baza nisk'!D970","v":"NARZ. MEDYCZNE"},null,0,null,{"$f":"'baza nisk'!E970","v":220},0,null,null,{"$f":"'baza nisk'!G970","v":"Poradnia Angiologiczna"},"","","proszę kliknąć aby wybrać nazwę komórki organizacyjnej",0]
[{"$f":"'baza nisk'!A971","v":"P-332A"},{"$f":"'baza nisk'!B971","v":"Pinceta atraumatyczna szczęka 2,8mm szer.200mm"},{"$f":"'baza nisk'!D971","v":"NARZ. MEDYCZNE"},null,0,null,{"$f":"'baza nisk'!E971","v":220},0,null,null,{"$f":"'baza nisk'!G971","v":"Blok Operacyjny"},"","","proszę kliknąć aby wybrać nazwę komórki organizacyjnej",0]
[{"$f":"'baza nisk'!A972","v":"P-333"},{"$f":"'baza nisk'!B972","v":"Pinceta do wiązania szwów LAZAR 0,8mm 155mm BD2"},{"$f":"'baza nisk'!D972","v":"NARZ. MEDYCZNE"},null,0,null,{"$f":"'baza nisk'!E972","v":333.72},0,null,null,{"$f":"'baza nisk'!G972","v":"Blok Operacyjny"},"","","proszę kliknąć aby wybrać nazwę komórki organizacyjnej",0]
[{"$f":"'baza nisk'!A975","v":"P-334"},{"$f":"'baza nisk'!B975","v":"Pinceta anatomiczna szczęki 1,5mm 155mm BD217R"},{"$f":"'baza nisk'!D975","v":"NARZ. MEDYCZNE"},null,0,null,{"$f":"'baza nisk'!E975","v":50},0,null,null,{"$f":"'baza nisk'!G975","v":"Poradnia Angiologiczna"},"","","proszę kliknąć aby wybrać nazwę komórki organizacyjnej",0]
[{"$f":"'baza nisk'!A974","v":"P-334"},{"$f":"'baza nisk'!B974","v":"Pinceta anatomiczna szczęki 1,5mm 155mm BD217R"},{"$f":"'baza nisk'!D974","v":"NARZ. MEDYCZNE"},null,0,null,{"$f":"'baza nisk'!E974","v":50},0,null,null,{"$f":"'baza nisk'!G974","v":"Oddział Kardiologii Dziecięcej z Pododdziałem Kardiochirurgi"},"","","proszę kliknąć aby wybrać nazwę komórki organizacyjnej",0]
[{"$f":"'baza nisk'!A973","v":"P-334"},{"$f":"'baza nisk'!B973","v":"Pinceta anatomiczna szczęki 1,5mm 155mm BD217R"},{"$f":"'baza nisk'!D973","v":"NARZ. MEDYCZNE"},null,0,null,{"$f":"'baza nisk'!E973","v":50},0,null,null,{"$f":"'baza nisk'!G973","v":"Blok Operacyjny"},"","","proszę kliknąć aby wybrać nazwę komórki organizacyjnej",0]
[{"$f":"'baza nisk'!A977","v":"P-335"},{"$f":"'baza nisk'!B977","v":"Pinceta COOLEY 200mm  BD250R"},{"$f":"'baza nisk'!D977","v":"NARZ. MEDYCZNE"},null,0,null,{"$f":"'baza nisk'!E977","v":333.72},0,null,null,{"$f":"'baza nisk'!G977","v":"Oddział Otolaryngologiczny z Pododdziałem Otolaryngologii"},"","","proszę kliknąć aby wybrać nazwę komórki organizacyjnej",0]
[{"$f":"'baza nisk'!A976","v":"P-335"},{"$f":"'baza nisk'!B976","v":"Pinceta COOLEY 200mm  BD250R"},{"$f":"'baza nisk'!D976","v":"NARZ. MEDYCZNE"},null,0,null,{"$f":"'baza nisk'!E976","v":333.72},0,null,null,{"$f":"'baza nisk'!G976","v":"Blok Operacyjny"},"","","proszę kliknąć aby wybrać nazwę komórki organizacyjnej",0]
[{"$f":"'baza nisk'!A978","v":"P-336"},{"$f":"'baza nisk'!B978","v":"Pinceta anatomiczna CUSHING prosta 250mm BD240R"},{"$f":"'baza nisk'!D978","v":"NARZ. MEDYCZNE"},null,0,null,{"$f":"'baza nisk'!E978","v":62},0,null,null,{"$f":"'baza nisk'!G978","v":"Blok Operacyjny"},"","","proszę kliknąć aby wybrać nazwę komórki organizacyjnej",0]
[{"$f":"'baza nisk'!A979","v":"P-336A"},{"$f":"'baza nisk'!B979","v":"Pinceta anatomiczna CUSHING prosta180mm BD238R"},{"$f":"'baza nisk'!D979","v":"NARZ. MEDYCZNE"},null,0,null,{"$f":"'baza nisk'!E979","v":62},0,null,null,{"$f":"'baza nisk'!G979","v":"Blok Operacyjny"},"","","proszę kliknąć aby wybrać nazwę komórki organizacyjnej",0]
[{"$f":"'baza nisk'!A980","v":"P-337"},{"$f":"'baza nisk'!B980","v":"Pinceta anatomiczna zakrzywiona 200mm BD257R"},{"$f":"'baza nisk'!D980","v":"NARZ. MEDYCZNE"},null,0,null,{"$f":"'baza nisk'!E980","v":125},0,null,null,{"$f":"'baza nisk'!G980","v":"Blok Operacyjny"},"","","proszę kliknąć aby wybrać nazwę komórki organizacyjnej",0]
[{"$f":"'baza nisk'!A983","v":"P-338"},{"$f":"'baza nisk'!B983","v":"Pinceta anatomiczna BROPHY prosta 200mm BD246R"},{"$f":"'baza nisk'!D983","v":"NARZ. MEDYCZNE"},null,0,null,{"$f":"'baza nisk'!E983","v":62},0,null,null,{"$f":"'baza nisk'!G983","v":"Poradnia Angiologiczna"},"","","proszę kliknąć aby wybrać nazwę komórki organizacyjnej",0]
[{"$f":"'baza nisk'!A981","v":"P-338"},{"$f":"'baza nisk'!B981","v":"Pinceta anatomiczna BROPHY prosta 200mm BD246R"},{"$f":"'baza nisk'!D981","v":"NARZ. MEDYCZNE"},null,0,null,{"$f":"'baza nisk'!E981","v":62},0,null,null,{"$f":"'baza nisk'!G981","v":"Blok Operacyjny"},"","","proszę kliknąć aby wybrać nazwę komórki organizacyjnej",0]
[{"$f":"'baza nisk'!A982","v":"P-338"},{"$f":"'baza nisk'!B982","v":"Pinceta anatomiczna BROPHY prosta 200mm BD246R"},{"$f":"'baza nisk'!D982","v":"NARZ. MEDYCZNE"},null,0,null,{"$f":"'baza nisk'!E982","v":62},0,null,null,{"$f":"'baza nisk'!G982","v":"Oddział Otolaryngologiczny z Pododdziałem Otolaryngologii"},"","","proszę kliknąć aby wybrać nazwę komórki organizacyjnej",0]
[{"$f":"'baza nisk'!A984","v":"P-339"},{"$f":"'baza nisk'!B984","v":"Pinceta chirurgiczna średnioszeroka 1x2z. 145mm"},{"$f":"'baza nisk'!D984","v":"NARZ. MEDYCZNE"},null,0,null,{"$f":"'baza nisk'!E984","v":34},0,null,null,{"$f":"'baza nisk'!G984","v":"Blok Operacyjny"},"","","proszę kliknąć aby wybrać nazwę komórki organizacyjnej",0]
[{"$f":"'baza nisk'!A985","v":"P-339"},{"$f":"'baza nisk'!B985","v":"Pinceta chirurgiczna średnioszeroka 1x2z. 145mm"},{"$f":"'baza nisk'!D985","v":"NARZ. MEDYCZNE"},null,0,null,{"$f":"'baza nisk'!E985","v":34},0,null,null,{"$f":"'baza nisk'!G985","v":"Oddział Kardiologii Dziecięcej z Pododdziałem Kardiochirurgi"},"","","proszę kliknąć aby wybrać nazwę komórki organizacyjnej",0]
[{"$f":"'baza nisk'!A986","v":"P-339"},{"$f":"'baza nisk'!B986","v":"Pinceta chirurgiczna średnioszeroka 1x2z. 145mm"},{"$f":"'baza nisk'!D986","v":"NARZ. MEDYCZNE"},null,0,null,{"$f":"'baza nisk'!E986","v":34},0,null,null,{"$f":"'baza nisk'!G986","v":"Zamiejscowy Blok Operacyjny"},"","","proszę kliknąć aby wybrać nazwę komórki organizacyjnej",0]
[{"$f":"'baza nisk'!A987","v":"P-339A"},{"$f":"'baza nisk'!B987","v":"Pinceta chirurgiczna średnioszeroka 1x2z. 200mm"},{"$f":"'baza nisk'!D987","v":"NARZ. MEDYCZNE"},null,0,null,{"$f":"'baza nisk'!E987","v":34},0,null,null,{"$f":"'baza nisk'!G987","v":"Blok Operacyjny"},"","","proszę kliknąć aby wybrać nazwę komórki organizacyjnej",0]
[{"$f":"'baza nisk'!A988","v":"P-343"},{"$f":"'baza nisk'!B988","v":"Pen do przezskórnej identyfikacji nerwów obwodo"},{"$f":"'baza nisk'!D988","v":"MED. NISK. ŚR. TRW."},null,0,null,{"$f":"'baza nisk'!E988","v":200},0,null,null,{"$f":"'baza nisk'!G988","v":"Intensywna Terapia"},"","","proszę kliknąć aby wybrać nazwę komórki organizacyjnej",0]
[{"$f":"'baza nisk'!A989","v":"P-345"},{"$f":"'baza nisk'!B989","v":"Pinceta anatomiczna 200mm BD051R"},{"$f":"'baza nisk'!D989","v":"NARZ. MEDYCZNE"},null,0,null,{"$f":"'baza nisk'!E989","v":37},0,null,null,{"$f":"'baza nisk'!G989","v":"Blok Operacyjny"},"","","proszę kliknąć aby wybrać nazwę komórki organizacyjnej",0]
[{"$f":"'baza nisk'!A990","v":"P-346"},{"$f":"'baza nisk'!B990","v":"Pinceta chirurgiczna WAUGH 1X2Z.180mm BD670R"},{"$f":"'baza nisk'!D990","v":"NARZ. MEDYCZNE"},null,0,null,{"$f":"'baza nisk'!E990","v":75},0,null,null,{"$f":"'baza nisk'!G990","v":"Blok Operacyjny"},"","","proszę kliknąć aby wybrać nazwę komórki organizacyjnej",0]
[{"$f":"'baza nisk'!A991","v":"P-352"},{"$f":"'baza nisk'!B991","v":"Pinceta bipolarna,prosta \"1\" dł.19cm+ kabel 201"},{"$f":"'baza nisk'!D991","v":"NARZ. MEDYCZNE"},null,0,null,{"$f":"'baza nisk'!E991","v":1000},0,null,null,{"$f":"'baza nisk'!G991","v":"Blok Operacyjny"},"","","proszę kliknąć aby wybrać nazwę komórki organizacyjnej",0]
[{"$f":"'baza nisk'!A992","v":"P-352A"},{"$f":"'baza nisk'!B992","v":"Pinceta bipolarna,zakrzywiona \"1\" dł.19cm+kabel"},{"$f":"'baza nisk'!D992","v":"NARZ. MEDYCZNE"},null,0,null,{"$f":"'baza nisk'!E992","v":1000},0,null,null,{"$f":"'baza nisk'!G992","v":"Blok Operacyjny"},"","","proszę kliknąć aby wybrać nazwę komórki organizacyjnej",0]
[{"$f":"'baza nisk'!A993","v":"P-372"},{"$f":"'baza nisk'!B993","v":"Pinceta chirurgiczna WAUGH 1x2z 200mm BD671R"},{"$f":"'baza nisk'!D993","v":"NARZ. MEDYCZNE"},null,0,null,{"$f":"'baza nisk'!E993","v":75},0,null,null,{"$f":"'baza nisk'!G993","v":"Blok Operacyjny"},"","","proszę kliknąć aby wybrać nazwę komórki organizacyjnej",0]
[{"$f":"'baza nisk'!A994","v":"P-373"},{"$f":"'baza nisk'!B994","v":"Pinceta anatomiczna średnioszeroka 305mm BD033R"},{"$f":"'baza nisk'!D994","v":"NARZ. MEDYCZNE"},null,0,null,{"$f":"'baza nisk'!E994","v":100},0,null,null,{"$f":"'baza nisk'!G994","v":"Blok Operacyjny"},"","","proszę kliknąć aby wybrać nazwę komórki organizacyjnej",0]
[{"$f":"'baza nisk'!A995","v":"P-374"},{"$f":"'baza nisk'!B995","v":"Pinceta anatomiczna 200mm BD051R"},{"$f":"'baza nisk'!D995","v":"NARZ. MEDYCZNE"},null,0,null,{"$f":"'baza nisk'!E995","v":37},0,null,null,{"$f":"'baza nisk'!G995","v":"Blok Operacyjny"},"","","proszę kliknąć aby wybrać nazwę komórki organizacyjnej",0]
[{"$f":"'baza nisk'!A996","v":"R-019A"},{"$f":"'baza nisk'!B996","v":"Regał otwarty,metalowy"},{"$f":"'baza nisk'!D996","v":"MEBLE"},null,0,null,{"$f":"'baza nisk'!E996","v":100},0,null,null,{"$f":"'baza nisk'!G996","v":"Oddział Kardiologii Dziecięcej z Pododdziałem Kardiochirurgi"},"","","proszę kliknąć aby wybrać nazwę komórki organizacyjnej",0]
[{"$f":"'baza nisk'!A997","v":"R-019Ą"},{"$f":"'baza nisk'!B997","v":"Regał 60 na fartuchy"},{"$f":"'baza nisk'!D997","v":"MEBLE"},null,0,null,{"$f":"'baza nisk'!E997","v":300},0,null,null,{"$f":"'baza nisk'!G997","v":"Pracownia Endoskopii"},"","","proszę kliknąć aby wybrać nazwę komórki organizacyjnej",0]
[{"$f":"'baza nisk'!A998","v":"R-019Ć"},{"$f":"'baza nisk'!B998","v":"Regał wysoki"},{"$f":"'baza nisk'!D998","v":"MEBLE"},null,0,null,{"$f":"'baza nisk'!E998","v":300},0,null,null,{"$f":"'baza nisk'!G998","v":"Pracownia Endoskopii"},"","","proszę kliknąć aby wybrać nazwę komórki organizacyjnej",0]
[{"$f":"'baza nisk'!A999","v":"R-019F"},{"$f":"'baza nisk'!B999","v":"Regał listwowy naścienny H-1800 ze stali kwasoo"},{"$f":"'baza nisk'!D999","v":"MEBLE"},null,0,null,{"$f":"'baza nisk'!E999","v":300},0,null,null,{"$f":"'baza nisk'!G999","v":"Intensywna Terapia"},"","","proszę kliknąć aby wybrać nazwę komórki organizacyjnej",0]
[{"$f":"'baza nisk'!A1000","v":"R-019F"},{"$f":"'baza nisk'!B1000","v":"Regał listwowy naścienny H-1800 ze stali kwasoo"},{"$f":"'baza nisk'!D1000","v":"MEBLE"},null,0,null,{"$f":"'baza nisk'!E1000","v":300},0,null,null,{"$f":"'baza nisk'!G1000","v":"Oddział Chirurgii Ogólnej z Pododdziałami"},"","","proszę kliknąć aby wybrać nazwę komórki organizacyjnej",0]
[{"$f":"'baza nisk'!A1001","v":"R-019G"},{"$f":"'baza nisk'!B1001","v":"Regał z szufladami"},{"$f":"'baza nisk'!D1001","v":"MEBLE"},null,0,null,{"$f":"'baza nisk'!E1001","v":450},0,null,null,{"$f":"'baza nisk'!G1001","v":"Dział Gospodarki Nieruchomościami i Utrzymania Ruchu"},"","","proszę kliknąć aby wybrać nazwę komórki organizacyjnej",0]
[{"$f":"'baza nisk'!A1003","v":"R-019H"},{"$f":"'baza nisk'!B1003","v":"Regał na segregatory"},{"$f":"'baza nisk'!D1003","v":"MEBLE"},null,0,null,{"$f":"'baza nisk'!E1003","v":150},0,null,null,{"$f":"'baza nisk'!G1003","v":"Dział Księgowości i Finansów"},"","","proszę kliknąć aby wybrać nazwę komórki organizacyjnej",0]
[{"$f":"'baza nisk'!A1002","v":"R-019H"},{"$f":"'baza nisk'!B1002","v":"Regał na segregatory"},{"$f":"'baza nisk'!D1002","v":"MEBLE"},null,0,null,{"$f":"'baza nisk'!E1002","v":150},0,null,null,{"$f":"'baza nisk'!G1002","v":"Dział Gospodarki Nieruchomościami i Utrzymania Ruchu"},"","","proszę kliknąć aby wybrać nazwę komórki organizacyjnej",0]
[{"$f":"'baza nisk'!A1004","v":"R-019H"},{"$f":"'baza nisk'!B1004","v":"Regał na segregatory"},{"$f":"'baza nisk'!D1004","v":"MEBLE"},null,0,null,{"$f":"'baza nisk'!E1004","v":150},0,null,null,{"$f":"'baza nisk'!G1004","v":"Dział Zaopatrzenia i Zamówień Publicznych"},"","","proszę kliknąć aby wybrać nazwę komórki organizacyjnej",0]
[{"$f":"'baza nisk'!A1008","v":"R-019I"},{"$f":"'baza nisk'!B1008","v":"Regał"},{"$f":"'baza nisk'!D1008","v":"MEBLE"},null,0,null,{"$f":"'baza nisk'!E1008","v":383.72},0,null,null,{"$f":"'baza nisk'!G1008","v":"Dział Centralnej Sterylizatorni i DDD"},"","","proszę kliknąć aby wybrać nazwę komórki organizacyjnej",0]
[{"$f":"'baza nisk'!A1007","v":"R-019I"},{"$f":"'baza nisk'!B1007","v":"Regał"},{"$f":"'baza nisk'!D1007","v":"MEBLE"},null,0,null,{"$f":"'baza nisk'!E1007","v":383.72},0,null,null,{"$f":"'baza nisk'!G1007","v":"DODO -Pracowania Tomografii Komputerowej"},"","","proszę kliknąć aby wybrać nazwę komórki organizacyjnej",0]
[{"$f":"'baza nisk'!A1005","v":"R-019I"},{"$f":"'baza nisk'!B1005","v":"Regał"},{"$f":"'baza nisk'!D1005","v":"MEBLE"},null,0,null,{"$f":"'baza nisk'!E1005","v":383.72},0,null,null,{"$f":"'baza nisk'!G1005","v":"Biblioteka"},"","","proszę kliknąć aby wybrać nazwę komórki organizacyjnej",0]
[{"$f":"'baza nisk'!A1006","v":"R-019I"},{"$f":"'baza nisk'!B1006","v":"Regał"},{"$f":"'baza nisk'!D1006","v":"MEBLE"},null,0,null,{"$f":"'baza nisk'!E1006","v":383.72},0,null,null,{"$f":"'baza nisk'!G1006","v":"Blok Operacyjny"},"","","proszę kliknąć aby wybrać nazwę komórki organizacyjnej",0]
[{"$f":"'baza nisk'!A1009","v":"R-019I"},{"$f":"'baza nisk'!B1009","v":"Regał"},{"$f":"'baza nisk'!D1009","v":"MEBLE"},null,0,null,{"$f":"'baza nisk'!E1009","v":383.72},0,null,null,{"$f":"'baza nisk'!G1009","v":"Dział Księgowości i Finansów"},"","","proszę kliknąć aby wybrać nazwę komórki organizacyjnej",0]
[{"$f":"'baza nisk'!A1010","v":"R-019I"},{"$f":"'baza nisk'!B1010","v":"Regał"},{"$f":"'baza nisk'!D1010","v":"MEBLE"},null,0,null,{"$f":"'baza nisk'!E1010","v":383.72},0,null,null,{"$f":"'baza nisk'!G1010","v":"Dział Organizacyjno - Prawny"},"","","proszę kliknąć aby wybrać nazwę komórki organizacyjnej",0]
[{"$f":"'baza nisk'!A1011","v":"R-019I"},{"$f":"'baza nisk'!B1011","v":"Regał"},{"$f":"'baza nisk'!D1011","v":"MEBLE"},null,0,null,{"$f":"'baza nisk'!E1011","v":383.72},0,null,null,{"$f":"'baza nisk'!G1011","v":"Intensywna Terapia"},"","","proszę kliknąć aby wybrać nazwę komórki organizacyjnej",0]
[{"$f":"'baza nisk'!A1012","v":"R-019I"},{"$f":"'baza nisk'!B1012","v":"Regał na segregatory"},{"$f":"'baza nisk'!D1012","v":"MEBLE"},null,0,null,{"$f":"'baza nisk'!E1012","v":600},0,null,null,{"$f":"'baza nisk'!G1012","v":"Zamiejscowy Oddział Rehabilitacji Neurologicznej"},"","","proszę kliknąć aby wybrać nazwę komórki organizacyjnej",0]
[{"$f":"'baza nisk'!A1013","v":"R-019J"},{"$f":"'baza nisk'!B1013","v":"Regał z nadstawką"},{"$f":"'baza nisk'!D1013","v":"MEBLE"},null,0,null,{"$f":"'baza nisk'!E1013","v":300},0,null,null,{"$f":"'baza nisk'!G1013","v":"Blok Operacyjny"},"","","proszę kliknąć aby wybrać nazwę komórki organizacyjnej",0]
[{"$f":"'baza nisk'!A1014","v":"R-019K"},{"$f":"'baza nisk'!B1014","v":"Regał gospodarczy-metalowy"},{"$f":"'baza nisk'!D1014","v":"MEBLE"},null,0,null,{"$f":"'baza nisk'!E1014","v":300},0,null,null,{"$f":"'baza nisk'!G1014","v":"Oddział Kardiologiczny"},"","","proszę kliknąć aby wybrać nazwę komórki organizacyjnej",0]
[{"$f":"'baza nisk'!A1015","v":"R-019K"},{"$f":"'baza nisk'!B1015","v":"Regał gospodarczy-metalowy"},{"$f":"'baza nisk'!D1015","v":"MEBLE"},null,0,null,{"$f":"'baza nisk'!E1015","v":300},0,null,null,{"$f":"'baza nisk'!G1015","v":"Oddział Otolaryngologiczny z Pododdziałem Otolaryngologii"},"","","proszę kliknąć aby wybrać nazwę komórki organizacyjnej",0]
[{"$f":"'baza nisk'!A1016","v":"R-019L"},{"$f":"'baza nisk'!B1016","v":"Regał na korespondencję,z przegródkami"},{"$f":"'baza nisk'!D1016","v":"MEBLE"},null,0,null,{"$f":"'baza nisk'!E1016","v":600},0,null,null,{"$f":"'baza nisk'!G1016","v":"Dział Organizacyjno - Prawny"},"","","proszę kliknąć aby wybrać nazwę komórki organizacyjnej",0]
[{"$f":"'baza nisk'!A1019","v":"R-019Ł"},{"$f":"'baza nisk'!B1019","v":"Regał na segregatory"},{"$f":"'baza nisk'!D1019","v":"MEBLE"},null,0,null,{"$f":"'baza nisk'!E1019","v":400},0,null,null,{"$f":"'baza nisk'!G1019","v":"Ośrodek Programów Badawczych (OPB)"},"","","proszę kliknąć aby wybrać nazwę komórki organizacyjnej",0]
[{"$f":"'baza nisk'!A1022","v":"R-019Ł"},{"$f":"'baza nisk'!B1022","v":"Regał na segregatory"},{"$f":"'baza nisk'!D1022","v":"MEBLE"},null,0,null,{"$f":"'baza nisk'!E1022","v":400},0,null,null,{"$f":"'baza nisk'!G1022","v":"Zespół Konsultantów Biznesowych"},"","","proszę kliknąć aby wybrać nazwę komórki organizacyjnej",0]
[{"$f":"'baza nisk'!A1020","v":"R-019Ł"},{"$f":"'baza nisk'!B1020","v":"Regał na segregatory"},{"$f":"'baza nisk'!D1020","v":"MEBLE"},null,0,null,{"$f":"'baza nisk'!E1020","v":400},0,null,null,{"$f":"'baza nisk'!G1020","v":"Sekretariat"},"","","proszę kliknąć aby wybrać nazwę komórki organizacyjnej",0]
[{"$f":"'baza nisk'!A1021","v":"R-019Ł"},{"$f":"'baza nisk'!B1021","v":"Regał na segregatory"},{"$f":"'baza nisk'!D1021","v":"MEBLE"},null,0,null,{"$f":"'baza nisk'!E1021","v":600},0,null,null,{"$f":"'baza nisk'!G1021","v":"Zamiejscowy Oddział Rehabilitacji Neurologicznej"},"","","proszę kliknąć aby wybrać nazwę komórki organizacyjnej",0]
[{"$f":"'baza nisk'!A1018","v":"R-019Ł"},{"$f":"'baza nisk'!B1018","v":"Regał na segregatory"},{"$f":"'baza nisk'!D1018","v":"MEBLE"},null,0,null,{"$f":"'baza nisk'!E1018","v":400},0,null,null,{"$f":"'baza nisk'!G1018","v":"Oddział Dermatologiczny"},"","","proszę kliknąć aby wybrać nazwę komórki organizacyjnej",0]
[{"$f":"'baza nisk'!A1017","v":"R-019Ł"},{"$f":"'baza nisk'!B1017","v":"Regał na segregatory"},{"$f":"'baza nisk'!D1017","v":"MEBLE"},null,0,null,{"$f":"'baza nisk'!E1017","v":400},0,null,null,{"$f":"'baza nisk'!G1017","v":"Dział Gospodarki Nieruchomościami i Utrzymania Ruchu"},"","","proszę kliknąć aby wybrać nazwę komórki organizacyjnej",0]
[{"$f":"'baza nisk'!A1023","v":"R-019M"},{"$f":"'baza nisk'!B1023","v":"Regał na biurko 73x30x121"},{"$f":"'baza nisk'!D1023","v":"MEBLE"},null,0,null,{"$f":"'baza nisk'!E1023","v":400},0,null,null,{"$f":"'baza nisk'!G1023","v":"Dział Zaopatrzenia i Zamówień Publicznych"},"","","proszę kliknąć aby wybrać nazwę komórki organizacyjnej",0]
[{"$f":"'baza nisk'!A1024","v":"R-019N"},{"$f":"'baza nisk'!B1024","v":"Regał z wysuwaną płytą"},{"$f":"'baza nisk'!D1024","v":"MEBLE"},null,0,null,{"$f":"'baza nisk'!E1024","v":400},0,null,null,{"$f":"'baza nisk'!G1024","v":"Dyrektor Szpitala"},"","","proszę kliknąć aby wybrać nazwę komórki organizacyjnej",0]
[{"$f":"'baza nisk'!A1025","v":"R-019O"},{"$f":"'baza nisk'!B1025","v":"Regał biurowy-zamknięty"},{"$f":"'baza nisk'!D1025","v":"MEBLE"},null,0,null,{"$f":"'baza nisk'!E1025","v":400},0,null,null,{"$f":"'baza nisk'!G1025","v":"Intensywna Terapia"},"","","proszę kliknąć aby wybrać nazwę komórki organizacyjnej",0]
[{"$f":"'baza nisk'!A1026","v":"R-019P"},{"$f":"'baza nisk'!B1026","v":"Regał biurowy-otwarty"},{"$f":"'baza nisk'!D1026","v":"MEBLE"},null,0,null,{"$f":"'baza nisk'!E1026","v":400},0,null,null,{"$f":"'baza nisk'!G1026","v":"Intensywna Terapia"},"","","proszę kliknąć aby wybrać nazwę komórki organizacyjnej",0]
[{"$f":"'baza nisk'!A1028","v":"R-019R"},{"$f":"'baza nisk'!B1028","v":"Regał gospodarczo-biurowy"},{"$f":"'baza nisk'!D1028","v":"MEBLE"},null,0,null,{"$f":"'baza nisk'!E1028","v":400},{"$f":"E1030*G1030","v":0},null,null,{"$f":"'baza nisk'!G1028","v":"Oddział Kardiologiczny"},{"$f":"IF($B$2=K1030,$B$2,\"\")","v":""},{"$f":"IF($B$2=K1030,1,\"\")","v":""},{"$f":"$B$2","v":"proszę kliknąć aby wybrać nazwę komórki organizacyjnej"},{"$f":"$H$2","v":0}]
[{"$f":"'baza nisk'!A1027","v":"R-019R"},{"$f":"'baza nisk'!B1027","v":"Regał gospodarczo-biurowy"},{"$f":"'baza nisk'!D1027","v":"MEBLE"},null,0,null,{"$f":"'baza nisk'!E1027","v":400},0,null,null,{"$f":"'baza nisk'!G1027","v":"Intensywna Terapia"},"","","proszę kliknąć aby wybrać nazwę komórki organizacyjnej",0]
[{"$f":"'baza nisk'!A1029","v":"R-019S"},{"$f":"'baza nisk'!B1029","v":"Regał 156x36x125h"},{"$f":"'baza nisk'!D1029","v":"MEBLE"},null,0,null,{"$f":"'baza nisk'!E1029","v":400},0,null,null,{"$f":"'baza nisk'!G1029","v":"Oddział Kardiologii Dziecięcej z Pododdziałem Kardiochirurgi"},"","","proszę kliknąć aby wybrać nazwę komórki organizacyjnej",0]
[{"$f":"'baza nisk'!A1030","v":"R-019T"},{"$f":"'baza nisk'!B1030","v":"Regał otwarty 60x28x190h"},{"$f":"'baza nisk'!D1030","v":"MEBLE"},null,0,null,{"$f":"'baza nisk'!E1030","v":300},0,null,null,{"$f":"'baza nisk'!G1030","v":"Oddział Kardiologii Dziecięcej z Pododdziałem Kardiochirurgi"},"","","proszę kliknąć aby wybrać nazwę komórki organizacyjnej",0]
[{"$f":"'baza nisk'!A1031","v":"R-019U"},{"$f":"'baza nisk'!B1031","v":"Regał z szufladą"},{"$f":"'baza nisk'!D1031","v":"MEBLE"},null,0,null,{"$f":"'baza nisk'!E1031","v":300},0,null,null,{"$f":"'baza nisk'!G1031","v":"Zamiejscowy Oddział Rehabilitacji Neurologicznej"},"","","proszę kliknąć aby wybrać nazwę komórki organizacyjnej",0]
[{"$f":"'baza nisk'!A1032","v":"R-019W"},{"$f":"'baza nisk'!B1032","v":"Regał na książki"},{"$f":"'baza nisk'!D1032","v":"MEBLE"},null,0,null,{"$f":"'baza nisk'!E1032","v":300},0,null,null,{"$f":"'baza nisk'!G1032","v":"Zamiejscowy Oddział Rehabilitacji Neurologicznej"},"","","proszę kliknąć aby wybrać nazwę komórki organizacyjnej",0]
[{"$f":"'baza nisk'!A1033","v":"R-019X"},{"$f":"'baza nisk'!B1033","v":"Regał 60 z koszem"},{"$f":"'baza nisk'!D1033","v":"MEBLE"},null,0,null,{"$f":"'baza nisk'!E1033","v":300},0,null,null,{"$f":"'baza nisk'!G1033","v":"Pracownia Endoskopii"},"","","proszę kliknąć aby wybrać nazwę komórki organizacyjnej",0]
[{"$f":"'baza nisk'!A1034","v":"R-019Y"},{"$f":"'baza nisk'!B1034","v":"Regał 675X380X2025h"},{"$f":"'baza nisk'!D1034","v":"MEBLE"},null,0,null,{"$f":"'baza nisk'!E1034","v":799.5},0,null,null,{"$f":"'baza nisk'!G1034","v":"Zamiejscowy Blok Operacyjny"},"","","proszę kliknąć aby wybrać nazwę komórki organizacyjnej",0]
[{"$f":"'baza nisk'!A1035","v":"R-019Z"},{"$f":"'baza nisk'!B1035","v":"Regał 80"},{"$f":"'baza nisk'!D1035","v":"MEBLE"},null,0,null,{"$f":"'baza nisk'!E1035","v":300},0,null,null,{"$f":"'baza nisk'!G1035","v":"Pracownia Endoskopii"},"","","proszę kliknąć aby wybrać nazwę komórki organizacyjnej",0]
[{"$f":"'baza nisk'!A1036","v":"R-019Ź"},{"$f":"'baza nisk'!B1036","v":"Regał 60 z szufladami"},{"$f":"'baza nisk'!D1036","v":"MEBLE"},null,0,null,{"$f":"'baza nisk'!E1036","v":450},0,null,null,{"$f":"'baza nisk'!G1036","v":"Pracownia Endoskopii"},"","","proszę kliknąć aby wybrać nazwę komórki organizacyjnej",0]
[{"$f":"'baza nisk'!A1037","v":"R-019Ż"},{"$f":"'baza nisk'!B1037","v":"Regał 70"},{"$f":"'baza nisk'!D1037","v":"MEBLE"},null,0,null,{"$f":"'baza nisk'!E1037","v":300},0,null,null,{"$f":"'baza nisk'!G1037","v":"Pracownia Endoskopii"},"","","proszę kliknąć aby wybrać nazwę komórki organizacyjnej",0]
[{"$f":"'baza nisk'!A1038","v":"R-022B"},{"$f":"'baza nisk'!B1038","v":"Resuscytator dla dorosłych typ Ambu Mark IV"},{"$f":"'baza nisk'!D1038","v":"MED. NISK. ŚR. TRW."},null,0,null,{"$f":"'baza nisk'!E1038","v":619.91999999999996},0,null,null,{"$f":"'baza nisk'!G1038","v":"Anestezjologia"},"","","proszę kliknąć aby wybrać nazwę komórki organizacyjnej",0]
[{"$f":"'baza nisk'!A1048","v":"R-022B"},{"$f":"'baza nisk'!B1048","v":"Resuscytator dla dorosłych typ Ambu Mark IV"},{"$f":"'baza nisk'!D1048","v":"MED. NISK. ŚR. TRW."},null,0,null,{"$f":"'baza nisk'!E1048","v":619.91999999999996},0,null,null,{"$f":"'baza nisk'!G1048","v":"Poradnia Dermatologiczna"},"","","proszę kliknąć aby wybrać nazwę komórki organizacyjnej",0]
[{"$f":"'baza nisk'!A1052","v":"R-022B"},{"$f":"'baza nisk'!B1052","v":"Resuscytator dla dorosłych typ Ambu Mark IV"},{"$f":"'baza nisk'!D1052","v":"MED. NISK. ŚR. TRW."},null,0,null,{"$f":"'baza nisk'!E1052","v":619.91999999999996},0,null,null,{"$f":"'baza nisk'!G1052","v":"Zamiejscowy Blok Operacyjny"},"","","proszę kliknąć aby wybrać nazwę komórki organizacyjnej",0]
[{"$f":"'baza nisk'!A1051","v":"R-022B"},{"$f":"'baza nisk'!B1051","v":"Resuscytator dla dorosłych typ Ambu Mark IV"},{"$f":"'baza nisk'!D1051","v":"MED. NISK. ŚR. TRW."},null,0,null,{"$f":"'baza nisk'!E1051","v":619.91999999999996},0,null,null,{"$f":"'baza nisk'!G1051","v":"SOR"},"","","proszę kliknąć aby wybrać nazwę komórki organizacyjnej",0]
[{"$f":"'baza nisk'!A1053","v":"R-022B"},{"$f":"'baza nisk'!B1053","v":"Resuscytator dla dorosłych typ Ambu Mark IV"},{"$f":"'baza nisk'!D1053","v":"MED. NISK. ŚR. TRW."},null,0,null,{"$f":"'baza nisk'!E1053","v":619.91999999999996},0,null,null,{"$f":"'baza nisk'!G1053","v":"Zamiejscowy Oddział Chirurgii Urazowo - Ortopedycznej"},"","","proszę kliknąć aby wybrać nazwę komórki organizacyjnej",0]
[{"$f":"'baza nisk'!A1050","v":"R-022B"},{"$f":"'baza nisk'!B1050","v":"Resuscytator dla dorosłych typ Ambu Mark IV"},{"$f":"'baza nisk'!D1050","v":"MED. NISK. ŚR. TRW."},null,0,null,{"$f":"'baza nisk'!E1050","v":619.91999999999996},0,null,null,{"$f":"'baza nisk'!G1050","v":"Poradnia Nefrologiczna"},"","","proszę kliknąć aby wybrać nazwę komórki organizacyjnej",0]
[{"$f":"'baza nisk'!A1049","v":"R-022B"},{"$f":"'baza nisk'!B1049","v":"Resuscytator dla dorosłych typ Ambu Mark IV"},{"$f":"'baza nisk'!D1049","v":"MED. NISK. ŚR. TRW."},null,0,null,{"$f":"'baza nisk'!E1049","v":619.91999999999996},0,null,null,{"$f":"'baza nisk'!G1049","v":"Poradnia Kardiologiczna dla Dzieci"},"","","proszę kliknąć aby wybrać nazwę komórki organizacyjnej",0]
[{"$f":"'baza nisk'!A1041","v":"R-022B"},{"$f":"'baza nisk'!B1041","v":"Resuscytator dla dorosłych typ Ambu Mark IV"},{"$f":"'baza nisk'!D1041","v":"MED. NISK. ŚR. TRW."},null,0,null,{"$f":"'baza nisk'!E1041","v":619.91999999999996},0,null,null,{"$f":"'baza nisk'!G1041","v":"Oddział Chirurgii Naczyniowej"},"","","proszę kliknąć aby wybrać nazwę komórki organizacyjnej",0]
[{"$f":"'baza nisk'!A1042","v":"R-022B"},{"$f":"'baza nisk'!B1042","v":"Resuscytator dla dorosłych typ Ambu Mark IV"},{"$f":"'baza nisk'!D1042","v":"MED. NISK. ŚR. TRW."},null,0,null,{"$f":"'baza nisk'!E1042","v":619.91999999999996},0,null,null,{"$f":"'baza nisk'!G1042","v":"Oddział Kardiologiczny"},"","","proszę kliknąć aby wybrać nazwę komórki organizacyjnej",0]
[{"$f":"'baza nisk'!A1054","v":"R-022B"},{"$f":"'baza nisk'!B1054","v":"Resuscytator dla dorosłych typ Ambu Mark IV"},{"$f":"'baza nisk'!D1054","v":"MED. NISK. ŚR. TRW."},null,0,null,{"$f":"'baza nisk'!E1054","v":619.91999999999996},0,null,null,{"$f":"'baza nisk'!G1054","v":"Zamiejscowy Oddział Rehabilitacji Ogólnoustrojowej II"},"","","proszę kliknąć aby wybrać nazwę komórki organizacyjnej",0]
[{"$f":"'baza nisk'!A1039","v":"R-022B"},{"$f":"'baza nisk'!B1039","v":"Resuscytator dla dorosłych typ Ambu Mark IV"},{"$f":"'baza nisk'!D1039","v":"MED. NISK. ŚR. TRW."},null,0,null,{"$f":"'baza nisk'!E1039","v":619.91999999999996},0,null,null,{"$f":"'baza nisk'!G1039","v":"Intensywna Terapia"},"","","proszę kliknąć aby wybrać nazwę komórki organizacyjnej",0]
[{"$f":"'baza nisk'!A1046","v":"R-022B"},{"$f":"'baza nisk'!B1046","v":"Resuscytator dla dorosłych typ Ambu Mark IV"},{"$f":"'baza nisk'!D1046","v":"MED. NISK. ŚR. TRW."},null,0,null,{"$f":"'baza nisk'!E1046","v":619.91999999999996},0,null,null,{"$f":"'baza nisk'!G1046","v":"Oddział Położniczo – Ginekologiczny"},"","","proszę kliknąć aby wybrać nazwę komórki organizacyjnej",0]
[{"$f":"'baza nisk'!A1043","v":"R-022B"},{"$f":"'baza nisk'!B1043","v":"Resuscytator dla dorosłych typ Ambu Mark IV"},{"$f":"'baza nisk'!D1043","v":"MED. NISK. ŚR. TRW."},null,0,null,{"$f":"'baza nisk'!E1043","v":619.91999999999996},0,null,null,{"$f":"'baza nisk'!G1043","v":"Oddział Kardiologii Dziecięcej z Pododdziałem Kardiochirurgi"},"","","proszę kliknąć aby wybrać nazwę komórki organizacyjnej",0]
[{"$f":"'baza nisk'!A1047","v":"R-022B"},{"$f":"'baza nisk'!B1047","v":"Resuscytator dla dorosłych typ Ambu Mark IV"},{"$f":"'baza nisk'!D1047","v":"MED. NISK. ŚR. TRW."},null,0,null,{"$f":"'baza nisk'!E1047","v":619.91999999999996},0,null,null,{"$f":"'baza nisk'!G1047","v":"Poradnia Angiologiczna"},"","","proszę kliknąć aby wybrać nazwę komórki organizacyjnej",0]
[{"$f":"'baza nisk'!A1044","v":"R-022B"},{"$f":"'baza nisk'!B1044","v":"Resuscytator dla dorosłych typ Ambu Mark IV"},{"$f":"'baza nisk'!D1044","v":"MED. NISK. ŚR. TRW."},null,0,null,{"$f":"'baza nisk'!E1044","v":619.91999999999996},0,null,null,{"$f":"'baza nisk'!G1044","v":"Oddział Nefrologiczny"},"","","proszę kliknąć aby wybrać nazwę komórki organizacyjnej",0]
[{"$f":"'baza nisk'!A1045","v":"R-022B"},{"$f":"'baza nisk'!B1045","v":"Resuscytator dla dorosłych typ Ambu Mark IV"},{"$f":"'baza nisk'!D1045","v":"MED. NISK. ŚR. TRW."},null,0,null,{"$f":"'baza nisk'!E1045","v":619.91999999999996},0,null,null,{"$f":"'baza nisk'!G1045","v":"Oddział Okulistyczny"},"","","proszę kliknąć aby wybrać nazwę komórki organizacyjnej",0]
[{"$f":"'baza nisk'!A1040","v":"R-022B"},{"$f":"'baza nisk'!B1040","v":"Resuscytator dla dorosłych typ Ambu Mark IV"},{"$f":"'baza nisk'!D1040","v":"MED. NISK. ŚR. TRW."},null,0,null,{"$f":"'baza nisk'!E1040","v":619.91999999999996},0,null,null,{"$f":"'baza nisk'!G1040","v":"Oddział Angiologiczny z Pododdziałem Diabetologii"},"","","proszę kliknąć aby wybrać nazwę komórki organizacyjnej",0]
[{"$f":"'baza nisk'!A1058","v":"R-022C"},{"$f":"'baza nisk'!B1058","v":"Resuscytator dla noworodków i niemowląt typ Amb"},{"$f":"'baza nisk'!D1058","v":"MED. NISK. ŚR. TRW."},null,0,null,{"$f":"'baza nisk'!E1058","v":606.96},0,null,null,{"$f":"'baza nisk'!G1058","v":"Oddział Okulistyczny"},"","","proszę kliknąć aby wybrać nazwę komórki organizacyjnej",0]
[{"$f":"'baza nisk'!A1059","v":"R-022C"},{"$f":"'baza nisk'!B1059","v":"Resuscytator dla noworodków i niemowląt typ Amb"},{"$f":"'baza nisk'!D1059","v":"MED. NISK. ŚR. TRW."},null,0,null,{"$f":"'baza nisk'!E1059","v":606.96},0,null,null,{"$f":"'baza nisk'!G1059","v":"Oddział Położniczo – Ginekologiczny"},"","","proszę kliknąć aby wybrać nazwę komórki organizacyjnej",0]
[{"$f":"'baza nisk'!A1061","v":"R-022C"},{"$f":"'baza nisk'!B1061","v":"Resuscytator dla noworodków i niemowląt typ Amb"},{"$f":"'baza nisk'!D1061","v":"MED. NISK. ŚR. TRW."},null,0,null,{"$f":"'baza nisk'!E1061","v":606.96},0,null,null,{"$f":"'baza nisk'!G1061","v":"Poradnia Okulistyczna"},"","","proszę kliknąć aby wybrać nazwę komórki organizacyjnej",0]
[{"$f":"'baza nisk'!A1060","v":"R-022C"},{"$f":"'baza nisk'!B1060","v":"Resuscytator dla noworodków i niemowląt typ Amb"},{"$f":"'baza nisk'!D1060","v":"MED. NISK. ŚR. TRW."},null,0,null,{"$f":"'baza nisk'!E1060","v":606.96},0,null,null,{"$f":"'baza nisk'!G1060","v":"Poradnia Kardiologiczna dla Dzieci"},"","","proszę kliknąć aby wybrać nazwę komórki organizacyjnej",0]
[{"$f":"'baza nisk'!A1055","v":"R-022C"},{"$f":"'baza nisk'!B1055","v":"Resuscytator dla noworodków i niemowląt typ Amb"},{"$f":"'baza nisk'!D1055","v":"MED. NISK. ŚR. TRW."},null,0,null,{"$f":"'baza nisk'!E1055","v":606.96},0,null,null,{"$f":"'baza nisk'!G1055","v":"Anestezjologia"},"","","proszę kliknąć aby wybrać nazwę komórki organizacyjnej",0]
[{"$f":"'baza nisk'!A1056","v":"R-022C"},{"$f":"'baza nisk'!B1056","v":"Resuscytator dla noworodków i niemowląt typ Amb"},{"$f":"'baza nisk'!D1056","v":"MED. NISK. ŚR. TRW."},null,0,null,{"$f":"'baza nisk'!E1056","v":606.96},0,null,null,{"$f":"'baza nisk'!G1056","v":"Oddział Kardiologii Dziecięcej z Pododdziałem Kardiochirurgi"},"","","proszę kliknąć aby wybrać nazwę komórki organizacyjnej",0]
[{"$f":"'baza nisk'!A1057","v":"R-022C"},{"$f":"'baza nisk'!B1057","v":"Resuscytator dla noworodków i niemowląt typ Amb"},{"$f":"'baza nisk'!D1057","v":"MED. NISK. ŚR. TRW."},null,0,null,{"$f":"'baza nisk'!E1057","v":606.96},0,null,null,{"$f":"'baza nisk'!G1057","v":"Oddział Neonatologiczny z Pododdziałem Patologii Noworodka"},"","","proszę kliknąć aby wybrać nazwę komórki organizacyjnej",0]
[{"$f":"'baza nisk'!A1064","v":"R-022D"},{"$f":"'baza nisk'!B1064","v":"Resuscytator pediatryczny typ Ambu Oval PLUS"},{"$f":"'baza nisk'!D1064","v":"MED. NISK. ŚR. TRW."},null,0,null,{"$f":"'baza nisk'!E1064","v":606.96},0,null,null,{"$f":"'baza nisk'!G1064","v":"Poradnia Kardiologiczna dla Dzieci"},"","","proszę kliknąć aby wybrać nazwę komórki organizacyjnej",0]
[{"$f":"'baza nisk'!A1063","v":"R-022D"},{"$f":"'baza nisk'!B1063","v":"Resuscytator pediatryczny typ Ambu Oval PLUS"},{"$f":"'baza nisk'!D1063","v":"MED. NISK. ŚR. TRW."},null,0,null,{"$f":"'baza nisk'!E1063","v":606.96},0,null,null,{"$f":"'baza nisk'!G1063","v":"Oddział Kardiologii Dziecięcej z Pododdziałem Kardiochirurgi"},"","","proszę kliknąć aby wybrać nazwę komórki organizacyjnej",0]
[{"$f":"'baza nisk'!A1062","v":"R-022D"},{"$f":"'baza nisk'!B1062","v":"Resuscytator pediatryczny typ Ambu Oval PLUS"},{"$f":"'baza nisk'!D1062","v":"MED. NISK. ŚR. TRW."},null,0,null,{"$f":"'baza nisk'!E1062","v":606.96},0,null,null,{"$f":"'baza nisk'!G1062","v":"Anestezjologia"},"","","proszę kliknąć aby wybrać nazwę komórki organizacyjnej",0]
[{"$f":"'baza nisk'!A1065","v":"R-039A"},{"$f":"'baza nisk'!B1065","v":"Regał wiszący otwarty "},{"$f":"'baza nisk'!D1065","v":"MEBLE"},null,0,null,{"$f":"'baza nisk'!E1065","v":350},0,null,null,{"$f":"'baza nisk'!G1065","v":"Oddział Neonatologiczny"},"","","proszę kliknąć aby wybrać nazwę komórki organizacyjnej",0]
[{"$f":"'baza nisk'!A1066","v":"R-045"},{"$f":"'baza nisk'!B1066","v":"Regał na baseny i kaczki"},{"$f":"'baza nisk'!D1066","v":"MEBLE"},null,0,null,{"$f":"'baza nisk'!E1066","v":2100},0,null,null,{"$f":"'baza nisk'!G1066","v":"Oddział Chirurgii Ogólnej z Pododdziałami"},"","","proszę kliknąć aby wybrać nazwę komórki organizacyjnej",0]
[{"$f":"'baza nisk'!A1067","v":"R-046B"},{"$f":"'baza nisk'!B1067","v":"Regał magazynowy pięciopółkowy"},{"$f":"'baza nisk'!D1067","v":"POZOSTAŁE"},null,0,null,{"$f":"'baza nisk'!E1067","v":940},0,null,null,{"$f":"'baza nisk'!G1067","v":"Dział Centralnej Sterylizatorni i DDD"},"","","proszę kliknąć aby wybrać nazwę komórki organizacyjnej",0]
[{"$f":"'baza nisk'!A1068","v":"R-046C"},{"$f":"'baza nisk'!B1068","v":"Regał magazynowy ze stali kwasoodpornej "},{"$f":"'baza nisk'!D1068","v":"MEBLE"},null,0,null,{"$f":"'baza nisk'!E1068","v":2300},0,null,null,{"$f":"'baza nisk'!G1068","v":"Intensywna Terapia"},"","","proszę kliknąć aby wybrać nazwę komórki organizacyjnej",0]
[{"$f":"'baza nisk'!A1069","v":"R-046D"},{"$f":"'baza nisk'!B1069","v":"Regał magazynowy ze stali kwasoodpornej "},{"$f":"'baza nisk'!D1069","v":"MEBLE"},null,0,null,{"$f":"'baza nisk'!E1069","v":2300},0,null,null,{"$f":"'baza nisk'!G1069","v":"Intensywna Terapia"},"","","proszę kliknąć aby wybrać nazwę komórki organizacyjnej",0]
[{"$f":"'baza nisk'!A1070","v":"R-046E"},{"$f":"'baza nisk'!B1070","v":"Regał magazynowy ze stali kwasoodpornej "},{"$f":"'baza nisk'!D1070","v":"MEBLE"},null,0,null,{"$f":"'baza nisk'!E1070","v":2300},0,null,null,{"$f":"'baza nisk'!G1070","v":"Intensywna Terapia"},"","","proszę kliknąć aby wybrać nazwę komórki organizacyjnej",0]
[{"$f":"'baza nisk'!A1071","v":"R-047A"},{"$f":"'baza nisk'!B1071","v":"Rower rehabilitacyjny GOLF R"},{"$f":"'baza nisk'!D1071","v":"POZOSTAŁE"},null,0,null,{"$f":"'baza nisk'!E1071","v":3500},0,null,null,{"$f":"'baza nisk'!G1071","v":"Zamiejscowy Dział Rehabilitacji Leczniczej"},"","","proszę kliknąć aby wybrać nazwę komórki organizacyjnej",0]
[{"$f":"'baza nisk'!A1072","v":"R-056"},{"$f":"'baza nisk'!B1072","v":"Radio"},{"$f":"'baza nisk'!D1072","v":"SPRZĘT AGD"},null,0,null,{"$f":"'baza nisk'!E1072","v":119},0,null,null,{"$f":"'baza nisk'!G1072","v":"Zamiejscowy Oddział Rehabilitacji Neurologicznej"},"","","proszę kliknąć aby wybrać nazwę komórki organizacyjnej",0]
[{"$f":"'baza nisk'!A1073","v":"R-056A"},{"$f":"'baza nisk'!B1073","v":"Radio  z odtwarzaczem płyt CD"},{"$f":"'baza nisk'!D1073","v":"SPRZĘT AGD"},null,0,null,{"$f":"'baza nisk'!E1073","v":279.99},0,null,null,{"$f":"'baza nisk'!G1073","v":"Zamiejscowy Oddział Rehabilitacji Neurologicznej"},"","","proszę kliknąć aby wybrać nazwę komórki organizacyjnej",0]
[{"$f":"'baza nisk'!A1074","v":"R-059"},{"$f":"'baza nisk'!B1074","v":"Rękojeść do trepanu H-2560/5"},{"$f":"'baza nisk'!D1074","v":"NARZ. MEDYCZNE"},null,0,null,{"$f":"'baza nisk'!E1074","v":200},0,null,null,{"$f":"'baza nisk'!G1074","v":"Oddział Okulistyczny"},"","","proszę kliknąć aby wybrać nazwę komórki organizacyjnej",0]
[{"$f":"'baza nisk'!A1075","v":"R-060"},{"$f":"'baza nisk'!B1075","v":"Refraktor PTR PTR,Pinky Trigger Articulating Di"},{"$f":"'baza nisk'!D1075","v":"MED. NISK. ŚR. TRW."},null,0,null,{"$f":"'baza nisk'!E1075","v":10260},0,null,null,{"$f":"'baza nisk'!G1075","v":"Blok Operacyjny"},"","","proszę kliknąć aby wybrać nazwę komórki organizacyjnej",0]
[{"$f":"'baza nisk'!A1076","v":"R-063"},{"$f":"'baza nisk'!B1076","v":"Rękojeść-GRYF do laryngoskopu światł. do trudny"},{"$f":"'baza nisk'!D1076","v":"NARZ. MEDYCZNE"},null,0,null,{"$f":"'baza nisk'!E1076","v":250},0,null,null,{"$f":"'baza nisk'!G1076","v":"Anestezjologia"},"","","proszę kliknąć aby wybrać nazwę komórki organizacyjnej",0]
[{"$f":"'baza nisk'!A1077","v":"R-063"},{"$f":"'baza nisk'!B1077","v":"Rękojeść-GRYF do laryngoskopu światł. do trudny"},{"$f":"'baza nisk'!D1077","v":"NARZ. MEDYCZNE"},null,0,null,{"$f":"'baza nisk'!E1077","v":250},0,null,null,{"$f":"'baza nisk'!G1077","v":"Intensywna Terapia"},"","","proszę kliknąć aby wybrać nazwę komórki organizacyjnej",0]
[{"$f":"'baza nisk'!A1078","v":"R-064"},{"$f":"'baza nisk'!B1078","v":"Ręcznik PORTO"},{"$f":"'baza nisk'!D1078","v":"POŚCIEL SZPITAL"},null,0,null,{"$f":"'baza nisk'!E1078","v":15},0,null,null,{"$f":"'baza nisk'!G1078","v":"Hotel Pracowniczy"},"","","proszę kliknąć aby wybrać nazwę komórki organizacyjnej",0]
[{"$f":"'baza nisk'!A1079","v":"R-064"},{"$f":"'baza nisk'!B1079","v":"Ręcznik PORTO"},{"$f":"'baza nisk'!D1079","v":"POŚCIEL SZPITAL"},null,0,null,{"$f":"'baza nisk'!E1079","v":15},0,null,null,{"$f":"'baza nisk'!G1079","v":"Sekretariat"},"","","proszę kliknąć aby wybrać nazwę komórki organizacyjnej",0]
[{"$f":"'baza nisk'!A1080","v":"R-074"},{"$f":"'baza nisk'!B1080","v":"Równoważnia Balance Beam z pianki 162x24x6cm"},{"$f":"'baza nisk'!D1080","v":"MATERIAŁY DO REHABILITACJI"},null,0,null,{"$f":"'baza nisk'!E1080","v":397.01},0,null,null,{"$f":"'baza nisk'!G1080","v":"Zamiejscowy Dział Rehabilitacji Leczniczej"},"","","proszę kliknąć aby wybrać nazwę komórki organizacyjnej",0]
[{"$f":"'baza nisk'!A1081","v":"R-076"},{"$f":"'baza nisk'!B1081","v":"Rozwórka do powiek niemowlęca T.prosta"},{"$f":"'baza nisk'!D1081","v":"NARZ. MEDYCZNE"},null,0,null,{"$f":"'baza nisk'!E1081","v":45},0,null,null,{"$f":"'baza nisk'!G1081","v":"Oddział Okulistyczny"},"","","proszę kliknąć aby wybrać nazwę komórki organizacyjnej",0]
[{"$f":"'baza nisk'!A1082","v":"R-077"},{"$f":"'baza nisk'!B1082","v":"Rozwórka Cook #1 8mm"},{"$f":"'baza nisk'!D1082","v":"NARZ. MEDYCZNE"},null,0,null,{"$f":"'baza nisk'!E1082","v":471},0,null,null,{"$f":"'baza nisk'!G1082","v":"Oddział Okulistyczny"},"","","proszę kliknąć aby wybrać nazwę komórki organizacyjnej",0]
[{"$f":"'baza nisk'!A1083","v":"R-080"},{"$f":"'baza nisk'!B1083","v":"Rozszerzadło z kanałem na drut prowadzący do za"},{"$f":"'baza nisk'!D1083","v":"NARZ. MEDYCZNE"},null,0,null,{"$f":"'baza nisk'!E1083","v":630},0,null,null,{"$f":"'baza nisk'!G1083","v":"Oddział Urologii i Urologii Onkologicznej"},"","","proszę kliknąć aby wybrać nazwę komórki organizacyjnej",0]
[{"$f":"'baza nisk'!A1084","v":"R-080A"},{"$f":"'baza nisk'!B1084","v":"Rozszerzadło z 2 kanałami na drut prowadzący do"},{"$f":"'baza nisk'!D1084","v":"NARZ. MEDYCZNE"},null,0,null,{"$f":"'baza nisk'!E1084","v":850},0,null,null,{"$f":"'baza nisk'!G1084","v":"Oddział Urologii i Urologii Onkologicznej"},"","","proszę kliknąć aby wybrać nazwę komórki organizacyjnej",0]
[{"$f":"'baza nisk'!A1085","v":"R-084"},{"$f":"'baza nisk'!B1085","v":"Rozwieracz ADSON ostry 3x4Z.265mm BV252R"},{"$f":"'baza nisk'!D1085","v":"NARZ. MEDYCZNE"},null,0,null,{"$f":"'baza nisk'!E1085","v":1250},0,null,null,{"$f":"'baza nisk'!G1085","v":"Blok Operacyjny"},"","","proszę kliknąć aby wybrać nazwę komórki organizacyjnej",0]
[{"$f":"'baza nisk'!A1086","v":"R-085"},{"$f":"'baza nisk'!B1086","v":"Rozpieracz rany NORFOLK/NORWICH 220mm BV248R"},{"$f":"'baza nisk'!D1086","v":"NARZ. MEDYCZNE"},null,0,null,{"$f":"'baza nisk'!E1086","v":1600},0,null,null,{"$f":"'baza nisk'!G1086","v":"Blok Operacyjny"},"","","proszę kliknąć aby wybrać nazwę komórki organizacyjnej",0]
[{"$f":"'baza nisk'!A1087","v":"R-085"},{"$f":"'baza nisk'!B1087","v":"Rozpieracz rany NORFOLK/NORWICH 220mm BV248R"},{"$f":"'baza nisk'!D1087","v":"NARZ. MEDYCZNE"},null,0,null,{"$f":"'baza nisk'!E1087","v":1600},0,null,null,{"$f":"'baza nisk'!G1087","v":"Zamiejscowy Blok Operacyjny"},"","","proszę kliknąć aby wybrać nazwę komórki organizacyjnej",0]
[{"$f":"'baza nisk'!A1088","v":"R-086"},{"$f":"'baza nisk'!B1088","v":"Rozwieracz WEITLANER półostry 3x4Z.165mm BV068R"},{"$f":"'baza nisk'!D1088","v":"NARZ. MEDYCZNE"},null,0,null,{"$f":"'baza nisk'!E1088","v":500},0,null,null,{"$f":"'baza nisk'!G1088","v":"Blok Operacyjny"},"","","proszę kliknąć aby wybrać nazwę komórki organizacyjnej",0]
[{"$f":"'baza nisk'!A1089","v":"R-086"},{"$f":"'baza nisk'!B1089","v":"Rozwieracz WEITLANER półostry 3x4Z.165mm BV068R"},{"$f":"'baza nisk'!D1089","v":"NARZ. MEDYCZNE"},null,0,null,{"$f":"'baza nisk'!E1089","v":500},0,null,null,{"$f":"'baza nisk'!G1089","v":"Zamiejscowy Blok Operacyjny"},"","","proszę kliknąć aby wybrać nazwę komórki organizacyjnej",0]
[{"$f":"'baza nisk'!A1090","v":"R-088"},{"$f":"'baza nisk'!B1090","v":"Retraktor HENDERSON pr.te.4x4z.ostry BV113R"},{"$f":"'baza nisk'!D1090","v":"NARZ. MEDYCZNE"},null,0,null,{"$f":"'baza nisk'!E1090","v":1200},0,null,null,{"$f":"'baza nisk'!G1090","v":"Blok Operacyjny"},"","","proszę kliknąć aby wybrać nazwę komórki organizacyjnej",0]
[{"$f":"'baza nisk'!A1091","v":"S-044"},{"$f":"'baza nisk'!B1091","v":"Stolik typu Mayo do instrumentów chirurgicznych"},{"$f":"'baza nisk'!D1091","v":"MEBLE MEDYCZNE"},null,0,null,{"$f":"'baza nisk'!E1091","v":1050},{"$f":"E1094*G1094","v":0},null,null,{"$f":"'baza nisk'!G1091","v":"Intensywna Terapia"},{"$f":"IF($B$2=K1094,$B$2,\"\")","v":""},{"$f":"IF($B$2=K1094,1,\"\")","v":""},{"$f":"$B$2","v":"proszę kliknąć aby wybrać nazwę komórki organizacyjnej"},{"$f":"$H$2","v":0}]
[{"$f":"'baza nisk'!A1092","v":"S-045"},{"$f":"'baza nisk'!B1092","v":"Stolik zabiegowyze stali nierdzewnej "},{"$f":"'baza nisk'!D1092","v":"MEBLE MEDYCZNE"},null,0,null,{"$f":"'baza nisk'!E1092","v":1150},0,null,null,{"$f":"'baza nisk'!G1092","v":"Oddział Okulistyczny"},"","","proszę kliknąć aby wybrać nazwę komórki organizacyjnej",0]
[{"$f":"'baza nisk'!A1093","v":"S-046"},{"$f":"'baza nisk'!B1093","v":"Stolik 60x50x60"},{"$f":"'baza nisk'!D1093","v":"MEBLE"},null,0,null,{"$f":"'baza nisk'!E1093","v":400},0,null,null,{"$f":"'baza nisk'!G1093","v":"Zamiejscowy Oddział Rehabilitacji Ogólnoustrojowej II"},"","","proszę kliknąć aby wybrać nazwę komórki organizacyjnej",0]
[{"$f":"'baza nisk'!A1094","v":"S-046A"},{"$f":"'baza nisk'!B1094","v":"Stolik pod drukarkę"},{"$f":"'baza nisk'!D1094","v":"MEBLE"},null,0,null,{"$f":"'baza nisk'!E1094","v":320},0,null,null,{"$f":"'baza nisk'!G1094","v":"Dział Księgowości i Finansów"},"","","proszę kliknąć aby wybrać nazwę komórki organizacyjnej",0]
[{"$f":"'baza nisk'!A1095","v":"S-046B"},{"$f":"'baza nisk'!B1095","v":"Stolik nocny"},{"$f":"'baza nisk'!D1095","v":"MEBLE"},null,0,null,{"$f":"'baza nisk'!E1095","v":100},0,null,null,{"$f":"'baza nisk'!G1095","v":"Hotel Pracowniczy"},"","","proszę kliknąć aby wybrać nazwę komórki organizacyjnej",0]
[{"$f":"'baza nisk'!A1096","v":"S-046C"},{"$f":"'baza nisk'!B1096","v":"Stolik"},{"$f":"'baza nisk'!D1096","v":"MEBLE"},null,0,null,{"$f":"'baza nisk'!E1096","v":100},0,null,null,{"$f":"'baza nisk'!G1096","v":"Intensywna Terapia"},"","","proszę kliknąć aby wybrać nazwę komórki organizacyjnej",0]
[{"$f":"'baza nisk'!A1097","v":"S-046D"},{"$f":"'baza nisk'!B1097","v":"Stolik na sprzęt do monitoringu p/poż."},{"$f":"'baza nisk'!D1097","v":"MEBLE"},null,0,null,{"$f":"'baza nisk'!E1097","v":343.8},0,null,null,{"$f":"'baza nisk'!G1097","v":"SekcjaGospodarcza i Obsługa (cześć wspólna)"},"","","proszę kliknąć aby wybrać nazwę komórki organizacyjnej",0]
[{"$f":"'baza nisk'!A1099","v":"S-046E"},{"$f":"'baza nisk'!B1099","v":"Stolik na walizkę"},{"$f":"'baza nisk'!D1099","v":"MEBLE"},null,0,null,{"$f":"'baza nisk'!E1099","v":345.52},0,null,null,{"$f":"'baza nisk'!G1099","v":"DODO -Pracownia RTG"},"","","proszę kliknąć aby wybrać nazwę komórki organizacyjnej",0]
[{"$f":"'baza nisk'!A1098","v":"S-046E"},{"$f":"'baza nisk'!B1098","v":"Stolik na walizkę"},{"$f":"'baza nisk'!D1098","v":"MEBLE"},null,0,null,{"$f":"'baza nisk'!E1098","v":345.52},0,null,null,{"$f":"'baza nisk'!G1098","v":"DODO -Pracowania Tomografii Komputerowej"},"","","proszę kliknąć aby wybrać nazwę komórki organizacyjnej",0]
[{"$f":"'baza nisk'!A1100","v":"S-046F"},{"$f":"'baza nisk'!B1100","v":"Stolik nocny"},{"$f":"'baza nisk'!D1100","v":"MEBLE"},null,0,null,{"$f":"'baza nisk'!E1100","v":100},0,null,null,{"$f":"'baza nisk'!G1100","v":"Hotel Pracowniczy"},"","","proszę kliknąć aby wybrać nazwę komórki organizacyjnej",0]
[{"$f":"'baza nisk'!A1101","v":"S-047A"},{"$f":"'baza nisk'!B1101","v":"Szafka górna \"80\""},{"$f":"'baza nisk'!D1101","v":"MEBLE"},null,0,null,{"$f":"'baza nisk'!E1101","v":200},0,null,null,{"$f":"'baza nisk'!G1101","v":"Hotel Pracowniczy"},"","","proszę kliknąć aby wybrać nazwę komórki organizacyjnej",0]
[{"$f":"'baza nisk'!A1102","v":"S-047D"},{"$f":"'baza nisk'!B1102","v":"Szafka"},{"$f":"'baza nisk'!D1102","v":"MEBLE"},null,0,null,{"$f":"'baza nisk'!E1102","v":269.86},0,null,null,{"$f":"'baza nisk'!G1102","v":"Hotel Pracowniczy"},"","","proszę kliknąć aby wybrać nazwę komórki organizacyjnej",0]
[{"$f":"'baza nisk'!A1103","v":"S-048"},{"$f":"'baza nisk'!B1103","v":"Szafa gospodarcza"},{"$f":"'baza nisk'!D1103","v":"MEBLE"},null,0,null,{"$f":"'baza nisk'!E1103","v":267},0,null,null,{"$f":"'baza nisk'!G1103","v":"Dział Zaopatrzenia i Zamówień Publicznych"},"","","proszę kliknąć aby wybrać nazwę komórki organizacyjnej",0]
[{"$f":"'baza nisk'!A1104","v":"S-048A"},{"$f":"'baza nisk'!B1104","v":"Szafa gospodarcza"},{"$f":"'baza nisk'!D1104","v":"MEBLE"},null,0,null,{"$f":"'baza nisk'!E1104","v":267},0,null,null,{"$f":"'baza nisk'!G1104","v":"Pracownia Endoskopii"},"","","proszę kliknąć aby wybrać nazwę komórki organizacyjnej",0]
[{"$f":"'baza nisk'!A1105","v":"S-048B"},{"$f":"'baza nisk'!B1105","v":"Szafka gospodarcza"},{"$f":"'baza nisk'!D1105","v":"MEBLE"},null,0,null,{"$f":"'baza nisk'!E1105","v":267},0,null,null,{"$f":"'baza nisk'!G1105","v":"Pracownia Endoskopii"},"","","proszę kliknąć aby wybrać nazwę komórki organizacyjnej",0]
[{"$f":"'baza nisk'!A1106","v":"S-048C"},{"$f":"'baza nisk'!B1106","v":"Szafa gospodarcza"},{"$f":"'baza nisk'!D1106","v":"MEBLE"},null,0,null,{"$f":"'baza nisk'!E1106","v":267},0,null,null,{"$f":"'baza nisk'!G1106","v":"Dział Gospodarki Nieruchomościami i Utrzymania Ruchu"},"","","proszę kliknąć aby wybrać nazwę komórki organizacyjnej",0]
[{"$f":"'baza nisk'!A1107","v":"S-051A"},{"$f":"'baza nisk'!B1107","v":"Szczypce bipolarne okienkowe typu Fenestrated N"},{"$f":"'baza nisk'!D1107","v":"NARZ. MEDYCZNE"},null,0,null,{"$f":"'baza nisk'!E1107","v":6804},0,null,null,{"$f":"'baza nisk'!G1107","v":"Blok Operacyjny"},"","","proszę kliknąć aby wybrać nazwę komórki organizacyjnej",0]
[{"$f":"'baza nisk'!A1108","v":"S-052A"},{"$f":"'baza nisk'!B1108","v":"Szczypce bipolarne typu Maryland Nr partii M111"},{"$f":"'baza nisk'!D1108","v":"NARZ. MEDYCZNE"},null,0,null,{"$f":"'baza nisk'!E1108","v":6804},0,null,null,{"$f":"'baza nisk'!G1108","v":"Blok Operacyjny"},"","","proszę kliknąć aby wybrać nazwę komórki organizacyjnej",0]
[{"$f":"'baza nisk'!A1109","v":"S-052B"},{"$f":"'baza nisk'!B1109","v":"Szczypce bipolarne typu Maryland Nr partii M101"},{"$f":"'baza nisk'!D1109","v":"NARZ. MEDYCZNE"},null,0,null,{"$f":"'baza nisk'!E1109","v":6804},0,null,null,{"$f":"'baza nisk'!G1109","v":"Blok Operacyjny"},"","","proszę kliknąć aby wybrać nazwę komórki organizacyjnej",0]
[{"$f":"'baza nisk'!A1110","v":"S-052C"},{"$f":"'baza nisk'!B1110","v":"Szczypce bipolarne typu Maryland Nr partii N111"},{"$f":"'baza nisk'!D1110","v":"NARZ. MEDYCZNE"},null,0,null,{"$f":"'baza nisk'!E1110","v":6804},0,null,null,{"$f":"'baza nisk'!G1110","v":"Blok Operacyjny DAVINCI"},"","","proszę kliknąć aby wybrać nazwę komórki organizacyjnej",0]
[{"$f":"'baza nisk'!A1111","v":"S-053A"},{"$f":"'baza nisk'!B1111","v":"Szczypce typu ProGrasp Nr partii M10130524x2"},{"$f":"'baza nisk'!D1111","v":"NARZ. MEDYCZNE"},null,0,null,{"$f":"'baza nisk'!E1111","v":5670},0,null,null,{"$f":"'baza nisk'!G1111","v":"Blok Operacyjny"},"","","proszę kliknąć aby wybrać nazwę komórki organizacyjnej",0]
[{"$f":"'baza nisk'!A1112","v":"S-053B"},{"$f":"'baza nisk'!B1112","v":"Szczypce typu ProGrasp Nr partii M10131114X1"},{"$f":"'baza nisk'!D1112","v":"NARZ. MEDYCZNE"},null,0,null,{"$f":"'baza nisk'!E1112","v":5670},0,null,null,{"$f":"'baza nisk'!G1112","v":"Blok Operacyjny"},"","","proszę kliknąć aby wybrać nazwę komórki organizacyjnej",0]
[{"$f":"'baza nisk'!A1113","v":"S-053C"},{"$f":"'baza nisk'!B1113","v":"Szczypce typu ProGrasp Nr partii N11141105X1"},{"$f":"'baza nisk'!D1113","v":"NARZ. MEDYCZNE"},null,0,null,{"$f":"'baza nisk'!E1113","v":5670},0,null,null,{"$f":"'baza nisk'!G1113","v":"Blok Operacyjny DAVINCI"},"","","proszę kliknąć aby wybrać nazwę komórki organizacyjnej",0]
[{"$f":"'baza nisk'!A1120","v":"S-060"},{"$f":"'baza nisk'!B1120","v":"Strzygarka z ruchomą glowicą"},{"$f":"'baza nisk'!D1120","v":"POZOSTAŁE"},null,0,null,{"$f":"'baza nisk'!E1120","v":378},0,null,null,{"$f":"'baza nisk'!G1120","v":"Oddział Położniczo – Ginekologiczny"},"","","proszę kliknąć aby wybrać nazwę komórki organizacyjnej",0]
[{"$f":"'baza nisk'!A1121","v":"S-060"},{"$f":"'baza nisk'!B1121","v":"Strzygarka z ruchomą glowicą"},{"$f":"'baza nisk'!D1121","v":"POZOSTAŁE"},null,0,null,{"$f":"'baza nisk'!E1121","v":378},0,null,null,{"$f":"'baza nisk'!G1121","v":"Oddział Urologii i Urologii Onkologicznej"},"","","proszę kliknąć aby wybrać nazwę komórki organizacyjnej",0]
[{"$f":"'baza nisk'!A1114","v":"S-060"},{"$f":"'baza nisk'!B1114","v":"Strzygarka z ruchomą glowicą"},{"$f":"'baza nisk'!D1114","v":"POZOSTAŁE"},null,0,null,{"$f":"'baza nisk'!E1114","v":378},0,null,null,{"$f":"'baza nisk'!G1114","v":"Oddział Angiologiczny z Pododdziałem Diabetologii"},"","","proszę kliknąć aby wybrać nazwę komórki organizacyjnej",0]
[{"$f":"'baza nisk'!A1123","v":"S-060"},{"$f":"'baza nisk'!B1123","v":"Strzygarka z ruchomą glowicą"},{"$f":"'baza nisk'!D1123","v":"POZOSTAŁE"},null,0,null,{"$f":"'baza nisk'!E1123","v":378},0,null,null,{"$f":"'baza nisk'!G1123","v":"Zamiejscowy Oddział Chirurgii Urazowo - Ortopedycznej"},"","","proszę kliknąć aby wybrać nazwę komórki organizacyjnej",0]
[{"$f":"'baza nisk'!A1115","v":"S-060"},{"$f":"'baza nisk'!B1115","v":"Strzygarka z ruchomą glowicą"},{"$f":"'baza nisk'!D1115","v":"POZOSTAŁE"},null,0,null,{"$f":"'baza nisk'!E1115","v":378},0,null,null,{"$f":"'baza nisk'!G1115","v":"Oddział Dermatologiczny"},"","","proszę kliknąć aby wybrać nazwę komórki organizacyjnej",0]
[{"$f":"'baza nisk'!A1116","v":"S-060"},{"$f":"'baza nisk'!B1116","v":"Strzygarka z ruchomą glowicą"},{"$f":"'baza nisk'!D1116","v":"POZOSTAŁE"},null,0,null,{"$f":"'baza nisk'!E1116","v":378},0,null,null,{"$f":"'baza nisk'!G1116","v":"Oddział Kardiologiczny"},"","","proszę kliknąć aby wybrać nazwę komórki organizacyjnej",0]
[{"$f":"'baza nisk'!A1117","v":"S-060"},{"$f":"'baza nisk'!B1117","v":"Strzygarka z ruchomą glowicą"},{"$f":"'baza nisk'!D1117","v":"POZOSTAŁE"},null,0,null,{"$f":"'baza nisk'!E1117","v":378},0,null,null,{"$f":"'baza nisk'!G1117","v":"Oddział Kardiologii Dziecięcej z Pododdziałem Kardiochirurgi"},"","","proszę kliknąć aby wybrać nazwę komórki organizacyjnej",0]
[{"$f":"'baza nisk'!A1118","v":"S-060"},{"$f":"'baza nisk'!B1118","v":"Strzygarka z ruchomą glowicą"},{"$f":"'baza nisk'!D1118","v":"POZOSTAŁE"},null,0,null,{"$f":"'baza nisk'!E1118","v":378},0,null,null,{"$f":"'baza nisk'!G1118","v":"Oddział Nefrologiczny"},"","","proszę kliknąć aby wybrać nazwę komórki organizacyjnej",0]
[{"$f":"'baza nisk'!A1122","v":"S-060"},{"$f":"'baza nisk'!B1122","v":"Strzygarka z ruchomą glowicą"},{"$f":"'baza nisk'!D1122","v":"POZOSTAŁE"},null,0,null,{"$f":"'baza nisk'!E1122","v":378},0,null,null,{"$f":"'baza nisk'!G1122","v":"SOR"},"","","proszę kliknąć aby wybrać nazwę komórki organizacyjnej",0]
[{"$f":"'baza nisk'!A1119","v":"S-060"},{"$f":"'baza nisk'!B1119","v":"Strzygarka z ruchomą glowicą"},{"$f":"'baza nisk'!D1119","v":"POZOSTAŁE"},null,0,null,{"$f":"'baza nisk'!E1119","v":378},0,null,null,{"$f":"'baza nisk'!G1119","v":"Oddział Otolaryngologiczny z Pododdziałem Otolaryngologii"},"","","proszę kliknąć aby wybrać nazwę komórki organizacyjnej",0]
[{"$f":"'baza nisk'!A1124","v":"S-064A"},{"$f":"'baza nisk'!B1124","v":"Stolik pod aparaturę medyczną"},{"$f":"'baza nisk'!D1124","v":"MED. NISK. ŚR. TRW."},null,0,null,{"$f":"'baza nisk'!E1124","v":1300},0,null,null,{"$f":"'baza nisk'!G1124","v":"Oddział Kardiologiczny"},"","","proszę kliknąć aby wybrać nazwę komórki organizacyjnej",0]
[{"$f":"'baza nisk'!A1125","v":"S-078"},{"$f":"'baza nisk'!B1125","v":"Stół roboczy 900X600X850mm"},{"$f":"'baza nisk'!D1125","v":"MEBLE"},null,0,null,{"$f":"'baza nisk'!E1125","v":2200},0,null,null,{"$f":"'baza nisk'!G1125","v":"Intensywna Terapia"},"","","proszę kliknąć aby wybrać nazwę komórki organizacyjnej",0]
[{"$f":"'baza nisk'!A1126","v":"S-080B"},{"$f":"'baza nisk'!B1126","v":"Szafka 60 z blatem"},{"$f":"'baza nisk'!D1126","v":"MEBLE"},null,0,null,{"$f":"'baza nisk'!E1126","v":350},0,null,null,{"$f":"'baza nisk'!G1126","v":"Poradnia Chirurgii Naczyniowej"},"","","proszę kliknąć aby wybrać nazwę komórki organizacyjnej",0]
[{"$f":"'baza nisk'!A1127","v":"S-080D"},{"$f":"'baza nisk'!B1127","v":"Szafka 70"},{"$f":"'baza nisk'!D1127","v":"MEBLE"},null,0,null,{"$f":"'baza nisk'!E1127","v":350},0,null,null,{"$f":"'baza nisk'!G1127","v":"Dział Gospodarki Nieruchomościami i Utrzymania Ruchu"},"","","proszę kliknąć aby wybrać nazwę komórki organizacyjnej",0]
[{"$f":"'baza nisk'!A1129","v":"S-080G"},{"$f":"'baza nisk'!B1129","v":"Szafka"},{"$f":"'baza nisk'!D1129","v":"MEBLE"},null,0,null,{"$f":"'baza nisk'!E1129","v":350},0,null,null,{"$f":"'baza nisk'!G1129","v":"Intensywna Terapia"},"","","proszę kliknąć aby wybrać nazwę komórki organizacyjnej",0]
[{"$f":"'baza nisk'!A1128","v":"S-080G"},{"$f":"'baza nisk'!B1128","v":"Szafka"},{"$f":"'baza nisk'!D1128","v":"MEBLE"},null,0,null,{"$f":"'baza nisk'!E1128","v":350},0,null,null,{"$f":"'baza nisk'!G1128","v":"Dział Organizacyjno - Prawny"},"","","proszę kliknąć aby wybrać nazwę komórki organizacyjnej",0]
[{"$f":"'baza nisk'!A1130","v":"S-080G"},{"$f":"'baza nisk'!B1130","v":"Szafka"},{"$f":"'baza nisk'!D1130","v":"MEBLE"},null,0,null,{"$f":"'baza nisk'!E1130","v":350},0,null,null,{"$f":"'baza nisk'!G1130","v":"Stacja Dializ"},"","","proszę kliknąć aby wybrać nazwę komórki organizacyjnej",0]
[{"$f":"'baza nisk'!A1131","v":"S-081A"},{"$f":"'baza nisk'!B1131","v":"Szafka gospodarcza"},{"$f":"'baza nisk'!D1131","v":"MEBLE"},null,0,null,{"$f":"'baza nisk'!E1131","v":300},0,null,null,{"$f":"'baza nisk'!G1131","v":"Intensywna Terapia"},"","","proszę kliknąć aby wybrać nazwę komórki organizacyjnej",0]
[{"$f":"'baza nisk'!A1132","v":"S-081A"},{"$f":"'baza nisk'!B1132","v":"Szafka gospodarcza"},{"$f":"'baza nisk'!D1132","v":"MEBLE"},null,0,null,{"$f":"'baza nisk'!E1132","v":300},0,null,null,{"$f":"'baza nisk'!G1132","v":"Zamiejscowy Oddział Rehabilitacji Neurologicznej"},"","","proszę kliknąć aby wybrać nazwę komórki organizacyjnej",0]
[{"$f":"'baza nisk'!A1133","v":"S-081AA"},{"$f":"'baza nisk'!B1133","v":"Szafka wisząca 42"},{"$f":"'baza nisk'!D1133","v":"MEBLE"},null,0,null,{"$f":"'baza nisk'!E1133","v":450},0,null,null,{"$f":"'baza nisk'!G1133","v":"Oddział Kardiologii Dziecięcej z Pododdziałem Kardiochirurgi"},"","","proszę kliknąć aby wybrać nazwę komórki organizacyjnej",0]
[{"$f":"'baza nisk'!A1134","v":"S-081AB"},{"$f":"'baza nisk'!B1134","v":"Szafka 40 z szufladami"},{"$f":"'baza nisk'!D1134","v":"MEBLE"},null,0,null,{"$f":"'baza nisk'!E1134","v":600},0,null,null,{"$f":"'baza nisk'!G1134","v":"Oddział Pediatryczny z Pododdziałem Gastroenterologii "},"","","proszę kliknąć aby wybrać nazwę komórki organizacyjnej",0]
[{"$f":"'baza nisk'!A1135","v":"S-081AB"},{"$f":"'baza nisk'!B1135","v":"Szafka 40 z szufladami"},{"$f":"'baza nisk'!D1135","v":"MEBLE"},null,0,null,{"$f":"'baza nisk'!E1135","v":600},0,null,null,{"$f":"'baza nisk'!G1135","v":"Poradnia Chirurgii Naczyniowej"},"","","proszę kliknąć aby wybrać nazwę komórki organizacyjnej",0]
[{"$f":"'baza nisk'!A1136","v":"S-081AC"},{"$f":"'baza nisk'!B1136","v":"Szafka na buty"},{"$f":"'baza nisk'!D1136","v":"MEBLE"},null,0,null,{"$f":"'baza nisk'!E1136","v":110},0,null,null,{"$f":"'baza nisk'!G1136","v":"Dział Rejestracji Statystyki i Dokumentacji Medycznej"},"","","proszę kliknąć aby wybrać nazwę komórki organizacyjnej",0]
[{"$f":"'baza nisk'!A1137","v":"S-081AD"},{"$f":"'baza nisk'!B1137","v":"Szafka śniadaniowa"},{"$f":"'baza nisk'!D1137","v":"MEBLE"},null,0,null,{"$f":"'baza nisk'!E1137","v":250},0,null,null,{"$f":"'baza nisk'!G1137","v":"Poradnia Chirurgii Naczyniowej"},"","","proszę kliknąć aby wybrać nazwę komórki organizacyjnej",0]
[{"$f":"'baza nisk'!A1138","v":"S-081AE"},{"$f":"'baza nisk'!B1138","v":"Szafka wisząca 53"},{"$f":"'baza nisk'!D1138","v":"MEBLE"},null,0,null,{"$f":"'baza nisk'!E1138","v":160},0,null,null,{"$f":"'baza nisk'!G1138","v":"Poradnia Chirurgii Onkologicznej"},"","","proszę kliknąć aby wybrać nazwę komórki organizacyjnej",0]
[{"$f":"'baza nisk'!A1139","v":"S-081AF"},{"$f":"'baza nisk'!B1139","v":"Szafka zlewozmywakowa"},{"$f":"'baza nisk'!D1139","v":"MEBLE"},null,0,null,{"$f":"'baza nisk'!E1139","v":270},0,null,null,{"$f":"'baza nisk'!G1139","v":"Poradnia Chirurgii Onkologicznej"},"","","proszę kliknąć aby wybrać nazwę komórki organizacyjnej",0]
[{"$f":"'baza nisk'!A1140","v":"S-081AG"},{"$f":"'baza nisk'!B1140","v":"Szafka z blatem 800X500X840h"},{"$f":"'baza nisk'!D1140","v":"MEBLE"},null,0,null,{"$f":"'baza nisk'!E1140","v":460},0,null,null,{"$f":"'baza nisk'!G1140","v":"Zamiejscowy Blok Operacyjny"},"","","proszę kliknąć aby wybrać nazwę komórki organizacyjnej",0]
[{"$f":"'baza nisk'!A1141","v":"S-081AH"},{"$f":"'baza nisk'!B1141","v":"Szafka szklana na leki"},{"$f":"'baza nisk'!D1141","v":"MEBLE"},null,0,null,{"$f":"'baza nisk'!E1141","v":300},0,null,null,{"$f":"'baza nisk'!G1141","v":"Pracownia Endoskopii"},"","","proszę kliknąć aby wybrać nazwę komórki organizacyjnej",0]
[{"$f":"'baza nisk'!A1142","v":"S-081Ą"},{"$f":"'baza nisk'!B1142","v":"Szafka z suszarką"},{"$f":"'baza nisk'!D1142","v":"MEBLE"},null,0,null,{"$f":"'baza nisk'!E1142","v":140},0,null,null,{"$f":"'baza nisk'!G1142","v":"SOR"},"","","proszę kliknąć aby wybrać nazwę komórki organizacyjnej",0]
[{"$f":"'baza nisk'!A1143","v":"S-081Ć"},{"$f":"'baza nisk'!B1143","v":"Szafka pod zlewozmywak"},{"$f":"'baza nisk'!D1143","v":"MEBLE"},null,0,null,{"$f":"'baza nisk'!E1143","v":370},0,null,null,{"$f":"'baza nisk'!G1143","v":"Oddział Kardiologii Dziecięcej z Pododdziałem Kardiochirurgi"},"","","proszę kliknąć aby wybrać nazwę komórki organizacyjnej",0]
[{"$f":"'baza nisk'!A1144","v":"S-081Ę"},{"$f":"'baza nisk'!B1144","v":"Szafka pod zlewozmywak"},{"$f":"'baza nisk'!D1144","v":"MEBLE"},null,0,null,{"$f":"'baza nisk'!E1144","v":370},0,null,null,{"$f":"'baza nisk'!G1144","v":"Oddział Kardiologii Dziecięcej z Pododdziałem Kardiochirurgi"},"","","proszę kliknąć aby wybrać nazwę komórki organizacyjnej",0]
[{"$f":"'baza nisk'!A1146","v":"S-081G"},{"$f":"'baza nisk'!B1146","v":"Szafka na segregatory"},{"$f":"'baza nisk'!D1146","v":"MEBLE"},null,0,null,{"$f":"'baza nisk'!E1146","v":229.12},0,null,null,{"$f":"'baza nisk'!G1146","v":"SekcjaMarketingu"},"","","proszę kliknąć aby wybrać nazwę komórki organizacyjnej",0]
[{"$f":"'baza nisk'!A1145","v":"S-081G"},{"$f":"'baza nisk'!B1145","v":"Szafka na segregatory"},{"$f":"'baza nisk'!D1145","v":"MEBLE"},null,0,null,{"$f":"'baza nisk'!E1145","v":229.12},0,null,null,{"$f":"'baza nisk'!G1145","v":"Blok Operacyjny"},"","","proszę kliknąć aby wybrać nazwę komórki organizacyjnej",0]
[{"$f":"'baza nisk'!A1147","v":"S-081K"},{"$f":"'baza nisk'!B1147","v":"Szafka na drukarkę 50x40x75h"},{"$f":"'baza nisk'!D1147","v":"MEBLE"},null,0,null,{"$f":"'baza nisk'!E1147","v":250},0,null,null,{"$f":"'baza nisk'!G1147","v":"Oddział Neonatologiczny"},"","","proszę kliknąć aby wybrać nazwę komórki organizacyjnej",0]
[{"$f":"'baza nisk'!A1148","v":"S-081Ł"},{"$f":"'baza nisk'!B1148","v":"Szafka gospodarcza"},{"$f":"'baza nisk'!D1148","v":"MEBLE"},null,0,null,{"$f":"'baza nisk'!E1148","v":250},0,null,null,{"$f":"'baza nisk'!G1148","v":"Intensywna Terapia"},"","","proszę kliknąć aby wybrać nazwę komórki organizacyjnej",0]
[{"$f":"'baza nisk'!A1149","v":"S-081N"},{"$f":"'baza nisk'!B1149","v":"Szafka pod zlewozmywak"},{"$f":"'baza nisk'!D1149","v":"MEBLE"},null,0,null,{"$f":"'baza nisk'!E1149","v":370},0,null,null,{"$f":"'baza nisk'!G1149","v":"Hotel Pracowniczy"},"","","proszę kliknąć aby wybrać nazwę komórki organizacyjnej",0]
[{"$f":"'baza nisk'!A1150","v":"S-081N"},{"$f":"'baza nisk'!B1150","v":"Szafka pod zlewozmywak"},{"$f":"'baza nisk'!D1150","v":"MEBLE"},null,0,null,{"$f":"'baza nisk'!E1150","v":370},0,null,null,{"$f":"'baza nisk'!G1150","v":"Pracownia Endoskopii"},"","","proszę kliknąć aby wybrać nazwę komórki organizacyjnej",0]
[{"$f":"'baza nisk'!A1151","v":"S-081N"},{"$f":"'baza nisk'!B1151","v":"Szafka pod zlewozmywak"},{"$f":"'baza nisk'!D1151","v":"MEBLE"},null,0,null,{"$f":"'baza nisk'!E1151","v":370},0,null,null,{"$f":"'baza nisk'!G1151","v":"SOR"},"","","proszę kliknąć aby wybrać nazwę komórki organizacyjnej",0]
[{"$f":"'baza nisk'!A1152","v":"S-081Ń"},{"$f":"'baza nisk'!B1152","v":"Szafka pod zlewozmywak"},{"$f":"'baza nisk'!D1152","v":"MEBLE"},null,0,null,{"$f":"'baza nisk'!E1152","v":370},0,null,null,{"$f":"'baza nisk'!G1152","v":"Oddział Okulistyczny"},"","","proszę kliknąć aby wybrać nazwę komórki organizacyjnej",0]
[{"$f":"'baza nisk'!A1155","v":"S-081Ó"},{"$f":"'baza nisk'!B1155","v":"Szafka pod zlewozmywak"},{"$f":"'baza nisk'!D1155","v":"MEBLE"},null,0,null,{"$f":"'baza nisk'!E1155","v":370},0,null,null,{"$f":"'baza nisk'!G1155","v":"Oddział Pediatryczny z Pododdziałem Gastroenterologii "},"","","proszę kliknąć aby wybrać nazwę komórki organizacyjnej",0]
[{"$f":"'baza nisk'!A1153","v":"S-081Ó"},{"$f":"'baza nisk'!B1153","v":"Szafka pod zlewozmywak"},{"$f":"'baza nisk'!D1153","v":"MEBLE"},null,0,null,{"$f":"'baza nisk'!E1153","v":370},0,null,null,{"$f":"'baza nisk'!G1153","v":"Dział Gospodarki Nieruchomościami i Utrzymania Ruchu"},"","","proszę kliknąć aby wybrać nazwę komórki organizacyjnej",0]
[{"$f":"'baza nisk'!A1154","v":"S-081Ó"},{"$f":"'baza nisk'!B1154","v":"Szafka pod zlewozmywak"},{"$f":"'baza nisk'!D1154","v":"MEBLE"},null,0,null,{"$f":"'baza nisk'!E1154","v":370},{"$f":"E1158*G1158","v":0},null,null,{"$f":"'baza nisk'!G1154","v":"Intensywna Terapia"},{"$f":"IF($B$2=K1158,$B$2,\"\")","v":""},{"$f":"IF($B$2=K1158,1,\"\")","v":""},{"$f":"$B$2","v":"proszę kliknąć aby wybrać nazwę komórki organizacyjnej"},{"$f":"$H$2","v":0}]
[{"$f":"'baza nisk'!A1156","v":"S-081Ó"},{"$f":"'baza nisk'!B1156","v":"Szafka pod zlewozmywak"},{"$f":"'baza nisk'!D1156","v":"MEBLE"},null,0,null,{"$f":"'baza nisk'!E1156","v":370},0,null,null,{"$f":"'baza nisk'!G1156","v":"Zamiejscowy Oddział Rehabilitacji Neurologicznej"},"","","proszę kliknąć aby wybrać nazwę komórki organizacyjnej",0]
[{"$f":"'baza nisk'!A1157","v":"S-081R"},{"$f":"'baza nisk'!B1157","v":"Szafka z suszarką 60"},{"$f":"'baza nisk'!D1157","v":"MEBLE"},null,0,null,{"$f":"'baza nisk'!E1157","v":150},0,null,null,{"$f":"'baza nisk'!G1157","v":"Dział Zaopatrzenia i Zamówień Publicznych"},"","","proszę kliknąć aby wybrać nazwę komórki organizacyjnej",0]
[{"$f":"'baza nisk'!A1158","v":"S-081T"},{"$f":"'baza nisk'!B1158","v":"Szafka pod zlewozmywak"},{"$f":"'baza nisk'!D1158","v":"MEBLE"},null,0,null,{"$f":"'baza nisk'!E1158","v":370},0,null,null,{"$f":"'baza nisk'!G1158","v":"Dział Zaopatrzenia i Zamówień Publicznych"},"","","proszę kliknąć aby wybrać nazwę komórki organizacyjnej",0]
[{"$f":"'baza nisk'!A1159","v":"S-081U"},{"$f":"'baza nisk'!B1159","v":"Szafka pod lodówkę"},{"$f":"'baza nisk'!D1159","v":"MEBLE"},null,0,null,{"$f":"'baza nisk'!E1159","v":150},0,null,null,{"$f":"'baza nisk'!G1159","v":"Dział Księgowości i Finansów"},"","","proszę kliknąć aby wybrać nazwę komórki organizacyjnej",0]
[{"$f":"'baza nisk'!A1160","v":"S-081W"},{"$f":"'baza nisk'!B1160","v":"Szafka z 3 szufladami"},{"$f":"'baza nisk'!D1160","v":"MEBLE"},null,0,null,{"$f":"'baza nisk'!E1160","v":900},0,null,null,{"$f":"'baza nisk'!G1160","v":"Dział Rejestracji Statystyki i Dokumentacji Medycznej"},"","","proszę kliknąć aby wybrać nazwę komórki organizacyjnej",0]
[{"$f":"'baza nisk'!A1161","v":"S-081X"},{"$f":"'baza nisk'!B1161","v":"Szafka na kółkach z czteroma szufladami 60x55x8"},{"$f":"'baza nisk'!D1161","v":"MEBLE"},null,0,null,{"$f":"'baza nisk'!E1161","v":590.4},0,null,null,{"$f":"'baza nisk'!G1161","v":"Oddział Kardiologii Dziecięcej z Pododdziałem Kardiochirurgi"},"","","proszę kliknąć aby wybrać nazwę komórki organizacyjnej",0]
[{"$f":"'baza nisk'!A1162","v":"S-081Y"},{"$f":"'baza nisk'!B1162","v":"Szafka pod zlewozmywak"},{"$f":"'baza nisk'!D1162","v":"MEBLE"},null,0,null,{"$f":"'baza nisk'!E1162","v":370},0,null,null,{"$f":"'baza nisk'!G1162","v":"Oddział Kardiologii Dziecięcej z Pododdziałem Kardiochirurgi"},"","","proszę kliknąć aby wybrać nazwę komórki organizacyjnej",0]
[{"$f":"'baza nisk'!A1164","v":"S-081Z"},{"$f":"'baza nisk'!B1164","v":"Szafka z ociekaczem"},{"$f":"'baza nisk'!D1164","v":"MEBLE"},null,0,null,{"$f":"'baza nisk'!E1164","v":170},0,null,null,{"$f":"'baza nisk'!G1164","v":"Intensywna Terapia"},"","","proszę kliknąć aby wybrać nazwę komórki organizacyjnej",0]
[{"$f":"'baza nisk'!A1163","v":"S-081Z"},{"$f":"'baza nisk'!B1163","v":"Szafka z ociekaczem"},{"$f":"'baza nisk'!D1163","v":"MEBLE"},null,0,null,{"$f":"'baza nisk'!E1163","v":170},0,null,null,{"$f":"'baza nisk'!G1163","v":"Dział Gospodarki Nieruchomościami i Utrzymania Ruchu"},"","","proszę kliknąć aby wybrać nazwę komórki organizacyjnej",0]
[{"$f":"'baza nisk'!A1165","v":"S-081Ź"},{"$f":"'baza nisk'!B1165","v":"Szafka z 3 szufladami"},{"$f":"'baza nisk'!D1165","v":"MEBLE"},null,0,null,{"$f":"'baza nisk'!E1165","v":900},0,null,null,{"$f":"'baza nisk'!G1165","v":"Oddział Kardiologii Dziecięcej z Pododdziałem Kardiochirurgi"},"","","proszę kliknąć aby wybrać nazwę komórki organizacyjnej",0]
[{"$f":"'baza nisk'!A1166","v":"S-081Ż"},{"$f":"'baza nisk'!B1166","v":"Szafka z szufladami i drzwiczkami"},{"$f":"'baza nisk'!D1166","v":"MEBLE"},null,0,null,{"$f":"'baza nisk'!E1166","v":608},0,null,null,{"$f":"'baza nisk'!G1166","v":"Dział Gospodarki Nieruchomościami i Utrzymania Ruchu"},"","","proszę kliknąć aby wybrać nazwę komórki organizacyjnej",0]
[{"$f":"'baza nisk'!A1167","v":"S-082"},{"$f":"'baza nisk'!B1167","v":"Szafka dolna"},{"$f":"'baza nisk'!D1167","v":"MEBLE"},null,0,null,{"$f":"'baza nisk'!E1167","v":300},0,null,null,{"$f":"'baza nisk'!G1167","v":"Zamiejscowy Oddział Rehabilitacji Neurologicznej"},"","","proszę kliknąć aby wybrać nazwę komórki organizacyjnej",0]
[{"$f":"'baza nisk'!A1168","v":"S-082D"},{"$f":"'baza nisk'!B1168","v":"Szafka 60 dolna  z drzwiczkami"},{"$f":"'baza nisk'!D1168","v":"MEBLE"},null,0,null,{"$f":"'baza nisk'!E1168","v":300},0,null,null,{"$f":"'baza nisk'!G1168","v":"Pracownia Endoskopii"},"","","proszę kliknąć aby wybrać nazwę komórki organizacyjnej",0]
[{"$f":"'baza nisk'!A1169","v":"S-082E"},{"$f":"'baza nisk'!B1169","v":"Szafka dolna"},{"$f":"'baza nisk'!D1169","v":"MEBLE"},null,0,null,{"$f":"'baza nisk'!E1169","v":300},0,null,null,{"$f":"'baza nisk'!G1169","v":"Hotel Pracowniczy"},"","","proszę kliknąć aby wybrać nazwę komórki organizacyjnej",0]
[{"$f":"'baza nisk'!A1170","v":"S-082F"},{"$f":"'baza nisk'!B1170","v":"Szafka"},{"$f":"'baza nisk'!D1170","v":"MEBLE"},null,0,null,{"$f":"'baza nisk'!E1170","v":450},0,null,null,{"$f":"'baza nisk'!G1170","v":"Hotel Pracowniczy"},"","","proszę kliknąć aby wybrać nazwę komórki organizacyjnej",0]
[{"$f":"'baza nisk'!A1171","v":"S-082F"},{"$f":"'baza nisk'!B1171","v":"Szafka"},{"$f":"'baza nisk'!D1171","v":"MEBLE"},null,0,null,{"$f":"'baza nisk'!E1171","v":450},0,null,null,{"$f":"'baza nisk'!G1171","v":"Poradnia Chirurgii Naczyniowej"},"","","proszę kliknąć aby wybrać nazwę komórki organizacyjnej",0]
[{"$f":"'baza nisk'!A1172","v":"S-082G"},{"$f":"'baza nisk'!B1172","v":"Szafka dolna"},{"$f":"'baza nisk'!D1172","v":"MEBLE"},null,0,null,{"$f":"'baza nisk'!E1172","v":650},0,null,null,{"$f":"'baza nisk'!G1172","v":"Hotel Pracowniczy"},"","","proszę kliknąć aby wybrać nazwę komórki organizacyjnej",0]
[{"$f":"'baza nisk'!A1173","v":"S-082H"},{"$f":"'baza nisk'!B1173","v":"Szafka dolna"},{"$f":"'baza nisk'!D1173","v":"MEBLE"},null,0,null,{"$f":"'baza nisk'!E1173","v":650},0,null,null,{"$f":"'baza nisk'!G1173","v":"Intensywna Terapia"},"","","proszę kliknąć aby wybrać nazwę komórki organizacyjnej",0]
[{"$f":"'baza nisk'!A1174","v":"S-082I"},{"$f":"'baza nisk'!B1174","v":"Szafka dolna"},{"$f":"'baza nisk'!D1174","v":"MEBLE"},null,0,null,{"$f":"'baza nisk'!E1174","v":650},0,null,null,{"$f":"'baza nisk'!G1174","v":"Oddział Kardiologiczny"},"","","proszę kliknąć aby wybrać nazwę komórki organizacyjnej",0]
[{"$f":"'baza nisk'!A1175","v":"S-082J"},{"$f":"'baza nisk'!B1175","v":"Szafka dolna"},{"$f":"'baza nisk'!D1175","v":"MEBLE"},null,0,null,{"$f":"'baza nisk'!E1175","v":650},0,null,null,{"$f":"'baza nisk'!G1175","v":"Poradnia Chirurgii Onkologicznej"},"","","proszę kliknąć aby wybrać nazwę komórki organizacyjnej",0]
[{"$f":"'baza nisk'!A1176","v":"S-082J"},{"$f":"'baza nisk'!B1176","v":"Szafka dolna"},{"$f":"'baza nisk'!D1176","v":"MEBLE"},null,0,null,{"$f":"'baza nisk'!E1176","v":650},0,null,null,{"$f":"'baza nisk'!G1176","v":"Pracownia Endoskopii"},"","","proszę kliknąć aby wybrać nazwę komórki organizacyjnej",0]
[{"$f":"'baza nisk'!A1177","v":"S-082K"},{"$f":"'baza nisk'!B1177","v":"Szafka dolna"},{"$f":"'baza nisk'!D1177","v":"MEBLE"},null,0,null,{"$f":"'baza nisk'!E1177","v":650},0,null,null,{"$f":"'baza nisk'!G1177","v":"Pracownia Endoskopii"},"","","proszę kliknąć aby wybrać nazwę komórki organizacyjnej",0]
[{"$f":"'baza nisk'!A1178","v":"S-082L"},{"$f":"'baza nisk'!B1178","v":"Szafka dolna"},{"$f":"'baza nisk'!D1178","v":"MEBLE"},null,0,null,{"$f":"'baza nisk'!E1178","v":269.86},0,null,null,{"$f":"'baza nisk'!G1178","v":"Pracownia Endoskopii"},"","","proszę kliknąć aby wybrać nazwę komórki organizacyjnej",0]
[{"$f":"'baza nisk'!A1179","v":"S-082Ł"},{"$f":"'baza nisk'!B1179","v":"Szafka dolna"},{"$f":"'baza nisk'!D1179","v":"MEBLE"},null,0,null,{"$f":"'baza nisk'!E1179","v":650},0,null,null,{"$f":"'baza nisk'!G1179","v":"Hotel Pracowniczy"},"","","proszę kliknąć aby wybrać nazwę komórki organizacyjnej",0]
[{"$f":"'baza nisk'!A1180","v":"S-082M"},{"$f":"'baza nisk'!B1180","v":"Szafka dolna"},{"$f":"'baza nisk'!D1180","v":"MEBLE"},null,0,null,{"$f":"'baza nisk'!E1180","v":650},0,null,null,{"$f":"'baza nisk'!G1180","v":"Hotel Pracowniczy"},"","","proszę kliknąć aby wybrać nazwę komórki organizacyjnej",0]
[{"$f":"'baza nisk'!A1181","v":"S-082N"},{"$f":"'baza nisk'!B1181","v":"Szafka dolna"},{"$f":"'baza nisk'!D1181","v":"MEBLE"},null,0,null,{"$f":"'baza nisk'!E1181","v":650},0,null,null,{"$f":"'baza nisk'!G1181","v":"Hotel Pracowniczy"},"","","proszę kliknąć aby wybrać nazwę komórki organizacyjnej",0]
[{"$f":"'baza nisk'!A1182","v":"S-083"},{"$f":"'baza nisk'!B1182","v":"Szafka z plecami "},{"$f":"'baza nisk'!D1182","v":"MEBLE"},null,0,null,{"$f":"'baza nisk'!E1182","v":300},0,null,null,{"$f":"'baza nisk'!G1182","v":"Zamiejscowy Oddział Rehabilitacji Ogólnoustrojowej II"},"","","proszę kliknąć aby wybrać nazwę komórki organizacyjnej",0]
[{"$f":"'baza nisk'!A1183","v":"S-083A"},{"$f":"'baza nisk'!B1183","v":"Szafka 120x50x85h"},{"$f":"'baza nisk'!D1183","v":"MEBLE"},null,0,null,{"$f":"'baza nisk'!E1183","v":300},0,null,null,{"$f":"'baza nisk'!G1183","v":"Zamiejscowy Oddział Rehabilitacji Ogólnoustrojowej II"},"","","proszę kliknąć aby wybrać nazwę komórki organizacyjnej",0]
[{"$f":"'baza nisk'!A1184","v":"S-084"},{"$f":"'baza nisk'!B1184","v":"Szafka przyłóżkowa "},{"$f":"'baza nisk'!D1184","v":"MEBLE"},null,0,null,{"$f":"'baza nisk'!E1184","v":1300},0,null,null,{"$f":"'baza nisk'!G1184","v":"Oddział Położniczo – Ginekologiczny"},"","","proszę kliknąć aby wybrać nazwę komórki organizacyjnej",0]
[{"$f":"'baza nisk'!A1185","v":"S-084A"},{"$f":"'baza nisk'!B1185","v":"Szafka przyłóżkowa "},{"$f":"'baza nisk'!D1185","v":"MEBLE"},null,0,null,{"$f":"'baza nisk'!E1185","v":1400},0,null,null,{"$f":"'baza nisk'!G1185","v":"Zamiejscowy Oddział Rehabilitacji Ogólnoustrojowej I"},"","","proszę kliknąć aby wybrać nazwę komórki organizacyjnej",0]
[{"$f":"'baza nisk'!A1186","v":"S-084B"},{"$f":"'baza nisk'!B1186","v":"Szafka przyłóżkowa "},{"$f":"'baza nisk'!D1186","v":"MEBLE"},null,0,null,{"$f":"'baza nisk'!E1186","v":2106},0,null,null,{"$f":"'baza nisk'!G1186","v":"Oddział Kardiologii Dziecięcej z Pododdziałem Kardiochirurgi"},"","","proszę kliknąć aby wybrać nazwę komórki organizacyjnej",0]
[{"$f":"'baza nisk'!A1187","v":"S-085"},{"$f":"'baza nisk'!B1187","v":"Szafka stojąca"},{"$f":"'baza nisk'!D1187","v":"MEBLE"},null,0,null,{"$f":"'baza nisk'!E1187","v":430},0,null,null,{"$f":"'baza nisk'!G1187","v":"Dział Zaopatrzenia i Zamówień Publicznych"},"","","proszę kliknąć aby wybrać nazwę komórki organizacyjnej",0]
[{"$f":"'baza nisk'!A1188","v":"S-085A"},{"$f":"'baza nisk'!B1188","v":"Szafka stojąca"},{"$f":"'baza nisk'!D1188","v":"MEBLE"},null,0,null,{"$f":"'baza nisk'!E1188","v":430},0,null,null,{"$f":"'baza nisk'!G1188","v":"Dział Księgowości i Finansów"},"","","proszę kliknąć aby wybrać nazwę komórki organizacyjnej",0]
[{"$f":"'baza nisk'!A1189","v":"S-085A"},{"$f":"'baza nisk'!B1189","v":"Szafka stojąca"},{"$f":"'baza nisk'!D1189","v":"MEBLE"},null,0,null,{"$f":"'baza nisk'!E1189","v":430},0,null,null,{"$f":"'baza nisk'!G1189","v":"Zamiejscowy Oddział Rehabilitacji Ogólnoustrojowej II"},"","","proszę kliknąć aby wybrać nazwę komórki organizacyjnej",0]
[{"$f":"'baza nisk'!A1190","v":"S-085B"},{"$f":"'baza nisk'!B1190","v":"Szafka stojąca"},{"$f":"'baza nisk'!D1190","v":"MEBLE"},null,0,null,{"$f":"'baza nisk'!E1190","v":430},0,null,null,{"$f":"'baza nisk'!G1190","v":"Zamiejscowy Oddział Rehabilitacji Ogólnoustrojowej II"},"","","proszę kliknąć aby wybrać nazwę komórki organizacyjnej",0]
[{"$f":"'baza nisk'!A1191","v":"S-085C"},{"$f":"'baza nisk'!B1191","v":"Szafka stojąca"},{"$f":"'baza nisk'!D1191","v":"MEBLE"},null,0,null,{"$f":"'baza nisk'!E1191","v":430},0,null,null,{"$f":"'baza nisk'!G1191","v":"Oddział Neonatologiczny"},"","","proszę kliknąć aby wybrać nazwę komórki organizacyjnej",0]
[{"$f":"'baza nisk'!A1192","v":"S-085D"},{"$f":"'baza nisk'!B1192","v":"Szafka stojąca"},{"$f":"'baza nisk'!D1192","v":"MEBLE"},null,0,null,{"$f":"'baza nisk'!E1192","v":430},0,null,null,{"$f":"'baza nisk'!G1192","v":"Oddział Okulistyczny"},"","","proszę kliknąć aby wybrać nazwę komórki organizacyjnej",0]
[{"$f":"'baza nisk'!A1193","v":"S-085E"},{"$f":"'baza nisk'!B1193","v":"Szafka stojąca"},{"$f":"'baza nisk'!D1193","v":"MEBLE"},null,0,null,{"$f":"'baza nisk'!E1193","v":430},0,null,null,{"$f":"'baza nisk'!G1193","v":"Hotel Pracowniczy"},"","","proszę kliknąć aby wybrać nazwę komórki organizacyjnej",0]
[{"$f":"'baza nisk'!A1194","v":"S-085F"},{"$f":"'baza nisk'!B1194","v":"Szafka stojąca"},{"$f":"'baza nisk'!D1194","v":"MEBLE"},null,0,null,{"$f":"'baza nisk'!E1194","v":430},0,null,null,{"$f":"'baza nisk'!G1194","v":"Oddział Okulistyczny"},"","","proszę kliknąć aby wybrać nazwę komórki organizacyjnej",0]
[{"$f":"'baza nisk'!A1195","v":"S-085G"},{"$f":"'baza nisk'!B1195","v":"Szafka stojąca"},{"$f":"'baza nisk'!D1195","v":"MEBLE"},null,0,null,{"$f":"'baza nisk'!E1195","v":430},0,null,null,{"$f":"'baza nisk'!G1195","v":"Pracownia Endoskopii"},"","","proszę kliknąć aby wybrać nazwę komórki organizacyjnej",0]
[{"$f":"'baza nisk'!A1196","v":"S-085H"},{"$f":"'baza nisk'!B1196","v":"Szafka stojąca"},{"$f":"'baza nisk'!D1196","v":"MEBLE"},null,0,null,{"$f":"'baza nisk'!E1196","v":430},0,null,null,{"$f":"'baza nisk'!G1196","v":"Pracownia Endoskopii"},"","","proszę kliknąć aby wybrać nazwę komórki organizacyjnej",0]
[{"$f":"'baza nisk'!A1198","v":"S-085I"},{"$f":"'baza nisk'!B1198","v":"Szafka stojąca"},{"$f":"'baza nisk'!D1198","v":"MEBLE"},null,0,null,{"$f":"'baza nisk'!E1198","v":430},0,null,null,{"$f":"'baza nisk'!G1198","v":"SOR"},"","","proszę kliknąć aby wybrać nazwę komórki organizacyjnej",0]
[{"$f":"'baza nisk'!A1197","v":"S-085I"},{"$f":"'baza nisk'!B1197","v":"Szafka stojąca"},{"$f":"'baza nisk'!D1197","v":"MEBLE"},null,0,null,{"$f":"'baza nisk'!E1197","v":430},0,null,null,{"$f":"'baza nisk'!G1197","v":"Oddział Pediatryczny z Pododdziałem Gastroenterologii "},"","","proszę kliknąć aby wybrać nazwę komórki organizacyjnej",0]
[{"$f":"'baza nisk'!A1199","v":"S-085J"},{"$f":"'baza nisk'!B1199","v":"Szafka stojąca"},{"$f":"'baza nisk'!D1199","v":"MEBLE"},null,0,null,{"$f":"'baza nisk'!E1199","v":430},0,null,null,{"$f":"'baza nisk'!G1199","v":"Oddział Kardiologii Dziecięcej z Pododdziałem Kardiochirurgi"},"","","proszę kliknąć aby wybrać nazwę komórki organizacyjnej",0]
[{"$f":"'baza nisk'!A1200","v":"S-085K"},{"$f":"'baza nisk'!B1200","v":"Szafka stojąca"},{"$f":"'baza nisk'!D1200","v":"MEBLE"},null,0,null,{"$f":"'baza nisk'!E1200","v":430},0,null,null,{"$f":"'baza nisk'!G1200","v":"Oddział Kardiologii Dziecięcej z Pododdziałem Kardiochirurgi"},"","","proszę kliknąć aby wybrać nazwę komórki organizacyjnej",0]
[{"$f":"'baza nisk'!A1201","v":"S-085Ł"},{"$f":"'baza nisk'!B1201","v":"Szafka stojąca"},{"$f":"'baza nisk'!D1201","v":"MEBLE"},null,0,null,{"$f":"'baza nisk'!E1201","v":430},0,null,null,{"$f":"'baza nisk'!G1201","v":"Oddział Kardiologii Dziecięcej z Pododdziałem Kardiochirurgi"},"","","proszę kliknąć aby wybrać nazwę komórki organizacyjnej",0]
[{"$f":"'baza nisk'!A1202","v":"S-085M"},{"$f":"'baza nisk'!B1202","v":"Szafka stojąca"},{"$f":"'baza nisk'!D1202","v":"MEBLE"},null,0,null,{"$f":"'baza nisk'!E1202","v":430},0,null,null,{"$f":"'baza nisk'!G1202","v":"Oddział Kardiologii Dziecięcej z Pododdziałem Kardiochirurgi"},"","","proszę kliknąć aby wybrać nazwę komórki organizacyjnej",0]
[{"$f":"'baza nisk'!A1203","v":"S-085N"},{"$f":"'baza nisk'!B1203","v":"Szafka stojąca"},{"$f":"'baza nisk'!D1203","v":"MEBLE"},null,0,null,{"$f":"'baza nisk'!E1203","v":430},0,null,null,{"$f":"'baza nisk'!G1203","v":"Pracownia Echokardiograficzna"},"","","proszę kliknąć aby wybrać nazwę komórki organizacyjnej",0]
[{"$f":"'baza nisk'!A1205","v":"S-086"},{"$f":"'baza nisk'!B1205","v":"Szafka stojąca"},{"$f":"'baza nisk'!D1205","v":"MEBLE"},null,0,null,{"$f":"'baza nisk'!E1205","v":430},0,null,null,{"$f":"'baza nisk'!G1205","v":"Dział Zaopatrzenia i Zamówień Publicznych"},"","","proszę kliknąć aby wybrać nazwę komórki organizacyjnej",0]
[{"$f":"'baza nisk'!A1204","v":"S-086"},{"$f":"'baza nisk'!B1204","v":"Szafka stojąca"},{"$f":"'baza nisk'!D1204","v":"MEBLE"},null,0,null,{"$f":"'baza nisk'!E1204","v":430},0,null,null,{"$f":"'baza nisk'!G1204","v":"Dział Księgowości i Finansów"},"","","proszę kliknąć aby wybrać nazwę komórki organizacyjnej",0]
[{"$f":"'baza nisk'!A1207","v":"S-086A"},{"$f":"'baza nisk'!B1207","v":"Szafa wisząca"},{"$f":"'baza nisk'!D1207","v":"MEBLE"},null,0,null,{"$f":"'baza nisk'!E1207","v":350},0,null,null,{"$f":"'baza nisk'!G1207","v":"Oddział Kardiologii Dziecięcej z Pododdziałem Kardiochirurgi"},"","","proszę kliknąć aby wybrać nazwę komórki organizacyjnej",0]
[{"$f":"'baza nisk'!A1206","v":"S-086A"},{"$f":"'baza nisk'!B1206","v":"Szafa wisząca"},{"$f":"'baza nisk'!D1206","v":"MEBLE"},null,0,null,{"$f":"'baza nisk'!E1206","v":350},0,null,null,{"$f":"'baza nisk'!G1206","v":"Dział Zaopatrzenia i Zamówień Publicznych"},"","","proszę kliknąć aby wybrać nazwę komórki organizacyjnej",0]
[{"$f":"'baza nisk'!A1208","v":"S-086B"},{"$f":"'baza nisk'!B1208","v":"Szafa wisząca"},{"$f":"'baza nisk'!D1208","v":"MEBLE"},null,0,null,{"$f":"'baza nisk'!E1208","v":350},0,null,null,{"$f":"'baza nisk'!G1208","v":"Oddział Neonatologiczny"},"","","proszę kliknąć aby wybrać nazwę komórki organizacyjnej",0]
[{"$f":"'baza nisk'!A1209","v":"S-086C"},{"$f":"'baza nisk'!B1209","v":"Szafa wisząca"},{"$f":"'baza nisk'!D1209","v":"MEBLE"},null,0,null,{"$f":"'baza nisk'!E1209","v":350},0,null,null,{"$f":"'baza nisk'!G1209","v":"Dział Rejestracji Statystyki i Dokumentacji Medycznej"},"","","proszę kliknąć aby wybrać nazwę komórki organizacyjnej",0]
[{"$f":"'baza nisk'!A1210","v":"S-086D"},{"$f":"'baza nisk'!B1210","v":"Szafa wisząca"},{"$f":"'baza nisk'!D1210","v":"MEBLE"},null,0,null,{"$f":"'baza nisk'!E1210","v":350},0,null,null,{"$f":"'baza nisk'!G1210","v":"Hotel Pracowniczy"},"","","proszę kliknąć aby wybrać nazwę komórki organizacyjnej",0]
[{"$f":"'baza nisk'!A1211","v":"S-086E"},{"$f":"'baza nisk'!B1211","v":"Szafa wisząca"},{"$f":"'baza nisk'!D1211","v":"MEBLE"},null,0,null,{"$f":"'baza nisk'!E1211","v":350},0,null,null,{"$f":"'baza nisk'!G1211","v":"Dział Gospodarki Nieruchomościami i Utrzymania Ruchu"},"","","proszę kliknąć aby wybrać nazwę komórki organizacyjnej",0]
[{"$f":"'baza nisk'!A1212","v":"S-086E"},{"$f":"'baza nisk'!B1212","v":"Szafa wisząca"},{"$f":"'baza nisk'!D1212","v":"MEBLE"},null,0,null,{"$f":"'baza nisk'!E1212","v":350},0,null,null,{"$f":"'baza nisk'!G1212","v":"Intensywna Terapia"},"","","proszę kliknąć aby wybrać nazwę komórki organizacyjnej",0]
[{"$f":"'baza nisk'!A1213","v":"S-086E"},{"$f":"'baza nisk'!B1213","v":"Szafa wisząca"},{"$f":"'baza nisk'!D1213","v":"MEBLE"},null,0,null,{"$f":"'baza nisk'!E1213","v":350},0,null,null,{"$f":"'baza nisk'!G1213","v":"SOR"},"","","proszę kliknąć aby wybrać nazwę komórki organizacyjnej",0]
[{"$f":"'baza nisk'!A1214","v":"S-086F"},{"$f":"'baza nisk'!B1214","v":"Szafa wisząca"},{"$f":"'baza nisk'!D1214","v":"MEBLE"},null,0,null,{"$f":"'baza nisk'!E1214","v":350},0,null,null,{"$f":"'baza nisk'!G1214","v":"Oddział Kardiologii Dziecięcej z Pododdziałem Kardiochirurgi"},"","","proszę kliknąć aby wybrać nazwę komórki organizacyjnej",0]
[{"$f":"'baza nisk'!A1215","v":"S-086G"},{"$f":"'baza nisk'!B1215","v":"Szafa wisząca"},{"$f":"'baza nisk'!D1215","v":"MEBLE"},null,0,null,{"$f":"'baza nisk'!E1215","v":350},0,null,null,{"$f":"'baza nisk'!G1215","v":"Oddział Kardiologii Dziecięcej z Pododdziałem Kardiochirurgi"},"","","proszę kliknąć aby wybrać nazwę komórki organizacyjnej",0]
[{"$f":"'baza nisk'!A1216","v":"S-086H"},{"$f":"'baza nisk'!B1216","v":"Szafa wisząca"},{"$f":"'baza nisk'!D1216","v":"MEBLE"},null,0,null,{"$f":"'baza nisk'!E1216","v":350},0,null,null,{"$f":"'baza nisk'!G1216","v":"Oddział Kardiologii Dziecięcej z Pododdziałem Kardiochirurgi"},"","","proszę kliknąć aby wybrać nazwę komórki organizacyjnej",0]
[{"$f":"'baza nisk'!A1217","v":"S-086I"},{"$f":"'baza nisk'!B1217","v":"Szafa wisząca"},{"$f":"'baza nisk'!D1217","v":"MEBLE"},null,0,null,{"$f":"'baza nisk'!E1217","v":350},0,null,null,{"$f":"'baza nisk'!G1217","v":"Oddział Kardiologii Dziecięcej z Pododdziałem Kardiochirurgi"},"","","proszę kliknąć aby wybrać nazwę komórki organizacyjnej",0]
[{"$f":"'baza nisk'!A1218","v":"S-086J"},{"$f":"'baza nisk'!B1218","v":"Szafa wisząca"},{"$f":"'baza nisk'!D1218","v":"MEBLE"},null,0,null,{"$f":"'baza nisk'!E1218","v":350},0,null,null,{"$f":"'baza nisk'!G1218","v":"Oddział Kardiologii Dziecięcej z Pododdziałem Kardiochirurgi"},"","","proszę kliknąć aby wybrać nazwę komórki organizacyjnej",0]
[{"$f":"'baza nisk'!A1219","v":"S-086K"},{"$f":"'baza nisk'!B1219","v":"Szafa wisząca"},{"$f":"'baza nisk'!D1219","v":"MEBLE"},null,0,null,{"$f":"'baza nisk'!E1219","v":350},{"$f":"E1222*G1222","v":0},null,null,{"$f":"'baza nisk'!G1219","v":"Poradnia Kardiologiczna"},{"$f":"IF($B$2=K1222,$B$2,\"\")","v":""},{"$f":"IF($B$2=K1222,1,\"\")","v":""},{"$f":"$B$2","v":"proszę kliknąć aby wybrać nazwę komórki organizacyjnej"},{"$f":"$H$2","v":0}]
[{"$f":"'baza nisk'!A1221","v":"S-086L"},{"$f":"'baza nisk'!B1221","v":"Szafa wisząca"},{"$f":"'baza nisk'!D1221","v":"MEBLE"},null,0,null,{"$f":"'baza nisk'!E1221","v":350},0,null,null,{"$f":"'baza nisk'!G1221","v":"Poradnia Kardiologiczna"},"","","proszę kliknąć aby wybrać nazwę komórki organizacyjnej",0]
[{"$f":"'baza nisk'!A1220","v":"S-086L"},{"$f":"'baza nisk'!B1220","v":"Szafa wisząca"},{"$f":"'baza nisk'!D1220","v":"MEBLE"},null,0,null,{"$f":"'baza nisk'!E1220","v":350},0,null,null,{"$f":"'baza nisk'!G1220","v":"Oddział Pediatryczny z Pododdziałem Gastroenterologii "},"","","proszę kliknąć aby wybrać nazwę komórki organizacyjnej",0]
[{"$f":"'baza nisk'!A1222","v":"S-086Ł"},{"$f":"'baza nisk'!B1222","v":"Szafa wisząca"},{"$f":"'baza nisk'!D1222","v":"MEBLE"},null,0,null,{"$f":"'baza nisk'!E1222","v":350},0,null,null,{"$f":"'baza nisk'!G1222","v":"Oddział Kardiologii Dziecięcej z Pododdziałem Kardiochirurgi"},"","","proszę kliknąć aby wybrać nazwę komórki organizacyjnej",0]
[{"$f":"'baza nisk'!A1223","v":"S-086M"},{"$f":"'baza nisk'!B1223","v":"Szafa wisząca"},{"$f":"'baza nisk'!D1223","v":"MEBLE"},null,0,null,{"$f":"'baza nisk'!E1223","v":350},0,null,null,{"$f":"'baza nisk'!G1223","v":"Oddział Kardiologii Dziecięcej z Pododdziałem Kardiochirurgi"},"","","proszę kliknąć aby wybrać nazwę komórki organizacyjnej",0]
[{"$f":"'baza nisk'!A1224","v":"S-086N"},{"$f":"'baza nisk'!B1224","v":"Szafa wisząca"},{"$f":"'baza nisk'!D1224","v":"MEBLE"},null,0,null,{"$f":"'baza nisk'!E1224","v":350},0,null,null,{"$f":"'baza nisk'!G1224","v":"Oddział Pediatryczny z Pododdziałem Gastroenterologii "},"","","proszę kliknąć aby wybrać nazwę komórki organizacyjnej",0]
[{"$f":"'baza nisk'!A1225","v":"S-089"},{"$f":"'baza nisk'!B1225","v":"Stanowisko do pobierania krwi ST-00"},{"$f":"'baza nisk'!D1225","v":"MED. NISK. ŚR. TRW."},null,0,null,{"$f":"'baza nisk'!E1225","v":500},0,null,null,{"$f":"'baza nisk'!G1225","v":"Oddział Dermatologiczny"},"","","proszę kliknąć aby wybrać nazwę komórki organizacyjnej",0]
[{"$f":"'baza nisk'!A1228","v":"S-089"},{"$f":"'baza nisk'!B1228","v":"Stanowisko do pobierania krwi ST-03"},{"$f":"'baza nisk'!D1228","v":"MED. NISK. ŚR. TRW."},null,0,null,{"$f":"'baza nisk'!E1228","v":500},0,null,null,{"$f":"'baza nisk'!G1228","v":"Oddział Chirurgii Naczyniowej"},"","","proszę kliknąć aby wybrać nazwę komórki organizacyjnej",0]
[{"$f":"'baza nisk'!A1226","v":"S-089"},{"$f":"'baza nisk'!B1226","v":"Stanowisko do pobierania krwi ST-01"},{"$f":"'baza nisk'!D1226","v":"MED. NISK. ŚR. TRW."},null,0,null,{"$f":"'baza nisk'!E1226","v":500},0,null,null,{"$f":"'baza nisk'!G1226","v":"Oddział Położniczo – Ginekologiczny"},"","","proszę kliknąć aby wybrać nazwę komórki organizacyjnej",0]
[{"$f":"'baza nisk'!A1227","v":"S-089"},{"$f":"'baza nisk'!B1227","v":"Stanowisko do pobierania krwi ST-02"},{"$f":"'baza nisk'!D1227","v":"MED. NISK. ŚR. TRW."},null,0,null,{"$f":"'baza nisk'!E1227","v":500},0,null,null,{"$f":"'baza nisk'!G1227","v":"Zamiejscowy Oddział Chirurgii Urazowo - Ortopedycznej"},"","","proszę kliknąć aby wybrać nazwę komórki organizacyjnej",0]
[{"$f":"'baza nisk'!A1229","v":"S-089A"},{"$f":"'baza nisk'!B1229","v":"Stanowisko do pobierania krwi ST-04"},{"$f":"'baza nisk'!D1229","v":"MED. NISK. ŚR. TRW."},null,0,null,{"$f":"'baza nisk'!E1229","v":500},0,null,null,{"$f":"'baza nisk'!G1229","v":"Ośrodek Badań Klinicznych"},"","","proszę kliknąć aby wybrać nazwę komórki organizacyjnej",0]
[{"$f":"'baza nisk'!A1230","v":"S-089B"},{"$f":"'baza nisk'!B1230","v":"Stanowisko do pobierania krwi ST-01"},{"$f":"'baza nisk'!D1230","v":"MED. NISK. ŚR. TRW."},null,0,null,{"$f":"'baza nisk'!E1230","v":500},0,null,null,{"$f":"'baza nisk'!G1230","v":"Oddział Angiologiczny z Pododdziałem Diabetologii"},"","","proszę kliknąć aby wybrać nazwę komórki organizacyjnej",0]
[{"$f":"'baza nisk'!A1231","v":"S-091"},{"$f":"'baza nisk'!B1231","v":"Stół rehabillitacyjny z elektryczną regulacją"},{"$f":"'baza nisk'!D1231","v":"MED. NISK. ŚR. TRW."},null,0,null,{"$f":"'baza nisk'!E1231","v":3200},0,null,null,{"$f":"'baza nisk'!G1231","v":"Zamiejscowy Dział Rehabilitacji Leczniczej"},"","","proszę kliknąć aby wybrać nazwę komórki organizacyjnej",0]
[{"$f":"'baza nisk'!A1232","v":"S-094"},{"$f":"'baza nisk'!B1232","v":"Stół z białym blatem laminowanym"},{"$f":"'baza nisk'!D1232","v":"MEBLE"},null,0,null,{"$f":"'baza nisk'!E1232","v":1500},0,null,null,{"$f":"'baza nisk'!G1232","v":"Dział Rejestracji Statystyki i Dokumentacji Medycznej"},"","","proszę kliknąć aby wybrać nazwę komórki organizacyjnej",0]
[{"$f":"'baza nisk'!A1233","v":"S-094"},{"$f":"'baza nisk'!B1233","v":"Stół z białym blatem laminowanym"},{"$f":"'baza nisk'!D1233","v":"MEBLE"},null,0,null,{"$f":"'baza nisk'!E1233","v":1500},0,null,null,{"$f":"'baza nisk'!G1233","v":"Oddział Chemioterapii z Pododdziałem Chemioterapii Dziennej"},"","","proszę kliknąć aby wybrać nazwę komórki organizacyjnej",0]
[{"$f":"'baza nisk'!A1234","v":"S-094B"},{"$f":"'baza nisk'!B1234","v":"Stół DT-359 013 biały 1405-000-015-001-0001"},{"$f":"'baza nisk'!D1234","v":"MEBLE"},null,0,null,{"$f":"'baza nisk'!E1234","v":1000},0,null,null,{"$f":"'baza nisk'!G1234","v":"Blok Operacyjny"},"","","proszę kliknąć aby wybrać nazwę komórki organizacyjnej",0]
[{"$f":"'baza nisk'!A1235","v":"S-094C"},{"$f":"'baza nisk'!B1235","v":"Stół kwadratowy pelny"},{"$f":"'baza nisk'!D1235","v":"MEBLE"},null,0,null,{"$f":"'baza nisk'!E1235","v":150},0,null,null,{"$f":"'baza nisk'!G1235","v":"Hotel Pracowniczy"},"","","proszę kliknąć aby wybrać nazwę komórki organizacyjnej",0]
[{"$f":"'baza nisk'!A1237","v":"S-094D"},{"$f":"'baza nisk'!B1237","v":"Stół"},{"$f":"'baza nisk'!D1237","v":"MEBLE"},null,0,null,{"$f":"'baza nisk'!E1237","v":200},0,null,null,{"$f":"'baza nisk'!G1237","v":"SekcjaKontroli Zakażeń Szpitalnych"},"","","proszę kliknąć aby wybrać nazwę komórki organizacyjnej",0]
[{"$f":"'baza nisk'!A1236","v":"S-094D"},{"$f":"'baza nisk'!B1236","v":"Stół"},{"$f":"'baza nisk'!D1236","v":"MEBLE"},null,0,null,{"$f":"'baza nisk'!E1236","v":200},0,null,null,{"$f":"'baza nisk'!G1236","v":"Biblioteka"},"","","proszę kliknąć aby wybrać nazwę komórki organizacyjnej",0]
[{"$f":"'baza nisk'!A1238","v":"S-094E"},{"$f":"'baza nisk'!B1238","v":"Stół"},{"$f":"'baza nisk'!D1238","v":"MEBLE"},null,0,null,{"$f":"'baza nisk'!E1238","v":200},0,null,null,{"$f":"'baza nisk'!G1238","v":"Oddział Kardiologii Dziecięcej z Pododdziałem Kardiochirurgi"},"","","proszę kliknąć aby wybrać nazwę komórki organizacyjnej",0]
[{"$f":"'baza nisk'!A1239","v":"S-094F"},{"$f":"'baza nisk'!B1239","v":"Stół"},{"$f":"'baza nisk'!D1239","v":"MEBLE"},null,0,null,{"$f":"'baza nisk'!E1239","v":200},0,null,null,{"$f":"'baza nisk'!G1239","v":"Oddział Kardiologii Dziecięcej z Pododdziałem Kardiochirurgi"},"","","proszę kliknąć aby wybrać nazwę komórki organizacyjnej",0]
[{"$f":"'baza nisk'!A1240","v":"S-096A"},{"$f":"'baza nisk'!B1240","v":"Serweta operacyjna niebieska"},{"$f":"'baza nisk'!D1240","v":"POŚCIEL SZPITAL"},null,0,null,{"$f":"'baza nisk'!E1240","v":8},0,null,null,{"$f":"'baza nisk'!G1240","v":"Oddział Nefrologiczny"},"","","proszę kliknąć aby wybrać nazwę komórki organizacyjnej",0]
[{"$f":"'baza nisk'!A1241","v":"S-096B"},{"$f":"'baza nisk'!B1241","v":"Serweta operacyjna niebieska"},{"$f":"'baza nisk'!D1241","v":"POŚCIEL SZPITAL"},null,0,null,{"$f":"'baza nisk'!E1241","v":8},0,null,null,{"$f":"'baza nisk'!G1241","v":"Oddział Nefrologiczny"},"","","proszę kliknąć aby wybrać nazwę komórki organizacyjnej",0]
[{"$f":"'baza nisk'!A1242","v":"S-097"},{"$f":"'baza nisk'!B1242","v":"Stolik opatrunkowy"},{"$f":"'baza nisk'!D1242","v":"MEBLE MEDYCZNE"},null,0,null,{"$f":"'baza nisk'!E1242","v":850},0,null,null,{"$f":"'baza nisk'!G1242","v":"Oddział Położniczo – Ginekologiczny"},"","","proszę kliknąć aby wybrać nazwę komórki organizacyjnej",0]
[{"$f":"'baza nisk'!A1243","v":"S-097A"},{"$f":"'baza nisk'!B1243","v":"Stolik typu Mayo do instrumentów chirurgicznych"},{"$f":"'baza nisk'!D1243","v":"MEBLE MEDYCZNE"},null,0,null,{"$f":"'baza nisk'!E1243","v":1200},0,null,null,{"$f":"'baza nisk'!G1243","v":"Anestezjologia"},"","","proszę kliknąć aby wybrać nazwę komórki organizacyjnej",0]
[{"$f":"'baza nisk'!A1244","v":"S-097B"},{"$f":"'baza nisk'!B1244","v":"Stolik zabiegowy"},{"$f":"'baza nisk'!D1244","v":"MEBLE MEDYCZNE"},null,0,null,{"$f":"'baza nisk'!E1244","v":1630.8},0,null,null,{"$f":"'baza nisk'!G1244","v":"Oddział Chirurgii Ogólnej z Pododdziałami"},"","","proszę kliknąć aby wybrać nazwę komórki organizacyjnej",0]
[{"$f":"'baza nisk'!A1245","v":"S-097C"},{"$f":"'baza nisk'!B1245","v":"Stolik opatrunkowy"},{"$f":"'baza nisk'!D1245","v":"MEBLE MEDYCZNE"},null,0,null,{"$f":"'baza nisk'!E1245","v":970},0,null,null,{"$f":"'baza nisk'!G1245","v":"Oddział Okulistyczny"},"","","proszę kliknąć aby wybrać nazwę komórki organizacyjnej",0]
[{"$f":"'baza nisk'!A1246","v":"S-097C"},{"$f":"'baza nisk'!B1246","v":"Stolik opatrunkowy"},{"$f":"'baza nisk'!D1246","v":"MEBLE MEDYCZNE"},null,0,null,{"$f":"'baza nisk'!E1246","v":970},0,null,null,{"$f":"'baza nisk'!G1246","v":"Oddział Pediatryczny z Pododdziałem Gastroenterologii "},"","","proszę kliknąć aby wybrać nazwę komórki organizacyjnej",0]
[{"$f":"'baza nisk'!A1247","v":"S-097D"},{"$f":"'baza nisk'!B1247","v":"Stolik opatrunkowy"},{"$f":"'baza nisk'!D1247","v":"MEBLE MEDYCZNE"},null,0,null,{"$f":"'baza nisk'!E1247","v":970},0,null,null,{"$f":"'baza nisk'!G1247","v":"Poradnia Onkologiczna"},"","","proszę kliknąć aby wybrać nazwę komórki organizacyjnej",0]
[{"$f":"'baza nisk'!A1248","v":"S-097E"},{"$f":"'baza nisk'!B1248","v":"Stolik typu Mayo do instrumentów chirurgicznych"},{"$f":"'baza nisk'!D1248","v":"MEBLE MEDYCZNE"},null,0,null,{"$f":"'baza nisk'!E1248","v":1200},0,null,null,{"$f":"'baza nisk'!G1248","v":"Oddział Okulistyczny"},"","","proszę kliknąć aby wybrać nazwę komórki organizacyjnej",0]
[{"$f":"'baza nisk'!A1249","v":"S-110"},{"$f":"'baza nisk'!B1249","v":"Stół roboczy 100x70x90cm ze stali nierdzewnej"},{"$f":"'baza nisk'!D1249","v":"MEBLE MEDYCZNE"},null,0,null,{"$f":"'baza nisk'!E1249","v":2200},0,null,null,{"$f":"'baza nisk'!G1249","v":"Dział Centralnej Sterylizatorni i DDD"},"","","proszę kliknąć aby wybrać nazwę komórki organizacyjnej",0]
[{"$f":"'baza nisk'!A1250","v":"S-115"},{"$f":"'baza nisk'!B1250","v":"Szafa na dokumentację"},{"$f":"'baza nisk'!D1250","v":"MEBLE"},null,0,null,{"$f":"'baza nisk'!E1250","v":780},0,null,null,{"$f":"'baza nisk'!G1250","v":"Blok Operacyjny"},"","","proszę kliknąć aby wybrać nazwę komórki organizacyjnej",0]
[{"$f":"'baza nisk'!A1251","v":"S-115"},{"$f":"'baza nisk'!B1251","v":"Szafa na dokumentację"},{"$f":"'baza nisk'!D1251","v":"MEBLE"},null,0,null,{"$f":"'baza nisk'!E1251","v":780},0,null,null,{"$f":"'baza nisk'!G1251","v":"DODO -Pracownia RTG"},"","","proszę kliknąć aby wybrać nazwę komórki organizacyjnej",0]
[{"$f":"'baza nisk'!A1252","v":"S-116"},{"$f":"'baza nisk'!B1252","v":"Szuflada 2xzamek 50x60x100h"},{"$f":"'baza nisk'!D1252","v":"MEBLE"},null,0,null,{"$f":"'baza nisk'!E1252","v":400},0,null,null,{"$f":"'baza nisk'!G1252","v":"Blok Operacyjny"},"","","proszę kliknąć aby wybrać nazwę komórki organizacyjnej",0]
[{"$f":"'baza nisk'!A1253","v":"S-116"},{"$f":"'baza nisk'!B1253","v":"Szuflada 2xzamek 50x60x100h"},{"$f":"'baza nisk'!D1253","v":"MEBLE"},null,0,null,{"$f":"'baza nisk'!E1253","v":400},0,null,null,{"$f":"'baza nisk'!G1253","v":"Zamiejscowy Oddział Rehabilitacji Ogólnoustrojowej II"},"","","proszę kliknąć aby wybrać nazwę komórki organizacyjnej",0]
[{"$f":"'baza nisk'!A1254","v":"S-117"},{"$f":"'baza nisk'!B1254","v":"Szczypce biopsyjne tyo Pre Cise"},{"$f":"'baza nisk'!D1254","v":"NARZ. MEDYCZNE"},null,0,null,{"$f":"'baza nisk'!E1254","v":14000},0,null,null,{"$f":"'baza nisk'!G1254","v":"Blok Operacyjny"},"","","proszę kliknąć aby wybrać nazwę komórki organizacyjnej",0]
[{"$f":"'baza nisk'!A1255","v":"S-128"},{"$f":"'baza nisk'!B1255","v":"Sonda ultradźwiękowa bez koronki, z kanałem ssą"},{"$f":"'baza nisk'!D1255","v":"MED. NISK. ŚR. TRW."},null,0,null,{"$f":"'baza nisk'!E1255","v":333.86},0,null,null,{"$f":"'baza nisk'!G1255","v":"Oddział Urologii i Urologii Onkologicznej"},"","","proszę kliknąć aby wybrać nazwę komórki organizacyjnej",0]
[{"$f":"'baza nisk'!A1256","v":"S-128A"},{"$f":"'baza nisk'!B1256","v":"Sonda ultradźwiękowa bez koronki, z kanałem ssą"},{"$f":"'baza nisk'!D1256","v":"MED. NISK. ŚR. TRW."},null,0,null,{"$f":"'baza nisk'!E1256","v":339.7},0,null,null,{"$f":"'baza nisk'!G1256","v":"Oddział Urologii i Urologii Onkologicznej"},"","","proszę kliknąć aby wybrać nazwę komórki organizacyjnej",0]
[{"$f":"'baza nisk'!A1257","v":"S-131"},{"$f":"'baza nisk'!B1257","v":"Stół z tyłem"},{"$f":"'baza nisk'!D1257","v":"MEBLE"},null,0,null,{"$f":"'baza nisk'!E1257","v":1100},0,null,null,{"$f":"'baza nisk'!G1257","v":"Oddział Okulistyczny"},"","","proszę kliknąć aby wybrać nazwę komórki organizacyjnej",0]
[{"$f":"'baza nisk'!A1258","v":"S-131A"},{"$f":"'baza nisk'!B1258","v":"Stół z tyłem"},{"$f":"'baza nisk'!D1258","v":"MEBLE"},null,0,null,{"$f":"'baza nisk'!E1258","v":1100},0,null,null,{"$f":"'baza nisk'!G1258","v":"Oddział Okulistyczny"},"","","proszę kliknąć aby wybrać nazwę komórki organizacyjnej",0]
[{"$f":"'baza nisk'!A1259","v":"S-133"},{"$f":"'baza nisk'!B1259","v":"Stół kuchenny"},{"$f":"'baza nisk'!D1259","v":"MEBLE"},null,0,null,{"$f":"'baza nisk'!E1259","v":207.48500000000001},0,null,null,{"$f":"'baza nisk'!G1259","v":"Hotel Pracowniczy"},"","","proszę kliknąć aby wybrać nazwę komórki organizacyjnej",0]
[{"$f":"'baza nisk'!A1260","v":"S-133A"},{"$f":"'baza nisk'!B1260","v":"Stół kuchenny"},{"$f":"'baza nisk'!D1260","v":"MEBLE"},null,0,null,{"$f":"'baza nisk'!E1260","v":207.48500000000001},0,null,null,{"$f":"'baza nisk'!G1260","v":"Hotel Pracowniczy"},"","","proszę kliknąć aby wybrać nazwę komórki organizacyjnej",0]
[{"$f":"'baza nisk'!A1261","v":"S-134"},{"$f":"'baza nisk'!B1261","v":"Stolik na jednej nodze 60x50"},{"$f":"'baza nisk'!D1261","v":"MEBLE"},null,0,null,{"$f":"'baza nisk'!E1261","v":207.48500000000001},0,null,null,{"$f":"'baza nisk'!G1261","v":"Dział Zaopatrzenia i Zamówień Publicznych"},"","","proszę kliknąć aby wybrać nazwę komórki organizacyjnej",0]
[{"$f":"'baza nisk'!A1262","v":"S-140"},{"$f":"'baza nisk'!B1262","v":"Stacja dokująca do systemu SPACE"},{"$f":"'baza nisk'!D1262","v":"MED. NISK. ŚR. TRW."},null,0,null,{"$f":"'baza nisk'!E1262","v":2160},0,null,null,{"$f":"'baza nisk'!G1262","v":"Oddział Chemioterapii z Pododdziałem Chemioterapii Dziennej"},"","","proszę kliknąć aby wybrać nazwę komórki organizacyjnej",0]
[{"$f":"'baza nisk'!A1263","v":"S-143"},{"$f":"'baza nisk'!B1263","v":"Szafa aktowa"},{"$f":"'baza nisk'!D1263","v":"MEBLE"},null,0,null,{"$f":"'baza nisk'!E1263","v":680},0,null,null,{"$f":"'baza nisk'!G1263","v":"Dział Rejestracji Statystyki i Dokumentacji Medycznej"},"","","proszę kliknąć aby wybrać nazwę komórki organizacyjnej",0]
[{"$f":"'baza nisk'!A1264","v":"S-143A"},{"$f":"'baza nisk'!B1264","v":"Szafa aktowa"},{"$f":"'baza nisk'!D1264","v":"MEBLE"},null,0,null,{"$f":"'baza nisk'!E1264","v":680},0,null,null,{"$f":"'baza nisk'!G1264","v":"Dział Rejestracji Statystyki i Dokumentacji Medycznej"},"","","proszę kliknąć aby wybrać nazwę komórki organizacyjnej",0]
[{"$f":"'baza nisk'!A1265","v":"S-154"},{"$f":"'baza nisk'!B1265","v":"Szczypce biopsyjne wielorazowe"},{"$f":"'baza nisk'!D1265","v":"NARZ. MEDYCZNE"},null,0,null,{"$f":"'baza nisk'!E1265","v":641.52},0,null,null,{"$f":"'baza nisk'!G1265","v":"Oddział Pediatryczny z Pododdziałem Gastroenterologii "},"","","proszę kliknąć aby wybrać nazwę komórki organizacyjnej",0]
[{"$f":"'baza nisk'!A1266","v":"S-157"},{"$f":"'baza nisk'!B1266","v":"Szafa przeszklona"},{"$f":"'baza nisk'!D1266","v":"MEBLE"},null,0,null,{"$f":"'baza nisk'!E1266","v":1100},0,null,null,{"$f":"'baza nisk'!G1266","v":"Pracownik Socjalny"},"","","proszę kliknąć aby wybrać nazwę komórki organizacyjnej",0]
[{"$f":"'baza nisk'!A1267","v":"S-159"},{"$f":"'baza nisk'!B1267","v":"Sejf meblowy"},{"$f":"'baza nisk'!D1267","v":"URZĄDZ. BIUROWE"},null,0,null,{"$f":"'baza nisk'!E1267","v":2014.74},0,null,null,{"$f":"'baza nisk'!G1267","v":"Intensywna Terapia"},"","","proszę kliknąć aby wybrać nazwę komórki organizacyjnej",0]
[{"$f":"'baza nisk'!A1268","v":"S-159A"},{"$f":"'baza nisk'!B1268","v":"Sejf ścienny  "},{"$f":"'baza nisk'!D1268","v":"URZĄDZ. BIUROWE"},null,0,null,{"$f":"'baza nisk'!E1268","v":304.89},0,null,null,{"$f":"'baza nisk'!G1268","v":"SOR"},"","","proszę kliknąć aby wybrać nazwę komórki organizacyjnej",0]
[{"$f":"'baza nisk'!A1269","v":"S-159B"},{"$f":"'baza nisk'!B1269","v":"Sejf meblowo-gabinetowy "},{"$f":"'baza nisk'!D1269","v":"URZĄDZ. BIUROWE"},null,0,null,{"$f":"'baza nisk'!E1269","v":3260.12},0,null,null,{"$f":"'baza nisk'!G1269","v":"Anestezjologia"},"","","proszę kliknąć aby wybrać nazwę komórki organizacyjnej",0]
[{"$f":"'baza nisk'!A1270","v":"S-163"},{"$f":"'baza nisk'!B1270","v":"Stolik pod komputer"},{"$f":"'baza nisk'!D1270","v":"MEBLE"},null,0,null,{"$f":"'baza nisk'!E1270","v":100},0,null,null,{"$f":"'baza nisk'!G1270","v":"Biblioteka"},"","","proszę kliknąć aby wybrać nazwę komórki organizacyjnej",0]
[{"$f":"'baza nisk'!A1271","v":"S-164"},{"$f":"'baza nisk'!B1271","v":"Szafka medyczna dwuskrzydłowa -stojąca 1130x600"},{"$f":"'baza nisk'!D1271","v":"MEBLE"},null,0,null,{"$f":"'baza nisk'!E1271","v":2350},0,null,null,{"$f":"'baza nisk'!G1271","v":"Intensywna Terapia"},"","","proszę kliknąć aby wybrać nazwę komórki organizacyjnej",0]
[{"$f":"'baza nisk'!A1272","v":"S-165"},{"$f":"'baza nisk'!B1272","v":"Szafka medyczna dwuskrzydłowa-wisząca, front pr"},{"$f":"'baza nisk'!D1272","v":"MEBLE"},null,0,null,{"$f":"'baza nisk'!E1272","v":1850},0,null,null,{"$f":"'baza nisk'!G1272","v":"Intensywna Terapia"},"","","proszę kliknąć aby wybrać nazwę komórki organizacyjnej",0]
[{"$f":"'baza nisk'!A1273","v":"S-166"},{"$f":"'baza nisk'!B1273","v":"Szafka stojąca dwuskrzydlowa"},{"$f":"'baza nisk'!D1273","v":"MEBLE"},null,0,null,{"$f":"'baza nisk'!E1273","v":2350},0,null,null,{"$f":"'baza nisk'!G1273","v":"Intensywna Terapia"},"","","proszę kliknąć aby wybrać nazwę komórki organizacyjnej",0]
[{"$f":"'baza nisk'!A1274","v":"S-167"},{"$f":"'baza nisk'!B1274","v":"Szafka medyczna jednoskrzydlowa-wisząca, front"},{"$f":"'baza nisk'!D1274","v":"MEBLE"},null,0,null,{"$f":"'baza nisk'!E1274","v":1500},0,null,null,{"$f":"'baza nisk'!G1274","v":"Intensywna Terapia"},"","","proszę kliknąć aby wybrać nazwę komórki organizacyjnej",0]
[{"$f":"'baza nisk'!A1275","v":"S-168"},{"$f":"'baza nisk'!B1275","v":"Szafka stojąca z trzema szufladami"},{"$f":"'baza nisk'!D1275","v":"MEBLE"},null,0,null,{"$f":"'baza nisk'!E1275","v":2350},0,null,null,{"$f":"'baza nisk'!G1275","v":"Intensywna Terapia"},"","","proszę kliknąć aby wybrać nazwę komórki organizacyjnej",0]
[{"$f":"'baza nisk'!A1276","v":"S-168A"},{"$f":"'baza nisk'!B1276","v":"Szafka stojąca z trzema szufladami"},{"$f":"'baza nisk'!D1276","v":"MEBLE"},null,0,null,{"$f":"'baza nisk'!E1276","v":2350},0,null,null,{"$f":"'baza nisk'!G1276","v":"Intensywna Terapia"},"","","proszę kliknąć aby wybrać nazwę komórki organizacyjnej",0]
[{"$f":"'baza nisk'!A1277","v":"S-168B"},{"$f":"'baza nisk'!B1277","v":"Szafka stojąca z trzema szufladami"},{"$f":"'baza nisk'!D1277","v":"MEBLE"},null,0,null,{"$f":"'baza nisk'!E1277","v":2350},0,null,null,{"$f":"'baza nisk'!G1277","v":"Intensywna Terapia"},"","","proszę kliknąć aby wybrać nazwę komórki organizacyjnej",0]
[{"$f":"'baza nisk'!A1278","v":"S-168C"},{"$f":"'baza nisk'!B1278","v":"Szafka stojąca z trzema szufladami"},{"$f":"'baza nisk'!D1278","v":"MEBLE"},null,0,null,{"$f":"'baza nisk'!E1278","v":2350},0,null,null,{"$f":"'baza nisk'!G1278","v":"Intensywna Terapia"},"","","proszę kliknąć aby wybrać nazwę komórki organizacyjnej",0]
[{"$f":"'baza nisk'!A1279","v":"S-168D"},{"$f":"'baza nisk'!B1279","v":"Szafka stojąca z trzema szufladami"},{"$f":"'baza nisk'!D1279","v":"MEBLE"},null,0,null,{"$f":"'baza nisk'!E1279","v":2350},0,null,null,{"$f":"'baza nisk'!G1279","v":"Intensywna Terapia"},"","","proszę kliknąć aby wybrać nazwę komórki organizacyjnej",0]
[{"$f":"'baza nisk'!A1280","v":"S-168E"},{"$f":"'baza nisk'!B1280","v":"Szafka stojąca z trzema szufladami"},{"$f":"'baza nisk'!D1280","v":"MEBLE"},null,0,null,{"$f":"'baza nisk'!E1280","v":2350},0,null,null,{"$f":"'baza nisk'!G1280","v":"Oddział Kardiologii Dziecięcej z Pododdziałem Kardiochirurgi"},"","","proszę kliknąć aby wybrać nazwę komórki organizacyjnej",0]
[{"$f":"'baza nisk'!A1281","v":"S-169"},{"$f":"'baza nisk'!B1281","v":"Szafka stojąca dwuskrzydlowa"},{"$f":"'baza nisk'!D1281","v":"MEBLE"},null,0,null,{"$f":"'baza nisk'!E1281","v":1800},0,null,null,{"$f":"'baza nisk'!G1281","v":"Intensywna Terapia"},"","","proszę kliknąć aby wybrać nazwę komórki organizacyjnej",0]
[{"$f":"'baza nisk'!A1282","v":"S-170"},{"$f":"'baza nisk'!B1282","v":"Szafka stojąca z czteroma szufladami"},{"$f":"'baza nisk'!D1282","v":"MEBLE"},null,0,null,{"$f":"'baza nisk'!E1282","v":2829},0,null,null,{"$f":"'baza nisk'!G1282","v":"Intensywna Terapia"},"","","proszę kliknąć aby wybrać nazwę komórki organizacyjnej",0]
[{"$f":"'baza nisk'!A1283","v":"S-170A"},{"$f":"'baza nisk'!B1283","v":"Szafka stojąca z czteroma szufladami"},{"$f":"'baza nisk'!D1283","v":"MEBLE"},null,0,null,{"$f":"'baza nisk'!E1283","v":2583},{"$f":"E1286*G1286","v":0},null,null,{"$f":"'baza nisk'!G1283","v":"Intensywna Terapia"},{"$f":"IF($B$2=K1286,$B$2,\"\")","v":""},{"$f":"IF($B$2=K1286,1,\"\")","v":""},{"$f":"$B$2","v":"proszę kliknąć aby wybrać nazwę komórki organizacyjnej"},{"$f":"$H$2","v":0}]
[{"$f":"'baza nisk'!A1284","v":"S-170B"},{"$f":"'baza nisk'!B1284","v":"Szafka stojąca czteroszufladowa 60x55x72h"},{"$f":"'baza nisk'!D1284","v":"MEBLE"},null,0,null,{"$f":"'baza nisk'!E1284","v":602.70000000000005},0,null,null,{"$f":"'baza nisk'!G1284","v":"Oddział Kardiologii Dziecięcej z Pododdziałem Kardiochirurgi"},"","","proszę kliknąć aby wybrać nazwę komórki organizacyjnej",0]
[{"$f":"'baza nisk'!A1285","v":"S-171"},{"$f":"'baza nisk'!B1285","v":"Szafka medyczna otwarta,wisząca 620x300x900"},{"$f":"'baza nisk'!D1285","v":"MEBLE"},null,0,null,{"$f":"'baza nisk'!E1285","v":1400},0,null,null,{"$f":"'baza nisk'!G1285","v":"Intensywna Terapia"},"","","proszę kliknąć aby wybrać nazwę komórki organizacyjnej",0]
[{"$f":"'baza nisk'!A1286","v":"S-172"},{"$f":"'baza nisk'!B1286","v":"Szafka medyczna dwuskrzydłowa-wisząca front prz"},{"$f":"'baza nisk'!D1286","v":"MEBLE"},null,0,null,{"$f":"'baza nisk'!E1286","v":2000},0,null,null,{"$f":"'baza nisk'!G1286","v":"Intensywna Terapia"},"","","proszę kliknąć aby wybrać nazwę komórki organizacyjnej",0]
[{"$f":"'baza nisk'!A1287","v":"S-173"},{"$f":"'baza nisk'!B1287","v":"Szafa ubraniowa BHP;2-drzwiowa bez podziału"},{"$f":"'baza nisk'!D1287","v":"MEBLE"},null,0,null,{"$f":"'baza nisk'!E1287","v":402.21},0,null,null,{"$f":"'baza nisk'!G1287","v":"SekcjaGospodarcza i Obsługa (cześć wspólna)"},"","","proszę kliknąć aby wybrać nazwę komórki organizacyjnej",0]
[{"$f":"'baza nisk'!A1288","v":"S-173"},{"$f":"'baza nisk'!B1288","v":"Szafa ubraniowa BHP;2-drzwiowa bez podziału"},{"$f":"'baza nisk'!D1288","v":"MEBLE"},null,0,null,{"$f":"'baza nisk'!E1288","v":402.21},0,null,null,{"$f":"'baza nisk'!G1288","v":"SekcjaGospodarcza i Obsługa (cześć wspólna)"},"","","proszę kliknąć aby wybrać nazwę komórki organizacyjnej",0]
[{"$f":"'baza nisk'!A1289","v":"S-175"},{"$f":"'baza nisk'!B1289","v":"Szafka 7 szufladowa"},{"$f":"'baza nisk'!D1289","v":"MEBLE"},null,0,null,{"$f":"'baza nisk'!E1289","v":910.2},0,null,null,{"$f":"'baza nisk'!G1289","v":"Oddział Okulistyczny"},"","","proszę kliknąć aby wybrać nazwę komórki organizacyjnej",0]
[{"$f":"'baza nisk'!A1290","v":"S-176"},{"$f":"'baza nisk'!B1290","v":"Szafa na lodówkę"},{"$f":"'baza nisk'!D1290","v":"MEBLE"},null,0,null,{"$f":"'baza nisk'!E1290","v":780},0,null,null,{"$f":"'baza nisk'!G1290","v":"Pracownia Endoskopii"},"","","proszę kliknąć aby wybrać nazwę komórki organizacyjnej",0]
[{"$f":"'baza nisk'!A1291","v":"S-178"},{"$f":"'baza nisk'!B1291","v":"Szafa śniadaniowa"},{"$f":"'baza nisk'!D1291","v":"MEBLE"},null,0,null,{"$f":"'baza nisk'!E1291","v":556.96},0,null,null,{"$f":"'baza nisk'!G1291","v":"Dział Gospodarki Nieruchomościami i Utrzymania Ruchu"},"","","proszę kliknąć aby wybrać nazwę komórki organizacyjnej",0]
[{"$f":"'baza nisk'!A1292","v":"S-180"},{"$f":"'baza nisk'!B1292","v":"Szafa na leki"},{"$f":"'baza nisk'!D1292","v":"MEBLE"},null,0,null,{"$f":"'baza nisk'!E1292","v":800},0,null,null,{"$f":"'baza nisk'!G1292","v":"Poradnia Chirurgii Onkologicznej"},"","","proszę kliknąć aby wybrać nazwę komórki organizacyjnej",0]
[{"$f":"'baza nisk'!A1293","v":"S-180"},{"$f":"'baza nisk'!B1293","v":"Szafa na leki"},{"$f":"'baza nisk'!D1293","v":"MEBLE"},null,0,null,{"$f":"'baza nisk'!E1293","v":800},0,null,null,{"$f":"'baza nisk'!G1293","v":"SOR"},"","","proszę kliknąć aby wybrać nazwę komórki organizacyjnej",0]
[{"$f":"'baza nisk'!A1294","v":"S-183"},{"$f":"'baza nisk'!B1294","v":"Sonda ultradźwiękowa z koronką,z kanałem ssącym"},{"$f":"'baza nisk'!D1294","v":"MED. NISK. ŚR. TRW."},null,0,null,{"$f":"'baza nisk'!E1294","v":328.02},0,null,null,{"$f":"'baza nisk'!G1294","v":"Oddział Urologii i Urologii Onkologicznej"},"","","proszę kliknąć aby wybrać nazwę komórki organizacyjnej",0]
[{"$f":"'baza nisk'!A1295","v":"S-186"},{"$f":"'baza nisk'!B1295","v":"Szafka stojąca,drzwi "},{"$f":"'baza nisk'!D1295","v":"MEBLE"},null,0,null,{"$f":"'baza nisk'!E1295","v":332.1},0,null,null,{"$f":"'baza nisk'!G1295","v":"Oddział Kardiologii Dziecięcej z Pododdziałem Kardiochirurgi"},"","","proszę kliknąć aby wybrać nazwę komórki organizacyjnej",0]
[{"$f":"'baza nisk'!A1296","v":"S-186A"},{"$f":"'baza nisk'!B1296","v":"Szafka stojąca,drzwi "},{"$f":"'baza nisk'!D1296","v":"MEBLE"},null,0,null,{"$f":"'baza nisk'!E1296","v":332.1},0,null,null,{"$f":"'baza nisk'!G1296","v":"Oddział Kardiologii Dziecięcej z Pododdziałem Kardiochirurgi"},"","","proszę kliknąć aby wybrać nazwę komórki organizacyjnej",0]
[{"$f":"'baza nisk'!A1297","v":"S-187"},{"$f":"'baza nisk'!B1297","v":"Szafka stojąca z jedną szufladą 50x50x72h"},{"$f":"'baza nisk'!D1297","v":"MEBLE"},null,0,null,{"$f":"'baza nisk'!E1297","v":381.3},0,null,null,{"$f":"'baza nisk'!G1297","v":"Oddział Kardiologii Dziecięcej z Pododdziałem Kardiochirurgi"},"","","proszę kliknąć aby wybrać nazwę komórki organizacyjnej",0]
[{"$f":"'baza nisk'!A1298","v":"S-187A"},{"$f":"'baza nisk'!B1298","v":"Szafka stojąca jednoszufladowa 60x50x82h"},{"$f":"'baza nisk'!D1298","v":"MEBLE"},null,0,null,{"$f":"'baza nisk'!E1298","v":381.3},0,null,null,{"$f":"'baza nisk'!G1298","v":"Oddział Kardiologii Dziecięcej z Pododdziałem Kardiochirurgi"},"","","proszę kliknąć aby wybrać nazwę komórki organizacyjnej",0]
[{"$f":"'baza nisk'!A1299","v":"S-188"},{"$f":"'baza nisk'!B1299","v":"Szafa trzy szuflady+drzwi 70x42x190h"},{"$f":"'baza nisk'!D1299","v":"MEBLE"},null,0,null,{"$f":"'baza nisk'!E1299","v":836.4},0,null,null,{"$f":"'baza nisk'!G1299","v":"Oddział Kardiologii Dziecięcej z Pododdziałem Kardiochirurgi"},"","","proszę kliknąć aby wybrać nazwę komórki organizacyjnej",0]
[{"$f":"'baza nisk'!A1300","v":"S-188A"},{"$f":"'baza nisk'!B1300","v":"Szafa z trzema szufladami 50x50x210h"},{"$f":"'baza nisk'!D1300","v":"MEBLE"},null,0,null,{"$f":"'baza nisk'!E1300","v":787.2},0,null,null,{"$f":"'baza nisk'!G1300","v":"Oddział Kardiologii Dziecięcej z Pododdziałem Kardiochirurgi"},"","","proszę kliknąć aby wybrać nazwę komórki organizacyjnej",0]
[{"$f":"'baza nisk'!A1301","v":"S-188B"},{"$f":"'baza nisk'!B1301","v":"Szafa dwuszufladowa+drzwi 115x50x230h"},{"$f":"'baza nisk'!D1301","v":"MEBLE"},null,0,null,{"$f":"'baza nisk'!E1301","v":1697.4},0,null,null,{"$f":"'baza nisk'!G1301","v":"Oddział Kardiologii Dziecięcej z Pododdziałem Kardiochirurgi"},"","","proszę kliknąć aby wybrać nazwę komórki organizacyjnej",0]
[{"$f":"'baza nisk'!A1302","v":"S-188C"},{"$f":"'baza nisk'!B1302","v":"Szafka jednoszufladowa+drzwi 60x58x82h"},{"$f":"'baza nisk'!D1302","v":"MEBLE"},null,0,null,{"$f":"'baza nisk'!E1302","v":381.3},0,null,null,{"$f":"'baza nisk'!G1302","v":"Oddział Kardiologii Dziecięcej z Pododdziałem Kardiochirurgi"},"","","proszę kliknąć aby wybrać nazwę komórki organizacyjnej",0]
[{"$f":"'baza nisk'!A1303","v":"S-189"},{"$f":"'baza nisk'!B1303","v":"Szafa ubraniowa"},{"$f":"'baza nisk'!D1303","v":"MEBLE"},null,0,null,{"$f":"'baza nisk'!E1303","v":700},0,null,null,{"$f":"'baza nisk'!G1303","v":"Oddział Kardiologii Dziecięcej z Pododdziałem Kardiochirurgi"},"","","proszę kliknąć aby wybrać nazwę komórki organizacyjnej",0]
[{"$f":"'baza nisk'!A1305","v":"S-189A"},{"$f":"'baza nisk'!B1305","v":"Szafa ubraniowa"},{"$f":"'baza nisk'!D1305","v":"MEBLE"},null,0,null,{"$f":"'baza nisk'!E1305","v":700},0,null,null,{"$f":"'baza nisk'!G1305","v":"Poradnia Chirurgii Onkologicznej"},"","","proszę kliknąć aby wybrać nazwę komórki organizacyjnej",0]
[{"$f":"'baza nisk'!A1304","v":"S-189A"},{"$f":"'baza nisk'!B1304","v":"Szafa ubraniowa"},{"$f":"'baza nisk'!D1304","v":"MEBLE"},null,0,null,{"$f":"'baza nisk'!E1304","v":700},0,null,null,{"$f":"'baza nisk'!G1304","v":"Oddział Kardiologii Dziecięcej z Pododdziałem Kardiochirurgi"},"","","proszę kliknąć aby wybrać nazwę komórki organizacyjnej",0]
[{"$f":"'baza nisk'!A1306","v":"S-190"},{"$f":"'baza nisk'!B1306","v":"Szafka stojąca z pięcioma szufladami"},{"$f":"'baza nisk'!D1306","v":"MEBLE"},null,0,null,{"$f":"'baza nisk'!E1306","v":910.2},0,null,null,{"$f":"'baza nisk'!G1306","v":"Oddział Kardiologii Dziecięcej z Pododdziałem Kardiochirurgi"},"","","proszę kliknąć aby wybrać nazwę komórki organizacyjnej",0]
[{"$f":"'baza nisk'!A1307","v":"S-191"},{"$f":"'baza nisk'!B1307","v":"Szafka skośna"},{"$f":"'baza nisk'!D1307","v":"MEBLE"},null,0,null,{"$f":"'baza nisk'!E1307","v":651.9},0,null,null,{"$f":"'baza nisk'!G1307","v":"Oddział Kardiologii Dziecięcej z Pododdziałem Kardiochirurgi"},"","","proszę kliknąć aby wybrać nazwę komórki organizacyjnej",0]
[{"$f":"'baza nisk'!A1308","v":"S-192"},{"$f":"'baza nisk'!B1308","v":"Szafa 140 na cewniki z nadstawką 260h"},{"$f":"'baza nisk'!D1308","v":"MEBLE"},null,0,null,{"$f":"'baza nisk'!E1308","v":910.2},0,null,null,{"$f":"'baza nisk'!G1308","v":"Oddział Kardiologii Dziecięcej z Pododdziałem Kardiochirurgi"},"","","proszę kliknąć aby wybrać nazwę komórki organizacyjnej",0]
[{"$f":"'baza nisk'!A1309","v":"S-193"},{"$f":"'baza nisk'!B1309","v":"Szafa brudownik 80x35x200h"},{"$f":"'baza nisk'!D1309","v":"MEBLE"},null,0,null,{"$f":"'baza nisk'!E1309","v":836.4},0,null,null,{"$f":"'baza nisk'!G1309","v":"Oddział Kardiologii Dziecięcej z Pododdziałem Kardiochirurgi"},"","","proszę kliknąć aby wybrać nazwę komórki organizacyjnej",0]
[{"$f":"'baza nisk'!A1310","v":"S-194"},{"$f":"'baza nisk'!B1310","v":"Szafka zamykana sześciodrzwiowa 90x50x90h"},{"$f":"'baza nisk'!D1310","v":"MEBLE"},null,0,null,{"$f":"'baza nisk'!E1310","v":885.6},0,null,null,{"$f":"'baza nisk'!G1310","v":"Oddział Kardiologii Dziecięcej z Pododdziałem Kardiochirurgi"},"","","proszę kliknąć aby wybrać nazwę komórki organizacyjnej",0]
[{"$f":"'baza nisk'!A1311","v":"S-194A"},{"$f":"'baza nisk'!B1311","v":"Szafka zamykana na klucz 505x505x1155h"},{"$f":"'baza nisk'!D1311","v":"MEBLE"},null,0,null,{"$f":"'baza nisk'!E1311","v":885.6},0,null,null,{"$f":"'baza nisk'!G1311","v":"Zamiejscowy Oddział Rehabilitacji Ogólnoustrojowej I"},"","","proszę kliknąć aby wybrać nazwę komórki organizacyjnej",0]
[{"$f":"'baza nisk'!A1312","v":"S-195"},{"$f":"'baza nisk'!B1312","v":"Szafa dołem otwarta 119x60x230h"},{"$f":"'baza nisk'!D1312","v":"MEBLE"},null,0,null,{"$f":"'baza nisk'!E1312","v":1353},0,null,null,{"$f":"'baza nisk'!G1312","v":"Oddział Kardiologii Dziecięcej z Pododdziałem Kardiochirurgi"},"","","proszę kliknąć aby wybrać nazwę komórki organizacyjnej",0]
[{"$f":"'baza nisk'!A1313","v":"S-197"},{"$f":"'baza nisk'!B1313","v":"Stojak na kroplówki z półką NSS-10.2"},{"$f":"'baza nisk'!D1313","v":"MED. NISK. ŚR. TRW."},null,0,null,{"$f":"'baza nisk'!E1313","v":280},0,null,null,{"$f":"'baza nisk'!G1313","v":"Oddział Kardiologii Dziecięcej z Pododdziałem Kardiochirurgi"},"","","proszę kliknąć aby wybrać nazwę komórki organizacyjnej",0]
[{"$f":"'baza nisk'!A1315","v":"S-197"},{"$f":"'baza nisk'!B1315","v":"Stojak na kroplówki z półką NSS-10.2"},{"$f":"'baza nisk'!D1315","v":"MED. NISK. ŚR. TRW."},null,0,null,{"$f":"'baza nisk'!E1315","v":280},0,null,null,{"$f":"'baza nisk'!G1315","v":"Oddział Położniczo – Ginekologiczny"},"","","proszę kliknąć aby wybrać nazwę komórki organizacyjnej",0]
[{"$f":"'baza nisk'!A1314","v":"S-197"},{"$f":"'baza nisk'!B1314","v":"Stojak na kroplówki z półką NSS-10.2"},{"$f":"'baza nisk'!D1314","v":"MED. NISK. ŚR. TRW."},null,0,null,{"$f":"'baza nisk'!E1314","v":280},0,null,null,{"$f":"'baza nisk'!G1314","v":"Oddział Pediatryczny z Pododdziałem Gastroenterologii "},"","","proszę kliknąć aby wybrać nazwę komórki organizacyjnej",0]
[{"$f":"'baza nisk'!A1317","v":"S-197A"},{"$f":"'baza nisk'!B1317","v":"Stojak na kroplówki  NSS-10.2"},{"$f":"'baza nisk'!D1317","v":"MED. NISK. ŚR. TRW."},null,0,null,{"$f":"'baza nisk'!E1317","v":243},0,null,null,{"$f":"'baza nisk'!G1317","v":"Zamiejscowy Oddział Rehabilitacji Ogólnoustrojowej II"},"","","proszę kliknąć aby wybrać nazwę komórki organizacyjnej",0]
[{"$f":"'baza nisk'!A1316","v":"S-197A"},{"$f":"'baza nisk'!B1316","v":"Stojak na kroplówki  NSS-10.2"},{"$f":"'baza nisk'!D1316","v":"MED. NISK. ŚR. TRW."},null,0,null,{"$f":"'baza nisk'!E1316","v":243},0,null,null,{"$f":"'baza nisk'!G1316","v":"Oddział Chirurgii Ogólnej z Pododdziałami"},"","","proszę kliknąć aby wybrać nazwę komórki organizacyjnej",0]
[{"$f":"'baza nisk'!A1318","v":"S-197B"},{"$f":"'baza nisk'!B1318","v":"Stojak do kroplówek MSS-10.2. 2-wieszakowy"},{"$f":"'baza nisk'!D1318","v":"MED. NISK. ŚR. TRW."},null,0,null,{"$f":"'baza nisk'!E1318","v":247.1},0,null,null,{"$f":"'baza nisk'!G1318","v":"Oddział Chemioterapii z Pododdziałem Chemioterapii Dziennej"},"","","proszę kliknąć aby wybrać nazwę komórki organizacyjnej",0]
[{"$f":"'baza nisk'!A1319","v":"S-197B"},{"$f":"'baza nisk'!B1319","v":"Stojak do kroplówek MSS-10.2. 2-wieszakowy"},{"$f":"'baza nisk'!D1319","v":"MED. NISK. ŚR. TRW."},null,0,null,{"$f":"'baza nisk'!E1319","v":247.1},0,null,null,{"$f":"'baza nisk'!G1319","v":"Oddział Chirurgii Naczyniowej"},"","","proszę kliknąć aby wybrać nazwę komórki organizacyjnej",0]
[{"$f":"'baza nisk'!A1320","v":"S-197B"},{"$f":"'baza nisk'!B1320","v":"Stojak do kroplówek MSS-10.2. 2-wieszakowy"},{"$f":"'baza nisk'!D1320","v":"MED. NISK. ŚR. TRW."},null,0,null,{"$f":"'baza nisk'!E1320","v":247.1},0,null,null,{"$f":"'baza nisk'!G1320","v":"Oddział Chirurgii Ogólnej z Pododdziałami"},"","","proszę kliknąć aby wybrać nazwę komórki organizacyjnej",0]
[{"$f":"'baza nisk'!A1321","v":"S-197B"},{"$f":"'baza nisk'!B1321","v":"Stojak do kroplówek MSS-10.2. 2-wieszakowy"},{"$f":"'baza nisk'!D1321","v":"MED. NISK. ŚR. TRW."},null,0,null,{"$f":"'baza nisk'!E1321","v":247.1},0,null,null,{"$f":"'baza nisk'!G1321","v":"SOR"},"","","proszę kliknąć aby wybrać nazwę komórki organizacyjnej",0]
[{"$f":"'baza nisk'!A1323","v":"S-197B"},{"$f":"'baza nisk'!B1323","v":"Stojak do kroplówek MSS-10.2. 2-wieszakowy"},{"$f":"'baza nisk'!D1323","v":"MED. NISK. ŚR. TRW."},null,0,null,{"$f":"'baza nisk'!E1323","v":247.1},0,null,null,{"$f":"'baza nisk'!G1323","v":"Zamiejscowy Oddział Rehabilitacji Neurologicznej"},"","","proszę kliknąć aby wybrać nazwę komórki organizacyjnej",0]
[{"$f":"'baza nisk'!A1322","v":"S-197B"},{"$f":"'baza nisk'!B1322","v":"Stojak do kroplówek MSS-10.2. 2-wieszakowy"},{"$f":"'baza nisk'!D1322","v":"MED. NISK. ŚR. TRW."},null,0,null,{"$f":"'baza nisk'!E1322","v":247.1},0,null,null,{"$f":"'baza nisk'!G1322","v":"Stacja Dializ"},"","","proszę kliknąć aby wybrać nazwę komórki organizacyjnej",0]
[{"$f":"'baza nisk'!A1324","v":"S-197C"},{"$f":"'baza nisk'!B1324","v":"Stojak do kroplówek MSS-10.2.PP 2-wieszakowy z"},{"$f":"'baza nisk'!D1324","v":"MED. NISK. ŚR. TRW."},null,0,null,{"$f":"'baza nisk'!E1324","v":247.1},0,null,null,{"$f":"'baza nisk'!G1324","v":"Oddział Kardiologii Dziecięcej z Pododdziałem Kardiochirurgi"},"","","proszę kliknąć aby wybrać nazwę komórki organizacyjnej",0]
[{"$f":"'baza nisk'!A1325","v":"S-197D"},{"$f":"'baza nisk'!B1325","v":"Stojak do kroplówek MSS-10.2.P 2-wieszakowy z p"},{"$f":"'baza nisk'!D1325","v":"MED. NISK. ŚR. TRW."},null,0,null,{"$f":"'baza nisk'!E1325","v":247.1},0,null,null,{"$f":"'baza nisk'!G1325","v":"Oddział Pediatryczny z Pododdziałem Gastroenterologii "},"","","proszę kliknąć aby wybrać nazwę komórki organizacyjnej",0]
[{"$f":"'baza nisk'!A1326","v":"S-197D"},{"$f":"'baza nisk'!B1326","v":"Stojak do kroplówek MSS-10.2.P 2-wieszakowy z p"},{"$f":"'baza nisk'!D1326","v":"MED. NISK. ŚR. TRW."},null,0,null,{"$f":"'baza nisk'!E1326","v":247.1},0,null,null,{"$f":"'baza nisk'!G1326","v":"Oddział Położniczo – Ginekologiczny"},"","","proszę kliknąć aby wybrać nazwę komórki organizacyjnej",0]
[{"$f":"'baza nisk'!A1327","v":"S-200"},{"$f":"'baza nisk'!B1327","v":"Szafy dla rodziców"},{"$f":"'baza nisk'!D1327","v":"MEBLE"},null,0,null,{"$f":"'baza nisk'!E1327","v":460},0,null,null,{"$f":"'baza nisk'!G1327","v":"Oddział Pediatryczny z Pododdziałem Gastroenterologii "},"","","proszę kliknąć aby wybrać nazwę komórki organizacyjnej",0]
[{"$f":"'baza nisk'!A1329","v":"S-202"},{"$f":"'baza nisk'!B1329","v":"Szafa z koszem uchylnym"},{"$f":"'baza nisk'!D1329","v":"MEBLE"},null,0,null,{"$f":"'baza nisk'!E1329","v":500},0,null,null,{"$f":"'baza nisk'!G1329","v":"Zamiejscowy Oddział Rehabilitacji Neurologicznej"},"","","proszę kliknąć aby wybrać nazwę komórki organizacyjnej",0]
[{"$f":"'baza nisk'!A1328","v":"S-202"},{"$f":"'baza nisk'!B1328","v":"Szafa z koszem uchylnym"},{"$f":"'baza nisk'!D1328","v":"MEBLE"},null,0,null,{"$f":"'baza nisk'!E1328","v":500},0,null,null,{"$f":"'baza nisk'!G1328","v":"Poradnia Chirurgii Onkologicznej"},"","","proszę kliknąć aby wybrać nazwę komórki organizacyjnej",0]
[{"$f":"'baza nisk'!A1330","v":"S-238"},{"$f":"'baza nisk'!B1330","v":"Szczypce bipolarne typu PreCise"},{"$f":"'baza nisk'!D1330","v":"NARZ. MEDYCZNE"},null,0,null,{"$f":"'baza nisk'!E1330","v":10000},0,null,null,{"$f":"'baza nisk'!G1330","v":"Blok Operacyjny"},"","","proszę kliknąć aby wybrać nazwę komórki organizacyjnej",0]
[{"$f":"'baza nisk'!A1332","v":"S-242"},{"$f":"'baza nisk'!B1332","v":"Szafa ubraniowa"},{"$f":"'baza nisk'!D1332","v":"MEBLE"},null,0,null,{"$f":"'baza nisk'!E1332","v":450},0,null,null,{"$f":"'baza nisk'!G1332","v":"Dział Gospodarki Nieruchomościami i Utrzymania Ruchu"},"","","proszę kliknąć aby wybrać nazwę komórki organizacyjnej",0]
[{"$f":"'baza nisk'!A1333","v":"S-242"},{"$f":"'baza nisk'!B1333","v":"Szafa ubraniowa"},{"$f":"'baza nisk'!D1333","v":"MEBLE"},null,0,null,{"$f":"'baza nisk'!E1333","v":450},0,null,null,{"$f":"'baza nisk'!G1333","v":"Dział Księgowości i Finansów"},"","","proszę kliknąć aby wybrać nazwę komórki organizacyjnej",0]
[{"$f":"'baza nisk'!A1331","v":"S-242"},{"$f":"'baza nisk'!B1331","v":"Szafa ubraniowa"},{"$f":"'baza nisk'!D1331","v":"MEBLE"},null,0,null,{"$f":"'baza nisk'!E1331","v":450},0,null,null,{"$f":"'baza nisk'!G1331","v":"DODO -Pracownia RTG"},"","","proszę kliknąć aby wybrać nazwę komórki organizacyjnej",0]
[{"$f":"'baza nisk'!A1334","v":"S-243"},{"$f":"'baza nisk'!B1334","v":"Szafa "},{"$f":"'baza nisk'!D1334","v":"MEBLE"},null,0,null,{"$f":"'baza nisk'!E1334","v":421.5625},0,null,null,{"$f":"'baza nisk'!G1334","v":"Hotel Pracowniczy"},"","","proszę kliknąć aby wybrać nazwę komórki organizacyjnej",0]
[{"$f":"'baza nisk'!A1335","v":"S-243A"},{"$f":"'baza nisk'!B1335","v":"Szafa "},{"$f":"'baza nisk'!D1335","v":"MEBLE"},null,0,null,{"$f":"'baza nisk'!E1335","v":421.5625},0,null,null,{"$f":"'baza nisk'!G1335","v":"Oddział Chirurgii Ogólnej z Pododdziałami"},"","","proszę kliknąć aby wybrać nazwę komórki organizacyjnej",0]
[{"$f":"'baza nisk'!A1336","v":"S-243B"},{"$f":"'baza nisk'!B1336","v":"Szafa "},{"$f":"'baza nisk'!D1336","v":"MEBLE"},null,0,null,{"$f":"'baza nisk'!E1336","v":578.1},0,null,null,{"$f":"'baza nisk'!G1336","v":"Oddział Neonatologiczny"},"","","proszę kliknąć aby wybrać nazwę komórki organizacyjnej",0]
[{"$f":"'baza nisk'!A1337","v":"S-243C"},{"$f":"'baza nisk'!B1337","v":"Szafa "},{"$f":"'baza nisk'!D1337","v":"MEBLE"},null,0,null,{"$f":"'baza nisk'!E1337","v":421.5625},0,null,null,{"$f":"'baza nisk'!G1337","v":"Oddział Neonatologiczny"},"","","proszę kliknąć aby wybrać nazwę komórki organizacyjnej",0]
[{"$f":"'baza nisk'!A1338","v":"S-243F"},{"$f":"'baza nisk'!B1338","v":"Szafa "},{"$f":"'baza nisk'!D1338","v":"MEBLE"},null,0,null,{"$f":"'baza nisk'!E1338","v":421.5625},0,null,null,{"$f":"'baza nisk'!G1338","v":"Dział Organizacyjno - Prawny"},"","","proszę kliknąć aby wybrać nazwę komórki organizacyjnej",0]
[{"$f":"'baza nisk'!A1339","v":"S-243G"},{"$f":"'baza nisk'!B1339","v":"Szafa "},{"$f":"'baza nisk'!D1339","v":"MEBLE"},null,0,null,{"$f":"'baza nisk'!E1339","v":421.5625},0,null,null,{"$f":"'baza nisk'!G1339","v":"Stacja Dializ"},"","","proszę kliknąć aby wybrać nazwę komórki organizacyjnej",0]
[{"$f":"'baza nisk'!A1340","v":"S-243H"},{"$f":"'baza nisk'!B1340","v":"Szafa "},{"$f":"'baza nisk'!D1340","v":"MEBLE"},null,0,null,{"$f":"'baza nisk'!E1340","v":421.5625},0,null,null,{"$f":"'baza nisk'!G1340","v":"Stacja Dializ"},"","","proszę kliknąć aby wybrać nazwę komórki organizacyjnej",0]
[{"$f":"'baza nisk'!A1341","v":"S-243I"},{"$f":"'baza nisk'!B1341","v":"Szafa"},{"$f":"'baza nisk'!D1341","v":"MEBLE"},null,0,null,{"$f":"'baza nisk'!E1341","v":250},0,null,null,{"$f":"'baza nisk'!G1341","v":"Intensywna Terapia"},"","","proszę kliknąć aby wybrać nazwę komórki organizacyjnej",0]
[{"$f":"'baza nisk'!A1342","v":"S-243I"},{"$f":"'baza nisk'!B1342","v":"Szafa"},{"$f":"'baza nisk'!D1342","v":"MEBLE"},null,0,null,{"$f":"'baza nisk'!E1342","v":250},0,null,null,{"$f":"'baza nisk'!G1342","v":"Zespół Konsultantów Biznesowych"},"","","proszę kliknąć aby wybrać nazwę komórki organizacyjnej",0]
[{"$f":"'baza nisk'!A1343","v":"S-243J"},{"$f":"'baza nisk'!B1343","v":"Szafa"},{"$f":"'baza nisk'!D1343","v":"MEBLE"},null,0,null,{"$f":"'baza nisk'!E1343","v":421.5625},0,null,null,{"$f":"'baza nisk'!G1343","v":"SekcjaKontroli Zakażeń Szpitalnych"},"","","proszę kliknąć aby wybrać nazwę komórki organizacyjnej",0]
[{"$f":"'baza nisk'!A1344","v":"S-243K"},{"$f":"'baza nisk'!B1344","v":"Szafa"},{"$f":"'baza nisk'!D1344","v":"MEBLE"},null,0,null,{"$f":"'baza nisk'!E1344","v":421.5625},0,null,null,{"$f":"'baza nisk'!G1344","v":"Hotel Pracowniczy"},"","","proszę kliknąć aby wybrać nazwę komórki organizacyjnej",0]
[{"$f":"'baza nisk'!A1345","v":"S-244"},{"$f":"'baza nisk'!B1345","v":"Szafa"},{"$f":"'baza nisk'!D1345","v":"MEBLE"},null,0,null,{"$f":"'baza nisk'!E1345","v":421.5625},0,null,null,{"$f":"'baza nisk'!G1345","v":"Oddział Neonatologiczny"},"","","proszę kliknąć aby wybrać nazwę komórki organizacyjnej",0]
[{"$f":"'baza nisk'!A1346","v":"S-245A"},{"$f":"'baza nisk'!B1346","v":"Szafa "},{"$f":"'baza nisk'!D1346","v":"MEBLE"},null,0,null,{"$f":"'baza nisk'!E1346","v":578.1},0,null,null,{"$f":"'baza nisk'!G1346","v":"Pracownia Endoskopii"},"","","proszę kliknąć aby wybrać nazwę komórki organizacyjnej",0]
[{"$f":"'baza nisk'!A1347","v":"S-245B"},{"$f":"'baza nisk'!B1347","v":"Szafa "},{"$f":"'baza nisk'!D1347","v":"MEBLE"},null,0,null,{"$f":"'baza nisk'!E1347","v":578.1},{"$f":"E1350*G1350","v":0},null,null,{"$f":"'baza nisk'!G1347","v":"Oddział Kardiologii Dziecięcej z Pododdziałem Kardiochirurgi"},{"$f":"IF($B$2=K1350,$B$2,\"\")","v":""},{"$f":"IF($B$2=K1350,1,\"\")","v":""},{"$f":"$B$2","v":"proszę kliknąć aby wybrać nazwę komórki organizacyjnej"},{"$f":"$H$2","v":0}]
[{"$f":"'baza nisk'!A1348","v":"S-245C"},{"$f":"'baza nisk'!B1348","v":"Szafa "},{"$f":"'baza nisk'!D1348","v":"MEBLE"},null,0,null,{"$f":"'baza nisk'!E1348","v":578.1},0,null,null,{"$f":"'baza nisk'!G1348","v":"Oddział Kardiologii Dziecięcej z Pododdziałem Kardiochirurgi"},"","","proszę kliknąć aby wybrać nazwę komórki organizacyjnej",0]
[{"$f":"'baza nisk'!A1349","v":"S-245D"},{"$f":"'baza nisk'!B1349","v":"Szafa "},{"$f":"'baza nisk'!D1349","v":"MEBLE"},null,0,null,{"$f":"'baza nisk'!E1349","v":578.1},0,null,null,{"$f":"'baza nisk'!G1349","v":"Oddział Kardiologii Dziecięcej z Pododdziałem Kardiochirurgi"},"","","proszę kliknąć aby wybrać nazwę komórki organizacyjnej",0]
[{"$f":"'baza nisk'!A1350","v":"S-245E"},{"$f":"'baza nisk'!B1350","v":"Szafa "},{"$f":"'baza nisk'!D1350","v":"MEBLE"},null,0,null,{"$f":"'baza nisk'!E1350","v":770},0,null,null,{"$f":"'baza nisk'!G1350","v":"Poradnia Chirurgii Naczyniowej"},"","","proszę kliknąć aby wybrać nazwę komórki organizacyjnej",0]
[{"$f":"'baza nisk'!A1351","v":"S-246"},{"$f":"'baza nisk'!B1351","v":"Szafa kartotekowa"},{"$f":"'baza nisk'!D1351","v":"MEBLE"},null,0,null,{"$f":"'baza nisk'!E1351","v":900},0,null,null,{"$f":"'baza nisk'!G1351","v":"Oddział Pediatryczny z Pododdziałem Gastroenterologii "},"","","proszę kliknąć aby wybrać nazwę komórki organizacyjnej",0]
[{"$f":"'baza nisk'!A1352","v":"S-246A"},{"$f":"'baza nisk'!B1352","v":"Szafa kartotekowa"},{"$f":"'baza nisk'!D1352","v":"MEBLE"},null,0,null,{"$f":"'baza nisk'!E1352","v":900},0,null,null,{"$f":"'baza nisk'!G1352","v":"Poradnia Onkologiczna"},"","","proszę kliknąć aby wybrać nazwę komórki organizacyjnej",0]
[{"$f":"'baza nisk'!A1355","v":"S-246B"},{"$f":"'baza nisk'!B1355","v":"Szafa kartotekowa"},{"$f":"'baza nisk'!D1355","v":"MEBLE"},null,0,null,{"$f":"'baza nisk'!E1355","v":900},0,null,null,{"$f":"'baza nisk'!G1355","v":"Poradnia Neurochirurgiczna"},"","","proszę kliknąć aby wybrać nazwę komórki organizacyjnej",0]
[{"$f":"'baza nisk'!A1354","v":"S-246B"},{"$f":"'baza nisk'!B1354","v":"Szafa kartotekowa"},{"$f":"'baza nisk'!D1354","v":"MEBLE"},null,0,null,{"$f":"'baza nisk'!E1354","v":900},0,null,null,{"$f":"'baza nisk'!G1354","v":"Poradnia Gastrologiczna"},"","","proszę kliknąć aby wybrać nazwę komórki organizacyjnej",0]
[{"$f":"'baza nisk'!A1353","v":"S-246B"},{"$f":"'baza nisk'!B1353","v":"Szafa kartotekowa"},{"$f":"'baza nisk'!D1353","v":"MEBLE"},null,0,null,{"$f":"'baza nisk'!E1353","v":900},0,null,null,{"$f":"'baza nisk'!G1353","v":"Poradnia Chirurgii Urazowo - Ortopedycznej"},"","","proszę kliknąć aby wybrać nazwę komórki organizacyjnej",0]
[{"$f":"'baza nisk'!A1356","v":"S-246C"},{"$f":"'baza nisk'!B1356","v":"Szafa kartotekowa"},{"$f":"'baza nisk'!D1356","v":"MEBLE"},null,0,null,{"$f":"'baza nisk'!E1356","v":900},0,null,null,{"$f":"'baza nisk'!G1356","v":"Poradnia Chirurgii Ogólnej"},"","","proszę kliknąć aby wybrać nazwę komórki organizacyjnej",0]
[{"$f":"'baza nisk'!A1357","v":"S-246C"},{"$f":"'baza nisk'!B1357","v":"Szafa kartotekowa"},{"$f":"'baza nisk'!D1357","v":"MEBLE"},null,0,null,{"$f":"'baza nisk'!E1357","v":900},0,null,null,{"$f":"'baza nisk'!G1357","v":"Poradnia Medycyny Pracy"},"","","proszę kliknąć aby wybrać nazwę komórki organizacyjnej",0]
[{"$f":"'baza nisk'!A1358","v":"S-246D"},{"$f":"'baza nisk'!B1358","v":"Szafa kartotekowa"},{"$f":"'baza nisk'!D1358","v":"MEBLE"},null,0,null,{"$f":"'baza nisk'!E1358","v":900},0,null,null,{"$f":"'baza nisk'!G1358","v":"Oddział Okulistyczny"},"","","proszę kliknąć aby wybrać nazwę komórki organizacyjnej",0]
[{"$f":"'baza nisk'!A1359","v":"S-246E"},{"$f":"'baza nisk'!B1359","v":"Szafa kartotekowa"},{"$f":"'baza nisk'!D1359","v":"MEBLE"},null,0,null,{"$f":"'baza nisk'!E1359","v":900},0,null,null,{"$f":"'baza nisk'!G1359","v":"Poradnia Onkologiczna"},"","","proszę kliknąć aby wybrać nazwę komórki organizacyjnej",0]
[{"$f":"'baza nisk'!A1360","v":"S-246F"},{"$f":"'baza nisk'!B1360","v":"Szafa kartotekowa"},{"$f":"'baza nisk'!D1360","v":"MEBLE"},null,0,null,{"$f":"'baza nisk'!E1360","v":900},0,null,null,{"$f":"'baza nisk'!G1360","v":"Poradnia Urologiczna"},"","","proszę kliknąć aby wybrać nazwę komórki organizacyjnej",0]
[{"$f":"'baza nisk'!A1361","v":"S-247A"},{"$f":"'baza nisk'!B1361","v":"Szafa socjalna 2drzwiowa bez podziału 180x60x49"},{"$f":"'baza nisk'!D1361","v":"MEBLE"},null,0,null,{"$f":"'baza nisk'!E1361","v":700},0,null,null,{"$f":"'baza nisk'!G1361","v":"Dział Gospodarki Nieruchomościami i Utrzymania Ruchu"},"","","proszę kliknąć aby wybrać nazwę komórki organizacyjnej",0]
[{"$f":"'baza nisk'!A1362","v":"S-247B"},{"$f":"'baza nisk'!B1362","v":"Szafa socjalna (BHP)  "},{"$f":"'baza nisk'!D1362","v":"MEBLE"},null,0,null,{"$f":"'baza nisk'!E1362","v":450},0,null,null,{"$f":"'baza nisk'!G1362","v":"Dział Gospodarki Nieruchomościami i Utrzymania Ruchu"},"","","proszę kliknąć aby wybrać nazwę komórki organizacyjnej",0]
[{"$f":"'baza nisk'!A1363","v":"S-247C"},{"$f":"'baza nisk'!B1363","v":"Szafa socjalna (BHP)  "},{"$f":"'baza nisk'!D1363","v":"MEBLE"},null,0,null,{"$f":"'baza nisk'!E1363","v":450},0,null,null,{"$f":"'baza nisk'!G1363","v":"Dział Gospodarki Nieruchomościami i Utrzymania Ruchu"},"","","proszę kliknąć aby wybrać nazwę komórki organizacyjnej",0]
[{"$f":"'baza nisk'!A1364","v":"S-250"},{"$f":"'baza nisk'!B1364","v":"Szafa na segregatory"},{"$f":"'baza nisk'!D1364","v":"MEBLE"},null,0,null,{"$f":"'baza nisk'!E1364","v":700},0,null,null,{"$f":"'baza nisk'!G1364","v":"Oddział Neonatologiczny"},"","","proszę kliknąć aby wybrać nazwę komórki organizacyjnej",0]
[{"$f":"'baza nisk'!A1365","v":"S-250A"},{"$f":"'baza nisk'!B1365","v":"Szafa na segregatory"},{"$f":"'baza nisk'!D1365","v":"MEBLE"},null,0,null,{"$f":"'baza nisk'!E1365","v":700},0,null,null,{"$f":"'baza nisk'!G1365","v":"Blok Operacyjny"},"","","proszę kliknąć aby wybrać nazwę komórki organizacyjnej",0]
[{"$f":"'baza nisk'!A1366","v":"S-250B"},{"$f":"'baza nisk'!B1366","v":"Szafa na segregatory"},{"$f":"'baza nisk'!D1366","v":"MEBLE"},null,0,null,{"$f":"'baza nisk'!E1366","v":700},0,null,null,{"$f":"'baza nisk'!G1366","v":"Blok Operacyjny"},"","","proszę kliknąć aby wybrać nazwę komórki organizacyjnej",0]
[{"$f":"'baza nisk'!A1367","v":"S-250C"},{"$f":"'baza nisk'!B1367","v":"Szafa na segregatory"},{"$f":"'baza nisk'!D1367","v":"MEBLE"},null,0,null,{"$f":"'baza nisk'!E1367","v":700},0,null,null,{"$f":"'baza nisk'!G1367","v":"Blok Operacyjny"},"","","proszę kliknąć aby wybrać nazwę komórki organizacyjnej",0]
[{"$f":"'baza nisk'!A1368","v":"S-250C"},{"$f":"'baza nisk'!B1368","v":"Szafa na segregatory"},{"$f":"'baza nisk'!D1368","v":"MEBLE"},null,0,null,{"$f":"'baza nisk'!E1368","v":700},0,null,null,{"$f":"'baza nisk'!G1368","v":"SekcjaKontroli Zakażeń Szpitalnych"},"","","proszę kliknąć aby wybrać nazwę komórki organizacyjnej",0]
[{"$f":"'baza nisk'!A1369","v":"S-251"},{"$f":"'baza nisk'!B1369","v":"Szafa ubraniowa"},{"$f":"'baza nisk'!D1369","v":"MEBLE"},null,0,null,{"$f":"'baza nisk'!E1369","v":450},0,null,null,{"$f":"'baza nisk'!G1369","v":"Dział Gospodarki Nieruchomościami i Utrzymania Ruchu"},"","","proszę kliknąć aby wybrać nazwę komórki organizacyjnej",0]
[{"$f":"'baza nisk'!A1371","v":"S-251A"},{"$f":"'baza nisk'!B1371","v":"Szafa ubraniowa"},{"$f":"'baza nisk'!D1371","v":"MEBLE"},null,0,null,{"$f":"'baza nisk'!E1371","v":450},0,null,null,{"$f":"'baza nisk'!G1371","v":"Pracownik Socjalny"},"","","proszę kliknąć aby wybrać nazwę komórki organizacyjnej",0]
[{"$f":"'baza nisk'!A1370","v":"S-251A"},{"$f":"'baza nisk'!B1370","v":"Szafa ubraniowa"},{"$f":"'baza nisk'!D1370","v":"MEBLE"},null,0,null,{"$f":"'baza nisk'!E1370","v":450},0,null,null,{"$f":"'baza nisk'!G1370","v":"Dział Gospodarki Nieruchomościami i Utrzymania Ruchu"},"","","proszę kliknąć aby wybrać nazwę komórki organizacyjnej",0]
[{"$f":"'baza nisk'!A1372","v":"S-251B"},{"$f":"'baza nisk'!B1372","v":"Szafa ubraniowa z nadstawką"},{"$f":"'baza nisk'!D1372","v":"MEBLE"},null,0,null,{"$f":"'baza nisk'!E1372","v":870},0,null,null,{"$f":"'baza nisk'!G1372","v":"SekcjaKontroli Zakażeń Szpitalnych"},"","","proszę kliknąć aby wybrać nazwę komórki organizacyjnej",0]
[{"$f":"'baza nisk'!A1373","v":"S-251B"},{"$f":"'baza nisk'!B1373","v":"Szafa ubraniowa z nadstawką"},{"$f":"'baza nisk'!D1373","v":"MEBLE"},null,0,null,{"$f":"'baza nisk'!E1373","v":870},0,null,null,{"$f":"'baza nisk'!G1373","v":"SOR"},"","","proszę kliknąć aby wybrać nazwę komórki organizacyjnej",0]
[{"$f":"'baza nisk'!A1374","v":"S-252"},{"$f":"'baza nisk'!B1374","v":"Szafa narożna"},{"$f":"'baza nisk'!D1374","v":"MEBLE"},null,0,null,{"$f":"'baza nisk'!E1374","v":680},0,null,null,{"$f":"'baza nisk'!G1374","v":"Oddział Neonatologiczny"},"","","proszę kliknąć aby wybrać nazwę komórki organizacyjnej",0]
[{"$f":"'baza nisk'!A1375","v":"S-253"},{"$f":"'baza nisk'!B1375","v":"Szafa szatniowa"},{"$f":"'baza nisk'!D1375","v":"MEBLE"},null,0,null,{"$f":"'baza nisk'!E1375","v":604.73},0,null,null,{"$f":"'baza nisk'!G1375","v":"Stacja Dializ"},"","","proszę kliknąć aby wybrać nazwę komórki organizacyjnej",0]
[{"$f":"'baza nisk'!A1376","v":"S-255"},{"$f":"'baza nisk'!B1376","v":"Szafa z nadstawką"},{"$f":"'baza nisk'!D1376","v":"MEBLE"},null,0,null,{"$f":"'baza nisk'!E1376","v":800},0,null,null,{"$f":"'baza nisk'!G1376","v":"Oddział Neonatologiczny z Pododdziałem Patologii Noworodka"},"","","proszę kliknąć aby wybrać nazwę komórki organizacyjnej",0]
[{"$f":"'baza nisk'!A1377","v":"S-255A"},{"$f":"'baza nisk'!B1377","v":"Szafa z nadstawką"},{"$f":"'baza nisk'!D1377","v":"MEBLE"},null,0,null,{"$f":"'baza nisk'!E1377","v":799.5},0,null,null,{"$f":"'baza nisk'!G1377","v":"Pracownik Socjalny"},"","","proszę kliknąć aby wybrać nazwę komórki organizacyjnej",0]
[{"$f":"'baza nisk'!A1378","v":"S-255B"},{"$f":"'baza nisk'!B1378","v":"Szafa z nadstawką"},{"$f":"'baza nisk'!D1378","v":"MEBLE"},null,0,null,{"$f":"'baza nisk'!E1378","v":799.5},0,null,null,{"$f":"'baza nisk'!G1378","v":"Pracownik Socjalny"},"","","proszę kliknąć aby wybrać nazwę komórki organizacyjnej",0]
[{"$f":"'baza nisk'!A1379","v":"S-255C"},{"$f":"'baza nisk'!B1379","v":"Szafa z nadstawką"},{"$f":"'baza nisk'!D1379","v":"MEBLE"},null,0,null,{"$f":"'baza nisk'!E1379","v":799.5},0,null,null,{"$f":"'baza nisk'!G1379","v":"Oddział Kardiologii Dziecięcej z Pododdziałem Kardiochirurgi"},"","","proszę kliknąć aby wybrać nazwę komórki organizacyjnej",0]
[{"$f":"'baza nisk'!A1380","v":"S-255D"},{"$f":"'baza nisk'!B1380","v":"Szafa z nadstawką"},{"$f":"'baza nisk'!D1380","v":"MEBLE"},null,0,null,{"$f":"'baza nisk'!E1380","v":799.5},0,null,null,{"$f":"'baza nisk'!G1380","v":"Oddział Kardiologii Dziecięcej z Pododdziałem Kardiochirurgi"},"","","proszę kliknąć aby wybrać nazwę komórki organizacyjnej",0]
[{"$f":"'baza nisk'!A1381","v":"S-258"},{"$f":"'baza nisk'!B1381","v":"Stojak medyczny SM/4W"},{"$f":"'baza nisk'!D1381","v":"MED. NISK. ŚR. TRW."},null,0,null,{"$f":"'baza nisk'!E1381","v":245},0,null,null,{"$f":"'baza nisk'!G1381","v":"Oddział Urologii i Urologii Onkologicznej"},"","","proszę kliknąć aby wybrać nazwę komórki organizacyjnej",0]
[{"$f":"'baza nisk'!A1391","v":"S-267"},{"$f":"'baza nisk'!B1391","v":"Ssak elektryczny przenośny"},{"$f":"'baza nisk'!D1391","v":"MED. NISK. ŚR. TRW."},null,0,null,{"$f":"'baza nisk'!E1391","v":360},0,null,null,{"$f":"'baza nisk'!G1391","v":"Poradnia Dermatologiczna"},"","","proszę kliknąć aby wybrać nazwę komórki organizacyjnej",0]
[{"$f":"'baza nisk'!A1392","v":"S-267"},{"$f":"'baza nisk'!B1392","v":"Ssak elektryczny przenośny"},{"$f":"'baza nisk'!D1392","v":"MED. NISK. ŚR. TRW."},null,0,null,{"$f":"'baza nisk'!E1392","v":360},0,null,null,{"$f":"'baza nisk'!G1392","v":"Poradnia Kardiologiczna dla Dzieci"},"","","proszę kliknąć aby wybrać nazwę komórki organizacyjnej",0]
[{"$f":"'baza nisk'!A1382","v":"S-267"},{"$f":"'baza nisk'!B1382","v":"Ssak elektryczny przenośny"},{"$f":"'baza nisk'!D1382","v":"MED. NISK. ŚR. TRW."},null,0,null,{"$f":"'baza nisk'!E1382","v":360},0,null,null,{"$f":"'baza nisk'!G1382","v":"Oddział Chemioterapii z Pododdziałem Chemioterapii Dziennej"},"","","proszę kliknąć aby wybrać nazwę komórki organizacyjnej",0]
[{"$f":"'baza nisk'!A1383","v":"S-267"},{"$f":"'baza nisk'!B1383","v":"Ssak elektryczny przenośny"},{"$f":"'baza nisk'!D1383","v":"MED. NISK. ŚR. TRW."},null,0,null,{"$f":"'baza nisk'!E1383","v":360},0,null,null,{"$f":"'baza nisk'!G1383","v":"Oddział Chirurgii Naczyniowej"},"","","proszę kliknąć aby wybrać nazwę komórki organizacyjnej",0]
[{"$f":"'baza nisk'!A1390","v":"S-267"},{"$f":"'baza nisk'!B1390","v":"Ssak elektryczny przenośny"},{"$f":"'baza nisk'!D1390","v":"MED. NISK. ŚR. TRW."},null,0,null,{"$f":"'baza nisk'!E1390","v":360},0,null,null,{"$f":"'baza nisk'!G1390","v":"Poradnia Chirurgii Onkologicznej"},"","","proszę kliknąć aby wybrać nazwę komórki organizacyjnej",0]
[{"$f":"'baza nisk'!A1395","v":"S-267"},{"$f":"'baza nisk'!B1395","v":"Ssak elektryczny przenośny"},{"$f":"'baza nisk'!D1395","v":"MED. NISK. ŚR. TRW."},null,0,null,{"$f":"'baza nisk'!E1395","v":360},0,null,null,{"$f":"'baza nisk'!G1395","v":"Zamiejscowy Oddział Rehabilitacji Neurologicznej"},"","","proszę kliknąć aby wybrać nazwę komórki organizacyjnej",0]
[{"$f":"'baza nisk'!A1384","v":"S-267"},{"$f":"'baza nisk'!B1384","v":"Ssak elektryczny przenośny"},{"$f":"'baza nisk'!D1384","v":"MED. NISK. ŚR. TRW."},null,0,null,{"$f":"'baza nisk'!E1384","v":360},0,null,null,{"$f":"'baza nisk'!G1384","v":"Oddział Dermatologiczny"},"","","proszę kliknąć aby wybrać nazwę komórki organizacyjnej",0]
[{"$f":"'baza nisk'!A1393","v":"S-267"},{"$f":"'baza nisk'!B1393","v":"Ssak elektryczny przenośny"},{"$f":"'baza nisk'!D1393","v":"MED. NISK. ŚR. TRW."},null,0,null,{"$f":"'baza nisk'!E1393","v":360},0,null,null,{"$f":"'baza nisk'!G1393","v":"Poradnia Neurochirurgiczna"},"","","proszę kliknąć aby wybrać nazwę komórki organizacyjnej",0]
[{"$f":"'baza nisk'!A1394","v":"S-267"},{"$f":"'baza nisk'!B1394","v":"Ssak elektryczny przenośny"},{"$f":"'baza nisk'!D1394","v":"MED. NISK. ŚR. TRW."},null,0,null,{"$f":"'baza nisk'!E1394","v":360},0,null,null,{"$f":"'baza nisk'!G1394","v":"Zamiejscowy Blok Operacyjny"},"","","proszę kliknąć aby wybrać nazwę komórki organizacyjnej",0]
[{"$f":"'baza nisk'!A1385","v":"S-267"},{"$f":"'baza nisk'!B1385","v":"Ssak elektryczny przenośny"},{"$f":"'baza nisk'!D1385","v":"MED. NISK. ŚR. TRW."},null,0,null,{"$f":"'baza nisk'!E1385","v":360},0,null,null,{"$f":"'baza nisk'!G1385","v":"Oddział Kardiologiczny"},"","","proszę kliknąć aby wybrać nazwę komórki organizacyjnej",0]
[{"$f":"'baza nisk'!A1386","v":"S-267"},{"$f":"'baza nisk'!B1386","v":"Ssak elektryczny przenośny"},{"$f":"'baza nisk'!D1386","v":"MED. NISK. ŚR. TRW."},null,0,null,{"$f":"'baza nisk'!E1386","v":360},0,null,null,{"$f":"'baza nisk'!G1386","v":"Oddział Kardiologii Dziecięcej z Pododdziałem Kardiochirurgi"},"","","proszę kliknąć aby wybrać nazwę komórki organizacyjnej",0]
[{"$f":"'baza nisk'!A1389","v":"S-267"},{"$f":"'baza nisk'!B1389","v":"Ssak elektryczny przenośny"},{"$f":"'baza nisk'!D1389","v":"MED. NISK. ŚR. TRW."},null,0,null,{"$f":"'baza nisk'!E1389","v":360},0,null,null,{"$f":"'baza nisk'!G1389","v":"Poradnia Chirurgii Ogólnej"},"","","proszę kliknąć aby wybrać nazwę komórki organizacyjnej",0]
[{"$f":"'baza nisk'!A1387","v":"S-267"},{"$f":"'baza nisk'!B1387","v":"Ssak elektryczny przenośny"},{"$f":"'baza nisk'!D1387","v":"MED. NISK. ŚR. TRW."},null,0,null,{"$f":"'baza nisk'!E1387","v":360},0,null,null,{"$f":"'baza nisk'!G1387","v":"Oddział Położniczo – Ginekologiczny"},"","","proszę kliknąć aby wybrać nazwę komórki organizacyjnej",0]
[{"$f":"'baza nisk'!A1388","v":"S-267"},{"$f":"'baza nisk'!B1388","v":"Ssak elektryczny przenośny"},{"$f":"'baza nisk'!D1388","v":"MED. NISK. ŚR. TRW."},null,0,null,{"$f":"'baza nisk'!E1388","v":360},0,null,null,{"$f":"'baza nisk'!G1388","v":"Poradnia Angiologiczna"},"","","proszę kliknąć aby wybrać nazwę komórki organizacyjnej",0]
[{"$f":"'baza nisk'!A1396","v":"S-272"},{"$f":"'baza nisk'!B1396","v":"Szczypce opatrunkowe MAIER bez zamka proste 265"},{"$f":"'baza nisk'!D1396","v":"NARZ. MEDYCZNE"},null,0,null,{"$f":"'baza nisk'!E1396","v":207},0,null,null,{"$f":"'baza nisk'!G1396","v":"Blok Operacyjny"},"","","proszę kliknąć aby wybrać nazwę komórki organizacyjnej",0]
[{"$f":"'baza nisk'!A1397","v":"S-272A"},{"$f":"'baza nisk'!B1397","v":"Szczypce opatrunkowe MAIER bez zamka zakrzywion"},{"$f":"'baza nisk'!D1397","v":"NARZ. MEDYCZNE"},null,0,null,{"$f":"'baza nisk'!E1397","v":160},0,null,null,{"$f":"'baza nisk'!G1397","v":"Blok Operacyjny"},"","","proszę kliknąć aby wybrać nazwę komórki organizacyjnej",0]
[{"$f":"'baza nisk'!A1398","v":"S-275"},{"$f":"'baza nisk'!B1398","v":"Stanowisko do pielęgnacji noworodków seria AGAT"},{"$f":"'baza nisk'!D1398","v":"MEBLE MEDYCZNE"},null,0,null,{"$f":"'baza nisk'!E1398","v":847},0,null,null,{"$f":"'baza nisk'!G1398","v":"Oddział Kardiologii Dziecięcej z Pododdziałem Kardiochirurgi"},"","","proszę kliknąć aby wybrać nazwę komórki organizacyjnej",0]
[{"$f":"'baza nisk'!A1399","v":"S-276"},{"$f":"'baza nisk'!B1399","v":"Szafka metalowa z zamkiem cylindrycznym -Koldbl"},{"$f":"'baza nisk'!D1399","v":"POZOSTAŁE"},null,0,null,{"$f":"'baza nisk'!E1399","v":252.15},0,null,null,{"$f":"'baza nisk'!G1399","v":"Stacja Dializ"},"","","proszę kliknąć aby wybrać nazwę komórki organizacyjnej",0]
[{"$f":"'baza nisk'!A1400","v":"S-277"},{"$f":"'baza nisk'!B1400","v":"Stymulator nerwów obwodowych STIMUPLEX HNS 12"},{"$f":"'baza nisk'!D1400","v":"MED. NISK. ŚR. TRW."},null,0,null,{"$f":"'baza nisk'!E1400","v":2800},0,null,null,{"$f":"'baza nisk'!G1400","v":"Intensywna Terapia"},"","","proszę kliknąć aby wybrać nazwę komórki organizacyjnej",0]
[{"$f":"'baza nisk'!A1401","v":"T-048"},{"$f":"'baza nisk'!B1401","v":"Taboret do badania pacjentów z oparciem"},{"$f":"'baza nisk'!D1401","v":"MED. NISK. ŚR. TRW."},null,0,null,{"$f":"'baza nisk'!E1401","v":1300},0,null,null,{"$f":"'baza nisk'!G1401","v":"Oddział Pediatryczny z Pododdziałem Gastroenterologii "},"","","proszę kliknąć aby wybrać nazwę komórki organizacyjnej",0]
[{"$f":"'baza nisk'!A1402","v":"T-048"},{"$f":"'baza nisk'!B1402","v":"Taboret do badania pacjentów z oparciem"},{"$f":"'baza nisk'!D1402","v":"MED. NISK. ŚR. TRW."},null,0,null,{"$f":"'baza nisk'!E1402","v":1300},0,null,null,{"$f":"'baza nisk'!G1402","v":"Oddział Położniczo – Ginekologiczny"},"","","proszę kliknąć aby wybrać nazwę komórki organizacyjnej",0]
[{"$f":"'baza nisk'!A1403","v":"T-048A"},{"$f":"'baza nisk'!B1403","v":"Taboret plastikowy  z motywem H47"},{"$f":"'baza nisk'!D1403","v":"MED. NISK. ŚR. TRW."},null,0,null,{"$f":"'baza nisk'!E1403","v":75.819999999999993},0,null,null,{"$f":"'baza nisk'!G1403","v":"Zamiejscowy Oddział Rehabilitacji Ogólnoustrojowej II"},"","","proszę kliknąć aby wybrać nazwę komórki organizacyjnej",0]
[{"$f":"'baza nisk'!A1404","v":"T-048B"},{"$f":"'baza nisk'!B1404","v":"Taboret Sigma-k015"},{"$f":"'baza nisk'!D1404","v":"MED. NISK. ŚR. TRW."},null,0,null,{"$f":"'baza nisk'!E1404","v":550},0,null,null,{"$f":"'baza nisk'!G1404","v":"Oddział Otolaryngologiczny z Pododdziałem Otolaryngologii"},"","","proszę kliknąć aby wybrać nazwę komórki organizacyjnej",0]
[{"$f":"'baza nisk'!A1406","v":"T-048C"},{"$f":"'baza nisk'!B1406","v":"Taboret TB-02KO"},{"$f":"'baza nisk'!D1406","v":"MED. NISK. ŚR. TRW."},null,0,null,{"$f":"'baza nisk'!E1406","v":550},0,null,null,{"$f":"'baza nisk'!G1406","v":"Poradnia Urologiczna"},"","","proszę kliknąć aby wybrać nazwę komórki organizacyjnej",0]
[{"$f":"'baza nisk'!A1405","v":"T-048C"},{"$f":"'baza nisk'!B1405","v":"Taboret TB-02KO"},{"$f":"'baza nisk'!D1405","v":"MED. NISK. ŚR. TRW."},null,0,null,{"$f":"'baza nisk'!E1405","v":550},0,null,null,{"$f":"'baza nisk'!G1405","v":"Oddział Urologii i Urologii Onkologicznej"},"","","proszę kliknąć aby wybrać nazwę komórki organizacyjnej",0]
[{"$f":"'baza nisk'!A1413","v":"T-076"},{"$f":"'baza nisk'!B1413","v":"Termohigrometr + świadectwo"},{"$f":"'baza nisk'!D1413","v":"POZOSTAŁE"},null,0,null,{"$f":"'baza nisk'!E1413","v":240},0,null,null,{"$f":"'baza nisk'!G1413","v":"Oddział Chirurgii Ogólnej z Pododdziałami"},"","","proszę kliknąć aby wybrać nazwę komórki organizacyjnej",0]
[{"$f":"'baza nisk'!A1411","v":"T-076"},{"$f":"'baza nisk'!B1411","v":"Termohigrometr + świadectwo"},{"$f":"'baza nisk'!D1411","v":"POZOSTAŁE"},null,0,null,{"$f":"'baza nisk'!E1411","v":240},0,null,null,{"$f":"'baza nisk'!G1411","v":"DODO -Pracownia Rezonansu Magnetycznego"},"","","proszę kliknąć aby wybrać nazwę komórki organizacyjnej",0]
[{"$f":"'baza nisk'!A1412","v":"T-076"},{"$f":"'baza nisk'!B1412","v":"Termohigrometr + świadectwo"},{"$f":"'baza nisk'!D1412","v":"POZOSTAŁE"},null,0,null,{"$f":"'baza nisk'!E1412","v":240},0,null,null,{"$f":"'baza nisk'!G1412","v":"Oddział Angiologiczny z Pododdziałem Diabetologii"},"","","proszę kliknąć aby wybrać nazwę komórki organizacyjnej",0]
[{"$f":"'baza nisk'!A1414","v":"T-076"},{"$f":"'baza nisk'!B1414","v":"Termohigrometr + świadectwo"},{"$f":"'baza nisk'!D1414","v":"POZOSTAŁE"},null,0,null,{"$f":"'baza nisk'!E1414","v":240},0,null,null,{"$f":"'baza nisk'!G1414","v":"Oddział Nefrologiczny"},"","","proszę kliknąć aby wybrać nazwę komórki organizacyjnej",0]
[{"$f":"'baza nisk'!A1410","v":"T-076"},{"$f":"'baza nisk'!B1410","v":"Termohigrometr + świadectwo"},{"$f":"'baza nisk'!D1410","v":"POZOSTAŁE"},null,0,null,{"$f":"'baza nisk'!E1410","v":240},{"$f":"E1414*G1414","v":0},null,null,{"$f":"'baza nisk'!G1410","v":"DODO -Pracownia Mammografii"},{"$f":"IF($B$2=K1414,$B$2,\"\")","v":""},{"$f":"IF($B$2=K1414,1,\"\")","v":""},{"$f":"$B$2","v":"proszę kliknąć aby wybrać nazwę komórki organizacyjnej"},{"$f":"$H$2","v":0}]
[{"$f":"'baza nisk'!A1415","v":"T-076"},{"$f":"'baza nisk'!B1415","v":"Termohigrometr + świadectwo"},{"$f":"'baza nisk'!D1415","v":"POZOSTAŁE"},null,0,null,{"$f":"'baza nisk'!E1415","v":240},0,null,null,{"$f":"'baza nisk'!G1415","v":"Oddział Neonatologiczny z Pododdziałem Patologii Noworodka"},"","","proszę kliknąć aby wybrać nazwę komórki organizacyjnej",0]
[{"$f":"'baza nisk'!A1416","v":"T-076"},{"$f":"'baza nisk'!B1416","v":"Termohigrometr + świadectwo"},{"$f":"'baza nisk'!D1416","v":"POZOSTAŁE"},null,0,null,{"$f":"'baza nisk'!E1416","v":240},0,null,null,{"$f":"'baza nisk'!G1416","v":"Oddział Urologii i Urologii Onkologicznej"},"","","proszę kliknąć aby wybrać nazwę komórki organizacyjnej",0]
[{"$f":"'baza nisk'!A1418","v":"T-076"},{"$f":"'baza nisk'!B1418","v":"Termohigrometr + świadectwo"},{"$f":"'baza nisk'!D1418","v":"POZOSTAŁE"},null,0,null,{"$f":"'baza nisk'!E1418","v":240},0,null,null,{"$f":"'baza nisk'!G1418","v":"Poradnia Kardiologiczna dla Dzieci"},"","","proszę kliknąć aby wybrać nazwę komórki organizacyjnej",0]
[{"$f":"'baza nisk'!A1417","v":"T-076"},{"$f":"'baza nisk'!B1417","v":"Termohigrometr + świadectwo"},{"$f":"'baza nisk'!D1417","v":"POZOSTAŁE"},null,0,null,{"$f":"'baza nisk'!E1417","v":240},0,null,null,{"$f":"'baza nisk'!G1417","v":"Poradnia Chirurgii Ogólnej"},"","","proszę kliknąć aby wybrać nazwę komórki organizacyjnej",0]
[{"$f":"'baza nisk'!A1419","v":"T-076"},{"$f":"'baza nisk'!B1419","v":"Termohigrometr + świadectwo"},{"$f":"'baza nisk'!D1419","v":"POZOSTAŁE"},null,0,null,{"$f":"'baza nisk'!E1419","v":240},0,null,null,{"$f":"'baza nisk'!G1419","v":"Poradnia Neurochirurgiczna"},"","","proszę kliknąć aby wybrać nazwę komórki organizacyjnej",0]
[{"$f":"'baza nisk'!A1422","v":"T-076"},{"$f":"'baza nisk'!B1422","v":"Termohigrometr + świadectwo"},{"$f":"'baza nisk'!D1422","v":"POZOSTAŁE"},null,0,null,{"$f":"'baza nisk'!E1422","v":240},0,null,null,{"$f":"'baza nisk'!G1422","v":"Stacja Dializ"},"","","proszę kliknąć aby wybrać nazwę komórki organizacyjnej",0]
[{"$f":"'baza nisk'!A1423","v":"T-076"},{"$f":"'baza nisk'!B1423","v":"Termohigrometr + świadectwo"},{"$f":"'baza nisk'!D1423","v":"POZOSTAŁE"},null,0,null,{"$f":"'baza nisk'!E1423","v":240},0,null,null,{"$f":"'baza nisk'!G1423","v":"Zamiejscowy Blok Operacyjny"},"","","proszę kliknąć aby wybrać nazwę komórki organizacyjnej",0]
[{"$f":"'baza nisk'!A1421","v":"T-076"},{"$f":"'baza nisk'!B1421","v":"Termohigrometr + świadectwo"},{"$f":"'baza nisk'!D1421","v":"POZOSTAŁE"},null,0,null,{"$f":"'baza nisk'!E1421","v":240},0,null,null,{"$f":"'baza nisk'!G1421","v":"SOR"},"","","proszę kliknąć aby wybrać nazwę komórki organizacyjnej",0]
[{"$f":"'baza nisk'!A1420","v":"T-076"},{"$f":"'baza nisk'!B1420","v":"Termohigrometr + świadectwo"},{"$f":"'baza nisk'!D1420","v":"POZOSTAŁE"},null,0,null,{"$f":"'baza nisk'!E1420","v":240},0,null,null,{"$f":"'baza nisk'!G1420","v":"Pracownia Endoskopii"},"","","proszę kliknąć aby wybrać nazwę komórki organizacyjnej",0]
[{"$f":"'baza nisk'!A1424","v":"T-076"},{"$f":"'baza nisk'!B1424","v":"Termohigrometr + świadectwo"},{"$f":"'baza nisk'!D1424","v":"POZOSTAŁE"},null,0,null,{"$f":"'baza nisk'!E1424","v":240},0,null,null,{"$f":"'baza nisk'!G1424","v":"Zamiejscowy Oddział Chirurgii Urazowo - Ortopedycznej"},"","","proszę kliknąć aby wybrać nazwę komórki organizacyjnej",0]
[{"$f":"'baza nisk'!A1407","v":"T-076"},{"$f":"'baza nisk'!B1407","v":"Termohigrometr + świadectwo"},{"$f":"'baza nisk'!D1407","v":"POZOSTAŁE"},null,0,null,{"$f":"'baza nisk'!E1407","v":240},0,null,null,{"$f":"'baza nisk'!G1407","v":"Anestezjologia"},"","","proszę kliknąć aby wybrać nazwę komórki organizacyjnej",0]
[{"$f":"'baza nisk'!A1408","v":"T-076"},{"$f":"'baza nisk'!B1408","v":"Termohigrometr + świadectwo"},{"$f":"'baza nisk'!D1408","v":"POZOSTAŁE"},null,0,null,{"$f":"'baza nisk'!E1408","v":240},0,null,null,{"$f":"'baza nisk'!G1408","v":"Apteka Szpitalna"},"","","proszę kliknąć aby wybrać nazwę komórki organizacyjnej",0]
[{"$f":"'baza nisk'!A1409","v":"T-076"},{"$f":"'baza nisk'!B1409","v":"Termohigrometr + świadectwo"},{"$f":"'baza nisk'!D1409","v":"POZOSTAŁE"},null,0,null,{"$f":"'baza nisk'!E1409","v":240},0,null,null,{"$f":"'baza nisk'!G1409","v":"Blok Operacyjny"},"","","proszę kliknąć aby wybrać nazwę komórki organizacyjnej",0]
[{"$f":"'baza nisk'!A1429","v":"T-076A"},{"$f":"'baza nisk'!B1429","v":"Termohigrometr + świadectwo"},{"$f":"'baza nisk'!D1429","v":"POZOSTAŁE"},null,0,null,{"$f":"'baza nisk'!E1429","v":240},0,null,null,{"$f":"'baza nisk'!G1429","v":"Zamiejscowy Oddział Chirurgii Urazowo - Ortopedycznej"},"","","proszę kliknąć aby wybrać nazwę komórki organizacyjnej",0]
[{"$f":"'baza nisk'!A1428","v":"T-076A"},{"$f":"'baza nisk'!B1428","v":"Termohigrometr + świadectwo"},{"$f":"'baza nisk'!D1428","v":"POZOSTAŁE"},null,0,null,{"$f":"'baza nisk'!E1428","v":240},0,null,null,{"$f":"'baza nisk'!G1428","v":"Zamiejscowy Blok Operacyjny"},"","","proszę kliknąć aby wybrać nazwę komórki organizacyjnej",0]
[{"$f":"'baza nisk'!A1425","v":"T-076A"},{"$f":"'baza nisk'!B1425","v":"Termohigrometr + świadectwo"},{"$f":"'baza nisk'!D1425","v":"POZOSTAŁE"},null,0,null,{"$f":"'baza nisk'!E1425","v":240},0,null,null,{"$f":"'baza nisk'!G1425","v":"Oddział Okulistyczny"},"","","proszę kliknąć aby wybrać nazwę komórki organizacyjnej",0]
[{"$f":"'baza nisk'!A1427","v":"T-076A"},{"$f":"'baza nisk'!B1427","v":"Termohigrometr + świadectwo"},{"$f":"'baza nisk'!D1427","v":"POZOSTAŁE"},null,0,null,{"$f":"'baza nisk'!E1427","v":240},0,null,null,{"$f":"'baza nisk'!G1427","v":"Oddział Pediatryczny z Pododdziałem Gastroenterologii "},"","","proszę kliknąć aby wybrać nazwę komórki organizacyjnej",0]
[{"$f":"'baza nisk'!A1426","v":"T-076A"},{"$f":"'baza nisk'!B1426","v":"Termohigrometr + świadectwo"},{"$f":"'baza nisk'!D1426","v":"POZOSTAŁE"},null,0,null,{"$f":"'baza nisk'!E1426","v":240},0,null,null,{"$f":"'baza nisk'!G1426","v":"Oddział Pediatryczny z Pododdziałem Gastroenterologii "},"","","proszę kliknąć aby wybrać nazwę komórki organizacyjnej",0]
[{"$f":"'baza nisk'!A1430","v":"T-122"},{"$f":"'baza nisk'!B1430","v":"Taboret kuchenny"},{"$f":"'baza nisk'!D1430","v":"MEBLE"},null,0,null,{"$f":"'baza nisk'!E1430","v":50},0,null,null,{"$f":"'baza nisk'!G1430","v":"Hotel Pracowniczy"},"","","proszę kliknąć aby wybrać nazwę komórki organizacyjnej",0]
[{"$f":"'baza nisk'!A1431","v":"T-126"},{"$f":"'baza nisk'!B1431","v":"Torba ze stelażem"},{"$f":"'baza nisk'!D1431","v":"POZOSTAŁE"},null,0,null,{"$f":"'baza nisk'!E1431","v":69},0,null,null,{"$f":"'baza nisk'!G1431","v":"Dział Organizacyjno - Prawny"},"","","proszę kliknąć aby wybrać nazwę komórki organizacyjnej",0]
[{"$f":"'baza nisk'!A1432","v":"T-127"},{"$f":"'baza nisk'!B1432","v":"Taboret Ringo chrom  "},{"$f":"'baza nisk'!D1432","v":"MEBLE"},null,0,null,{"$f":"'baza nisk'!E1432","v":140},0,null,null,{"$f":"'baza nisk'!G1432","v":"Dział Zaopatrzenia i Zamówień Publicznych"},"","","proszę kliknąć aby wybrać nazwę komórki organizacyjnej",0]
[{"$f":"'baza nisk'!A1433","v":"T-133"},{"$f":"'baza nisk'!B1433","v":"Taboret prysznicowy"},{"$f":"'baza nisk'!D1433","v":"MEBLE"},null,0,null,{"$f":"'baza nisk'!E1433","v":45},0,null,null,{"$f":"'baza nisk'!G1433","v":"Hotel Pracowniczy"},"","","proszę kliknąć aby wybrać nazwę komórki organizacyjnej",0]
[{"$f":"'baza nisk'!A1434","v":"T-133A"},{"$f":"'baza nisk'!B1434","v":"Taboret stelaż"},{"$f":"'baza nisk'!D1434","v":"MEBLE"},null,0,null,{"$f":"'baza nisk'!E1434","v":45},0,null,null,{"$f":"'baza nisk'!G1434","v":"Hotel Pracowniczy"},"","","proszę kliknąć aby wybrać nazwę komórki organizacyjnej",0]
[{"$f":"'baza nisk'!A1435","v":"T-137"},{"$f":"'baza nisk'!B1435","v":"Taboret do badania pacjentów z oparciem"},{"$f":"'baza nisk'!D1435","v":"MEBLE"},null,0,null,{"$f":"'baza nisk'!E1435","v":1350},0,null,null,{"$f":"'baza nisk'!G1435","v":"Intensywna Terapia"},"","","proszę kliknąć aby wybrać nazwę komórki organizacyjnej",0]
[{"$f":"'baza nisk'!A1439","v":"T-149"},{"$f":"'baza nisk'!B1439","v":"Taboret TB -1 na kółkach"},{"$f":"'baza nisk'!D1439","v":"MED. NISK. ŚR. TRW."},null,0,null,{"$f":"'baza nisk'!E1439","v":240},0,null,null,{"$f":"'baza nisk'!G1439","v":"Oddział Okulistyczny"},"","","proszę kliknąć aby wybrać nazwę komórki organizacyjnej",0]
[{"$f":"'baza nisk'!A1437","v":"T-149"},{"$f":"'baza nisk'!B1437","v":"Taboret TB -1 na kółkach"},{"$f":"'baza nisk'!D1437","v":"MED. NISK. ŚR. TRW."},null,0,null,{"$f":"'baza nisk'!E1437","v":240},0,null,null,{"$f":"'baza nisk'!G1437","v":"DODO -Zamiejscowa Pracownia RTG"},"","","proszę kliknąć aby wybrać nazwę komórki organizacyjnej",0]
[{"$f":"'baza nisk'!A1438","v":"T-149"},{"$f":"'baza nisk'!B1438","v":"Taboret TB -1 na kółkach"},{"$f":"'baza nisk'!D1438","v":"MED. NISK. ŚR. TRW."},null,0,null,{"$f":"'baza nisk'!E1438","v":240},0,null,null,{"$f":"'baza nisk'!G1438","v":"Oddział Kardiologii Dziecięcej z Pododdziałem Kardiochirurgi"},"","","proszę kliknąć aby wybrać nazwę komórki organizacyjnej",0]
[{"$f":"'baza nisk'!A1436","v":"T-149"},{"$f":"'baza nisk'!B1436","v":"Taboret TB -1 na kółkach"},{"$f":"'baza nisk'!D1436","v":"MED. NISK. ŚR. TRW."},null,0,null,{"$f":"'baza nisk'!E1436","v":240},0,null,null,{"$f":"'baza nisk'!G1436","v":"Blok Operacyjny"},"","","proszę kliknąć aby wybrać nazwę komórki organizacyjnej",0]
[{"$f":"'baza nisk'!A1441","v":"T-149"},{"$f":"'baza nisk'!B1441","v":"Taboret TB -1 na kółkach"},{"$f":"'baza nisk'!D1441","v":"MED. NISK. ŚR. TRW."},null,0,null,{"$f":"'baza nisk'!E1441","v":240},0,null,null,{"$f":"'baza nisk'!G1441","v":"Poradnia Chirurgii Onkologicznej"},"","","proszę kliknąć aby wybrać nazwę komórki organizacyjnej",0]
[{"$f":"'baza nisk'!A1442","v":"T-149"},{"$f":"'baza nisk'!B1442","v":"Taboret TB -1 na kółkach"},{"$f":"'baza nisk'!D1442","v":"MED. NISK. ŚR. TRW."},null,0,null,{"$f":"'baza nisk'!E1442","v":240},0,null,null,{"$f":"'baza nisk'!G1442","v":"Poradnia Otolaryngologiczna"},"","","proszę kliknąć aby wybrać nazwę komórki organizacyjnej",0]
[{"$f":"'baza nisk'!A1440","v":"T-149"},{"$f":"'baza nisk'!B1440","v":"Taboret TB -1 na kółkach"},{"$f":"'baza nisk'!D1440","v":"MED. NISK. ŚR. TRW."},null,0,null,{"$f":"'baza nisk'!E1440","v":240},0,null,null,{"$f":"'baza nisk'!G1440","v":"Oddział Położniczo – Ginekologiczny"},"","","proszę kliknąć aby wybrać nazwę komórki organizacyjnej",0]
[{"$f":"'baza nisk'!A1444","v":"T-149A"},{"$f":"'baza nisk'!B1444","v":"Taboret TB -1 na stopkach"},{"$f":"'baza nisk'!D1444","v":"MED. NISK. ŚR. TRW."},null,0,null,{"$f":"'baza nisk'!E1444","v":142.06},0,null,null,{"$f":"'baza nisk'!G1444","v":"Poradnia Okulistyczna"},"","","proszę kliknąć aby wybrać nazwę komórki organizacyjnej",0]
[{"$f":"'baza nisk'!A1443","v":"T-149A"},{"$f":"'baza nisk'!B1443","v":"Taboret TB -1 na stopkach"},{"$f":"'baza nisk'!D1443","v":"MED. NISK. ŚR. TRW."},null,0,null,{"$f":"'baza nisk'!E1443","v":142.07},0,null,null,{"$f":"'baza nisk'!G1443","v":"Oddział Neonatologiczny z Pododdziałem Patologii Noworodka"},"","","proszę kliknąć aby wybrać nazwę komórki organizacyjnej",0]
[{"$f":"'baza nisk'!A1446","v":"T-187"},{"$f":"'baza nisk'!B1446","v":"Taboret ALFA K008"},{"$f":"'baza nisk'!D1446","v":"MEBLE"},null,0,null,{"$f":"'baza nisk'!E1446","v":215.47},0,null,null,{"$f":"'baza nisk'!G1446","v":"DODO -Pracownia USG Piersi"},"","","proszę kliknąć aby wybrać nazwę komórki organizacyjnej",0]
[{"$f":"'baza nisk'!A1445","v":"T-187"},{"$f":"'baza nisk'!B1445","v":"Taboret ALFA K008"},{"$f":"'baza nisk'!D1445","v":"MEBLE"},null,0,null,{"$f":"'baza nisk'!E1445","v":215.47},0,null,null,{"$f":"'baza nisk'!G1445","v":"DODO -Pracownia USG"},"","","proszę kliknąć aby wybrać nazwę komórki organizacyjnej",0]
[{"$f":"'baza nisk'!A1448","v":"T-187A"},{"$f":"'baza nisk'!B1448","v":"Taboret ALFA K020"},{"$f":"'baza nisk'!D1448","v":"MEBLE"},null,0,null,{"$f":"'baza nisk'!E1448","v":215.47},0,null,null,{"$f":"'baza nisk'!G1448","v":"DODO -Pracownia USG Piersi"},"","","proszę kliknąć aby wybrać nazwę komórki organizacyjnej",0]
[{"$f":"'baza nisk'!A1449","v":"T-187A"},{"$f":"'baza nisk'!B1449","v":"Taboret ALFA K020"},{"$f":"'baza nisk'!D1449","v":"MEBLE"},null,0,null,{"$f":"'baza nisk'!E1449","v":215.47},0,null,null,{"$f":"'baza nisk'!G1449","v":"Oddział Okulistyczny"},"","","proszę kliknąć aby wybrać nazwę komórki organizacyjnej",0]
[{"$f":"'baza nisk'!A1447","v":"T-187A"},{"$f":"'baza nisk'!B1447","v":"Taboret ALFA K020"},{"$f":"'baza nisk'!D1447","v":"MEBLE"},null,0,null,{"$f":"'baza nisk'!E1447","v":215.47},0,null,null,{"$f":"'baza nisk'!G1447","v":"DODO -Pracownia Rezonansu Magnetycznego"},"","","proszę kliknąć aby wybrać nazwę komórki organizacyjnej",0]
[{"$f":"'baza nisk'!A1450","v":"T-188"},{"$f":"'baza nisk'!B1450","v":"Taboret SELLA II K020"},{"$f":"'baza nisk'!D1450","v":"MEBLE"},null,0,null,{"$f":"'baza nisk'!E1450","v":215.47},0,null,null,{"$f":"'baza nisk'!G1450","v":"DODO -Pracownia USG"},"","","proszę kliknąć aby wybrać nazwę komórki organizacyjnej",0]
[{"$f":"'baza nisk'!A1453","v":"T-190"},{"$f":"'baza nisk'!B1453","v":"Taboret obrotowy o regulowanej wysokośći Kolumn"},{"$f":"'baza nisk'!D1453","v":"MEBLE"},null,0,null,{"$f":"'baza nisk'!E1453","v":160},0,null,null,{"$f":"'baza nisk'!G1453","v":"Oddział Położniczo – Ginekologiczny"},"","","proszę kliknąć aby wybrać nazwę komórki organizacyjnej",0]
[{"$f":"'baza nisk'!A1452","v":"T-190"},{"$f":"'baza nisk'!B1452","v":"Taboret obrotowy o regulowanej wysokośći Kolumn"},{"$f":"'baza nisk'!D1452","v":"MEBLE"},null,0,null,{"$f":"'baza nisk'!E1452","v":160},0,null,null,{"$f":"'baza nisk'!G1452","v":"Oddział Okulistyczny"},"","","proszę kliknąć aby wybrać nazwę komórki organizacyjnej",0]
[{"$f":"'baza nisk'!A1451","v":"T-190"},{"$f":"'baza nisk'!B1451","v":"Taboret obrotowy o regulowanej wysokośći Kolumn"},{"$f":"'baza nisk'!D1451","v":"MEBLE"},null,0,null,{"$f":"'baza nisk'!E1451","v":160},0,null,null,{"$f":"'baza nisk'!G1451","v":"DODO -Pracownia Mammografii"},"","","proszę kliknąć aby wybrać nazwę komórki organizacyjnej",0]
[{"$f":"'baza nisk'!A1454","v":"T-197"},{"$f":"'baza nisk'!B1454","v":"Telewizor 32\""},{"$f":"'baza nisk'!D1454","v":"SPRZĘT AGD"},null,0,null,{"$f":"'baza nisk'!E1454","v":1599},0,null,null,{"$f":"'baza nisk'!G1454","v":"Zamiejscowy Oddział Rehabilitacji Ogólnoustrojowej I"},"","","proszę kliknąć aby wybrać nazwę komórki organizacyjnej",0]
[{"$f":"'baza nisk'!A1455","v":"T-197A"},{"$f":"'baza nisk'!B1455","v":"Telewizor 32\""},{"$f":"'baza nisk'!D1455","v":"SPRZĘT AGD"},null,0,null,{"$f":"'baza nisk'!E1455","v":1599},0,null,null,{"$f":"'baza nisk'!G1455","v":"Oddział Dermatologiczny"},"","","proszę kliknąć aby wybrać nazwę komórki organizacyjnej",0]
[{"$f":"'baza nisk'!A1456","v":"T-197B"},{"$f":"'baza nisk'!B1456","v":"Telewizor 32\""},{"$f":"'baza nisk'!D1456","v":"SPRZĘT AGD"},null,0,null,{"$f":"'baza nisk'!E1456","v":1599},0,null,null,{"$f":"'baza nisk'!G1456","v":"Stacja Dializ"},"","","proszę kliknąć aby wybrać nazwę komórki organizacyjnej",0]
[{"$f":"'baza nisk'!A1457","v":"T-197D"},{"$f":"'baza nisk'!B1457","v":"Telewizor 32\""},{"$f":"'baza nisk'!D1457","v":"SPRZĘT AGD"},null,0,null,{"$f":"'baza nisk'!E1457","v":1599},0,null,null,{"$f":"'baza nisk'!G1457","v":"Oddział Kardiologii Dziecięcej z Pododdziałem Kardiochirurgi"},"","","proszę kliknąć aby wybrać nazwę komórki organizacyjnej",0]
[{"$f":"'baza nisk'!A1458","v":"T-197E"},{"$f":"'baza nisk'!B1458","v":"Telewizor 32\""},{"$f":"'baza nisk'!D1458","v":"SPRZĘT AGD"},null,0,null,{"$f":"'baza nisk'!E1458","v":1599},0,null,null,{"$f":"'baza nisk'!G1458","v":"Oddział Kardiologii Dziecięcej z Pododdziałem Kardiochirurgi"},"","","proszę kliknąć aby wybrać nazwę komórki organizacyjnej",0]
[{"$f":"'baza nisk'!A1464","v":"T-200"},{"$f":"'baza nisk'!B1464","v":"Torba do ssaka -kuferek lekarski TRM-37"},{"$f":"'baza nisk'!D1464","v":"MED. NISK. ŚR. TRW."},null,0,null,{"$f":"'baza nisk'!E1464","v":100},0,null,null,{"$f":"'baza nisk'!G1464","v":"Oddział Położniczo – Ginekologiczny"},"","","proszę kliknąć aby wybrać nazwę komórki organizacyjnej",0]
[{"$f":"'baza nisk'!A1465","v":"T-200"},{"$f":"'baza nisk'!B1465","v":"Torba do ssaka -kuferek lekarski TRM-37"},{"$f":"'baza nisk'!D1465","v":"MED. NISK. ŚR. TRW."},null,0,null,{"$f":"'baza nisk'!E1465","v":100},0,null,null,{"$f":"'baza nisk'!G1465","v":"Poradnia Angiologiczna"},"","","proszę kliknąć aby wybrać nazwę komórki organizacyjnej",0]
[{"$f":"'baza nisk'!A1466","v":"T-200"},{"$f":"'baza nisk'!B1466","v":"Torba do ssaka -kuferek lekarski TRM-37"},{"$f":"'baza nisk'!D1466","v":"MED. NISK. ŚR. TRW."},null,0,null,{"$f":"'baza nisk'!E1466","v":100},0,null,null,{"$f":"'baza nisk'!G1466","v":"Poradnia Chirurgii Ogólnej"},"","","proszę kliknąć aby wybrać nazwę komórki organizacyjnej",0]
[{"$f":"'baza nisk'!A1467","v":"T-200"},{"$f":"'baza nisk'!B1467","v":"Torba do ssaka -kuferek lekarski TRM-37"},{"$f":"'baza nisk'!D1467","v":"MED. NISK. ŚR. TRW."},null,0,null,{"$f":"'baza nisk'!E1467","v":100},0,null,null,{"$f":"'baza nisk'!G1467","v":"Poradnia Chirurgii Onkologicznej"},"","","proszę kliknąć aby wybrać nazwę komórki organizacyjnej",0]
[{"$f":"'baza nisk'!A1468","v":"T-200"},{"$f":"'baza nisk'!B1468","v":"Torba do ssaka -kuferek lekarski TRM-37"},{"$f":"'baza nisk'!D1468","v":"MED. NISK. ŚR. TRW."},null,0,null,{"$f":"'baza nisk'!E1468","v":100},0,null,null,{"$f":"'baza nisk'!G1468","v":"Poradnia Dermatologiczna"},"","","proszę kliknąć aby wybrać nazwę komórki organizacyjnej",0]
[{"$f":"'baza nisk'!A1469","v":"T-200"},{"$f":"'baza nisk'!B1469","v":"Torba do ssaka -kuferek lekarski TRM-37"},{"$f":"'baza nisk'!D1469","v":"MED. NISK. ŚR. TRW."},null,0,null,{"$f":"'baza nisk'!E1469","v":100},0,null,null,{"$f":"'baza nisk'!G1469","v":"Poradnia Kardiologiczna dla Dzieci"},"","","proszę kliknąć aby wybrać nazwę komórki organizacyjnej",0]
[{"$f":"'baza nisk'!A1471","v":"T-200"},{"$f":"'baza nisk'!B1471","v":"Torba do ssaka -kuferek lekarski TRM-37"},{"$f":"'baza nisk'!D1471","v":"MED. NISK. ŚR. TRW."},null,0,null,{"$f":"'baza nisk'!E1471","v":100},0,null,null,{"$f":"'baza nisk'!G1471","v":"Zamiejscowy Blok Operacyjny"},"","","proszę kliknąć aby wybrać nazwę komórki organizacyjnej",0]
[{"$f":"'baza nisk'!A1470","v":"T-200"},{"$f":"'baza nisk'!B1470","v":"Torba do ssaka -kuferek lekarski TRM-37"},{"$f":"'baza nisk'!D1470","v":"MED. NISK. ŚR. TRW."},null,0,null,{"$f":"'baza nisk'!E1470","v":100},0,null,null,{"$f":"'baza nisk'!G1470","v":"Poradnia Neurochirurgiczna"},"","","proszę kliknąć aby wybrać nazwę komórki organizacyjnej",0]
[{"$f":"'baza nisk'!A1462","v":"T-200"},{"$f":"'baza nisk'!B1462","v":"Torba do ssaka -kuferek lekarski TRM-37"},{"$f":"'baza nisk'!D1462","v":"MED. NISK. ŚR. TRW."},null,0,null,{"$f":"'baza nisk'!E1462","v":100},0,null,null,{"$f":"'baza nisk'!G1462","v":"Oddział Kardiologiczny"},"","","proszę kliknąć aby wybrać nazwę komórki organizacyjnej",0]
[{"$f":"'baza nisk'!A1463","v":"T-200"},{"$f":"'baza nisk'!B1463","v":"Torba do ssaka -kuferek lekarski TRM-37"},{"$f":"'baza nisk'!D1463","v":"MED. NISK. ŚR. TRW."},null,0,null,{"$f":"'baza nisk'!E1463","v":100},0,null,null,{"$f":"'baza nisk'!G1463","v":"Oddział Kardiologii Dziecięcej z Pododdziałem Kardiochirurgi"},"","","proszę kliknąć aby wybrać nazwę komórki organizacyjnej",0]
[{"$f":"'baza nisk'!A1459","v":"T-200"},{"$f":"'baza nisk'!B1459","v":"Torba do ssaka -kuferek lekarski TRM-37"},{"$f":"'baza nisk'!D1459","v":"MED. NISK. ŚR. TRW."},null,0,null,{"$f":"'baza nisk'!E1459","v":100},0,null,null,{"$f":"'baza nisk'!G1459","v":"Oddział Chemioterapii z Pododdziałem Chemioterapii Dziennej"},"","","proszę kliknąć aby wybrać nazwę komórki organizacyjnej",0]
[{"$f":"'baza nisk'!A1460","v":"T-200"},{"$f":"'baza nisk'!B1460","v":"Torba do ssaka -kuferek lekarski TRM-37"},{"$f":"'baza nisk'!D1460","v":"MED. NISK. ŚR. TRW."},null,0,null,{"$f":"'baza nisk'!E1460","v":100},0,null,null,{"$f":"'baza nisk'!G1460","v":"Oddział Chirurgii Naczyniowej"},"","","proszę kliknąć aby wybrać nazwę komórki organizacyjnej",0]
[{"$f":"'baza nisk'!A1461","v":"T-200"},{"$f":"'baza nisk'!B1461","v":"Torba do ssaka -kuferek lekarski TRM-37"},{"$f":"'baza nisk'!D1461","v":"MED. NISK. ŚR. TRW."},null,0,null,{"$f":"'baza nisk'!E1461","v":100},0,null,null,{"$f":"'baza nisk'!G1461","v":"Oddział Dermatologiczny"},"","","proszę kliknąć aby wybrać nazwę komórki organizacyjnej",0]
[{"$f":"'baza nisk'!A1472","v":"T-201"},{"$f":"'baza nisk'!B1472","v":"Taboret porodowy-Dullstein"},{"$f":"'baza nisk'!D1472","v":"MEBLE MEDYCZNE"},null,0,null,{"$f":"'baza nisk'!E1472","v":3075},0,null,null,{"$f":"'baza nisk'!G1472","v":"Szkoła Rodzenia"},"","","proszę kliknąć aby wybrać nazwę komórki organizacyjnej",0]
[{"$f":"'baza nisk'!A1473","v":"T-203"},{"$f":"'baza nisk'!B1473","v":"Tunelizator AV 27 ze stali nierdzewnej- zagięty"},{"$f":"'baza nisk'!D1473","v":"NARZ. MEDYCZNE"},null,0,null,{"$f":"'baza nisk'!E1473","v":1350},0,null,null,{"$f":"'baza nisk'!G1473","v":"Blok Operacyjny"},"","","proszę kliknąć aby wybrać nazwę komórki organizacyjnej",0]
[{"$f":"'baza nisk'!A1474","v":"T-206"},{"$f":"'baza nisk'!B1474","v":"Taca sterylizacyjna firmy CBM 210x145x50-symbol"},{"$f":"'baza nisk'!D1474","v":"POZOSTAŁE"},null,0,null,{"$f":"'baza nisk'!E1474","v":260},0,null,null,{"$f":"'baza nisk'!G1474","v":"Dział Centralnej Sterylizatorni i DDD"},"","","proszę kliknąć aby wybrać nazwę komórki organizacyjnej",0]
[{"$f":"'baza nisk'!A1475","v":"U-058"},{"$f":"'baza nisk'!B1475","v":"Uchwyt ClickLine,plastikowy,z zapinką hemostaty"},{"$f":"'baza nisk'!D1475","v":"NARZ. MEDYCZNE"},null,0,null,{"$f":"'baza nisk'!E1475","v":692.87},{"$f":"E1478*G1478","v":0},null,null,{"$f":"'baza nisk'!G1475","v":"Blok Operacyjny"},{"$f":"IF($B$2=K1478,$B$2,\"\")","v":""},{"$f":"IF($B$2=K1478,1,\"\")","v":""},{"$f":"$B$2","v":"proszę kliknąć aby wybrać nazwę komórki organizacyjnej"},{"$f":"$H$2","v":0}]
[{"$f":"'baza nisk'!A1476","v":"U-058A"},{"$f":"'baza nisk'!B1476","v":"Uchwyt ClickLine,plastikowy,bez zapinki, monopo"},{"$f":"'baza nisk'!D1476","v":"NARZ. MEDYCZNE"},null,0,null,{"$f":"'baza nisk'!E1476","v":592.9},0,null,null,{"$f":"'baza nisk'!G1476","v":"Blok Operacyjny"},"","","proszę kliknąć aby wybrać nazwę komórki organizacyjnej",0]
[{"$f":"'baza nisk'!A1477","v":"U-063"},{"$f":"'baza nisk'!B1477","v":"Urządzenie do odsysania wydzieliny"},{"$f":"'baza nisk'!D1477","v":"MED. NISK. ŚR. TRW."},null,0,null,{"$f":"'baza nisk'!E1477","v":2700},0,null,null,{"$f":"'baza nisk'!G1477","v":"Intensywna Terapia"},"","","proszę kliknąć aby wybrać nazwę komórki organizacyjnej",0]
[{"$f":"'baza nisk'!A1478","v":"U-064"},{"$f":"'baza nisk'!B1478","v":"Uchwyt do striperów okrężnych FB108-117 FB119R"},{"$f":"'baza nisk'!D1478","v":"NARZ. MEDYCZNE"},null,0,null,{"$f":"'baza nisk'!E1478","v":90},0,null,null,{"$f":"'baza nisk'!G1478","v":"Blok Operacyjny"},"","","proszę kliknąć aby wybrać nazwę komórki organizacyjnej",0]
[{"$f":"'baza nisk'!A1480","v":"U-065"},{"$f":"'baza nisk'!B1480","v":"Uchwyt skalpela nr3 dł.125mm  BB073R"},{"$f":"'baza nisk'!D1480","v":"NARZ. MEDYCZNE"},null,0,null,{"$f":"'baza nisk'!E1480","v":25},0,null,null,{"$f":"'baza nisk'!G1480","v":"Oddział Transplantologiczny"},"","","proszę kliknąć aby wybrać nazwę komórki organizacyjnej",0]
[{"$f":"'baza nisk'!A1481","v":"U-065"},{"$f":"'baza nisk'!B1481","v":"Uchwyt skalpela nr3 dł.125mm  BB073R"},{"$f":"'baza nisk'!D1481","v":"NARZ. MEDYCZNE"},null,0,null,{"$f":"'baza nisk'!E1481","v":25},0,null,null,{"$f":"'baza nisk'!G1481","v":"Zamiejscowy Blok Operacyjny"},"","","proszę kliknąć aby wybrać nazwę komórki organizacyjnej",0]
[{"$f":"'baza nisk'!A1479","v":"U-065"},{"$f":"'baza nisk'!B1479","v":"Uchwyt skalpela nr3 dł.125mm  BB073R"},{"$f":"'baza nisk'!D1479","v":"NARZ. MEDYCZNE"},null,0,null,{"$f":"'baza nisk'!E1479","v":25},0,null,null,{"$f":"'baza nisk'!G1479","v":"Blok Operacyjny"},"","","proszę kliknąć aby wybrać nazwę komórki organizacyjnej",0]
[{"$f":"'baza nisk'!A1483","v":"U-065A"},{"$f":"'baza nisk'!B1483","v":"Uchwyt skalpela nr4 dł.135mm  BB084R"},{"$f":"'baza nisk'!D1483","v":"NARZ. MEDYCZNE"},null,0,null,{"$f":"'baza nisk'!E1483","v":25},0,null,null,{"$f":"'baza nisk'!G1483","v":"Zamiejscowy Blok Operacyjny"},"","","proszę kliknąć aby wybrać nazwę komórki organizacyjnej",0]
[{"$f":"'baza nisk'!A1482","v":"U-065A"},{"$f":"'baza nisk'!B1482","v":"Uchwyt skalpela nr4 dł.135mm  BB084R"},{"$f":"'baza nisk'!D1482","v":"NARZ. MEDYCZNE"},null,0,null,{"$f":"'baza nisk'!E1482","v":25},0,null,null,{"$f":"'baza nisk'!G1482","v":"Blok Operacyjny"},"","","proszę kliknąć aby wybrać nazwę komórki organizacyjnej",0]
[{"$f":"'baza nisk'!A1484","v":"W-002"},{"$f":"'baza nisk'!B1484","v":"Wieszak aluminiowy ARIZONA "},{"$f":"'baza nisk'!D1484","v":"MEBLE"},null,0,null,{"$f":"'baza nisk'!E1484","v":189},0,null,null,{"$f":"'baza nisk'!G1484","v":"Poradnia Medycyny Pracy"},"","","proszę kliknąć aby wybrać nazwę komórki organizacyjnej",0]
[{"$f":"'baza nisk'!A1485","v":"W-002A"},{"$f":"'baza nisk'!B1485","v":"Wieszak na obuwie"},{"$f":"'baza nisk'!D1485","v":"MEBLE"},null,0,null,{"$f":"'baza nisk'!E1485","v":240},0,null,null,{"$f":"'baza nisk'!G1485","v":"Oddział Chirurgii Ogólnej z Pododdziałami"},"","","proszę kliknąć aby wybrać nazwę komórki organizacyjnej",0]
[{"$f":"'baza nisk'!A1487","v":"W-026"},{"$f":"'baza nisk'!B1487","v":"Wentylator stojący"},{"$f":"'baza nisk'!D1487","v":"SPRZĘT AGD"},null,0,null,{"$f":"'baza nisk'!E1487","v":180},0,null,null,{"$f":"'baza nisk'!G1487","v":"Dział Planowania, Analiz i Finansowania Inwestycji"},"","","proszę kliknąć aby wybrać nazwę komórki organizacyjnej",0]
[{"$f":"'baza nisk'!A1488","v":"W-026"},{"$f":"'baza nisk'!B1488","v":"Wentylator stojący"},{"$f":"'baza nisk'!D1488","v":"SPRZĘT AGD"},null,0,null,{"$f":"'baza nisk'!E1488","v":180},0,null,null,{"$f":"'baza nisk'!G1488","v":"Dział Rejestracji Statystyki i Dokumentacji Medycznej"},"","","proszę kliknąć aby wybrać nazwę komórki organizacyjnej",0]
[{"$f":"'baza nisk'!A1486","v":"W-026"},{"$f":"'baza nisk'!B1486","v":"Wentylator stojący"},{"$f":"'baza nisk'!D1486","v":"SPRZĘT AGD"},null,0,null,{"$f":"'baza nisk'!E1486","v":180},0,null,null,{"$f":"'baza nisk'!G1486","v":"Dział Organizacyjno - Prawny"},"","","proszę kliknąć aby wybrać nazwę komórki organizacyjnej",0]
[{"$f":"'baza nisk'!A1490","v":"W-026"},{"$f":"'baza nisk'!B1490","v":"Wentylator stojący"},{"$f":"'baza nisk'!D1490","v":"SPRZĘT AGD"},null,0,null,{"$f":"'baza nisk'!E1490","v":180},0,null,null,{"$f":"'baza nisk'!G1490","v":"Poradnia Onkologiczna"},"","","proszę kliknąć aby wybrać nazwę komórki organizacyjnej",0]
[{"$f":"'baza nisk'!A1489","v":"W-026"},{"$f":"'baza nisk'!B1489","v":"Wentylator stojący"},{"$f":"'baza nisk'!D1489","v":"SPRZĘT AGD"},null,0,null,{"$f":"'baza nisk'!E1489","v":180},0,null,null,{"$f":"'baza nisk'!G1489","v":"Poradnia Chirurgii Onkologicznej"},"","","proszę kliknąć aby wybrać nazwę komórki organizacyjnej",0]
[{"$f":"'baza nisk'!A1491","v":"W-026"},{"$f":"'baza nisk'!B1491","v":"Wentylator stojący"},{"$f":"'baza nisk'!D1491","v":"SPRZĘT AGD"},null,0,null,{"$f":"'baza nisk'!E1491","v":180},0,null,null,{"$f":"'baza nisk'!G1491","v":"Sekretariat"},"","","proszę kliknąć aby wybrać nazwę komórki organizacyjnej",0]
[{"$f":"'baza nisk'!A1493","v":"W-026A"},{"$f":"'baza nisk'!B1493","v":"Wentylator stojący"},{"$f":"'baza nisk'!D1493","v":"SPRZĘT AGD"},null,0,null,{"$f":"'baza nisk'!E1493","v":180},0,null,null,{"$f":"'baza nisk'!G1493","v":"Dział Zatrudnienia i Wynagrodzeń"},"","","proszę kliknąć aby wybrać nazwę komórki organizacyjnej",0]
[{"$f":"'baza nisk'!A1492","v":"W-026A"},{"$f":"'baza nisk'!B1492","v":"Wentylator stojący"},{"$f":"'baza nisk'!D1492","v":"SPRZĘT AGD"},null,0,null,{"$f":"'baza nisk'!E1492","v":180},0,null,null,{"$f":"'baza nisk'!G1492","v":"Dział Planowania, Analiz i Finansowania Inwestycji"},"","","proszę kliknąć aby wybrać nazwę komórki organizacyjnej",0]
[{"$f":"'baza nisk'!A1496","v":"W-026B"},{"$f":"'baza nisk'!B1496","v":"Wentylator stojący"},{"$f":"'baza nisk'!D1496","v":"SPRZĘT AGD"},null,0,null,{"$f":"'baza nisk'!E1496","v":180},0,null,null,{"$f":"'baza nisk'!G1496","v":"Zamiejscowy Oddział Rehabilitacji Neurologicznej"},"","","proszę kliknąć aby wybrać nazwę komórki organizacyjnej",0]
[{"$f":"'baza nisk'!A1494","v":"W-026B"},{"$f":"'baza nisk'!B1494","v":"Wentylator stojący"},{"$f":"'baza nisk'!D1494","v":"SPRZĘT AGD"},null,0,null,{"$f":"'baza nisk'!E1494","v":180},0,null,null,{"$f":"'baza nisk'!G1494","v":"Dział Zaopatrzenia i Zamówień Publicznych"},"","","proszę kliknąć aby wybrać nazwę komórki organizacyjnej",0]
[{"$f":"'baza nisk'!A1495","v":"W-026B"},{"$f":"'baza nisk'!B1495","v":"Wentylator stojący"},{"$f":"'baza nisk'!D1495","v":"SPRZĘT AGD"},null,0,null,{"$f":"'baza nisk'!E1495","v":180},0,null,null,{"$f":"'baza nisk'!G1495","v":"SekcjaGospodarcza i Obsługa (cześć wspólna)"},"","","proszę kliknąć aby wybrać nazwę komórki organizacyjnej",0]
[{"$f":"'baza nisk'!A1497","v":"W-026C"},{"$f":"'baza nisk'!B1497","v":"Wentylator stojący"},{"$f":"'baza nisk'!D1497","v":"SPRZĘT AGD"},null,0,null,{"$f":"'baza nisk'!E1497","v":180},0,null,null,{"$f":"'baza nisk'!G1497","v":"Oddział Kardiologii Dziecięcej z Pododdziałem Kardiochirurgi"},"","","proszę kliknąć aby wybrać nazwę komórki organizacyjnej",0]
[{"$f":"'baza nisk'!A1499","v":"W-026C"},{"$f":"'baza nisk'!B1499","v":"Wentylator stojący"},{"$f":"'baza nisk'!D1499","v":"SPRZĘT AGD"},null,0,null,{"$f":"'baza nisk'!E1499","v":180},0,null,null,{"$f":"'baza nisk'!G1499","v":"Sekretariat"},"","","proszę kliknąć aby wybrać nazwę komórki organizacyjnej",0]
[{"$f":"'baza nisk'!A1498","v":"W-026C"},{"$f":"'baza nisk'!B1498","v":"Wentylator stojący"},{"$f":"'baza nisk'!D1498","v":"SPRZĘT AGD"},null,0,null,{"$f":"'baza nisk'!E1498","v":180},0,null,null,{"$f":"'baza nisk'!G1498","v":"Ośrodek Programów Badawczych (OPB)"},"","","proszę kliknąć aby wybrać nazwę komórki organizacyjnej",0]
[{"$f":"'baza nisk'!A1500","v":"W-026E"},{"$f":"'baza nisk'!B1500","v":"Wentylator stojący"},{"$f":"'baza nisk'!D1500","v":"SPRZĘT AGD"},null,0,null,{"$f":"'baza nisk'!E1500","v":180},0,null,null,{"$f":"'baza nisk'!G1500","v":"Apteka Szpitalna"},"","","proszę kliknąć aby wybrać nazwę komórki organizacyjnej",0]
[{"$f":"'baza nisk'!A1501","v":"W-026F"},{"$f":"'baza nisk'!B1501","v":"Wentylator stojący"},{"$f":"'baza nisk'!D1501","v":"SPRZĘT AGD"},null,0,null,{"$f":"'baza nisk'!E1501","v":180},0,null,null,{"$f":"'baza nisk'!G1501","v":"Oddział Chirurgii Ogólnej z Pododdziałami"},"","","proszę kliknąć aby wybrać nazwę komórki organizacyjnej",0]
[{"$f":"'baza nisk'!A1502","v":"W-026F"},{"$f":"'baza nisk'!B1502","v":"Wentylator stojący"},{"$f":"'baza nisk'!D1502","v":"SPRZĘT AGD"},null,0,null,{"$f":"'baza nisk'!E1502","v":180},0,null,null,{"$f":"'baza nisk'!G1502","v":"Oddział Kardiologiczny"},"","","proszę kliknąć aby wybrać nazwę komórki organizacyjnej",0]
[{"$f":"'baza nisk'!A1503","v":"W-029"},{"$f":"'baza nisk'!B1503","v":"Wersalka "},{"$f":"'baza nisk'!D1503","v":"MEBLE"},null,0,null,{"$f":"'baza nisk'!E1503","v":650},0,null,null,{"$f":"'baza nisk'!G1503","v":"Zamiejscowy Oddział Rehabilitacji Neurologicznej"},"","","proszę kliknąć aby wybrać nazwę komórki organizacyjnej",0]
[{"$f":"'baza nisk'!A1504","v":"W-029A"},{"$f":"'baza nisk'!B1504","v":"Wersalka "},{"$f":"'baza nisk'!D1504","v":"MEBLE"},null,0,null,{"$f":"'baza nisk'!E1504","v":650},0,null,null,{"$f":"'baza nisk'!G1504","v":"Blok Operacyjny"},"","","proszę kliknąć aby wybrać nazwę komórki organizacyjnej",0]
[{"$f":"'baza nisk'!A1505","v":"W-029B"},{"$f":"'baza nisk'!B1505","v":"Wersalka "},{"$f":"'baza nisk'!D1505","v":"MEBLE"},null,0,null,{"$f":"'baza nisk'!E1505","v":650},0,null,null,{"$f":"'baza nisk'!G1505","v":"Oddział Pediatryczny z Pododdziałem Gastroenterologii "},"","","proszę kliknąć aby wybrać nazwę komórki organizacyjnej",0]
[{"$f":"'baza nisk'!A1507","v":"W-030A"},{"$f":"'baza nisk'!B1507","v":"Wieszak ścienny Typ  WT na fartuchy RTG- 3 rami"},{"$f":"'baza nisk'!D1507","v":"MEBLE"},null,0,null,{"$f":"'baza nisk'!E1507","v":310.20999999999998},0,null,null,{"$f":"'baza nisk'!G1507","v":"DODO -Pracownia RTG"},"","","proszę kliknąć aby wybrać nazwę komórki organizacyjnej",0]
[{"$f":"'baza nisk'!A1506","v":"W-030A"},{"$f":"'baza nisk'!B1506","v":"Wieszak ścienny Typ  WT na fartuchy RTG- 3 rami"},{"$f":"'baza nisk'!D1506","v":"MEBLE"},null,0,null,{"$f":"'baza nisk'!E1506","v":310.20999999999998},0,null,null,{"$f":"'baza nisk'!G1506","v":"Blok Operacyjny"},"","","proszę kliknąć aby wybrać nazwę komórki organizacyjnej",0]
[{"$f":"'baza nisk'!A1510","v":"W-033"},{"$f":"'baza nisk'!B1510","v":"Wózek inwalidzki"},{"$f":"'baza nisk'!D1510","v":"MED. NISK. ŚR. TRW."},null,0,null,{"$f":"'baza nisk'!E1510","v":1404.57},0,null,null,{"$f":"'baza nisk'!G1510","v":"Zamiejscowy Oddział Rehabilitacji Neurologicznej"},"","","proszę kliknąć aby wybrać nazwę komórki organizacyjnej",0]
[{"$f":"'baza nisk'!A1509","v":"W-033"},{"$f":"'baza nisk'!B1509","v":"Wózek inwalidzki"},{"$f":"'baza nisk'!D1509","v":"MED. NISK. ŚR. TRW."},null,0,null,{"$f":"'baza nisk'!E1509","v":1404.57},0,null,null,{"$f":"'baza nisk'!G1509","v":"SOR"},"","","proszę kliknąć aby wybrać nazwę komórki organizacyjnej",0]
[{"$f":"'baza nisk'!A1508","v":"W-033"},{"$f":"'baza nisk'!B1508","v":"Wózek inwalidzki"},{"$f":"'baza nisk'!D1508","v":"MED. NISK. ŚR. TRW."},null,0,null,{"$f":"'baza nisk'!E1508","v":1404.57},0,null,null,{"$f":"'baza nisk'!G1508","v":"Oddział Położniczo – Ginekologiczny"},"","","proszę kliknąć aby wybrać nazwę komórki organizacyjnej",0]
[{"$f":"'baza nisk'!A1511","v":"W-033A"},{"$f":"'baza nisk'!B1511","v":"Wózek inwalidzki D200"},{"$f":"'baza nisk'!D1511","v":"MED. NISK. ŚR. TRW."},null,0,null,{"$f":"'baza nisk'!E1511","v":1000},0,null,null,{"$f":"'baza nisk'!G1511","v":"Zamiejscowy Oddział Rehabilitacji Neurologicznej"},"","","proszę kliknąć aby wybrać nazwę komórki organizacyjnej",0]
[{"$f":"'baza nisk'!A1512","v":"W-033B"},{"$f":"'baza nisk'!B1512","v":"Wózek inwalidzki JAZZ 30"},{"$f":"'baza nisk'!D1512","v":"MED. NISK. ŚR. TRW."},null,0,null,{"$f":"'baza nisk'!E1512","v":1500},0,null,null,{"$f":"'baza nisk'!G1512","v":"Zamiejscowy Oddział Rehabilitacji Neurologicznej"},"","","proszę kliknąć aby wybrać nazwę komórki organizacyjnej",0]
[{"$f":"'baza nisk'!A1513","v":"W-033C"},{"$f":"'baza nisk'!B1513","v":"Wózek inwalidzki V100XXL"},{"$f":"'baza nisk'!D1513","v":"MED. NISK. ŚR. TRW."},null,0,null,{"$f":"'baza nisk'!E1513","v":1700},0,null,null,{"$f":"'baza nisk'!G1513","v":"Oddział Położniczo – Ginekologiczny"},"","","proszę kliknąć aby wybrać nazwę komórki organizacyjnej",0]
[{"$f":"'baza nisk'!A1514","v":"W-033D"},{"$f":"'baza nisk'!B1514","v":"Wózek inwalidzki model 28"},{"$f":"'baza nisk'!D1514","v":"MED. NISK. ŚR. TRW."},null,0,null,{"$f":"'baza nisk'!E1514","v":1080},0,null,null,{"$f":"'baza nisk'!G1514","v":"Oddział Chemioterapii z Pododdziałem Chemioterapii Dziennej"},"","","proszę kliknąć aby wybrać nazwę komórki organizacyjnej",0]
[{"$f":"'baza nisk'!A1515","v":"W-033D"},{"$f":"'baza nisk'!B1515","v":"Wózek inwalidzki model 28"},{"$f":"'baza nisk'!D1515","v":"MED. NISK. ŚR. TRW."},null,0,null,{"$f":"'baza nisk'!E1515","v":1080},0,null,null,{"$f":"'baza nisk'!G1515","v":"SOR"},"","","proszę kliknąć aby wybrać nazwę komórki organizacyjnej",0]
[{"$f":"'baza nisk'!A1516","v":"W-033E"},{"$f":"'baza nisk'!B1516","v":"Wózek inwalidzki typu ortopedia model TGR-R WA"},{"$f":"'baza nisk'!D1516","v":"MED. NISK. ŚR. TRW."},null,0,null,{"$f":"'baza nisk'!E1516","v":680},0,null,null,{"$f":"'baza nisk'!G1516","v":"Zamiejscowy Oddział Rehabilitacji Ogólnoustrojowej II"},"","","proszę kliknąć aby wybrać nazwę komórki organizacyjnej",0]
[{"$f":"'baza nisk'!A1527","v":"W-034"},{"$f":"'baza nisk'!B1527","v":"Wózek do worków foliowych pojedyńczy-60 L z pok"},{"$f":"'baza nisk'!D1527","v":"POZOSTAŁE"},null,0,null,{"$f":"'baza nisk'!E1527","v":850},0,null,null,{"$f":"'baza nisk'!G1527","v":"SOR"},"","","proszę kliknąć aby wybrać nazwę komórki organizacyjnej",0]
[{"$f":"'baza nisk'!A1520","v":"W-034"},{"$f":"'baza nisk'!B1520","v":"Wózek do worków foliowych pojedyńczy-60 L z pok"},{"$f":"'baza nisk'!D1520","v":"POZOSTAŁE"},null,0,null,{"$f":"'baza nisk'!E1520","v":850},0,null,null,{"$f":"'baza nisk'!G1520","v":"Oddział Chirurgii Onkologicznej"},"","","proszę kliknąć aby wybrać nazwę komórki organizacyjnej",0]
[{"$f":"'baza nisk'!A1521","v":"W-034"},{"$f":"'baza nisk'!B1521","v":"Wózek do worków foliowych pojedyńczy-60 L z pok"},{"$f":"'baza nisk'!D1521","v":"POZOSTAŁE"},null,0,null,{"$f":"'baza nisk'!E1521","v":850},0,null,null,{"$f":"'baza nisk'!G1521","v":"Oddział Kardiologiczny"},"","","proszę kliknąć aby wybrać nazwę komórki organizacyjnej",0]
[{"$f":"'baza nisk'!A1517","v":"W-034"},{"$f":"'baza nisk'!B1517","v":"Wózek do worków foliowych pojedyńczy-60 L z pok"},{"$f":"'baza nisk'!D1517","v":"POZOSTAŁE"},null,0,null,{"$f":"'baza nisk'!E1517","v":850},0,null,null,{"$f":"'baza nisk'!G1517","v":"Anestezjologia"},"","","proszę kliknąć aby wybrać nazwę komórki organizacyjnej",0]
[{"$f":"'baza nisk'!A1518","v":"W-034"},{"$f":"'baza nisk'!B1518","v":"Wózek do worków foliowych pojedyńczy-60 L z pok"},{"$f":"'baza nisk'!D1518","v":"POZOSTAŁE"},null,0,null,{"$f":"'baza nisk'!E1518","v":850},0,null,null,{"$f":"'baza nisk'!G1518","v":"Apteka Szpitalna"},"","","proszę kliknąć aby wybrać nazwę komórki organizacyjnej",0]
[{"$f":"'baza nisk'!A1519","v":"W-034"},{"$f":"'baza nisk'!B1519","v":"Wózek do worków foliowych pojedyńczy-60 L z pok"},{"$f":"'baza nisk'!D1519","v":"POZOSTAŁE"},null,0,null,{"$f":"'baza nisk'!E1519","v":850},0,null,null,{"$f":"'baza nisk'!G1519","v":"Dział Zaopatrzenia i Zamówień Publicznych"},"","","proszę kliknąć aby wybrać nazwę komórki organizacyjnej",0]
[{"$f":"'baza nisk'!A1522","v":"W-034"},{"$f":"'baza nisk'!B1522","v":"Wózek do worków foliowych pojedyńczy-60 L z pok"},{"$f":"'baza nisk'!D1522","v":"POZOSTAŁE"},null,0,null,{"$f":"'baza nisk'!E1522","v":850},0,null,null,{"$f":"'baza nisk'!G1522","v":"Oddział Neonatologiczny z Pododdziałem Patologii Noworodka"},"","","proszę kliknąć aby wybrać nazwę komórki organizacyjnej",0]
[{"$f":"'baza nisk'!A1526","v":"W-034"},{"$f":"'baza nisk'!B1526","v":"Wózek do worków foliowych pojedyńczy-60 L z pok"},{"$f":"'baza nisk'!D1526","v":"POZOSTAŁE"},null,0,null,{"$f":"'baza nisk'!E1526","v":850},0,null,null,{"$f":"'baza nisk'!G1526","v":"Poradnia Chirurgii Onkologicznej"},"","","proszę kliknąć aby wybrać nazwę komórki organizacyjnej",0]
[{"$f":"'baza nisk'!A1525","v":"W-034"},{"$f":"'baza nisk'!B1525","v":"Wózek do worków foliowych pojedyńczy-60 L z pok"},{"$f":"'baza nisk'!D1525","v":"POZOSTAŁE"},null,0,null,{"$f":"'baza nisk'!E1525","v":850},0,null,null,{"$f":"'baza nisk'!G1525","v":"Poradnia Chirurgii Naczyniowej"},"","","proszę kliknąć aby wybrać nazwę komórki organizacyjnej",0]
[{"$f":"'baza nisk'!A1523","v":"W-034"},{"$f":"'baza nisk'!B1523","v":"Wózek do worków foliowych pojedyńczy-60 L z pok"},{"$f":"'baza nisk'!D1523","v":"POZOSTAŁE"},null,0,null,{"$f":"'baza nisk'!E1523","v":850},0,null,null,{"$f":"'baza nisk'!G1523","v":"Oddział Otolaryngologiczny z Pododdziałem Otolaryngologii"},"","","proszę kliknąć aby wybrać nazwę komórki organizacyjnej",0]
[{"$f":"'baza nisk'!A1524","v":"W-034"},{"$f":"'baza nisk'!B1524","v":"Wózek do worków foliowych pojedyńczy-60 L z pok"},{"$f":"'baza nisk'!D1524","v":"POZOSTAŁE"},null,0,null,{"$f":"'baza nisk'!E1524","v":850},0,null,null,{"$f":"'baza nisk'!G1524","v":"Oddział Położniczo – Ginekologiczny"},"","","proszę kliknąć aby wybrać nazwę komórki organizacyjnej",0]
[{"$f":"'baza nisk'!A1528","v":"W-034A"},{"$f":"'baza nisk'!B1528","v":"Wózek do worków foliowych pojedyńczy 120L z pok"},{"$f":"'baza nisk'!D1528","v":"POZOSTAŁE"},null,0,null,{"$f":"'baza nisk'!E1528","v":880},0,null,null,{"$f":"'baza nisk'!G1528","v":"Anestezjologia"},"","","proszę kliknąć aby wybrać nazwę komórki organizacyjnej",0]
[{"$f":"'baza nisk'!A1529","v":"W-034A"},{"$f":"'baza nisk'!B1529","v":"Wózek do worków foliowych pojedyńczy 120L z pok"},{"$f":"'baza nisk'!D1529","v":"POZOSTAŁE"},null,0,null,{"$f":"'baza nisk'!E1529","v":880},0,null,null,{"$f":"'baza nisk'!G1529","v":"DODO -Pracownia Diagnostyczno - Zabiegowa Naczyń"},"","","proszę kliknąć aby wybrać nazwę komórki organizacyjnej",0]
[{"$f":"'baza nisk'!A1530","v":"W-034A"},{"$f":"'baza nisk'!B1530","v":"Wózek do worków foliowych pojedyńczy 120L z pok"},{"$f":"'baza nisk'!D1530","v":"POZOSTAŁE"},null,0,null,{"$f":"'baza nisk'!E1530","v":880},0,null,null,{"$f":"'baza nisk'!G1530","v":"DODO -Pracownia Mammografii"},"","","proszę kliknąć aby wybrać nazwę komórki organizacyjnej",0]
[{"$f":"'baza nisk'!A1531","v":"W-034A"},{"$f":"'baza nisk'!B1531","v":"Wózek do worków foliowych pojedyńczy 120L z pok"},{"$f":"'baza nisk'!D1531","v":"POZOSTAŁE"},null,0,null,{"$f":"'baza nisk'!E1531","v":880},0,null,null,{"$f":"'baza nisk'!G1531","v":"DODO -Pracownia USG"},"","","proszę kliknąć aby wybrać nazwę komórki organizacyjnej",0]
[{"$f":"'baza nisk'!A1532","v":"W-034A"},{"$f":"'baza nisk'!B1532","v":"Wózek do worków foliowych pojedyńczy 120L z pok"},{"$f":"'baza nisk'!D1532","v":"POZOSTAŁE"},null,0,null,{"$f":"'baza nisk'!E1532","v":880},0,null,null,{"$f":"'baza nisk'!G1532","v":"DODO -Pracownia USG Piersi"},"","","proszę kliknąć aby wybrać nazwę komórki organizacyjnej",0]
[{"$f":"'baza nisk'!A1533","v":"W-034A"},{"$f":"'baza nisk'!B1533","v":"Wózek do worków foliowych pojedyńczy 120L z pok"},{"$f":"'baza nisk'!D1533","v":"POZOSTAŁE"},null,0,null,{"$f":"'baza nisk'!E1533","v":880},0,null,null,{"$f":"'baza nisk'!G1533","v":"Dział Centralnej Sterylizatorni i DDD"},"","","proszę kliknąć aby wybrać nazwę komórki organizacyjnej",0]
[{"$f":"'baza nisk'!A1534","v":"W-034A"},{"$f":"'baza nisk'!B1534","v":"Wózek do worków foliowych pojedyńczy 120L z pok"},{"$f":"'baza nisk'!D1534","v":"POZOSTAŁE"},null,0,null,{"$f":"'baza nisk'!E1534","v":880},0,null,null,{"$f":"'baza nisk'!G1534","v":"Oddział Angiologiczny z Pododdziałem Diabetologii"},"","","proszę kliknąć aby wybrać nazwę komórki organizacyjnej",0]
[{"$f":"'baza nisk'!A1535","v":"W-034A"},{"$f":"'baza nisk'!B1535","v":"Wózek do worków foliowych pojedyńczy 120L z pok"},{"$f":"'baza nisk'!D1535","v":"POZOSTAŁE"},null,0,null,{"$f":"'baza nisk'!E1535","v":880},0,null,null,{"$f":"'baza nisk'!G1535","v":"Oddział Chirurgii Ogólnej z Pododdziałami"},"","","proszę kliknąć aby wybrać nazwę komórki organizacyjnej",0]
[{"$f":"'baza nisk'!A1536","v":"W-034A"},{"$f":"'baza nisk'!B1536","v":"Wózek do worków foliowych pojedyńczy 120L z pok"},{"$f":"'baza nisk'!D1536","v":"POZOSTAŁE"},null,0,null,{"$f":"'baza nisk'!E1536","v":880},0,null,null,{"$f":"'baza nisk'!G1536","v":"Oddział Kardiologii Dziecięcej z Pododdziałem Kardiochirurgi"},"","","proszę kliknąć aby wybrać nazwę komórki organizacyjnej",0]
[{"$f":"'baza nisk'!A1537","v":"W-034A"},{"$f":"'baza nisk'!B1537","v":"Wózek do worków foliowych pojedyńczy 120L z pok"},{"$f":"'baza nisk'!D1537","v":"POZOSTAŁE"},null,0,null,{"$f":"'baza nisk'!E1537","v":880},0,null,null,{"$f":"'baza nisk'!G1537","v":"Oddział Nefrologiczny"},"","","proszę kliknąć aby wybrać nazwę komórki organizacyjnej",0]
[{"$f":"'baza nisk'!A1538","v":"W-034A"},{"$f":"'baza nisk'!B1538","v":"Wózek do worków foliowych pojedyńczy 120L z pok"},{"$f":"'baza nisk'!D1538","v":"POZOSTAŁE"},null,0,null,{"$f":"'baza nisk'!E1538","v":880},0,null,null,{"$f":"'baza nisk'!G1538","v":"Oddział Neonatologiczny z Pododdziałem Patologii Noworodka"},"","","proszę kliknąć aby wybrać nazwę komórki organizacyjnej",0]
[{"$f":"'baza nisk'!A1539","v":"W-034A"},{"$f":"'baza nisk'!B1539","v":"Wózek do worków foliowych pojedyńczy 120L z pok"},{"$f":"'baza nisk'!D1539","v":"POZOSTAŁE"},null,0,null,{"$f":"'baza nisk'!E1539","v":880},{"$f":"E1542*G1542","v":0},null,null,{"$f":"'baza nisk'!G1539","v":"Oddział Okulistyczny"},{"$f":"IF($B$2=K1542,$B$2,\"\")","v":""},{"$f":"IF($B$2=K1542,1,\"\")","v":""},{"$f":"$B$2","v":"proszę kliknąć aby wybrać nazwę komórki organizacyjnej"},{"$f":"$H$2","v":0}]
[{"$f":"'baza nisk'!A1540","v":"W-034A"},{"$f":"'baza nisk'!B1540","v":"Wózek do worków foliowych pojedyńczy 120L z pok"},{"$f":"'baza nisk'!D1540","v":"POZOSTAŁE"},null,0,null,{"$f":"'baza nisk'!E1540","v":880},0,null,null,{"$f":"'baza nisk'!G1540","v":"Oddział Pediatryczny z Pododdziałem Gastroenterologii "},"","","proszę kliknąć aby wybrać nazwę komórki organizacyjnej",0]
[{"$f":"'baza nisk'!A1541","v":"W-034A"},{"$f":"'baza nisk'!B1541","v":"Wózek do worków foliowych pojedyńczy 120L z pok"},{"$f":"'baza nisk'!D1541","v":"POZOSTAŁE"},null,0,null,{"$f":"'baza nisk'!E1541","v":880},0,null,null,{"$f":"'baza nisk'!G1541","v":"Oddział Położniczo – Ginekologiczny"},"","","proszę kliknąć aby wybrać nazwę komórki organizacyjnej",0]
[{"$f":"'baza nisk'!A1543","v":"W-034A"},{"$f":"'baza nisk'!B1543","v":"Wózek do worków foliowych pojedyńczy 120L z pok"},{"$f":"'baza nisk'!D1543","v":"POZOSTAŁE"},null,0,null,{"$f":"'baza nisk'!E1543","v":880},0,null,null,{"$f":"'baza nisk'!G1543","v":"Stacja Dializ"},"","","proszę kliknąć aby wybrać nazwę komórki organizacyjnej",0]
[{"$f":"'baza nisk'!A1542","v":"W-034A"},{"$f":"'baza nisk'!B1542","v":"Wózek do worków foliowych pojedyńczy 120L z pok"},{"$f":"'baza nisk'!D1542","v":"POZOSTAŁE"},null,0,null,{"$f":"'baza nisk'!E1542","v":880},0,null,null,{"$f":"'baza nisk'!G1542","v":"Poradnia Angiologiczna"},"","","proszę kliknąć aby wybrać nazwę komórki organizacyjnej",0]
[{"$f":"'baza nisk'!A1548","v":"W-034B"},{"$f":"'baza nisk'!B1548","v":"Wózek do worków foliowych potrójny 120L z pokry"},{"$f":"'baza nisk'!D1548","v":"POZOSTAŁE"},null,0,null,{"$f":"'baza nisk'!E1548","v":1600},0,null,null,{"$f":"'baza nisk'!G1548","v":"Oddział Urologii i Urologii Onkologicznej"},"","","proszę kliknąć aby wybrać nazwę komórki organizacyjnej",0]
[{"$f":"'baza nisk'!A1544","v":"W-034B"},{"$f":"'baza nisk'!B1544","v":"Wózek do worków foliowych potrójny 120L z pokry"},{"$f":"'baza nisk'!D1544","v":"POZOSTAŁE"},null,0,null,{"$f":"'baza nisk'!E1544","v":1600},0,null,null,{"$f":"'baza nisk'!G1544","v":"DODO -Pracownia Diagnostyczno - Zabiegowa Naczyń"},"","","proszę kliknąć aby wybrać nazwę komórki organizacyjnej",0]
[{"$f":"'baza nisk'!A1545","v":"W-034B"},{"$f":"'baza nisk'!B1545","v":"Wózek do worków foliowych potrójny 120L z pokry"},{"$f":"'baza nisk'!D1545","v":"POZOSTAŁE"},null,0,null,{"$f":"'baza nisk'!E1545","v":1600},0,null,null,{"$f":"'baza nisk'!G1545","v":"Oddział Angiologiczny z Pododdziałem Diabetologii"},"","","proszę kliknąć aby wybrać nazwę komórki organizacyjnej",0]
[{"$f":"'baza nisk'!A1550","v":"W-034B"},{"$f":"'baza nisk'!B1550","v":"Wózek do worków foliowych potrójny 120L z pokry"},{"$f":"'baza nisk'!D1550","v":"POZOSTAŁE"},null,0,null,{"$f":"'baza nisk'!E1550","v":1600},0,null,null,{"$f":"'baza nisk'!G1550","v":"Pracownia Endoskopii"},"","","proszę kliknąć aby wybrać nazwę komórki organizacyjnej",0]
[{"$f":"'baza nisk'!A1549","v":"W-034B"},{"$f":"'baza nisk'!B1549","v":"Wózek do worków foliowych potrójny 120L z pokry"},{"$f":"'baza nisk'!D1549","v":"POZOSTAŁE"},null,0,null,{"$f":"'baza nisk'!E1549","v":1600},0,null,null,{"$f":"'baza nisk'!G1549","v":"Poradnia Urologiczna"},"","","proszę kliknąć aby wybrać nazwę komórki organizacyjnej",0]
[{"$f":"'baza nisk'!A1546","v":"W-034B"},{"$f":"'baza nisk'!B1546","v":"Wózek do worków foliowych potrójny 120L z pokry"},{"$f":"'baza nisk'!D1546","v":"POZOSTAŁE"},null,0,null,{"$f":"'baza nisk'!E1546","v":1600},0,null,null,{"$f":"'baza nisk'!G1546","v":"Oddział Dermatologiczny"},"","","proszę kliknąć aby wybrać nazwę komórki organizacyjnej",0]
[{"$f":"'baza nisk'!A1547","v":"W-034B"},{"$f":"'baza nisk'!B1547","v":"Wózek do worków foliowych potrójny 120L z pokry"},{"$f":"'baza nisk'!D1547","v":"POZOSTAŁE"},null,0,null,{"$f":"'baza nisk'!E1547","v":1600},0,null,null,{"$f":"'baza nisk'!G1547","v":"Oddział Nefrologiczny"},"","","proszę kliknąć aby wybrać nazwę komórki organizacyjnej",0]
[{"$f":"'baza nisk'!A1551","v":"W-034C"},{"$f":"'baza nisk'!B1551","v":"Wózek do worków foliowych podwójny 120L z pokry"},{"$f":"'baza nisk'!D1551","v":"POZOSTAŁE"},null,0,null,{"$f":"'baza nisk'!E1551","v":1250},0,null,null,{"$f":"'baza nisk'!G1551","v":"Anestezjologia"},"","","proszę kliknąć aby wybrać nazwę komórki organizacyjnej",0]
[{"$f":"'baza nisk'!A1552","v":"W-034C"},{"$f":"'baza nisk'!B1552","v":"Wózek do worków foliowych podwójny 120L z pokry"},{"$f":"'baza nisk'!D1552","v":"POZOSTAŁE"},null,0,null,{"$f":"'baza nisk'!E1552","v":1250},0,null,null,{"$f":"'baza nisk'!G1552","v":"Apteka Szpitalna"},"","","proszę kliknąć aby wybrać nazwę komórki organizacyjnej",0]
[{"$f":"'baza nisk'!A1553","v":"W-034C"},{"$f":"'baza nisk'!B1553","v":"Wózek do worków foliowych podwójny 120L z pokry"},{"$f":"'baza nisk'!D1553","v":"POZOSTAŁE"},null,0,null,{"$f":"'baza nisk'!E1553","v":1250},0,null,null,{"$f":"'baza nisk'!G1553","v":"DODO -Pracowania Tomografii Komputerowej"},"","","proszę kliknąć aby wybrać nazwę komórki organizacyjnej",0]
[{"$f":"'baza nisk'!A1554","v":"W-034C"},{"$f":"'baza nisk'!B1554","v":"Wózek do worków foliowych podwójny 120L z pokry"},{"$f":"'baza nisk'!D1554","v":"POZOSTAŁE"},null,0,null,{"$f":"'baza nisk'!E1554","v":1250},0,null,null,{"$f":"'baza nisk'!G1554","v":"DODO -Pracownia RTG"},"","","proszę kliknąć aby wybrać nazwę komórki organizacyjnej",0]
[{"$f":"'baza nisk'!A1555","v":"W-034C"},{"$f":"'baza nisk'!B1555","v":"Wózek do worków foliowych podwójny 120L z pokry"},{"$f":"'baza nisk'!D1555","v":"POZOSTAŁE"},null,0,null,{"$f":"'baza nisk'!E1555","v":1250},0,null,null,{"$f":"'baza nisk'!G1555","v":"Oddział Angiologiczny z Pododdziałem Diabetologii"},"","","proszę kliknąć aby wybrać nazwę komórki organizacyjnej",0]
[{"$f":"'baza nisk'!A1556","v":"W-034C"},{"$f":"'baza nisk'!B1556","v":"Wózek do worków foliowych podwójny 120L z pokry"},{"$f":"'baza nisk'!D1556","v":"POZOSTAŁE"},null,0,null,{"$f":"'baza nisk'!E1556","v":1250},0,null,null,{"$f":"'baza nisk'!G1556","v":"Oddział Chirurgii Ogólnej z Pododdziałami"},"","","proszę kliknąć aby wybrać nazwę komórki organizacyjnej",0]
[{"$f":"'baza nisk'!A1557","v":"W-034C"},{"$f":"'baza nisk'!B1557","v":"Wózek do worków foliowych podwójny 120L z pokry"},{"$f":"'baza nisk'!D1557","v":"POZOSTAŁE"},null,0,null,{"$f":"'baza nisk'!E1557","v":1250},0,null,null,{"$f":"'baza nisk'!G1557","v":"Oddział Kardiologiczny"},"","","proszę kliknąć aby wybrać nazwę komórki organizacyjnej",0]
[{"$f":"'baza nisk'!A1558","v":"W-034C"},{"$f":"'baza nisk'!B1558","v":"Wózek do worków foliowych podwójny 120L z pokry"},{"$f":"'baza nisk'!D1558","v":"POZOSTAŁE"},null,0,null,{"$f":"'baza nisk'!E1558","v":1250},0,null,null,{"$f":"'baza nisk'!G1558","v":"Oddział Neonatologiczny z Pododdziałem Patologii Noworodka"},"","","proszę kliknąć aby wybrać nazwę komórki organizacyjnej",0]
[{"$f":"'baza nisk'!A1559","v":"W-034C"},{"$f":"'baza nisk'!B1559","v":"Wózek do worków foliowych podwójny 120L z pokry"},{"$f":"'baza nisk'!D1559","v":"POZOSTAŁE"},null,0,null,{"$f":"'baza nisk'!E1559","v":1250},0,null,null,{"$f":"'baza nisk'!G1559","v":"Poradnia Urologiczna"},"","","proszę kliknąć aby wybrać nazwę komórki organizacyjnej",0]
[{"$f":"'baza nisk'!A1560","v":"W-034D"},{"$f":"'baza nisk'!B1560","v":"Wózek do worków foliowych pojedyńczy 100L z pok"},{"$f":"'baza nisk'!D1560","v":"POZOSTAŁE"},null,0,null,{"$f":"'baza nisk'!E1560","v":770},0,null,null,{"$f":"'baza nisk'!G1560","v":"Anestezjologia"},"","","proszę kliknąć aby wybrać nazwę komórki organizacyjnej",0]
[{"$f":"'baza nisk'!A1561","v":"W-034E"},{"$f":"'baza nisk'!B1561","v":"Wózek do worków foliowych podwójny 60L z pokryw"},{"$f":"'baza nisk'!D1561","v":"POZOSTAŁE"},null,0,null,{"$f":"'baza nisk'!E1561","v":850},0,null,null,{"$f":"'baza nisk'!G1561","v":"Anestezjologia"},"","","proszę kliknąć aby wybrać nazwę komórki organizacyjnej",0]
[{"$f":"'baza nisk'!A1562","v":"W-046"},{"$f":"'baza nisk'!B1562","v":"Wózek sklepowy TANGO 160 RC z półką dolną  antr"},{"$f":"'baza nisk'!D1562","v":"POZOSTAŁE"},null,0,null,{"$f":"'baza nisk'!E1562","v":1000},0,null,null,{"$f":"'baza nisk'!G1562","v":"Intensywna Terapia"},"","","proszę kliknąć aby wybrać nazwę komórki organizacyjnej",0]
[{"$f":"'baza nisk'!A1563","v":"W-046"},{"$f":"'baza nisk'!B1563","v":"Wózek sklepowy TANGO 160 RC z półką dolną  antr"},{"$f":"'baza nisk'!D1563","v":"POZOSTAŁE"},null,0,null,{"$f":"'baza nisk'!E1563","v":1000},0,null,null,{"$f":"'baza nisk'!G1563","v":"Oddział Kardiologii Dziecięcej z Pododdziałem Kardiochirurgi"},"","","proszę kliknąć aby wybrać nazwę komórki organizacyjnej",0]
[{"$f":"'baza nisk'!A1564","v":"W-046A"},{"$f":"'baza nisk'!B1564","v":"Wózek sklepowy TANGO 160 RC z półką dolną  antr"},{"$f":"'baza nisk'!D1564","v":"POZOSTAŁE"},null,0,null,{"$f":"'baza nisk'!E1564","v":1000},0,null,null,{"$f":"'baza nisk'!G1564","v":"Stacja Dializ"},"","","proszę kliknąć aby wybrać nazwę komórki organizacyjnej",0]
[{"$f":"'baza nisk'!A1565","v":"W-046B"},{"$f":"'baza nisk'!B1565","v":"Wózek sklepowy D 120RC"},{"$f":"'baza nisk'!D1565","v":"POZOSTAŁE"},null,0,null,{"$f":"'baza nisk'!E1565","v":800},0,null,null,{"$f":"'baza nisk'!G1565","v":"Oddział Otolaryngologiczny z Pododdziałem Otolaryngologii"},"","","proszę kliknąć aby wybrać nazwę komórki organizacyjnej",0]
[{"$f":"'baza nisk'!A1566","v":"W-046B"},{"$f":"'baza nisk'!B1566","v":"Wózek sklepowy D 120RC"},{"$f":"'baza nisk'!D1566","v":"POZOSTAŁE"},null,0,null,{"$f":"'baza nisk'!E1566","v":800},0,null,null,{"$f":"'baza nisk'!G1566","v":"Pracownia Endoskopii"},"","","proszę kliknąć aby wybrać nazwę komórki organizacyjnej",0]
[{"$f":"'baza nisk'!A1567","v":"W-053"},{"$f":"'baza nisk'!B1567","v":"Wieszak na kroplówki"},{"$f":"'baza nisk'!D1567","v":"MEBLE MEDYCZNE"},null,0,null,{"$f":"'baza nisk'!E1567","v":140.4},0,null,null,{"$f":"'baza nisk'!G1567","v":"Oddział Kardiologii Dziecięcej z Pododdziałem Kardiochirurgi"},"","","proszę kliknąć aby wybrać nazwę komórki organizacyjnej",0]
[{"$f":"'baza nisk'!A1568","v":"W-054F"},{"$f":"'baza nisk'!B1568","v":"Wieszak na ubrania"},{"$f":"'baza nisk'!D1568","v":"MEBLE"},null,0,null,{"$f":"'baza nisk'!E1568","v":20},0,null,null,{"$f":"'baza nisk'!G1568","v":"Poradnia Chirurgii Naczyniowej"},"","","proszę kliknąć aby wybrać nazwę komórki organizacyjnej",0]
[{"$f":"'baza nisk'!A1569","v":"W-055"},{"$f":"'baza nisk'!B1569","v":"Wózek platformowy"},{"$f":"'baza nisk'!D1569","v":"POZOSTAŁE"},null,0,null,{"$f":"'baza nisk'!E1569","v":500},0,null,null,{"$f":"'baza nisk'!G1569","v":"Sekretariat"},"","","proszę kliknąć aby wybrać nazwę komórki organizacyjnej",0]
[{"$f":"'baza nisk'!A1570","v":"W-055A"},{"$f":"'baza nisk'!B1570","v":"Wózek platformowy"},{"$f":"'baza nisk'!D1570","v":"POZOSTAŁE"},null,0,null,{"$f":"'baza nisk'!E1570","v":500},0,null,null,{"$f":"'baza nisk'!G1570","v":"Dział Zaopatrzenia i Zamówień Publicznych"},"","","proszę kliknąć aby wybrać nazwę komórki organizacyjnej",0]
[{"$f":"'baza nisk'!A1571","v":"W-055B"},{"$f":"'baza nisk'!B1571","v":"Wózek platformowy,systemowy z 1burtą siatkową 1"},{"$f":"'baza nisk'!D1571","v":"POZOSTAŁE"},null,0,null,{"$f":"'baza nisk'!E1571","v":500},0,null,null,{"$f":"'baza nisk'!G1571","v":"Blok Operacyjny"},"","","proszę kliknąć aby wybrać nazwę komórki organizacyjnej",0]
[{"$f":"'baza nisk'!A1572","v":"W-087A"},{"$f":"'baza nisk'!B1572","v":"Wanna do kontenera 1/1 wysokość 135mm JK442"},{"$f":"'baza nisk'!D1572","v":"NARZ. MEDYCZNE"},null,0,null,{"$f":"'baza nisk'!E1572","v":1000},0,null,null,{"$f":"'baza nisk'!G1572","v":"Dział Centralnej Sterylizatorni i DDD"},"","","proszę kliknąć aby wybrać nazwę komórki organizacyjnej",0]
[{"$f":"'baza nisk'!A1573","v":"W-091"},{"$f":"'baza nisk'!B1573","v":"Wózek anestezjologiczny 700x700x890"},{"$f":"'baza nisk'!D1573","v":"MEBLE MEDYCZNE"},null,0,null,{"$f":"'baza nisk'!E1573","v":2200},0,null,null,{"$f":"'baza nisk'!G1573","v":"Anestezjologia"},"","","proszę kliknąć aby wybrać nazwę komórki organizacyjnej",0]
[{"$f":"'baza nisk'!A1574","v":"W-092"},{"$f":"'baza nisk'!B1574","v":"Wózek do trasp./składowania koszy/ sterylizacyj"},{"$f":"'baza nisk'!D1574","v":"POZOSTAŁE"},null,0,null,{"$f":"'baza nisk'!E1574","v":1600},0,null,null,{"$f":"'baza nisk'!G1574","v":"Dział Centralnej Sterylizatorni i DDD"},"","","proszę kliknąć aby wybrać nazwę komórki organizacyjnej",0]
[{"$f":"'baza nisk'!A1575","v":"W-093"},{"$f":"'baza nisk'!B1575","v":"Wózek z blatem roboczym [2 półki]"},{"$f":"'baza nisk'!D1575","v":"POZOSTAŁE"},null,0,null,{"$f":"'baza nisk'!E1575","v":2700},0,null,null,{"$f":"'baza nisk'!G1575","v":"Dział Centralnej Sterylizatorni i DDD"},"","","proszę kliknąć aby wybrać nazwę komórki organizacyjnej",0]
[{"$f":"'baza nisk'!A1576","v":"W-095"},{"$f":"'baza nisk'!B1576","v":"Waga osobowa"},{"$f":"'baza nisk'!D1576","v":"POZOSTAŁE"},null,0,null,{"$f":"'baza nisk'!E1576","v":1300},0,null,null,{"$f":"'baza nisk'!G1576","v":"Oddział Kardiologiczny"},"","","proszę kliknąć aby wybrać nazwę komórki organizacyjnej",0]
[{"$f":"'baza nisk'!A1577","v":"W-095"},{"$f":"'baza nisk'!B1577","v":"Waga osobowa"},{"$f":"'baza nisk'!D1577","v":"POZOSTAŁE"},null,0,null,{"$f":"'baza nisk'!E1577","v":1300},0,null,null,{"$f":"'baza nisk'!G1577","v":"Oddział Pediatryczny z Pododdziałem Gastroenterologii "},"","","proszę kliknąć aby wybrać nazwę komórki organizacyjnej",0]
[{"$f":"'baza nisk'!A1578","v":"W-095"},{"$f":"'baza nisk'!B1578","v":"Waga osobowa"},{"$f":"'baza nisk'!D1578","v":"POZOSTAŁE"},null,0,null,{"$f":"'baza nisk'!E1578","v":1300},0,null,null,{"$f":"'baza nisk'!G1578","v":"Oddział Położniczo – Ginekologiczny"},"","","proszę kliknąć aby wybrać nazwę komórki organizacyjnej",0]
[{"$f":"'baza nisk'!A1579","v":"W-095A"},{"$f":"'baza nisk'!B1579","v":"Waga osobowa"},{"$f":"'baza nisk'!D1579","v":"POZOSTAŁE"},null,0,null,{"$f":"'baza nisk'!E1579","v":1300},0,null,null,{"$f":"'baza nisk'!G1579","v":"Oddział Okulistyczny"},"","","proszę kliknąć aby wybrać nazwę komórki organizacyjnej",0]
[{"$f":"'baza nisk'!A1580","v":"W-095B"},{"$f":"'baza nisk'!B1580","v":"Waga osobowa"},{"$f":"'baza nisk'!D1580","v":"POZOSTAŁE"},null,0,null,{"$f":"'baza nisk'!E1580","v":1300},0,null,null,{"$f":"'baza nisk'!G1580","v":"Oddział Pediatryczny z Pododdziałem Gastroenterologii "},"","","proszę kliknąć aby wybrać nazwę komórki organizacyjnej",0]
[{"$f":"'baza nisk'!A1581","v":"W-095B"},{"$f":"'baza nisk'!B1581","v":"Waga osobowa"},{"$f":"'baza nisk'!D1581","v":"POZOSTAŁE"},null,0,null,{"$f":"'baza nisk'!E1581","v":1300},0,null,null,{"$f":"'baza nisk'!G1581","v":"Poradnia Alergologiczna Dla Dzieci"},"","","proszę kliknąć aby wybrać nazwę komórki organizacyjnej",0]
[{"$f":"'baza nisk'!A1582","v":"W-096"},{"$f":"'baza nisk'!B1582","v":"Waga stołowa "},{"$f":"'baza nisk'!D1582","v":"POZOSTAŁE"},null,0,null,{"$f":"'baza nisk'!E1582","v":700},0,null,null,{"$f":"'baza nisk'!G1582","v":"Oddział Neonatologiczny z Pododdziałem Patologii Noworodka"},"","","proszę kliknąć aby wybrać nazwę komórki organizacyjnej",0]
[{"$f":"'baza nisk'!A1584","v":"W-097"},{"$f":"'baza nisk'!B1584","v":"Waga niemowlęca"},{"$f":"'baza nisk'!D1584","v":"POZOSTAŁE"},null,0,null,{"$f":"'baza nisk'!E1584","v":870},0,null,null,{"$f":"'baza nisk'!G1584","v":"Oddział Neonatologiczny z Pododdziałem Patologii Noworodka"},"","","proszę kliknąć aby wybrać nazwę komórki organizacyjnej",0]
[{"$f":"'baza nisk'!A1583","v":"W-097"},{"$f":"'baza nisk'!B1583","v":"Waga niemowlęca"},{"$f":"'baza nisk'!D1583","v":"POZOSTAŁE"},null,0,null,{"$f":"'baza nisk'!E1583","v":870},0,null,null,{"$f":"'baza nisk'!G1583","v":"Oddział Kardiologii Dziecięcej z Pododdziałem Kardiochirurgi"},"","","proszę kliknąć aby wybrać nazwę komórki organizacyjnej",0]
[{"$f":"'baza nisk'!A1585","v":"W-097"},{"$f":"'baza nisk'!B1585","v":"Waga niemowlęca"},{"$f":"'baza nisk'!D1585","v":"POZOSTAŁE"},null,0,null,{"$f":"'baza nisk'!E1585","v":870},0,null,null,{"$f":"'baza nisk'!G1585","v":"Oddział Pediatryczny z Pododdziałem Gastroenterologii "},"","","proszę kliknąć aby wybrać nazwę komórki organizacyjnej",0]
[{"$f":"'baza nisk'!A1586","v":"W-097A"},{"$f":"'baza nisk'!B1586","v":"Waga niemowlęca"},{"$f":"'baza nisk'!D1586","v":"POZOSTAŁE"},null,0,null,{"$f":"'baza nisk'!E1586","v":870},0,null,null,{"$f":"'baza nisk'!G1586","v":"Oddział Kardiologii Dziecięcej z Pododdziałem Kardiochirurgi"},"","","proszę kliknąć aby wybrać nazwę komórki organizacyjnej",0]
[{"$f":"'baza nisk'!A1587","v":"W-098"},{"$f":"'baza nisk'!B1587","v":"Wózek oddziałowy"},{"$f":"'baza nisk'!D1587","v":"POZOSTAŁE"},null,0,null,{"$f":"'baza nisk'!E1587","v":590.76},0,null,null,{"$f":"'baza nisk'!G1587","v":"Oddział Urologii i Urologii Onkologicznej"},"","","proszę kliknąć aby wybrać nazwę komórki organizacyjnej",0]
[{"$f":"'baza nisk'!A1588","v":"W-099"},{"$f":"'baza nisk'!B1588","v":"Wysięgnik z uchwtyem ręki  "},{"$f":"'baza nisk'!D1588","v":"POZOSTAŁE"},null,0,null,{"$f":"'baza nisk'!E1588","v":220},0,null,null,{"$f":"'baza nisk'!G1588","v":"Oddział Urologii i Urologii Onkologicznej"},"","","proszę kliknąć aby wybrać nazwę komórki organizacyjnej",0]
[{"$f":"'baza nisk'!A1589","v":"W-104"},{"$f":"'baza nisk'!B1589","v":"Wentylator stojący"},{"$f":"'baza nisk'!D1589","v":"SPRZĘT AGD"},null,0,null,{"$f":"'baza nisk'!E1589","v":120},0,null,null,{"$f":"'baza nisk'!G1589","v":"Dział Centralnej Sterylizatorni i DDD"},"","","proszę kliknąć aby wybrać nazwę komórki organizacyjnej",0]
[{"$f":"'baza nisk'!A1590","v":"W-109"},{"$f":"'baza nisk'!B1590","v":"Wózek opatrunkowy typ SK 6002"},{"$f":"'baza nisk'!D1590","v":"MEBLE MEDYCZNE"},null,0,null,{"$f":"'baza nisk'!E1590","v":3000},0,null,null,{"$f":"'baza nisk'!G1590","v":"Intensywna Terapia"},"","","proszę kliknąć aby wybrać nazwę komórki organizacyjnej",0]
[{"$f":"'baza nisk'!A1591","v":"W-110"},{"$f":"'baza nisk'!B1591","v":"Wyposażenie dodatkowe do wózka"},{"$f":"'baza nisk'!D1591","v":"POZOSTAŁE"},null,0,null,{"$f":"'baza nisk'!E1591","v":130},0,null,null,{"$f":"'baza nisk'!G1591","v":"Intensywna Terapia"},"","","proszę kliknąć aby wybrać nazwę komórki organizacyjnej",0]
[{"$f":"'baza nisk'!A1592","v":"W-115"},{"$f":"'baza nisk'!B1592","v":"Wózek do przewożenia zwłok ZTW"},{"$f":"'baza nisk'!D1592","v":"POZOSTAŁE"},null,0,null,{"$f":"'baza nisk'!E1592","v":3198},0,null,null,{"$f":"'baza nisk'!G1592","v":"Anestezjologia"},"","","proszę kliknąć aby wybrać nazwę komórki organizacyjnej",0]
[{"$f":"'baza nisk'!A1593","v":"W-118"},{"$f":"'baza nisk'!B1593","v":"Wideolaryngoskop MEDLUME LCD S/N 1883; SL S/N 3"},{"$f":"'baza nisk'!D1593","v":"MED. NISK. ŚR. TRW."},null,0,null,{"$f":"'baza nisk'!E1593","v":3229.2},0,null,null,{"$f":"'baza nisk'!G1593","v":"Anestezjologia"},"","","proszę kliknąć aby wybrać nazwę komórki organizacyjnej",0]
[{"$f":"'baza nisk'!A1594","v":"W-122"},{"$f":"'baza nisk'!B1594","v":"Wieszak listwowy naścienny ze stali nierdzewnej"},{"$f":"'baza nisk'!D1594","v":"MEBLE"},null,0,null,{"$f":"'baza nisk'!E1594","v":808},0,null,null,{"$f":"'baza nisk'!G1594","v":"Intensywna Terapia"},"","","proszę kliknąć aby wybrać nazwę komórki organizacyjnej",0]
[{"$f":"'baza nisk'!A1596","v":"W-124"},{"$f":"'baza nisk'!B1596","v":"Walizka reanimacyjna \"R\" W31"},{"$f":"'baza nisk'!D1596","v":"MED. NISK. ŚR. TRW."},null,0,null,{"$f":"'baza nisk'!E1596","v":1188},0,null,null,{"$f":"'baza nisk'!G1596","v":"Oddział Angiologiczny z Pododdziałem Diabetologii"},"","","proszę kliknąć aby wybrać nazwę komórki organizacyjnej",0]
[{"$f":"'baza nisk'!A1597","v":"W-124"},{"$f":"'baza nisk'!B1597","v":"Walizka reanimacyjna \"R\" W31"},{"$f":"'baza nisk'!D1597","v":"MED. NISK. ŚR. TRW."},null,0,null,{"$f":"'baza nisk'!E1597","v":1188},0,null,null,{"$f":"'baza nisk'!G1597","v":"Oddział Chemioterapii z Pododdziałem Chemioterapii Dziennej"},"","","proszę kliknąć aby wybrać nazwę komórki organizacyjnej",0]
[{"$f":"'baza nisk'!A1598","v":"W-124"},{"$f":"'baza nisk'!B1598","v":"Walizka reanimacyjna \"R\" W31"},{"$f":"'baza nisk'!D1598","v":"MED. NISK. ŚR. TRW."},null,0,null,{"$f":"'baza nisk'!E1598","v":1188},0,null,null,{"$f":"'baza nisk'!G1598","v":"Oddział Chirurgii Naczyniowej"},"","","proszę kliknąć aby wybrać nazwę komórki organizacyjnej",0]
[{"$f":"'baza nisk'!A1599","v":"W-124"},{"$f":"'baza nisk'!B1599","v":"Walizka reanimacyjna \"R\" W31"},{"$f":"'baza nisk'!D1599","v":"MED. NISK. ŚR. TRW."},null,0,null,{"$f":"'baza nisk'!E1599","v":1188},0,null,null,{"$f":"'baza nisk'!G1599","v":"Oddział Chirurgii Onkologicznej"},"","","proszę kliknąć aby wybrać nazwę komórki organizacyjnej",0]
[{"$f":"'baza nisk'!A1600","v":"W-124"},{"$f":"'baza nisk'!B1600","v":"Walizka reanimacyjna \"R\" W31"},{"$f":"'baza nisk'!D1600","v":"MED. NISK. ŚR. TRW."},null,0,null,{"$f":"'baza nisk'!E1600","v":1188},0,null,null,{"$f":"'baza nisk'!G1600","v":"Oddział Kardiologiczny"},"","","proszę kliknąć aby wybrać nazwę komórki organizacyjnej",0]
[{"$f":"'baza nisk'!A1602","v":"W-124"},{"$f":"'baza nisk'!B1602","v":"Walizka reanimacyjna \"R\" W31"},{"$f":"'baza nisk'!D1602","v":"MED. NISK. ŚR. TRW."},null,0,null,{"$f":"'baza nisk'!E1602","v":1188},0,null,null,{"$f":"'baza nisk'!G1602","v":"Oddział Nefrologiczny"},"","","proszę kliknąć aby wybrać nazwę komórki organizacyjnej",0]
[{"$f":"'baza nisk'!A1603","v":"W-124"},{"$f":"'baza nisk'!B1603","v":"Walizka reanimacyjna \"R\" W31"},{"$f":"'baza nisk'!D1603","v":"MED. NISK. ŚR. TRW."},null,0,null,{"$f":"'baza nisk'!E1603","v":1188},0,null,null,{"$f":"'baza nisk'!G1603","v":"Oddział Neonatologiczny z Pododdziałem Patologii Noworodka"},"","","proszę kliknąć aby wybrać nazwę komórki organizacyjnej",0]
[{"$f":"'baza nisk'!A1604","v":"W-124"},{"$f":"'baza nisk'!B1604","v":"Walizka reanimacyjna \"R\" W31"},{"$f":"'baza nisk'!D1604","v":"MED. NISK. ŚR. TRW."},null,0,null,{"$f":"'baza nisk'!E1604","v":1188},0,null,null,{"$f":"'baza nisk'!G1604","v":"Oddział Okulistyczny"},"","","proszę kliknąć aby wybrać nazwę komórki organizacyjnej",0]
[{"$f":"'baza nisk'!A1624","v":"W-124"},{"$f":"'baza nisk'!B1624","v":"Walizka reanimacyjna \"R\" W31"},{"$f":"'baza nisk'!D1624","v":"MED. NISK. ŚR. TRW."},null,0,null,{"$f":"'baza nisk'!E1624","v":1188},{"$f":"E1606*G1606","v":0},null,null,{"$f":"'baza nisk'!G1624","v":"Zamiejscowy Oddział Rehabilitacji Neurologicznej"},{"$f":"IF($B$2=K1606,$B$2,\"\")","v":""},{"$f":"IF($B$2=K1606,1,\"\")","v":""},{"$f":"$B$2","v":"proszę kliknąć aby wybrać nazwę komórki organizacyjnej"},{"$f":"$H$2","v":0}]
[{"$f":"'baza nisk'!A1601","v":"W-124"},{"$f":"'baza nisk'!B1601","v":"Walizka reanimacyjna \"R\" W31"},{"$f":"'baza nisk'!D1601","v":"MED. NISK. ŚR. TRW."},null,0,null,{"$f":"'baza nisk'!E1601","v":1188},0,null,null,{"$f":"'baza nisk'!G1601","v":"Oddział Kardiologii Dziecięcej z Pododdziałem Kardiochirurgi"},"","","proszę kliknąć aby wybrać nazwę komórki organizacyjnej",0]
[{"$f":"'baza nisk'!A1595","v":"W-124"},{"$f":"'baza nisk'!B1595","v":"Walizka reanimacyjna \"R\" W31"},{"$f":"'baza nisk'!D1595","v":"MED. NISK. ŚR. TRW."},null,0,null,{"$f":"'baza nisk'!E1595","v":1188},0,null,null,{"$f":"'baza nisk'!G1595","v":"DODO -Pracownia Diagnostyczno - Zabiegowa Naczyń"},"","","proszę kliknąć aby wybrać nazwę komórki organizacyjnej",0]
[{"$f":"'baza nisk'!A1626","v":"W-124"},{"$f":"'baza nisk'!B1626","v":"Walizka reanimacyjna \"R\" W31"},{"$f":"'baza nisk'!D1626","v":"MED. NISK. ŚR. TRW."},null,0,null,{"$f":"'baza nisk'!E1626","v":1188},0,null,null,{"$f":"'baza nisk'!G1626","v":"Zamiejscowy Oddział Rehabilitacji Ogólnoustrojowej II"},"","","proszę kliknąć aby wybrać nazwę komórki organizacyjnej",0]
[{"$f":"'baza nisk'!A1605","v":"W-124"},{"$f":"'baza nisk'!B1605","v":"Walizka reanimacyjna \"R\" W31"},{"$f":"'baza nisk'!D1605","v":"MED. NISK. ŚR. TRW."},null,0,null,{"$f":"'baza nisk'!E1605","v":1188},0,null,null,{"$f":"'baza nisk'!G1605","v":"Oddział Otolaryngologiczny z Pododdziałem Otolaryngologii"},"","","proszę kliknąć aby wybrać nazwę komórki organizacyjnej",0]
[{"$f":"'baza nisk'!A1606","v":"W-124"},{"$f":"'baza nisk'!B1606","v":"Walizka reanimacyjna \"R\" W31"},{"$f":"'baza nisk'!D1606","v":"MED. NISK. ŚR. TRW."},null,0,null,{"$f":"'baza nisk'!E1606","v":1188},0,null,null,{"$f":"'baza nisk'!G1606","v":"Oddział Pediatryczny z Pododdziałem Gastroenterologii "},"","","proszę kliknąć aby wybrać nazwę komórki organizacyjnej",0]
[{"$f":"'baza nisk'!A1608","v":"W-124"},{"$f":"'baza nisk'!B1608","v":"Walizka reanimacyjna \"R\" W31"},{"$f":"'baza nisk'!D1608","v":"MED. NISK. ŚR. TRW."},null,0,null,{"$f":"'baza nisk'!E1608","v":1188},0,null,null,{"$f":"'baza nisk'!G1608","v":"Oddział Urologii i Urologii Onkologicznej"},"","","proszę kliknąć aby wybrać nazwę komórki organizacyjnej",0]
[{"$f":"'baza nisk'!A1609","v":"W-124"},{"$f":"'baza nisk'!B1609","v":"Walizka reanimacyjna \"R\" W31"},{"$f":"'baza nisk'!D1609","v":"MED. NISK. ŚR. TRW."},null,0,null,{"$f":"'baza nisk'!E1609","v":1188},0,null,null,{"$f":"'baza nisk'!G1609","v":"Poradnia Angiologiczna"},"","","proszę kliknąć aby wybrać nazwę komórki organizacyjnej",0]
[{"$f":"'baza nisk'!A1607","v":"W-124"},{"$f":"'baza nisk'!B1607","v":"Walizka reanimacyjna \"R\" W31"},{"$f":"'baza nisk'!D1607","v":"MED. NISK. ŚR. TRW."},null,0,null,{"$f":"'baza nisk'!E1607","v":1188},0,null,null,{"$f":"'baza nisk'!G1607","v":"Oddział Położniczo – Ginekologiczny"},"","","proszę kliknąć aby wybrać nazwę komórki organizacyjnej",0]
[{"$f":"'baza nisk'!A1610","v":"W-124"},{"$f":"'baza nisk'!B1610","v":"Walizka reanimacyjna \"R\" W31"},{"$f":"'baza nisk'!D1610","v":"MED. NISK. ŚR. TRW."},null,0,null,{"$f":"'baza nisk'!E1610","v":1188},0,null,null,{"$f":"'baza nisk'!G1610","v":"Poradnia Chirurgii Ogólnej"},"","","proszę kliknąć aby wybrać nazwę komórki organizacyjnej",0]
[{"$f":"'baza nisk'!A1611","v":"W-124"},{"$f":"'baza nisk'!B1611","v":"Walizka reanimacyjna \"R\" W31"},{"$f":"'baza nisk'!D1611","v":"MED. NISK. ŚR. TRW."},null,0,null,{"$f":"'baza nisk'!E1611","v":1188},0,null,null,{"$f":"'baza nisk'!G1611","v":"Poradnia Chirurgii Onkologicznej"},"","","proszę kliknąć aby wybrać nazwę komórki organizacyjnej",0]
[{"$f":"'baza nisk'!A1612","v":"W-124"},{"$f":"'baza nisk'!B1612","v":"Walizka reanimacyjna \"R\" W31"},{"$f":"'baza nisk'!D1612","v":"MED. NISK. ŚR. TRW."},null,0,null,{"$f":"'baza nisk'!E1612","v":1188},0,null,null,{"$f":"'baza nisk'!G1612","v":"Poradnia Dermatologiczna"},"","","proszę kliknąć aby wybrać nazwę komórki organizacyjnej",0]
[{"$f":"'baza nisk'!A1613","v":"W-124"},{"$f":"'baza nisk'!B1613","v":"Walizka reanimacyjna \"R\" W31"},{"$f":"'baza nisk'!D1613","v":"MED. NISK. ŚR. TRW."},null,0,null,{"$f":"'baza nisk'!E1613","v":1188},0,null,null,{"$f":"'baza nisk'!G1613","v":"Poradnia Kardiologiczna dla Dzieci"},"","","proszę kliknąć aby wybrać nazwę komórki organizacyjnej",0]
[{"$f":"'baza nisk'!A1614","v":"W-124"},{"$f":"'baza nisk'!B1614","v":"Walizka reanimacyjna \"R\" W31"},{"$f":"'baza nisk'!D1614","v":"MED. NISK. ŚR. TRW."},null,0,null,{"$f":"'baza nisk'!E1614","v":1188},0,null,null,{"$f":"'baza nisk'!G1614","v":"Poradnia Nefrologiczna"},"","","proszę kliknąć aby wybrać nazwę komórki organizacyjnej",0]
[{"$f":"'baza nisk'!A1615","v":"W-124"},{"$f":"'baza nisk'!B1615","v":"Walizka reanimacyjna \"R\" W31"},{"$f":"'baza nisk'!D1615","v":"MED. NISK. ŚR. TRW."},null,0,null,{"$f":"'baza nisk'!E1615","v":1188},0,null,null,{"$f":"'baza nisk'!G1615","v":"Poradnia Neurochirurgiczna"},"","","proszę kliknąć aby wybrać nazwę komórki organizacyjnej",0]
[{"$f":"'baza nisk'!A1616","v":"W-124"},{"$f":"'baza nisk'!B1616","v":"Walizka reanimacyjna \"R\" W31"},{"$f":"'baza nisk'!D1616","v":"MED. NISK. ŚR. TRW."},null,0,null,{"$f":"'baza nisk'!E1616","v":1188},0,null,null,{"$f":"'baza nisk'!G1616","v":"Poradnia Neurologiczna"},"","","proszę kliknąć aby wybrać nazwę komórki organizacyjnej",0]
[{"$f":"'baza nisk'!A1617","v":"W-124"},{"$f":"'baza nisk'!B1617","v":"Walizka reanimacyjna \"R\" W31"},{"$f":"'baza nisk'!D1617","v":"MED. NISK. ŚR. TRW."},null,0,null,{"$f":"'baza nisk'!E1617","v":1188},0,null,null,{"$f":"'baza nisk'!G1617","v":"Poradnia Okulistyczna"},"","","proszę kliknąć aby wybrać nazwę komórki organizacyjnej",0]
[{"$f":"'baza nisk'!A1618","v":"W-124"},{"$f":"'baza nisk'!B1618","v":"Walizka reanimacyjna \"R\" W31"},{"$f":"'baza nisk'!D1618","v":"MED. NISK. ŚR. TRW."},null,0,null,{"$f":"'baza nisk'!E1618","v":1188},0,null,null,{"$f":"'baza nisk'!G1618","v":"Poradnia Urologiczna"},"","","proszę kliknąć aby wybrać nazwę komórki organizacyjnej",0]
[{"$f":"'baza nisk'!A1619","v":"W-124"},{"$f":"'baza nisk'!B1619","v":"Walizka reanimacyjna \"R\" W31"},{"$f":"'baza nisk'!D1619","v":"MED. NISK. ŚR. TRW."},null,0,null,{"$f":"'baza nisk'!E1619","v":1188},0,null,null,{"$f":"'baza nisk'!G1619","v":"Pracownia Endoskopii"},"","","proszę kliknąć aby wybrać nazwę komórki organizacyjnej",0]
[{"$f":"'baza nisk'!A1620","v":"W-124"},{"$f":"'baza nisk'!B1620","v":"Walizka reanimacyjna \"R\" W31"},{"$f":"'baza nisk'!D1620","v":"MED. NISK. ŚR. TRW."},null,0,null,{"$f":"'baza nisk'!E1620","v":1188},0,null,null,{"$f":"'baza nisk'!G1620","v":"SOR"},"","","proszę kliknąć aby wybrać nazwę komórki organizacyjnej",0]
[{"$f":"'baza nisk'!A1621","v":"W-124"},{"$f":"'baza nisk'!B1621","v":"Walizka reanimacyjna \"R\" W31"},{"$f":"'baza nisk'!D1621","v":"MED. NISK. ŚR. TRW."},null,0,null,{"$f":"'baza nisk'!E1621","v":1188},0,null,null,{"$f":"'baza nisk'!G1621","v":"Stacja Dializ"},"","","proszę kliknąć aby wybrać nazwę komórki organizacyjnej",0]
[{"$f":"'baza nisk'!A1622","v":"W-124"},{"$f":"'baza nisk'!B1622","v":"Walizka reanimacyjna \"R\" W31"},{"$f":"'baza nisk'!D1622","v":"MED. NISK. ŚR. TRW."},null,0,null,{"$f":"'baza nisk'!E1622","v":1188},0,null,null,{"$f":"'baza nisk'!G1622","v":"Zamiejscowy Blok Operacyjny"},"","","proszę kliknąć aby wybrać nazwę komórki organizacyjnej",0]
[{"$f":"'baza nisk'!A1623","v":"W-124"},{"$f":"'baza nisk'!B1623","v":"Walizka reanimacyjna \"R\" W31"},{"$f":"'baza nisk'!D1623","v":"MED. NISK. ŚR. TRW."},null,0,null,{"$f":"'baza nisk'!E1623","v":1188},0,null,null,{"$f":"'baza nisk'!G1623","v":"Zamiejscowy Oddział Chirurgii Urazowo - Ortopedycznej"},"","","proszę kliknąć aby wybrać nazwę komórki organizacyjnej",0]
[{"$f":"'baza nisk'!A1625","v":"W-124"},{"$f":"'baza nisk'!B1625","v":"Walizka reanimacyjna \"R\" W31"},{"$f":"'baza nisk'!D1625","v":"MED. NISK. ŚR. TRW."},null,0,null,{"$f":"'baza nisk'!E1625","v":1188},0,null,null,{"$f":"'baza nisk'!G1625","v":"Zamiejscowy Oddział Rehabilitacji Ogólnoustrojowej I"},"","","proszę kliknąć aby wybrać nazwę komórki organizacyjnej",0]
[{"$f":"'baza nisk'!A1627","v":"W-133"},{"$f":"'baza nisk'!B1627","v":"Wózek na leki"},{"$f":"'baza nisk'!D1627","v":"MEBLE MEDYCZNE"},null,0,null,{"$f":"'baza nisk'!E1627","v":700},0,null,null,{"$f":"'baza nisk'!G1627","v":"Oddział Kardiologiczny"},"","","proszę kliknąć aby wybrać nazwę komórki organizacyjnej",0]
[{"$f":"'baza nisk'!A1629","v":"W-134"},{"$f":"'baza nisk'!B1629","v":"Wózek na walizkę reanimacyjną"},{"$f":"'baza nisk'!D1629","v":"MEBLE MEDYCZNE"},null,0,null,{"$f":"'baza nisk'!E1629","v":404},0,null,null,{"$f":"'baza nisk'!G1629","v":"Oddział Urologii i Urologii Onkologicznej"},"","","proszę kliknąć aby wybrać nazwę komórki organizacyjnej",0]
[{"$f":"'baza nisk'!A1628","v":"W-134"},{"$f":"'baza nisk'!B1628","v":"Wózek na walizkę reanimacyjną"},{"$f":"'baza nisk'!D1628","v":"MEBLE MEDYCZNE"},null,0,null,{"$f":"'baza nisk'!E1628","v":404},0,null,null,{"$f":"'baza nisk'!G1628","v":"Oddział Kardiologiczny"},"","","proszę kliknąć aby wybrać nazwę komórki organizacyjnej",0]
[{"$f":"'baza nisk'!A1630","v":"W-134"},{"$f":"'baza nisk'!B1630","v":"Wózek na walizkę reanimacyjną"},{"$f":"'baza nisk'!D1630","v":"MEBLE MEDYCZNE"},null,0,null,{"$f":"'baza nisk'!E1630","v":404},0,null,null,{"$f":"'baza nisk'!G1630","v":"Stacja Dializ"},"","","proszę kliknąć aby wybrać nazwę komórki organizacyjnej",0]
[{"$f":"'baza nisk'!A1631","v":"W-198"},{"$f":"'baza nisk'!B1631","v":"Wózek medyczny-SCH03"},{"$f":"'baza nisk'!D1631","v":"MED. NISK. ŚR. TRW."},null,0,null,{"$f":"'baza nisk'!E1631","v":934.8},0,null,null,{"$f":"'baza nisk'!G1631","v":"Zamiejscowy Oddział Chirurgii Urazowo - Ortopedycznej"},"","","proszę kliknąć aby wybrać nazwę komórki organizacyjnej",0]
[{"$f":"'baza nisk'!A1632","v":"W-199A"},{"$f":"'baza nisk'!B1632","v":"Waga kuchenna  WK280S inox"},{"$f":"'baza nisk'!D1632","v":"SPRZĘT AGD"},null,0,null,{"$f":"'baza nisk'!E1632","v":700},0,null,null,{"$f":"'baza nisk'!G1632","v":"Oddział Kardiologii Dziecięcej z Pododdziałem Kardiochirurgi"},"","","proszę kliknąć aby wybrać nazwę komórki organizacyjnej",0]
[{"$f":"'baza nisk'!A1633","v":"W-199B"},{"$f":"'baza nisk'!B1633","v":"Waga elektroniczna SECA 799 ze wzrostomierzem S"},{"$f":"'baza nisk'!D1633","v":"POZOSTAŁE"},null,0,null,{"$f":"'baza nisk'!E1633","v":700},0,null,null,{"$f":"'baza nisk'!G1633","v":"Oddział Kardiologii Dziecięcej z Pododdziałem Kardiochirurgi"},"","","proszę kliknąć aby wybrać nazwę komórki organizacyjnej",0]
[{"$f":"'baza nisk'!A1634","v":"W-203"},{"$f":"'baza nisk'!B1634","v":"Wieszak z lustrem 60X107X200"},{"$f":"'baza nisk'!D1634","v":"MEBLE"},null,0,null,{"$f":"'baza nisk'!E1634","v":100},0,null,null,{"$f":"'baza nisk'!G1634","v":"Hotel Pracowniczy"},"","","proszę kliknąć aby wybrać nazwę komórki organizacyjnej",0]
[{"$f":"'baza nisk'!A1635","v":"W-203"},{"$f":"'baza nisk'!B1635","v":"Wieszak z lustrem 60X107X200"},{"$f":"'baza nisk'!D1635","v":"MEBLE"},null,0,null,{"$f":"'baza nisk'!E1635","v":100},0,null,null,{"$f":"'baza nisk'!G1635","v":"Stacja Dializ"},"","","proszę kliknąć aby wybrać nazwę komórki organizacyjnej",0]
[{"$f":"'baza nisk'!A1636","v":"W-203A"},{"$f":"'baza nisk'!B1636","v":"Wieszak z lustrem 60X108X200 \"GRZEŚ\"- Jabłoń"},{"$f":"'baza nisk'!D1636","v":"MEBLE"},null,0,null,{"$f":"'baza nisk'!E1636","v":100},0,null,null,{"$f":"'baza nisk'!G1636","v":"Hotel Pracowniczy"},"","","proszę kliknąć aby wybrać nazwę komórki organizacyjnej",0]
[{"$f":"'baza nisk'!A1637","v":"Z-048B"},{"$f":"'baza nisk'!B1637","v":"Zacisk Buldog DIEFFENBACH zakrz.58mm BH027R"},{"$f":"'baza nisk'!D1637","v":"NARZ. MEDYCZNE"},null,0,null,{"$f":"'baza nisk'!E1637","v":90},0,null,null,{"$f":"'baza nisk'!G1637","v":"Blok Operacyjny"},"","","proszę kliknąć aby wybrać nazwę komórki organizacyjnej",0]
[{"$f":"'baza nisk'!A1638","v":"Z-048C"},{"$f":"'baza nisk'!B1638","v":"Zacisk Buldog DIEFFENBACH prosty.58mm BH026R"},{"$f":"'baza nisk'!D1638","v":"NARZ. MEDYCZNE"},null,0,null,{"$f":"'baza nisk'!E1638","v":90},0,null,null,{"$f":"'baza nisk'!G1638","v":"Blok Operacyjny"},"","","proszę kliknąć aby wybrać nazwę komórki organizacyjnej",0]
[{"$f":"'baza nisk'!A1639","v":"Z-050"},{"$f":"'baza nisk'!B1639","v":"Zasilacz UPS PowerSine SP 1500"},{"$f":"'baza nisk'!D1639","v":"MED. NISK. ŚR. TRW."},null,0,null,{"$f":"'baza nisk'!E1639","v":1476},0,null,null,{"$f":"'baza nisk'!G1639","v":"Oddział Okulistyczny"},"","","proszę kliknąć aby wybrać nazwę komórki organizacyjnej",0]
[{"$f":"'baza nisk'!A1640","v":"Z-051A"},{"$f":"'baza nisk'!B1640","v":"Zabudowa wnęki 144X29X278h"},{"$f":"'baza nisk'!D1640","v":"MEBLE"},null,0,null,{"$f":"'baza nisk'!E1640","v":725.7},0,null,null,{"$f":"'baza nisk'!G1640","v":"SOR"},"","","proszę kliknąć aby wybrać nazwę komórki organizacyjnej",0]
[{"$f":"'baza nisk'!A1641","v":"Z-051B"},{"$f":"'baza nisk'!B1641","v":"Zabudowa pod zlew"},{"$f":"'baza nisk'!D1641","v":"MEBLE"},null,0,null,{"$f":"'baza nisk'!E1641","v":725.7},0,null,null,{"$f":"'baza nisk'!G1641","v":"Oddział Kardiologii Dziecięcej z Pododdziałem Kardiochirurgi"},"","","proszę kliknąć aby wybrać nazwę komórki organizacyjnej",0]
[{"$f":"'baza nisk'!A1642","v":"Z-051C"},{"$f":"'baza nisk'!B1642","v":"Zabudowa pod zlew"},{"$f":"'baza nisk'!D1642","v":"MEBLE"},null,0,null,{"$f":"'baza nisk'!E1642","v":725.7},0,null,null,{"$f":"'baza nisk'!G1642","v":"Oddział Kardiologii Dziecięcej z Pododdziałem Kardiochirurgi"},"","","proszę kliknąć aby wybrać nazwę komórki organizacyjnej",0]
[{"$f":"'baza nisk'!A1643","v":"Z-057A"},{"$f":"'baza nisk'!B1643","v":"Zacisk  Buldog Johns-Hopkins 38mm BH011R"},{"$f":"'baza nisk'!D1643","v":"NARZ. MEDYCZNE"},null,0,null,{"$f":"'baza nisk'!E1643","v":60},0,null,null,{"$f":"'baza nisk'!G1643","v":"Blok Operacyjny"},"","","proszę kliknąć aby wybrać nazwę komórki organizacyjnej",0]
[{"$f":"'baza nisk'!A1644","v":"Z-057C"},{"$f":"'baza nisk'!B1644","v":"Zacisk  Buldog DE'BAKEY atr.proste 30/90mm   FB"},{"$f":"'baza nisk'!D1644","v":"NARZ. MEDYCZNE"},null,0,null,{"$f":"'baza nisk'!E1644","v":60},0,null,null,{"$f":"'baza nisk'!G1644","v":"Blok Operacyjny"},"","","proszę kliknąć aby wybrać nazwę komórki organizacyjnej",0]
[{"$f":"'baza nisk'!A1645","v":"Z-057E"},{"$f":"'baza nisk'!B1645","v":"Zacisk  Buldog DE'BAKEY atr.zakrzyw. 25/80mm"},{"$f":"'baza nisk'!D1645","v":"NARZ. MEDYCZNE"},null,0,null,{"$f":"'baza nisk'!E1645","v":60},0,null,null,{"$f":"'baza nisk'!G1645","v":"Blok Operacyjny"},"","","proszę kliknąć aby wybrać nazwę komórki organizacyjnej",0]
[{"$f":"'baza nisk'!A1646","v":"Z-057F"},{"$f":"'baza nisk'!B1646","v":"Zacisk  Buldog DE'BAKEY atr.zakrzyw. 30/90mm"},{"$f":"'baza nisk'!D1646","v":"NARZ. MEDYCZNE"},null,0,null,{"$f":"'baza nisk'!E1646","v":60},0,null,null,{"$f":"'baza nisk'!G1646","v":"Blok Operacyjny"},"","","proszę kliknąć aby wybrać nazwę komórki organizacyjnej",0]
[{"$f":"'baza nisk'!A1647","v":"Z-057G"},{"$f":"'baza nisk'!B1647","v":"Zacisk  Buldog DE'BAKEY-HESS odg.20mm BH030R"},{"$f":"'baza nisk'!D1647","v":"NARZ. MEDYCZNE"},null,0,null,{"$f":"'baza nisk'!E1647","v":60},0,null,null,{"$f":"'baza nisk'!G1647","v":"Blok Operacyjny"},"","","proszę kliknąć aby wybrać nazwę komórki organizacyjnej",0]
[{"$f":"'baza nisk'!A1648","v":"Z-057I"},{"$f":"'baza nisk'!B1648","v":"Zacisk  Buldog JOHNS-HOPKINS 56mm BH013R"},{"$f":"'baza nisk'!D1648","v":"NARZ. MEDYCZNE"},null,0,null,{"$f":"'baza nisk'!E1648","v":60},0,null,null,{"$f":"'baza nisk'!G1648","v":"Blok Operacyjny"},"","","proszę kliknąć aby wybrać nazwę komórki organizacyjnej",0]
[{"$f":"'baza nisk'!A1649","v":"Z-066"},{"$f":"'baza nisk'!B1649","v":"Zbieracz brudnej bielizny-potrójny model MS365"},{"$f":"'baza nisk'!D1649","v":"POZOSTAŁE"},null,0,null,{"$f":"'baza nisk'!E1649","v":2300},0,null,null,{"$f":"'baza nisk'!G1649","v":"Blok Operacyjny"},"","","proszę kliknąć aby wybrać nazwę komórki organizacyjnej",0]
[{"$f":"'baza nisk'!A1650","v":"Z-079"},{"$f":"'baza nisk'!B1650","v":"Zestaw pozycjonerów pacjenta [skóropodobny] 11s"},{"$f":"'baza nisk'!D1650","v":"MATERIAŁY DO REHABILITACJI"},null,0,null,{"$f":"'baza nisk'!E1650","v":1600},0,null,null,{"$f":"'baza nisk'!G1650","v":"DODO -Pracownia RTG"},"","","proszę kliknąć aby wybrać nazwę komórki organizacyjnej",0]
[{"$f":"'baza nisk'!A1651","v":"Z-116"},{"$f":"'baza nisk'!B1651","v":"Zestaw głośnomówiący HF 210 SAM NOKIA"},{"$f":"'baza nisk'!D1651","v":"POZOSTAŁE"},null,0,null,{"$f":"'baza nisk'!E1651","v":140},0,null,null,{"$f":"'baza nisk'!G1651","v":"Dział Zaopatrzenia i Zamówień Publicznych"},"","","proszę kliknąć aby wybrać nazwę komórki organizacyjnej",0]
[{"$f":"'baza nisk'!A1652","v":"Z-118"},{"$f":"'baza nisk'!B1652","v":"Zestaw ratunkowy CPAP Boussignac w walizce [DIN"},{"$f":"'baza nisk'!D1652","v":"MED. NISK. ŚR. TRW."},null,0,null,{"$f":"'baza nisk'!E1652","v":1700},0,null,null,{"$f":"'baza nisk'!G1652","v":"Oddział Kardiologiczny"},"","","proszę kliknąć aby wybrać nazwę komórki organizacyjnej",0]
[{"$f":"'baza nisk'!A1653","v":"Z-121"},{"$f":"'baza nisk'!B1653","v":"Zacisk opatrunkowy do papier.opatrunkow. 115mm"},{"$f":"'baza nisk'!D1653","v":"NARZ. MEDYCZNE"},null,0,null,{"$f":"'baza nisk'!E1653","v":136},0,null,null,{"$f":"'baza nisk'!G1653","v":"Blok Operacyjny"},"","","proszę kliknąć aby wybrać nazwę komórki organizacyjnej",0]
[{"$f":"'baza nisk'!A1654","v":"Z-122"},{"$f":"'baza nisk'!B1654","v":"Zacisk opatrunkowy BACKHAUS 110mm BF432R"},{"$f":"'baza nisk'!D1654","v":"NARZ. MEDYCZNE"},null,0,null,{"$f":"'baza nisk'!E1654","v":100},0,null,null,{"$f":"'baza nisk'!G1654","v":"Blok Operacyjny"},"","","proszę kliknąć aby wybrać nazwę komórki organizacyjnej",0]
[{"$f":"'baza nisk'!A1655","v":"Z-122A"},{"$f":"'baza nisk'!B1655","v":"Zacisk opatrunkowy BACKHAUS 90mm BF431R"},{"$f":"'baza nisk'!D1655","v":"NARZ. MEDYCZNE"},null,0,null,{"$f":"'baza nisk'!E1655","v":100},0,null,null,{"$f":"'baza nisk'!G1655","v":"Blok Operacyjny"},"","","proszę kliknąć aby wybrać nazwę komórki organizacyjnej",0]
[{"$f":"'baza nisk'!A1656","v":"Z-122B"},{"$f":"'baza nisk'!B1656","v":"Zacisk opatrunkowy BACKHAUS 135mm BF433R"},{"$f":"'baza nisk'!D1656","v":"NARZ. MEDYCZNE"},null,0,null,{"$f":"'baza nisk'!E1656","v":100},0,null,null,{"$f":"'baza nisk'!G1656","v":"Blok Operacyjny"},"","","proszę kliknąć aby wybrać nazwę komórki organizacyjnej",0]
[{"$f":"'baza nisk'!A1657","v":"Z-123"},{"$f":"'baza nisk'!B1657","v":"Zacisk naczyniowy atraumatyczny COOLEY 175mm FB"},{"$f":"'baza nisk'!D1657","v":"NARZ. MEDYCZNE"},null,0,null,{"$f":"'baza nisk'!E1657","v":870},0,null,null,{"$f":"'baza nisk'!G1657","v":"Blok Operacyjny"},"","","proszę kliknąć aby wybrać nazwę komórki organizacyjnej",0]
[{"$f":"'baza nisk'!A1658","v":"Z-124"},{"$f":"'baza nisk'!B1658","v":"Zacisk nerkowy STILLE 220mm WZ.AMER. EF016R"},{"$f":"'baza nisk'!D1658","v":"NARZ. MEDYCZNE"},null,0,null,{"$f":"'baza nisk'!E1658","v":560},0,null,null,{"$f":"'baza nisk'!G1658","v":"Blok Operacyjny"},"","","proszę kliknąć aby wybrać nazwę komórki organizacyjnej",0]
[{"$f":"'baza nisk'!A1659","v":"Z-126"},{"$f":"'baza nisk'!B1659","v":"Zacisk atraumatyczny obwodu naczyniowego DE'BAK"},{"$f":"'baza nisk'!D1659","v":"NARZ. MEDYCZNE"},null,0,null,{"$f":"'baza nisk'!E1659","v":730},0,null,null,{"$f":"'baza nisk'!G1659","v":"Blok Operacyjny"},"","","proszę kliknąć aby wybrać nazwę komórki organizacyjnej",0]
[{"$f":"'baza nisk'!A1660","v":"Z-129"},{"$f":"'baza nisk'!B1660","v":"Zestaw resuscytacyjny dla dzieci AERObag HBBO5-"},{"$f":"'baza nisk'!D1660","v":"MED. NISK. ŚR. TRW."},null,0,null,{"$f":"'baza nisk'!E1660","v":320},0,null,null,{"$f":"'baza nisk'!G1660","v":"Oddział Neonatologiczny z Pododdziałem Patologii Noworodka"},"","","proszę kliknąć aby wybrać nazwę komórki organizacyjnej",0]
[{"$f":"'baza nisk'!A1661","v":"Z-131"},{"$f":"'baza nisk'!B1661","v":"Zamrażarka,196 -Severin KS 9799"},{"$f":"'baza nisk'!D1661","v":"SPRZĘT AGD"},null,0,null,{"$f":"'baza nisk'!E1661","v":1499},0,null,null,{"$f":"'baza nisk'!G1661","v":"Blok Operacyjny"},"","","proszę kliknąć aby wybrać nazwę komórki organizacyjnej",0]
[{"$f":"'baza nisk'!A1662","v":"Ż-014"},{"$f":"'baza nisk'!B1662","v":"Żelazko z nawilżaczem"},{"$f":"'baza nisk'!D1662","v":"SPRZĘT AGD"},null,0,null,{"$f":"'baza nisk'!E1662","v":339},0,null,null,{"$f":"'baza nisk'!G1662","v":"SekcjaGospodarcza i Obsługa (cześć wspólna)"},"","","proszę kliknąć aby wybrać nazwę komórki organizacyjnej",0]

{"sheet":"Inne materiały","index":4,"n_rows":215,"n_cols":12,"rows_kept":215,"cut":false,"hidden":true,"merged":[[215,8,215,10],[216,8,216,10],[1,1,1,4],[3,0,3,10],[217,8,217,10],[218,8,218,10],[219,8,219,10],[220,8,220,10],[221,8,221,10],[222,8,222,10],[223,8,223,10],[224,8,224,10],[225,8,225,10],[226,8,226,10],[227,8,227,10],[228,8,228,10],[229,8,229,10],[230,8,230,10],[231,8,231,10],[232,8,232,10],[233,8,233,10],[234,8,234,10],[235,8,235,10],[236,8,236,10],[237,8,237,10],[238,8,238,10],[239,8,239,10],[240,8,240,10],[241,8,241,10],[242,8,242,10],[243,8,243,10],[244,8,244,10],[245,8,245,10],[246,8,246,10],[247,8,247,10],[248,8,248,10],[249,8,249,10],[250,8,250,10],[251,8,251,10],[252,8,252,10],[253,8,253,10],[254,8,254,10],[255,8,255,10],[256,8,256,10],[257,8,257,10],[258,8,258,10],[259,8,259,10],[260,8,260,10],[261,8,261,10],[262,8,262,10],[263,8,263,10],[264,8,264,10],[265,8,265,10],[266,8,266,10],[267,8,267,10],[268,8,268,10],[269,8,269,10],[270,8,270,10],[271,8,271,10],[272,8,272,10],[273,8,273,10],[274,8,274,10],[275,8,275,10],[276,8,276,10],[277,8,277,10],[278,8,278,10],[279,8,279,10],[280,8,280,10],[281,8,281,10],[282,8,282,10],[283,8,283,10],[284,8,284,10],[285,8,285,10],[286,8,286,10],[287,8,287,10],[288,8,288,10],[289,8,289,10],[290,8,290,10],[291,8,291,10],[292,8,292,10],[293,8,293,10],[294,8,294,10],[295,8,295,10],[296,8,296,10],[297,8,297,10],[298,8,298,10],[299,8,299,10],[300,8,300,10],[301,8,301,10],[302,8,302,10],[303,8,303,10],[304,8,304,10],[305,8,305,10],[306,8,306,10],[307,8,307,10],[308,8,308,10],[309,8,309,10],[310,8,310,10],[311,8,311,10],[312,8,312,10],[313,8,313,10],[314,8,314,10],[315,8,315,10],[316,8,316,10],[317,8,317,10],[318,8,318,10],[319,8,319,10],[320,8,320,10],[321,8,321,10],[322,8,322,10],[323,8,323,10],[324,8,324,10],[325,8,325,10],[326,8,326,10],[327,8,327,10],[328,8,328,10],[329,8,329,10],[330,8,330,10],[331,8,331,10],[332,8,332,10],[333,8,333,10],[334,8,334,10],[335,8,335,10],[336,8,336,10],[337,8,337,10],[338,8,338,10],[339,8,339,10],[340,8,340,10],[341,8,341,10],[342,8,342,10],[343,8,343,10],[344,8,344,10],[345,8,345,10],[346,8,346,10],[347,8,347,10],[348,8,348,10],[349,8,349,10],[350,8,350,10],[351,8,351,10],[352,8,352,10],[353,8,353,10],[354,8,354,10],[355,8,355,10],[356,8,356,10],[357,8,357,10],[358,8,358,10],[359,8,359,10],[360,8,360,10],[361,8,361,10],[362,8,362,10],[363,8,363,10],[364,8,364,10],[365,8,365,10],[366,8,366,10],[367,8,367,10],[368,8,368,10],[369,8,369,10],[370,8,370,10],[371,8,371,10],[372,8,372,10],[373,8,373,10],[374,8,374,10],[375,8,375,10],[376,8,376,10],[377,8,377,10],[378,8,378,10],[379,8,379,10],[380,8,380,10],[381,8,381,10],[382,8,382,10],[383,8,383,10],[384,8,384,10],[385,8,385,10],[386,8,386,10],[387,8,387,10],[388,8,388,10],[389,8,389,10],[390,8,390,10],[391,8,391,10],[392,8,392,10],[393,8,393,10],[394,8,394,10],[395,8,395,10],[396,8,396,10],[397,8,397,10],[398,8,398,10],[399,8,399,10],[400,8,400,10],[401,8,401,10],[402,8,402,10],[403,8,403,10],[404,8,404,10],[405,8,405,10],[406,8,406,10],[407,8,407,10],[408,8,408,10],[409,8,409,10],[410,8,410,10],[411,8,411,10],[412,8,412,10],[413,8,413,10],[414,8,414,10],[415,8,415,10],[416,8,416,10],[417,8,417,10],[418,8,418,10],[419,8,419,10],[420,8,420,10],[421,8,421,10],[422,8,422,10],[423,8,423,10],[424,8,424,10],[425,8,425,10],[426,8,426,10],[427,8,427,10],[428,8,428,10],[429,8,429,10],[430,8,430,10],[431,8,431,10],[432,8,432,10],[433,8,433,10],[434,8,434,10],[435,8,435,10],[436,8,436,10],[437,8,437,10],[464,8,464,10],[453,8,453,10],[454,8,454,10],[455,8,455,10],[456,8,456,10],[457,8,457,10],[458,8,458,10],[438,8,438,10],[439,8,439,10],[440,8,440,10],[441,8,441,10],[442,8,442,10],[443,8,443,10],[444,8,444,10],[445,8,445,10],[446,8,446,10],[459,8,459,10],[460,8,460,10],[461,8,461,10],[462,8,462,10],[463,8,463,10],[447,8,447,10],[448,8,448,10],[449,8,449,10],[450,8,450,10],[451,8,451,10],[452,8,452,10],[485,8,485,10],[475,8,475,10],[476,8,476,10],[477,8,477,10],[478,8,478,10],[465,8,465,10],[466,8,466,10],[467,8,467,10],[468,8,468,10],[480,8,480,10],[479,8,479,10],[474,8,474,10],[481,8,481,10],[482,8,482,10],[483,8,483,10],[484,8,484,10],[469,8,469,10],[470,8,470,10],[471,8,471,10],[472,8,472,10],[473,8,473,10]]}
[]
["Komórka organizacyjna:","proszę kliknąć aby wybrać nazwę komórki organizacyjnej",null,null,null,{"$f":"INDEX('nawy OPZ'!B:B,MATCH(B2,'nawy OPZ'!C:C,0))","v":0}]
[]
["Plan zakupów innych materiałów 2015 r. "]
["Lp.","Nazwa środka","OPIS - Typ urządzenia (model, rodzaj)","Ilość","Jm","Cena jednostkowa","Wartość","Uzasadnienie","Przewidywany termin realizacji","Nazwa komórki organizacyjnej","kod komórki organzioacyjnej",2012]
[1,2,3,4,5,6,"7 = 4 * 6",8,9,10,11]
[1,"Akcesoria do drukarek",null,0,null,0,{"$f":"D7*F7","v":0},null,null,{"$f":"$B$2","v":"proszę kliknąć aby wybrać nazwę komórki organizacyjnej"},{"$f":"$F$2","v":0}]
[2,"Amnioskop",null,0,null,0,{"$f":"D8*F8","v":0},null,null,{"$f":"$B$2","v":"proszę kliknąć aby wybrać nazwę komórki organizacyjnej"},{"$f":"$F$2","v":0}]
[3,"Antyramy 30/40 cm",null,0,null,0,0,null,null,"proszę kliknąć aby wybrać nazwę komórki organizacyjnej",0]
[4,"Antyramy 50/50 cm",null,0,null,0,0,null,null,"proszę kliknąć aby wybrać nazwę komórki organizacyjnej",0]
[5,"Basen szpitalny",null,0,null,0,0,null,null,"proszę kliknąć aby wybrać nazwę komórki organizacyjnej",0]
[6,"Bateria łokciowa",null,0,null,0,0,null,null,"proszę kliknąć aby wybrać nazwę komórki organizacyjnej",0]
[7,"Bateria umywalkowa",null,0,null,0,0,null,null,"proszę kliknąć aby wybrać nazwę komórki organizacyjnej",0]
[8,"Blokady postojowe ",null,0,null,0,0,null,null,"proszę kliknąć aby wybrać nazwę komórki organizacyjnej",0]
[9,"Buffer ",null,0,null,0,0,null,null,"proszę kliknąć aby wybrać nazwę komórki organizacyjnej",0]
[10,"Butelki do reduktorów",null,0,null,0,0,null,null,"proszę kliknąć aby wybrać nazwę komórki organizacyjnej",0]
[11,"Cewka",null,0,null,0,0,null,null,"proszę kliknąć aby wybrać nazwę komórki organizacyjnej",0]
[12,"Cewnik ",null,0,null,0,0,null,null,"proszę kliknąć aby wybrać nazwę komórki organizacyjnej",0]
[13,"Cewnik światłowodowy ",null,0,null,0,0,null,null,"proszę kliknąć aby wybrać nazwę komórki organizacyjnej",0]
[14,"Chwytki na łóżko",null,0,null,0,0,null,null,"proszę kliknąć aby wybrać nazwę komórki organizacyjnej",0]
[15,"Czujnik saturacji ",null,0,null,0,0,null,null,"proszę kliknąć aby wybrać nazwę komórki organizacyjnej",0]
[16,"Deska do krojenia",null,0,null,0,0,null,null,"proszę kliknąć aby wybrać nazwę komórki organizacyjnej",0]
[17,"Dłuto stolarskie",null,0,null,0,0,null,null,"proszę kliknąć aby wybrać nazwę komórki organizacyjnej",0]
[18,"Domofon",null,0,null,0,0,null,null,"proszę kliknąć aby wybrać nazwę komórki organizacyjnej",0]
[19,"Dozownik dezynfekcyjny",null,0,null,0,0,null,null,"proszę kliknąć aby wybrać nazwę komórki organizacyjnej",0]
[20,"Dozownik do mydła",null,0,null,0,0,null,null,"proszę kliknąć aby wybrać nazwę komórki organizacyjnej",0]
[21,"Dozownik rotametryczny tlenu ",null,0,null,0,0,null,null,"proszę kliknąć aby wybrać nazwę komórki organizacyjnej",0]
[22,"Dozownik tlenowy",null,0,null,0,0,null,null,"proszę kliknąć aby wybrać nazwę komórki organizacyjnej",0]
[23,"Drabinka łóżkowa",null,0,null,0,0,null,null,"proszę kliknąć aby wybrać nazwę komórki organizacyjnej",0]
[24,"Drut do pętli migdałkowych",null,0,null,0,0,null,null,"proszę kliknąć aby wybrać nazwę komórki organizacyjnej",0]
[25,"Ekspandery do ćwiczeń",null,0,null,0,0,null,null,"proszę kliknąć aby wybrać nazwę komórki organizacyjnej",0]
[26,"Elektroda do histeroskopu ",null,0,null,0,0,null,null,"proszę kliknąć aby wybrać nazwę komórki organizacyjnej",0]
[27,"Elektroda do Lifepaka",null,0,null,0,0,null,null,"proszę kliknąć aby wybrać nazwę komórki organizacyjnej",0]
[28,"Elektroda neutralna jednorazowa",null,0,null,0,0,null,null,"proszę kliknąć aby wybrać nazwę komórki organizacyjnej",0]
[29,"Elektrody",null,0,null,0,0,null,null,"proszę kliknąć aby wybrać nazwę komórki organizacyjnej",0]
[30,"Filtr",null,0,null,0,0,null,null,"proszę kliknąć aby wybrać nazwę komórki organizacyjnej",0]
[31,"Garnek",null,0,null,0,0,null,null,"proszę kliknąć aby wybrać nazwę komórki organizacyjnej",0]
[32,"Gaz",null,0,null,0,0,null,null,"proszę kliknąć aby wybrać nazwę komórki organizacyjnej",0]
[33,"Grabie ",null,0,null,0,0,null,null,"proszę kliknąć aby wybrać nazwę komórki organizacyjnej",0]
[34,"Gumki do mostka",null,0,null,0,0,null,null,"proszę kliknąć aby wybrać nazwę komórki organizacyjnej",0]
[35,"Gwintowniki ",null,0,null,0,0,null,null,"proszę kliknąć aby wybrać nazwę komórki organizacyjnej",0]
[36,"Igła",null,0,null,0,0,null,null,"proszę kliknąć aby wybrać nazwę komórki organizacyjnej",0]
[37,"Igła chirurgiczna ",null,0,null,0,0,null,null,"proszę kliknąć aby wybrać nazwę komórki organizacyjnej",0]
[38,"Igła do PCNL",null,0,null,0,0,null,null,"proszę kliknąć aby wybrać nazwę komórki organizacyjnej",0]
[39,"Informator medyczny",null,0,null,0,0,null,null,"proszę kliknąć aby wybrać nazwę komórki organizacyjnej",0]
[40,"Kabel",null,0,null,0,0,null,null,"proszę kliknąć aby wybrać nazwę komórki organizacyjnej",0]
[41,"Kabel do diatermii ",null,0,null,0,0,null,null,"proszę kliknąć aby wybrać nazwę komórki organizacyjnej",0]
[42,"Kabel do monitora",null,0,null,0,0,null,null,"proszę kliknąć aby wybrać nazwę komórki organizacyjnej",0]
[43,"Kabel do pensety",null,0,null,0,0,null,null,"proszę kliknąć aby wybrać nazwę komórki organizacyjnej",0]
[44,"Kabel do przetwornika ",null,0,null,0,0,null,null,"proszę kliknąć aby wybrać nazwę komórki organizacyjnej",0]
[45,"Kabel do saturacji ",null,0,null,0,0,null,null,"proszę kliknąć aby wybrać nazwę komórki organizacyjnej",0]
[46,"Kabel EKG ",null,0,null,0,0,null,null,"proszę kliknąć aby wybrać nazwę komórki organizacyjnej",0]
[47,"Kabel EKG ",null,0,null,0,0,null,null,"proszę kliknąć aby wybrać nazwę komórki organizacyjnej",0]
[48,"Kabel mankietu do pomiaru RR",null,0,null,0,0,null,null,"proszę kliknąć aby wybrać nazwę komórki organizacyjnej",0]
[49,"Kaczka ",null,0,null,0,0,null,null,"proszę kliknąć aby wybrać nazwę komórki organizacyjnej",0]
[50,"Kaloryfer",null,0,null,0,0,null,null,"proszę kliknąć aby wybrać nazwę komórki organizacyjnej",0]
[51,"Kasetka",null,0,null,0,0,null,null,"proszę kliknąć aby wybrać nazwę komórki organizacyjnej",0]
[52,"Klin",null,0,null,0,0,null,null,"proszę kliknąć aby wybrać nazwę komórki organizacyjnej",0]
[53,"Końcówka aspiracyjno - infuzyjna ",null,0,null,0,0,null,null,"proszę kliknąć aby wybrać nazwę komórki organizacyjnej",0]
[54,"Kosz na bieliznę",null,0,null,0,0,null,null,"proszę kliknąć aby wybrać nazwę komórki organizacyjnej",0]
[55,"Kosz na odpady",null,0,null,0,0,null,null,"proszę kliknąć aby wybrać nazwę komórki organizacyjnej",0]
[56,"Kosz na odpady - 15 l",null,0,null,0,0,null,null,"proszę kliknąć aby wybrać nazwę komórki organizacyjnej",0]
[57,"Kosz na odpady - 60 l",null,0,null,0,0,null,null,"proszę kliknąć aby wybrać nazwę komórki organizacyjnej",0]
[58,"Kosz ze stali nierdzewnej",null,0,null,0,0,null,null,"proszę kliknąć aby wybrać nazwę komórki organizacyjnej",0]
[59,"Koszula szpitalna",null,0,null,0,0,null,null,"proszę kliknąć aby wybrać nazwę komórki organizacyjnej",0]
[60,"Koszula operacyjna dla dzieci ",null,0,null,0,0,null,null,"proszę kliknąć aby wybrać nazwę komórki organizacyjnej",0]
[61,"Koszyk",null,0,null,0,0,null,null,"proszę kliknąć aby wybrać nazwę komórki organizacyjnej",0]
[62,"Koszyk plastikowy",null,0,null,0,0,null,null,"proszę kliknąć aby wybrać nazwę komórki organizacyjnej",0]
[63,"Koszyk plastikowy zmywalny",null,0,null,0,0,null,null,"proszę kliknąć aby wybrać nazwę komórki organizacyjnej",0]
[64,"Koszyk SAM",null,0,null,0,0,null,null,"proszę kliknąć aby wybrać nazwę komórki organizacyjnej",0]
[65,"Koszyk ze stali nierdzewnej",null,0,null,0,0,null,null,"proszę kliknąć aby wybrać nazwę komórki organizacyjnej",0]
[66,"Kubek",null,0,null,0,{"$f":"D72*F72","v":0},null,null,{"$f":"$B$2","v":"proszę kliknąć aby wybrać nazwę komórki organizacyjnej"},{"$f":"$F$2","v":0}]
[67,"Kulka",null,0,null,0,0,null,null,"proszę kliknąć aby wybrać nazwę komórki organizacyjnej",0]
[68,"Linka",null,0,null,0,0,null,null,"proszę kliknąć aby wybrać nazwę komórki organizacyjnej",0]
[69,"Listwa przeciwprzepięciowa ",null,0,null,0,0,null,null,"proszę kliknąć aby wybrać nazwę komórki organizacyjnej",0]
[70,"Listwy ochronne - ścienne",null,0,null,0,0,null,null,"proszę kliknąć aby wybrać nazwę komórki organizacyjnej",0]
[71,"Lustro",null,0,null,0,0,null,null,"proszę kliknąć aby wybrać nazwę komórki organizacyjnej",0]
[72,"Łącznik \"T\" do nebulizacji",null,0,null,0,0,null,null,"proszę kliknąć aby wybrać nazwę komórki organizacyjnej",0]
[73,"Łyżki do larygoskopu -  jednorazowe",null,0,null,0,0,null,null,"proszę kliknąć aby wybrać nazwę komórki organizacyjnej",0]
[74,"Mankiet",null,0,null,0,0,null,null,"proszę kliknąć aby wybrać nazwę komórki organizacyjnej",0]
[75,"Mankiet do pomiaru RR",null,0,null,0,0,null,null,"proszę kliknąć aby wybrać nazwę komórki organizacyjnej",0]
[76,"Marker",null,0,null,0,0,null,null,"proszę kliknąć aby wybrać nazwę komórki organizacyjnej",0]
[77,"Maska tlenowa ",null,0,null,0,0,null,null,"proszę kliknąć aby wybrać nazwę komórki organizacyjnej",0]
[78,"Maska z nebulizatorem",null,0,null,0,0,null,null,"proszę kliknąć aby wybrać nazwę komórki organizacyjnej",0]
[79,"Mata ",null,0,null,0,0,null,null,"proszę kliknąć aby wybrać nazwę komórki organizacyjnej",0]
[80,"Mata przeciwpyłowa ",null,0,null,0,0,null,null,"proszę kliknąć aby wybrać nazwę komórki organizacyjnej",0]
[81,"Materac szpitalny",null,0,null,0,0,null,null,"proszę kliknąć aby wybrać nazwę komórki organizacyjnej",0]
[82,"Materacyk do łóżeczka noworodkowego",null,0,null,0,0,null,null,"proszę kliknąć aby wybrać nazwę komórki organizacyjnej",0]
[83,"Materiały na terapie zajęciową",null,0,null,0,0,null,null,"proszę kliknąć aby wybrać nazwę komórki organizacyjnej",0]
[84,"Materiały promocyjne",null,0,null,0,0,null,null,"proszę kliknąć aby wybrać nazwę komórki organizacyjnej",0]
[85,"Miska - metalowa",null,0,null,0,0,null,null,"proszę kliknąć aby wybrać nazwę komórki organizacyjnej",0]
[86,"Miska - nerka",null,0,null,0,0,null,null,"proszę kliknąć aby wybrać nazwę komórki organizacyjnej",0]
[87,"Miska - plastikowa",null,0,null,0,0,null,null,"proszę kliknąć aby wybrać nazwę komórki organizacyjnej",0]
[88,"Miska do mycia chorych",null,0,null,0,0,null,null,"proszę kliknąć aby wybrać nazwę komórki organizacyjnej",0]
[89,"Moskitiera",null,0,null,0,0,null,null,"proszę kliknąć aby wybrać nazwę komórki organizacyjnej",0]
[90,"Nakładka na muszlę klozetową",null,0,null,0,0,null,null,"proszę kliknąć aby wybrać nazwę komórki organizacyjnej",0]
[91,"Nebulizator",null,0,null,0,0,null,null,"proszę kliknąć aby wybrać nazwę komórki organizacyjnej",0]
[92,"Obciążniki ",null,0,null,0,0,null,null,"proszę kliknąć aby wybrać nazwę komórki organizacyjnej",0]
[93,"Okulary ochronne",null,0,null,0,0,null,null,"proszę kliknąć aby wybrać nazwę komórki organizacyjnej",0]
[94,"Okulary spawalnicze",null,0,null,0,0,null,null,"proszę kliknąć aby wybrać nazwę komórki organizacyjnej",0]
[95,"Opakowania apteczne (nietrwałe)",null,0,null,0,0,null,null,"proszę kliknąć aby wybrać nazwę komórki organizacyjnej",0]
[96,"Opaska pod rurkę tracheostomijną",null,0,null,0,0,null,null,"proszę kliknąć aby wybrać nazwę komórki organizacyjnej",0]
[97,"Opaska uciskowa",null,0,null,0,0,null,null,"proszę kliknąć aby wybrać nazwę komórki organizacyjnej",0]
[98,"Oprawa rastrowa",null,0,null,0,0,null,null,"proszę kliknąć aby wybrać nazwę komórki organizacyjnej",0]
[99,"Osłona na głowicę przezprzełykową usg",null,0,null,0,0,null,null,"proszę kliknąć aby wybrać nazwę komórki organizacyjnej",0]
[100,"Osłona na sondę",null,0,null,0,0,null,null,"proszę kliknąć aby wybrać nazwę komórki organizacyjnej",0]
[101,"Ostrza do cięcia gipsu",null,0,null,0,0,null,null,"proszę kliknąć aby wybrać nazwę komórki organizacyjnej",0]
[102,"Ostrza do strzygarek ",null,0,null,0,0,null,null,"proszę kliknąć aby wybrać nazwę komórki organizacyjnej",0]
[103,"Ostrze",null,0,null,0,0,null,null,"proszę kliknąć aby wybrać nazwę komórki organizacyjnej",0]
[104,"Papier do aparatów ekg",null,0,null,0,0,null,null,"proszę kliknąć aby wybrać nazwę komórki organizacyjnej",0]
[105,"Papier do Lifepaka 20",null,0,null,0,0,null,null,"proszę kliknąć aby wybrać nazwę komórki organizacyjnej",0]
[106,"Papier do programatora ",null,0,null,0,0,null,null,"proszę kliknąć aby wybrać nazwę komórki organizacyjnej",0]
[107,"Papier światłoczuły",null,0,null,0,0,null,null,"proszę kliknąć aby wybrać nazwę komórki organizacyjnej",0]
[108,"Pasy",null,0,null,0,0,null,null,"proszę kliknąć aby wybrać nazwę komórki organizacyjnej",0]
[109,"Pilnik ",null,0,null,0,0,null,null,"proszę kliknąć aby wybrać nazwę komórki organizacyjnej",0]
[110,"Pilot do telewizora",null,0,null,0,0,null,null,"proszę kliknąć aby wybrać nazwę komórki organizacyjnej",0]
[111,"Piłka do ćwiczeń",null,0,null,0,0,null,null,"proszę kliknąć aby wybrać nazwę komórki organizacyjnej",0]
[112,"Piłka do gry",null,0,null,0,0,null,null,"proszę kliknąć aby wybrać nazwę komórki organizacyjnej",0]
[113,"Piłka lekarska",null,0,null,0,0,null,null,"proszę kliknąć aby wybrać nazwę komórki organizacyjnej",0]
[114,"Płytki mocujące ",null,0,null,0,0,null,null,"proszę kliknąć aby wybrać nazwę komórki organizacyjnej",0]
[115,"Płytki podłogowe",null,0,null,0,0,null,null,"proszę kliknąć aby wybrać nazwę komórki organizacyjnej",0]
[116,"Płyty do kaset rtg",null,0,null,0,0,null,null,"proszę kliknąć aby wybrać nazwę komórki organizacyjnej",0]
[117,"Podajnik na papier",null,0,null,0,0,null,null,"proszę kliknąć aby wybrać nazwę komórki organizacyjnej",0]
[118,"Podajnik na papier",null,0,null,0,0,null,null,"proszę kliknąć aby wybrać nazwę komórki organizacyjnej",0]
[119,"Podajnik na ręczniki",null,0,null,0,0,null,null,"proszę kliknąć aby wybrać nazwę komórki organizacyjnej",0]
[120,"Podest operacyjny ",null,0,null,0,0,null,null,"proszę kliknąć aby wybrać nazwę komórki organizacyjnej",0]
[121,"Podkładka ochronna ",null,0,null,0,0,null,null,"proszę kliknąć aby wybrać nazwę komórki organizacyjnej",0]
[122,"Podkłady jednorazowe",null,0,null,0,0,null,null,"proszę kliknąć aby wybrać nazwę komórki organizacyjnej",0]
[123,"Podpórki",null,0,null,0,0,null,null,"proszę kliknąć aby wybrać nazwę komórki organizacyjnej",0]
[124,"Podwieszka",null,0,null,0,0,null,null,"proszę kliknąć aby wybrać nazwę komórki organizacyjnej",0]
[125,"Pojemnik",null,0,null,0,0,null,null,"proszę kliknąć aby wybrać nazwę komórki organizacyjnej",0]
[126,"Pojemnik do ssania ",null,0,null,0,0,null,null,"proszę kliknąć aby wybrać nazwę komórki organizacyjnej",0]
[127,"Pojemnik do transportu ",null,0,null,0,0,null,null,"proszę kliknąć aby wybrać nazwę komórki organizacyjnej",0]
[128,"Pojemnik na mocz",null,0,null,0,0,null,null,"proszę kliknąć aby wybrać nazwę komórki organizacyjnej",0]
[129,"Pojemnik plastikowy",null,0,null,0,0,null,null,"proszę kliknąć aby wybrać nazwę komórki organizacyjnej",0]
[130,"Pojemnik plastikowy - 1 litr",null,0,null,0,{"$f":"D136*F136","v":0},null,null,{"$f":"$B$2","v":"proszę kliknąć aby wybrać nazwę komórki organizacyjnej"},{"$f":"$F$2","v":0}]
[131,"Pojemnik typu \"tulipan\"",null,0,null,0,0,null,null,"proszę kliknąć aby wybrać nazwę komórki organizacyjnej",0]
[132,"Pokrowiec ",null,0,null,0,0,null,null,"proszę kliknąć aby wybrać nazwę komórki organizacyjnej",0]
[133,"Pokrowiec ",null,0,null,0,0,null,null,"proszę kliknąć aby wybrać nazwę komórki organizacyjnej",0]
[134,"Polar",null,0,null,0,0,null,null,"proszę kliknąć aby wybrać nazwę komórki organizacyjnej",0]
[135,"Pomoce logopedyczne ",null,0,null,0,0,null,null,"proszę kliknąć aby wybrać nazwę komórki organizacyjnej",0]
[136,"Poręcz naścienna do toalety.",null,0,null,0,0,null,null,"proszę kliknąć aby wybrać nazwę komórki organizacyjnej",0]
[137,"Półka",null,0,null,0,0,null,null,"proszę kliknąć aby wybrać nazwę komórki organizacyjnej",0]
[138,"Prowadnica ",null,0,null,0,0,null,null,"proszę kliknąć aby wybrać nazwę komórki organizacyjnej",0]
[139,"Prowadnica prosta do PCNL",null,0,null,0,0,null,null,"proszę kliknąć aby wybrać nazwę komórki organizacyjnej",0]
[140,"Próżnociąg ",null,0,null,0,0,null,null,"proszę kliknąć aby wybrać nazwę komórki organizacyjnej",0]
[141,"Przedłużacz elektryczny",null,0,null,0,0,null,null,"proszę kliknąć aby wybrać nazwę komórki organizacyjnej",0]
[142,"Przewód laparoskopowy",null,0,null,0,0,null,null,"proszę kliknąć aby wybrać nazwę komórki organizacyjnej",0]
[143,"Przewód z czujnikiem SpO2",null,0,null,0,0,null,null,"proszę kliknąć aby wybrać nazwę komórki organizacyjnej",0]
[144,"Przyrządy do pobierania materiału do badań",null,0,null,0,0,null,null,"proszę kliknąć aby wybrać nazwę komórki organizacyjnej",0]
[145,"Przystawki biopsyjne ",null,0,null,0,0,null,null,"proszę kliknąć aby wybrać nazwę komórki organizacyjnej",0]
[146,"Ramka na karty gorączkowe",null,0,null,0,0,null,null,"proszę kliknąć aby wybrać nazwę komórki organizacyjnej",0]
[147,"Redukcja",null,0,null,0,0,null,null,"proszę kliknąć aby wybrać nazwę komórki organizacyjnej",0]
[148,"Reduktor do acetylenu",null,0,null,0,0,null,null,"proszę kliknąć aby wybrać nazwę komórki organizacyjnej",0]
[149,"Reduktor MEDISELECT",null,0,null,0,0,null,null,"proszę kliknąć aby wybrać nazwę komórki organizacyjnej",0]
[150,"Reduktor prózniowy",null,0,null,0,0,null,null,"proszę kliknąć aby wybrać nazwę komórki organizacyjnej",0]
[151,"Reduktor tlenowy",null,0,null,0,0,null,null,"proszę kliknąć aby wybrać nazwę komórki organizacyjnej",0]
[152,"Rękojeść do laryngoskopu ",null,0,null,0,0,null,null,"proszę kliknąć aby wybrać nazwę komórki organizacyjnej",0]
[153,"Ringo kolczaste",null,0,null,0,0,null,null,"proszę kliknąć aby wybrać nazwę komórki organizacyjnej",0]
[154,"Rolety antywłamaniowe ",null,0,null,0,0,null,null,"proszę kliknąć aby wybrać nazwę komórki organizacyjnej",0]
[155,"Rolety okienne ",null,0,null,0,0,null,null,"proszę kliknąć aby wybrać nazwę komórki organizacyjnej",0]
[156,"Rurka do tchawicy",null,0,null,0,0,null,null,"proszę kliknąć aby wybrać nazwę komórki organizacyjnej",0]
[157,"Rurka ustno-gardłowa ",null,0,null,0,0,null,null,"proszę kliknąć aby wybrać nazwę komórki organizacyjnej",0]
[158,"Schodek przyłóżkowy",null,0,null,0,0,null,null,"proszę kliknąć aby wybrać nazwę komórki organizacyjnej",0]
[159,"Segregatory",null,0,null,0,0,null,null,"proszę kliknąć aby wybrać nazwę komórki organizacyjnej",0]
[160,"Serwety jednorazowe z dziurą ",null,0,null,0,0,null,null,"proszę kliknąć aby wybrać nazwę komórki organizacyjnej",0]
[161,"Siatka rehabilitacyjna",null,0,null,0,0,null,null,"proszę kliknąć aby wybrać nazwę komórki organizacyjnej",0]
[162,"Ssanie do ściany ",null,0,null,0,0,null,null,"proszę kliknąć aby wybrać nazwę komórki organizacyjnej",0]
[163,"Ssanie zatokowe",null,0,null,0,0,null,null,"proszę kliknąć aby wybrać nazwę komórki organizacyjnej",0]
[164,"System unieruchamiania chorych",null,0,null,0,0,null,null,"proszę kliknąć aby wybrać nazwę komórki organizacyjnej",0]
[165,"Szczoteczka dwustronna ",null,0,null,0,0,null,null,"proszę kliknąć aby wybrać nazwę komórki organizacyjnej",0]
[166,"Szczotka do wc",null,0,null,0,0,null,null,"proszę kliknąć aby wybrać nazwę komórki organizacyjnej",0]
[167,"Szkło żaroodporne labolatoryjne",null,0,null,0,0,null,null,"proszę kliknąć aby wybrać nazwę komórki organizacyjnej",0]
[168,"Sztućce",null,0,null,0,0,null,null,"proszę kliknąć aby wybrać nazwę komórki organizacyjnej",0]
[169,"Szybkozłącza do węży",null,0,null,0,0,null,null,"proszę kliknąć aby wybrać nazwę komórki organizacyjnej",0]
[170,"Szyna aluminiowa",null,0,null,0,0,null,null,"proszę kliknąć aby wybrać nazwę komórki organizacyjnej",0]
[171,"Szyna medyczna",null,0,null,0,0,null,null,"proszę kliknąć aby wybrać nazwę komórki organizacyjnej",0]
[172,"Światłowód",null,0,null,0,0,null,null,"proszę kliknąć aby wybrać nazwę komórki organizacyjnej",0]
[173,"Tablica informacyjna ",null,0,null,0,0,null,null,"proszę kliknąć aby wybrać nazwę komórki organizacyjnej",0]
[174,"Tablica korkowa",null,0,null,0,0,null,null,"proszę kliknąć aby wybrać nazwę komórki organizacyjnej",0]
[175,"Taca na leki",null,0,null,0,0,null,null,"proszę kliknąć aby wybrać nazwę komórki organizacyjnej",0]
[176,"Tace sterylizacyjne",null,0,null,0,0,null,null,"proszę kliknąć aby wybrać nazwę komórki organizacyjnej",0]
[177,"Talerz",null,0,null,0,0,null,null,"proszę kliknąć aby wybrać nazwę komórki organizacyjnej",0]
[178,"Tamponada nosa ",null,0,null,0,0,null,null,"proszę kliknąć aby wybrać nazwę komórki organizacyjnej",0]
[179,"Taśma treningowa w rolce",null,0,null,0,0,null,null,"proszę kliknąć aby wybrać nazwę komórki organizacyjnej",0]
[180,"Taśmy do ćwiczeń",null,0,null,0,0,null,null,"proszę kliknąć aby wybrać nazwę komórki organizacyjnej",0]
[181,"Termoresekcja i termoablacja",null,0,null,0,0,null,null,"proszę kliknąć aby wybrać nazwę komórki organizacyjnej",0]
[182,"Torba termoizolacyjna",null,0,null,0,0,null,null,"proszę kliknąć aby wybrać nazwę komórki organizacyjnej",0]
[183,"Torebka do telemetrii",null,0,null,0,0,null,null,"proszę kliknąć aby wybrać nazwę komórki organizacyjnej",0]
[184,"Uchwyt ",null,0,null,0,0,null,null,"proszę kliknąć aby wybrać nazwę komórki organizacyjnej",0]
[185,"Uchwyt ścienny",null,0,null,0,0,null,null,"proszę kliknąć aby wybrać nazwę komórki organizacyjnej",0]
[186,"Uchwyty do identyfikatorów",null,0,null,0,0,null,null,"proszę kliknąć aby wybrać nazwę komórki organizacyjnej",0]
[187,"Umywalka",null,0,null,0,0,null,null,"proszę kliknąć aby wybrać nazwę komórki organizacyjnej",0]
[188,"Ustnik",null,0,null,0,0,null,null,"proszę kliknąć aby wybrać nazwę komórki organizacyjnej",0]
[189,"Vacuometr",null,0,null,0,0,null,null,"proszę kliknąć aby wybrać nazwę komórki organizacyjnej",0]
[190,"Wakuometr ",null,0,null,0,0,null,null,"proszę kliknąć aby wybrać nazwę komórki organizacyjnej",0]
[191,"Wałek rehabilitacyjny",null,0,null,0,0,null,null,"proszę kliknąć aby wybrać nazwę komórki organizacyjnej",0]
[192,"Wanienka do dezynfekcji ",null,0,null,0,0,null,null,"proszę kliknąć aby wybrać nazwę komórki organizacyjnej",0]
[193,"Wanienka noworodkowa",null,0,null,0,0,null,null,"proszę kliknąć aby wybrać nazwę komórki organizacyjnej",0]
[194,"Wiertło ",null,0,null,0,{"$f":"D200*F200","v":0},null,null,{"$f":"$B$2","v":"proszę kliknąć aby wybrać nazwę komórki organizacyjnej"},{"$f":"$F$2","v":0}]
[195,"Wieszak",null,0,null,0,0,null,null,"proszę kliknąć aby wybrać nazwę komórki organizacyjnej",0]
[196,"Wkład ",null,0,null,0,0,null,null,"proszę kliknąć aby wybrać nazwę komórki organizacyjnej",0]
[197,"Woreczek gimnastyczny",null,0,null,0,0,null,null,"proszę kliknąć aby wybrać nazwę komórki organizacyjnej",0]
[198,"Worek PCV ",null,0,null,0,0,null,null,"proszę kliknąć aby wybrać nazwę komórki organizacyjnej",0]
[199,"Wycieraczka",null,0,null,0,0,null,null,"proszę kliknąć aby wybrać nazwę komórki organizacyjnej",0]
[200,"Wzierniki ginekologiczne ",null,0,null,0,0,null,null,"proszę kliknąć aby wybrać nazwę komórki organizacyjnej",0]
[201,"Zestaw  jednorazowy do cewnikowania",null,0,null,0,0,null,null,"proszę kliknąć aby wybrać nazwę komórki organizacyjnej",0]
[202,"Zestaw bloczkowo-linkowy",null,0,null,0,0,null,null,"proszę kliknąć aby wybrać nazwę komórki organizacyjnej",0]
[203,"Zestaw gwintowników",null,0,null,0,0,null,null,"proszę kliknąć aby wybrać nazwę komórki organizacyjnej",0]
[204,"Zestaw Multiplex Angio",null,0,null,0,0,null,null,"proszę kliknąć aby wybrać nazwę komórki organizacyjnej",0]
[205,"Zestaw palników ",null,0,null,0,0,null,null,"proszę kliknąć aby wybrać nazwę komórki organizacyjnej",0]
[206,"Zlewozmywak ",null,0,null,0,0,null,null,"proszę kliknąć aby wybrać nazwę komórki organizacyjnej",0]
[207,"Złączka przejściowa do monitorowania pacjenta",null,0,null,0,0,null,null,"proszę kliknąć aby wybrać nazwę komórki organizacyjnej",0]
[208,"Zmiotka ",null,0,null,0,0,null,null,"proszę kliknąć aby wybrać nazwę komórki organizacyjnej",0]
[209,"Zszywacz",null,0,null,0,0,null,null,"proszę kliknąć aby wybrać nazwę komórki organizacyjnej",0]

{"sheet":"Niskocenne Inform.","index":5,"n_rows":27,"n_cols":14,"rows_kept":27,"cut":false,"hidden":false,"merged":[[3,0,3,10],[2,1,2,2],[1,1,1,5]]}
[]
["Komórka organizacyjna:","proszę kliknąć aby wybrać nazwę komórki organizacyjnej",null,null,null,null,null,{"$f":"INDEX('nawy OPZ'!B:B,MATCH(B2,'nawy OPZ'!C:C,0))","v":0}]
[]
["Plan zakupów niskocennych środków trwałych (informatycznych) 2017 r. "]
["Lp.","Nazwa środka","OPIS - Typ urządzenia (model, rodzaj)","Ilość","JM","Cena jednostkowa","Wartość","Uzasadnienie","Przewidywany termin realizacji","Nazwa komórki organizacyjnej","kod komórki organzioacyjnej","III kwartał 2012","IV kwartał 2012",2012]
[1,2,3,4,5,6,"7 = 4 * 6",8,9,10,11]
[1,"Czytnik kart pamięci",null,0,null,0,{"$f":"D7*F7","v":0},null,null,{"$f":"$B$2","v":"proszę kliknąć aby wybrać nazwę komórki organizacyjnej"},{"$f":"$H$2","v":0}]
[2,"Kamera IP",null,0,null,0,{"$f":"D8*F8","v":0},null,null,"proszę kliknąć aby wybrać nazwę komórki organizacyjnej",{"$f":"$H$2","v":0}]
[3,"Czytnik SCR3310-karta kryptograficzna",null,0,null,0,0,null,null,"proszę kliknąć aby wybrać nazwę komórki organizacyjnej",0]
[4,"Drukarka laserowa",null,0,null,0,0,null,null,"proszę kliknąć aby wybrać nazwę komórki organizacyjnej",0]
[5,"Drukarka laserowa z dupleksem",null,0,null,0,0,null,null,"proszę kliknąć aby wybrać nazwę komórki organizacyjnej",0]
[6,"Drukarka laserowa kolorowa",null,0,null,0,0,null,null,"proszę kliknąć aby wybrać nazwę komórki organizacyjnej",0]
[7,"Drukarka etykiet",null,0,null,0,0,null,null,"proszę kliknąć aby wybrać nazwę komórki organizacyjnej",0]
[8,"Głośniki do komputera",null,0,null,0,0,null,null,"proszę kliknąć aby wybrać nazwę komórki organizacyjnej",0]
[9,"Zestaw komputerowy z systemem operacyjnym operacyjnym, ",null,0,null,0,0,null,null,"proszę kliknąć aby wybrać nazwę komórki organizacyjnej",0]
[10,"Oprogramowanie biurowe MSOffice",null,0,null,0,0,null,null,"proszę kliknąć aby wybrać nazwę komórki organizacyjnej",0]
[11,"Laptop z systemem operacyjnym",null,0,null,0,0,null,null,"proszę kliknąć aby wybrać nazwę komórki organizacyjnej",0]
[12,"Monitor 24\"",null,0,null,0,0,null,null,"proszę kliknąć aby wybrać nazwę komórki organizacyjnej",0]
[13,"Pendrive pamięć USB 16GB",null,0,null,0,0,null,null,"proszę kliknąć aby wybrać nazwę komórki organizacyjnej",0]
[14,"Mikrofon komputerowy",null,0,null,0,0,null,null,"proszę kliknąć aby wybrać nazwę komórki organizacyjnej",0]
[15,"Słuchawki nagłowne do telefonu VoIP",null,0,null,0,0,null,null,"proszę kliknąć aby wybrać nazwę komórki organizacyjnej",0]
[16,"Torba do NOTEBOOKA 15,4\"",null,0,null,0,0,null,null,"proszę kliknąć aby wybrać nazwę komórki organizacyjnej",0]
[17,"Telefon VoIP",null,0,null,300,0,null,null,"proszę kliknąć aby wybrać nazwę komórki organizacyjnej",0]
[18,"Urządzenie wielofunkcyjne",null,0,null,0,0,null,null,"proszę kliknąć aby wybrać nazwę komórki organizacyjnej",0]
[19,"Urządzenie wielofunkcyjne kolorowe",null,0,null,0,0,null,null,"proszę kliknąć aby wybrać nazwę komórki organizacyjnej",0]
[20,"Wideoprojektor",null,0,null,2500,0,null,null,"proszę kliknąć aby wybrać nazwę komórki organizacyjnej",0]
[21,"Access Point",null,0,null,3500,0,null,null,"proszę kliknąć aby wybrać nazwę komórki organizacyjnej",0]

{"sheet":"Modernizacje","index":6,"n_rows":12,"n_cols":17,"rows_kept":12,"cut":false,"hidden":false,"merged":[[1,1,1,3],[3,0,3,6]]}
[]
["Komórka organizacyjna:","proszę kliknąć aby wybrać nazwę komórki organizacyjnej",null,null,null,{"$f":"INDEX('nawy OPZ'!B:B,MATCH(B2,'nawy OPZ'!C:C,0))","v":0}]
[]
["Plan modernizacji 2017 r "]
["Lp.","Nazwa","Szacunkowa wartość brutto","Uzasadnienie","Przewidywany termin realizacji","Nazwa komórki organizacyjnej","kod komórki organzioacyjnej",null,null,null,null,null,"I kwartał 2012","II kwartał 2012","III kwartał 2012","IV kwartał 2012",2012]
[1,2,3,4,5,6,7]
[1,null,null,null,null,{"$f":"$B$2","v":"proszę kliknąć aby wybrać nazwę komórki organizacyjnej"},{"$f":"$F$2","v":0}]
[2,null,null,null,null,{"$f":"$B$2","v":"proszę kliknąć aby wybrać nazwę komórki organizacyjnej"},{"$f":"$F$2","v":0}]
[3,null,null,null,null,{"$f":"$B$2","v":"proszę kliknąć aby wybrać nazwę komórki organizacyjnej"},{"$f":"$F$2","v":0}]
[4,null,null,null,null,{"$f":"$B$2","v":"proszę kliknąć aby wybrać nazwę komórki organizacyjnej"},{"$f":"$F$2","v":0}]
[5,null,null,null,null,{"$f":"$B$2","v":"proszę kliknąć aby wybrać nazwę komórki organizacyjnej"},{"$f":"$F$2","v":0}]
["Ogółem",null,{"$f":"SUM(C7:C11)","v":0}]

{"sheet":"Mies","index":7,"n_rows":13,"n_cols":1,"rows_kept":13,"cut":false,"hidden":true,"merged":[]}
[]
["Styczeń"]
["Luty"]
["Marzec"]
["Kwiecień"]
["Maj"]
["Czerwiec"]
["Lipiec"]
["Sierpień"]
["Wrzesień"]
["Październik"]
["Listopad"]
["Grudzień"]

{"sheet":"Remonty","index":8,"n_rows":12,"n_cols":7,"rows_kept":12,"cut":false,"hidden":false,"merged":[[1,1,1,3],[3,0,3,6]]}
[]
["Komórka organizacyjna:","Sekcja Marketingu",null,null,null,{"$f":"INDEX('nawy OPZ'!B:B,MATCH(B2,'nawy OPZ'!C:C,0))","v":"1.04.04"}]
[]
["Plan remontów 2017 r. "]
["Lp.","Nazwa","Szacunkowa wartość brutto","Uzasadnienie","Przewidywany termin realizacji","Nazwa komórki organizacyjnej","kod komórki organzioacyjnej"]
[1,2,3,4,5,6,7]
[1,"malowanie pomieszczenia",500,"remont w gabinecie pani Pełnomocnik Dyrektora ds. sprzedaży usług medycznych i marketingu nie był przeprowadzony od kilku lat, pomieszczenie wymaga odświeżenia","2017-03-01",{"$f":"$B$2","v":"Sekcja Marketingu"},{"$f":"$F$2","v":"1.04.04"}]
[2,null,null,null,null,{"$f":"$B$2","v":"Sekcja Marketingu"},{"$f":"$F$2","v":"1.04.04"}]
[3,null,null,null,null,{"$f":"$B$2","v":"Sekcja Marketingu"},{"$f":"$F$2","v":"1.04.04"}]
[4,null,null,null,null,{"$f":"$B$2","v":"Sekcja Marketingu"},{"$f":"$F$2","v":"1.04.04"}]
[5,null,null,null,null,{"$f":"$B$2","v":"Sekcja Marketingu"},{"$f":"$F$2","v":"1.04.04"}]
["Ogółem",null,{"$f":"SUM(C7:C11)","v":500}]

{"sheet":"Arkusz2","index":9,"n_rows":0,"n_cols":0,"rows_kept":0,"cut":false,"hidden":false,"merged":[]}

{"sheet":"nawy OPZ","index":10,"n_rows":127,"n_cols":7,"rows_kept":127,"cut":false,"hidden":true,"merged":[]}
[]
[null,0,"proszę kliknąć aby wybrać nazwę komórki organizacyjnej"]
[101000110,"1.09","Administrator Bezpieczeństwa Informacji"]
[202010190,"2.02.01.01","Anestezjologia",null,null,"komórka","proszę kliknąć aby wybrać nazwę komórki organizacyjnej"]
[209000090,"2.09","Apteka Szpitalna"]
[306000090,"3.06","Archiwum Zakładowe"]
[101000110,"1.08","Audytor Wewnętrzny",null,null,null,{"$f":"C2","v":"proszę kliknąć aby wybrać nazwę komórki organizacyjnej"}]
[304010090,"3.04.01","Biblioteka"]
[204010090,"2.04.01","Blok Operacyjny"]
[204020090,"2.04.02","Blok Operacyjny DAVINCI"]
[207030090,"2.07.03","DODO - Pracowania Tomografii Komputerowej"]
[207040090,"2.07.04","DODO - Pracownia Diagnostyczno - Zabiegowa Naczyń"]
[207020090,"2.07.02","DODO - Pracownia Mammografii",null,null,null,"Blok Operacyjny  "]
[207050090,"2.07.05","DODO - Pracownia Rezonansu Magnetycznego"]
[207010090,"2.07.01","DODO - Pracownia RTG"]
[207060090,"2.07.06","DODO - Pracownia USG"]
[207070090,"2.07.07","DODO - Pracownia USG Piersi"]
[207080090,"2.07.08","DODO - Zamiejscowa Pracownia RTG"]
[101000110,"1.01","Dyrektor Szpitala"]
[303000090,"3.03","Dział Centralnej Sterylizatorni i DDD",null,null,null,"proszę wybrac nazwę komórki organizacyjnej"]
[302000090,"3.02","Dział Gospodarki Nieruchomościami i Utrzymania Ruchu"]
[404000090,"4.04","Dział Informatyki"]
[406000090,"4.06.01","Dział Księgowości i Finansów"]
[403000090,"4.03","Dział Organizacyjno - Prawny"]
[104030090,"1.04.03","Dział Rejestracji Statystyki i Dokumentacji Medycznej"]
[104020090,"1.04.02","Dział Sprzedaży Usług Medycznych"]
[401000090,"4.02","Dział Zaopatrzenia i Zamówień Publicznych"]
[405000090,"4.05","Dział Zatrudnienia i Wynagrodzeń"]
[210000090,"2.10","Farmakolog Kliniczny"]
[901000090,"3.02.02.01","Hotel Pracowniczy"]
[202010290,"2.02.01.02","Intensywna Terapia"]
[101000110,"6.04","Kapelan Szpitalny"]
[211000090,"2.11","Koordynator Diagnostyki"]
[905000090,"3.02.03.03","Kotłownia"]
[103040090,"1.03.04","Laboratorium Naukowe"]
[202000090,"2.02.02","Oddział Angiologiczny z Pododdziałem Diabetologii"]
[202030090,"2.02.03","Oddział Chemioterapii z Pododdziałem Chemioterapii Dziennej"]
[202040090,"2.02.04","Oddział Chirurgii Naczyniowej"]
[202050190,"2.02.05.01","Oddział Chirurgii Ogólnej z Pododdziałami"]
[202060090,"2.02.06","Oddział Chirurgii Onkologicznej"]
[202070090,"2.02.07","Oddział Dermatologiczny"]
[202090110,"2.02.09.11","Oddział Kardiologiczny"]
[202100090,"2.02.10","Oddział Kardiologii Dziecięcej z Pododdziałem Kardiochirurgi"]
[202110190,"2.02.11.01","Oddział Nefrologiczny"]
[202120090,"2.02.12","Oddział Neonatologiczny z Pododdziałem Patologii Noworodka"]
[202130090,"2.02.13","Oddział Okulistyczny"]
[202140090,"2.02.14","Oddział Otolaryngologiczny z Pododdziałem Otolaryngologii"]
[202150090,"2.02.15","Oddział Pediatryczny z Pododdziałem Gastroenterologii i"]
[202080090,"2.02.08","Oddział Położniczo – Ginekologiczny"]
[202160090,"2.02.16","Oddział Transplantologiczny"]
[202170190,"2.02.17.01","Oddział Urologii i Urologii Onkologicznej"]
[902000090,"3.02.02.02","Osiedle Mieszkaniowe przy ul. Jutrosińskiej"]
[103030090,"1.03.03","Ośrodek Badań Klinicznych"]
[103060000,"1.03.06","Ośrodek Chirurgii Robotowej"]
[103010090,"1.03.01","Ośrodek Programów Badawczych (OPB) -"]
[101000110,"1.14","Pełnomocnik Dyrektora ds. Kluczowych Inwestycji Szpitala"]
[101000110,"1.07","Pełnomocnik Dyrektora ds. Praw Pacjenta"]
[101000110,"1.04.01","Pełnomocnik Dyrektora ds. Sprzedaży Usług Medycznych i Marke"]
[101000110,"1.06","Pełnomocnik Dyrektora ds. Systemów Informatycznych"]
[101000110,"1.05","Pełnomocnik Dyrektora ds. Systemów Zarządzania Jakością"]
[202110290,"2.02.11.02","Pododdział Diabetologiczny i Trasplantacyjny"]
[202090120,"2.02.09.12","Pododdział Intensywnej Opieki Kardiologicznej"]
[203010090,"2.03.01","Poradnia Alergologiczna Dla Dzieci"]
[203060090,"2.03.06","Poradnia Angiologiczna"]
[203020090,"2.03.02","Poradnia Chirurgii Naczyniowej"]
[203030090,"2.03.03","Poradnia Chirurgii Ogólnej"]
[203040090,"2.03.04","Poradnia Chirurgii Onkologicznej"]
[203050090,"2.03.05","Poradnia Chirurgii Urazowo - Ortopedycznej"]
[203070090,"2.03.07","Poradnia Dermatologiczna"]
[203080090,"2.03.08","Poradnia Gastroenterologiczna Dla Dzieci"]
[203090090,"2.03.09","Poradnia Gastrologiczna"]
[203100090,"2.03.10","Poradnia Ginekologiczno - Położnicza"]
[203110090,"2.03.11","Poradnia Kardiologiczna"]
[203120090,"2.03.12","Poradnia Kardiologiczna dla Dzieci"]
[203130090,"2.03.13","Poradnia Medycyny Pracy"]
[203140090,"2.03.14","Poradnia Metaboliczna"]
[203150090,"2.03.15","Poradnia Nefrologiczna"]
[203170090,"2.03.17","Poradnia Neurochirurgiczna"]
[203180090,"2.03.18","Poradnia Neurologiczna"]
[203190090,"2.03.19","Poradnia Okulistyczna"]
[203200090,"2.03.20","Poradnia Onkologiczna"]
[203210090,"2.03.21","Poradnia Onkologii Ginekologicznej"]
[203220090,"2.03.22","Poradnia Otolaryngologiczna"]
[203160090,"2.03.16","Poradnia Patologii Noworodka"]
[203230090,"2.03.23","Poradnia Transplantacyjna"]
[203240090,"2.03.24","Poradnia Urologiczna"]
[212010090,"2.12.01","Pracownia Badań Przesiewowych"]
[202090390,"2.02.09.03","Pracownia Echokardiograficzna"]
[212020090,"2.12.02","Pracownia EEG"]
[202090490,"2.02.09.04","Pracownia EKG"]
[202090590,"2.02.09.05","Pracownia Elektrofizjologii"]
[202050290,"2.02.05.02","Pracownia Endoskopii"]
[202090690,"2.02.09.06","Pracownia Hemodynamiki"]
[202170290,"2.02.17.02","Pracownia Litotrypsji"]
[101000110,"6.02.04","Pracownik Socjalny"]
[202070190,"2.02.07.01","Program edukacyjny atopowe zapalenie skóry (AZS)"]
[101000110,"6.02","Przełożona Pielęgniarek"]
[213000090,"2.13","Punkt Przyjęć Planowych"]
[403000090,"1.10","Radca Prawny"]
[101000110,"1.12","Samodzielne Stanowiska Administracyjne"]
[112000090,"3.05","Sekcja Bezpieczeczeństwa Obiektu"]
[906000090,"3.02.04","Sekcja Gospodarcza i Obsługa (cześć wspólna)"]
[208000090,"2.08","Sekcja Kontroli Zakażeń Szpitalnych"]
[302000090,"3.02.06","Sekcja Koordynacji Wsparcia Oddziałów"]
[104040090,"1.04.04","Sekcja Marketingu"]
[602030090,"6.02.03","Sekcja Żywienia"]
[101000110,"1.02","Sekretariat"]
[205000090,"2.05","SOR"]
[206000090,"2.06","Stacja Dializ"]
[202080690,"2.02.08.06","Szkoła Rodzenia"]
[304020090,"3.04.02","Zamiejscowa Biblioteka"]
[203250090,"2.03.25","Zamiejscowa Poradnia Chirurgii Urazowo - Ortopedycznej"]
[203260090,"2.03.26","Zamiejscowa Poradnia Rehabilitacji Narządu Ruchu"]
[903000090,"3.02.02.03","Zamiejscowa Szkoła"]
[904000090,"3.02.02.04","Zamiejscowe Pokoje Gościnne"]
[204030090,"2.04.03","Zamiejscowy Blok Operacyjny"]
[603000090,"6.03","Zamiejscowy Dział Rehabilitacji Leczniczej"]
[202180090,"2.02.18","Zamiejscowy Oddział Chirurgii Urazowo - Ortopedycznej"]
[202190090,"2.02.19","Zamiejscowy Oddział Rehabilitacji Neurologicznej"]
[202200090,"2.02.20","Zamiejscowy Oddział Rehabilitacji Ogólnoustrojowej I"]
[202210090,"2.02.21","Zamiejscowy Oddział Rehabilitacji Ogólnoustrojowej II"]
[101000110,"3.01","Z-ca Dyrektora ds. Eksploatacji"]
[101000110,"4.01","Z-ca Dyrektora ds. Finansów i Administracji"]
[101000110,"2.01","Z-ca Dyrektora ds. Medycznych"]
[101000110,"6.01","Z-ca Dyrektora ds. Pielęgniarstwa"]
[407010190,"4.07.01.01","Zespół ds. Planowania, Analiz i Finansowania Inwestycji"]
[407010290,"4.07.01.02","Zespół Konsultantów Biznesowych"]

{"sheet":"baza nisk","index":11,"n_rows":1662,"n_cols":9,"rows_kept":1662,"cut":false,"hidden":true,"merged":[]}
[null,1,null,null,null,null,null,"X",{"$f":"Niskocenne!#REF!","v":{"$error":"#REF!"}}]
["INDEKS","NAZWA INDEKSU","KLASA 2","KLASA 2","CENA (ŚREDNIA)","MPK [POZYCJA]","MPK NAZWA"]
["A-013","Aparat do mierzenia ciśnienia zegarowy","MED. NISK. ŚR. TRW.","MED. NISK. ŚR. TRW.",50,"2.02.05.01","Oddział Chirurgii Ogólnej z Pododdziałami",{"$f":"IF($I$1=G3,$I$1,\"\")","v":{"$error":"#REF!"}}]
["A-013","Aparat do mierzenia ciśnienia zegarowy","MED. NISK. ŚR. TRW.","MED. NISK. ŚR. TRW.",50,"2.02.09.11","Oddział Kardiologiczny",{"$error":"#REF!"}]
["A-013","Aparat do mierzenia ciśnienia zegarowy","MED. NISK. ŚR. TRW.","MED. NISK. ŚR. TRW.",50,"2.02.10","Oddział Kardiologii Dziecięcej z Pododdziałem Kardiochirurgi",{"$error":"#REF!"}]
["A-013","Aparat do mierzenia ciśnienia zegarowy","MED. NISK. ŚR. TRW.","MED. NISK. ŚR. TRW.",50,"2.02.11.01","Oddział Nefrologiczny",{"$error":"#REF!"}]
["A-013","Aparat do mierzenia ciśnienia zegarowy","MED. NISK. ŚR. TRW.","MED. NISK. ŚR. TRW.",50,"2.02.14","Oddział Otolaryngologiczny z Pododdziałem Otolaryngologii",{"$error":"#REF!"}]
["A-013","Aparat do mierzenia ciśnienia zegarowy","MED. NISK. ŚR. TRW.","MED. NISK. ŚR. TRW.",50,"2.02.17.01","Oddział Urologii i Urologii Onkologicznej",{"$error":"#REF!"}]
["A-013","Aparat do mierzenia ciśnienia zegarowy","MED. NISK. ŚR. TRW.","MED. NISK. ŚR. TRW.",50,"2.03.12","Poradnia Kardiologiczna dla Dzieci",{"$error":"#REF!"}]
["A-013","Aparat do mierzenia ciśnienia zegarowy","MED. NISK. ŚR. TRW.","MED. NISK. ŚR. TRW.",50,"2.03.17","Poradnia Neurochirurgiczna",{"$error":"#REF!"}]
["A-013","Aparat do mierzenia ciśnienia zegarowy","MED. NISK. ŚR. TRW.","MED. NISK. ŚR. TRW.",50,"2.03.18","Poradnia Neurologiczna",{"$error":"#REF!"}]
["A-013","Aparat do mierzenia ciśnienia zegarowy","MED. NISK. ŚR. TRW.","MED. NISK. ŚR. TRW.",50,"2.03.19","Poradnia Okulistyczna",{"$error":"#REF!"}]
["A-013","Aparat do mierzenia ciśnienia zegarowy","MED. NISK. ŚR. TRW.","MED. NISK. ŚR. TRW.",50,"2.03.22","Poradnia Otolaryngologiczna",{"$error":"#REF!"}]
["A-013","Aparat do mierzenia ciśnienia zegarowy","MED. NISK. ŚR. TRW.","MED. NISK. ŚR. TRW.",50,"2.05","SOR",{"$error":"#REF!"}]
["A-013","Aparat do mierzenia ciśnienia zegarowy","MED. NISK. ŚR. TRW.","MED. NISK. ŚR. TRW.",50,"2.06","Stacja Dializ",{"$error":"#REF!"}]
["A-013","Aparat do mierzenia ciśnienia zegarowy","MED. NISK. ŚR. TRW.","MED. NISK. ŚR. TRW.",50,"6.03","Zamiejscowy Dział Rehabilitacji Leczniczej",{"$error":"#REF!"}]
["A-013","Aparat do mierzenia ciśnienia zegarowy","MED. NISK. ŚR. TRW.","MED. NISK. ŚR. TRW.",50,"2.02.18","Zamiejscowy Oddział Chirurgii Urazowo - Ortopedycznej",{"$error":"#REF!"}]
["A-013","Aparat do mierzenia ciśnienia zegarowy","MED. NISK. ŚR. TRW.","MED. NISK. ŚR. TRW.",50,"2.02.19","Zamiejscowy Oddział Rehabilitacji Neurologicznej",{"$error":"#REF!"}]
["A-013","Aparat do mierzenia ciśnienia zegarowy","MED. NISK. ŚR. TRW.","MED. NISK. ŚR. TRW.",50,"2.02.20","Zamiejscowy Oddział Rehabilitacji Ogólnoustrojowej I",{"$error":"#REF!"}]
["A-013","Aparat do mierzenia ciśnienia zegarowy","MED. NISK. ŚR. TRW.","MED. NISK. ŚR. TRW.",50,"2.02.21","Zamiejscowy Oddział Rehabilitacji Ogólnoustrojowej II",{"$error":"#REF!"}]
["A-013D","Aparat do mierzenie ciśnienia elektroniczny ","MED. NISK. ŚR. TRW.","MED. NISK. ŚR. TRW.",200,"2.02.05.01","Oddział Chirurgii Ogólnej z Pododdziałami",{"$error":"#REF!"}]
["A-013D","Aparat do mierzenie ciśnienia elektroniczny ","MED. NISK. ŚR. TRW.","MED. NISK. ŚR. TRW.",200,"2.02.07","Oddział Dermatologiczny",{"$error":"#REF!"}]
["A-013D","Aparat do mierzenie ciśnienia elektroniczny ","MED. NISK. ŚR. TRW.","MED. NISK. ŚR. TRW.",200,"2.02.08","Oddział Położniczo – Ginekologiczny",{"$error":"#REF!"}]
["A-013D","Aparat do mierzenie ciśnienia elektroniczny ","MED. NISK. ŚR. TRW.","MED. NISK. ŚR. TRW.",200,"2.03.08","Poradnia Gastroenterologiczna Dla Dzieci",{"$error":"#REF!"}]
["A-013D","Aparat do mierzenie ciśnienia elektroniczny ","MED. NISK. ŚR. TRW.","MED. NISK. ŚR. TRW.",200,"2.06","Stacja Dializ",{"$error":"#REF!"}]
["A-013D","Aparat do mierzenie ciśnienia elektroniczny ","MED. NISK. ŚR. TRW.","MED. NISK. ŚR. TRW.",200,"2.02.19","Zamiejscowy Oddział Rehabilitacji Neurologicznej",{"$error":"#REF!"}]
["A-013E","Aparat do mierzenie ciśnienia elektroniczny ","MED. NISK. ŚR. TRW.","MED. NISK. ŚR. TRW.",200,"2.02.10","Oddział Kardiologii Dziecięcej z Pododdziałem Kardiochirurgi",{"$error":"#REF!"}]
["A-013E","Aparat do mierzenie ciśnienia elektroniczny ","MED. NISK. ŚR. TRW.","MED. NISK. ŚR. TRW.",200,"2.03.12","Poradnia Kardiologiczna dla Dzieci",{"$error":"#REF!"}]
["A-013F","Aparat do mierzenie ciśnienia elektroniczny ","MED. NISK. ŚR. TRW.","MED. NISK. ŚR. TRW.",200,"2.02.19","Zamiejscowy Oddział Rehabilitacji Neurologicznej",{"$error":"#REF!"}]
["A-013G","Aparat do mierzenie ciśnienia elektroniczny ","MED. NISK. ŚR. TRW.","MED. NISK. ŚR. TRW.",200,"2.02.02","Oddział Angiologiczny z Pododdziałem Diabetologii",{"$error":"#REF!"}]
["A-013G","Aparat do mierzenie ciśnienia elektroniczny ","MED. NISK. ŚR. TRW.","MED. NISK. ŚR. TRW.",200,"2.02.03","Oddział Chemioterapii z Pododdziałem Chemioterapii Dziennej",{"$error":"#REF!"}]
["A-013G","Aparat do mierzenie ciśnienia elektroniczny ","MED. NISK. ŚR. TRW.","MED. NISK. ŚR. TRW.",200,"2.02.04","Oddział Chirurgii Naczyniowej",{"$error":"#REF!"}]
["A-013G","Aparat do mierzenie ciśnienia elektroniczny ","MED. NISK. ŚR. TRW.","MED. NISK. ŚR. TRW.",200,"2.02.06","Oddział Chirurgii Onkologicznej",{"$error":"#REF!"}]
["A-013G","Aparat do mierzenie ciśnienia elektroniczny ","MED. NISK. ŚR. TRW.","MED. NISK. ŚR. TRW.",200,"2.02.11.01","Oddział Nefrologiczny",{"$error":"#REF!"}]
["A-013G","Aparat do mierzenie ciśnienia elektroniczny ","MED. NISK. ŚR. TRW.","MED. NISK. ŚR. TRW.",200,"2.02.17.01","Oddział Urologii i Urologii Onkologicznej",{"$error":"#REF!"}]
["A-013G","Aparat do mierzenie ciśnienia elektroniczny ","MED. NISK. ŚR. TRW.","MED. NISK. ŚR. TRW.",200,"2.03.20","Poradnia Onkologiczna",{"$error":"#REF!"}]
["A-013G","Aparat do mierzenie ciśnienia elektroniczny ","MED. NISK. ŚR. TRW.","MED. NISK. ŚR. TRW.",200,"2.03.24","Poradnia Urologiczna",{"$error":"#REF!"}]
["A-013G","Aparat do mierzenie ciśnienia elektroniczny ","MED. NISK. ŚR. TRW.","MED. NISK. ŚR. TRW.",200,"2.02.19","Zamiejscowy Oddział Rehabilitacji Neurologicznej",{"$error":"#REF!"}]
["A-013G","Aparat do mierzenie ciśnienia elektroniczny ","MED. NISK. ŚR. TRW.","MED. NISK. ŚR. TRW.",200,"2.02.20","Zamiejscowy Oddział Rehabilitacji Ogólnoustrojowej I",{"$error":"#REF!"}]
["A-013G","Aparat do mierzenie ciśnienia elektroniczny ","MED. NISK. ŚR. TRW.","MED. NISK. ŚR. TRW.",200,"2.02.21","Zamiejscowy Oddział Rehabilitacji Ogólnoustrojowej II",{"$error":"#REF!"}]
["A-013H","Aparat do mierzenie ciśnienia mechaniczny ","MED. NISK. ŚR. TRW.","MED. NISK. ŚR. TRW.",50,"2.02.04","Oddział Chirurgii Naczyniowej",{"$error":"#REF!"}]
["A-013H","Aparat do mierzenie ciśnienia mechaniczny ","MED. NISK. ŚR. TRW.","MED. NISK. ŚR. TRW.",50,"2.03.03","Poradnia Chirurgii Ogólnej",{"$error":"#REF!"}]
["A-013H","Aparat do mierzenie ciśnienia mechaniczny ","MED. NISK. ŚR. TRW.","MED. NISK. ŚR. TRW.",50,"2.02.20","Zamiejscowy Oddział Rehabilitacji Ogólnoustrojowej I",{"$error":"#REF!"}]
["A-016","Aparat Cyfrowy Samsung","POZOSTAŁE","POZOSTAŁE",399.99,"1.12","Samodzielne Stanowiska Administracyjne",{"$error":"#REF!"}]
["A-061","Aparat do elektroterapii","MED. NISK. ŚR. TRW.","MED. NISK. ŚR. TRW.",2800,"6.03","Zamiejscowy Dział Rehabilitacji Leczniczej",{"$error":"#REF!"}]
["B-011","Biurko komputerowe + 1 kontener","MEBLE","MEBLE",850,"4.02","Dział Zaopatrzenia i Zamówień Publicznych",{"$error":"#REF!"}]
["B-011","Biurko komputerowe + 1 kontener","MEBLE","MEBLE",850,"2.02.12","Oddział Neonatologiczny",{"$error":"#REF!"}]
["B-011A","Biurko komputerowe + 1 kontener","MEBLE","MEBLE",850,"2.02.09.11","Oddział Kardiologiczny",{"$error":"#REF!"}]
["B-011B","Biurko komputerowe +2 kontenery","MEBLE","MEBLE",1350,"2.04.01","Blok Operacyjny",{"$error":"#REF!"}]
["B-011B","Biurko komputerowe +2 kontenery","MEBLE","MEBLE",1350,"3.02","Dział Gospodarki Nieruchomościami i Utrzymania Ruchu",{"$error":"#REF!"}]
["B-011B","Biurko komputerowe +2 kontenery","MEBLE","MEBLE",1350,"4.06.01","Dział Księgowości i Finansów",{"$error":"#REF!"}]
["B-011B","Biurko komputerowe +2 kontenery","MEBLE","MEBLE",1350,"2.03.13","Poradnia Medycyny Pracy",{"$error":"#REF!"}]
["B-011C","Biurko komputerowe +2 kontenery","MEBLE","MEBLE",1350,"3.02","Dział Gospodarki Nieruchomościami i Utrzymania Ruchu",{"$error":"#REF!"}]
["B-011D","Biurko komputerowe +2 kontenery","MEBLE","MEBLE",1350,"2.02.04","Oddział Chirurgii Naczyniowej",{"$error":"#REF!"}]
["B-011D","Biurko komputerowe +2 kontenery","MEBLE","MEBLE",1350,"2.03.02","Poradnia Chirurgii Naczyniowej",{"$f":"IF($I$1=G55,$I$1,\"\")","v":{"$error":"#REF!"}}]
["B-011D","Biurko komputerowe + 1 kontener","MEBLE","MEBLE",850,"2.03.03","Poradnia Chirurgii Ogólnej",{"$error":"#REF!"}]
["B-011D","Biurko komputerowe + 1 kontener","MEBLE","MEBLE",850,"1.02","Sekretariat",{"$error":"#REF!"}]
["B-011D","Biurko komputerowe + 1 kontener","MEBLE","MEBLE",850,"2.02.21","Zamiejscowy Oddział Rehabilitacji Ogólnoustrojowej II",{"$error":"#REF!"}]
["B-011D","Biurko narożne","MEBLE","MEBLE",800,"4.03","Dział Organizacyjno - Prawny",{"$error":"#REF!"}]
["B-011D","Biurko narożne","MEBLE","MEBLE",800,"2.02.01.02","Intensywna Terapia",{"$error":"#REF!"}]
["B-011D","Biurko narożne","MEBLE","MEBLE",800,"2.02.14","Oddział Otolaryngologiczny z Pododdziałem Otolaryngologii",{"$error":"#REF!"}]
["B-011D","Biurko narożne","MEBLE","MEBLE",800,"2.03.04","Poradnia Chirurgii Onkologicznej",{"$error":"#REF!"}]
["B-011D","Biurko narożne","MEBLE","MEBLE",800,"2.02.05.02","Pracownia Endoskopii",{"$error":"#REF!"}]
["B-011E","Biurko narożne","MEBLE","MEBLE",800,"4.07.01.02","Zespół Konsultantów Biznesowych",{"$error":"#REF!"}]
["B-011F","Biurko narożne","MEBLE","MEBLE",800,"2.02.01.02","Intensywna Terapia",{"$error":"#REF!"}]
["B-011F","Biurko narożne","MEBLE","MEBLE",800,"2.02.19","Zamiejscowy Oddział Rehabilitacji Neurologicznej",{"$error":"#REF!"}]
["B-011G","Biurko komputerowe jedno szafkowe","MEBLE","MEBLE",850,"2.02.13","Oddział Okulistyczny",{"$error":"#REF!"}]
["B-011H","Biurko komputerowe jedno szafkowe","MEBLE","MEBLE",850,"2.02.09.03","Pracownia Echokardiograficzna",{"$error":"#REF!"}]
["B-011H","Biurko komputerowe jedno szafkowe","MEBLE","MEBLE",850,"2.02.05.02","Pracownia Endoskopii",{"$error":"#REF!"}]
["B-011I","Biurko komputerowe dwuszafkowe ","MEBLE","MEBLE",1350,"2.03.04","Poradnia Chirurgii Onkologicznej",{"$error":"#REF!"}]
["B-011I","Biurko komputerowe jedno szafkowe","MEBLE","MEBLE",850,"2.02.13","Oddział Okulistyczny",{"$error":"#REF!"}]
["B-011J","Biurko komputerowe dwuszafkowe ","MEBLE","MEBLE",1350,"2.02.13","Oddział Okulistyczny",{"$error":"#REF!"}]
["B-011K","Biurko komputerowe dwuszafkowe ","MEBLE","MEBLE",1350,"2.02.05.02","Pracownia Endoskopii",{"$error":"#REF!"}]
["B-011L","Biurko komputerowe dwuszafkowe ","MEBLE","MEBLE",1350,"2.02.15","Oddział Pediatryczny z Pododdziałem Gastroenterologii ",{"$error":"#REF!"}]
["B-011L","Biurko komputerowe dwuszafkowe ","MEBLE","MEBLE",1350,"2.03.20","Poradnia Onkologiczna",{"$error":"#REF!"}]
["B-011L","Biurko komputerowe dwuszafkowe ","MEBLE","MEBLE",1350,"2.05","SOR",{"$error":"#REF!"}]
["B-011Ł","Biurko komputerowe dwuszafkowe ","MEBLE","MEBLE",1350,"2.02.10","Oddział Kardiologii Dziecięcej z Pododdziałem Kardiochirurgi",{"$error":"#REF!"}]
["B-011M","Biurko komputerowe dwuszafkowe ","MEBLE","MEBLE",1350,"2.02.10","Oddział Kardiologii Dziecięcej z Pododdziałem Kardiochirurgi",{"$error":"#REF!"}]
["B-011N","Biurko narożne","MEBLE","MEBLE",850,"2.02.19","Zamiejscowy Oddział Rehabilitacji Neurologicznej",{"$error":"#REF!"}]
["B-011O","Biurko narożne","MEBLE","MEBLE",850,"2.08","SekcjaKontroli Zakażeń Szpitalnych",{"$error":"#REF!"}]
["B-011P","Biurko narożne","MEBLE","MEBLE",850,"3.02.02.01","Hotel Pracowniczy",{"$error":"#REF!"}]
["B-023A","Balkonik rehabilitacyjny składany aluminiowy","POZOSTAŁE","POZOSTAŁE",250,"2.02.05.01","Oddział Chirurgii Ogólnej z Pododdziałami",{"$error":"#REF!"}]
["B-023A","Balkonik rehabilitacyjny składany aluminiowy","POZOSTAŁE","POZOSTAŁE",250,"6.03","Zamiejscowy Dział Rehabilitacji Leczniczej",{"$error":"#REF!"}]
["B-023B","Balkonik czterokołowy","POZOSTAŁE","POZOSTAŁE",400,"2.02.05.01","Oddział Chirurgii Ogólnej z Pododdziałami",{"$error":"#REF!"}]
["B-023B","Balkonik czterokołowy","POZOSTAŁE","POZOSTAŁE",400,"6.03","Zamiejscowy Dział Rehabilitacji Leczniczej",{"$error":"#REF!"}]
["B-023C","Balkonik czterokołowy z podporami pod pachy","POZOSTAŁE","POZOSTAŁE",500,"6.03","Zamiejscowy Dział Rehabilitacji Leczniczej",{"$error":"#REF!"}]
["B-023D","Balkonik krocząco-stały","POZOSTAŁE","POZOSTAŁE",110.54,"2.02.04","Oddział Chirurgii Naczyniowej",{"$error":"#REF!"}]
["B-023D","Balkonik krocząco-stały","POZOSTAŁE","POZOSTAŁE",110.54,"2.02.21","Zamiejscowy Oddział Rehabilitacji Ogólnoustrojowej II",{"$error":"#REF!"}]
["B-033","Blindownica WALLNER","URZĄDZENIA BIUROWE","URZĄDZ. BIUROWE",420,"1.04.02","Dział Sprzedaży Usług Medycznych",{"$error":"#REF!"}]
["B-033A","Blindownica Fellowes ","URZĄDZENIA BIUROWE","URZĄDZ. BIUROWE",420,"2.02.08.06","Szkoła Rodzenia",{"$error":"#REF!"}]
["C-006","Czajnik-bezprzewodowy","SPRZĘT AGD","SPRZĘT AGD",150,"2.04.01","Blok Operacyjny",{"$error":"#REF!"}]
["C-006","Czajnik-bezprzewodowy","SPRZĘT AGD","SPRZĘT AGD",150,"3.02","Dział Gospodarki Nieruchomościami i Utrzymania Ruchu",{"$error":"#REF!"}]
["C-006","Czajnik-bezprzewodowy","SPRZĘT AGD","SPRZĘT AGD",150,"1.04.03","Dział Rejestracji Statystyki i Dokumentacji Medycznej",{"$error":"#REF!"}]
["C-006","Czajnik-bezprzewodowy","SPRZĘT AGD","SPRZĘT AGD",150,"4.02","Dział Zaopatrzenia i Zamówień Publicznych",{"$error":"#REF!"}]
["C-006","Czajnik-bezprzewodowy","SPRZĘT AGD","SPRZĘT AGD",150,"2.03.04","Poradnia Chirurgii Onkologicznej",{"$error":"#REF!"}]
["C-006","Czajnik-bezprzewodowy","SPRZĘT AGD","SPRZĘT AGD",150,"1.04.04","SekcjaMarketingu",{"$error":"#REF!"}]
["C-006","Czajnik-bezprzewodowy","SPRZĘT AGD","SPRZĘT AGD",150,"2.05","SOR",{"$error":"#REF!"}]
["C-006","Czajnik-bezprzewodowy","SPRZĘT AGD","SPRZĘT AGD",150,"2.02.19","Zamiejscowy Oddział Rehabilitacji Neurologicznej",{"$error":"#REF!"}]
["C-006A","Czajnik-bezprzewodowy","SPRZĘT AGD","SPRZĘT AGD",150,"3.02","Dział Gospodarki Nieruchomościami i Utrzymania Ruchu",{"$error":"#REF!"}]
["C-006A","Czajnik-bezprzewodowy","SPRZĘT AGD","SPRZĘT AGD",150,"4.05","Dział Zatrudnienia i Wynagrodzeń",{"$error":"#REF!"}]
["C-006A","Czajnik-bezprzewodowy","SPRZĘT AGD","SPRZĘT AGD",150,"2.02.20","Zamiejscowy Oddział Rehabilitacji Ogólnoustrojowej I",{"$error":"#REF!"}]
["C-006B","Czajnik-bezprzewodowy","SPRZĘT AGD","SPRZĘT AGD",150,"2.02.15","Oddział Pediatryczny z Pododdziałem Gastroenterologii ",{"$error":"#REF!"}]
["C-006C","Czajnik-bezprzewodowy","SPRZĘT AGD","SPRZĘT AGD",150,"3.02.02.01","Hotel Pracowniczy",{"$error":"#REF!"}]
["C-012","Chłodziarko-zamrażarka","SPRZĘT AGD","SPRZĘT AGD",1100,"2.02.08","Oddział Położniczo – Ginekologiczny",{"$error":"#REF!"}]
["C-012B","Chłodziarko-zamrażarka","SPRZĘT AGD","SPRZĘT AGD",1100,"3.02.02.01","Hotel Pracowniczy",{"$error":"#REF!"}]
["C-012C","Chłodziarko-zamrażarka","SPRZĘT AGD","SPRZĘT AGD",1100,"2.02.08","Oddział Położniczo – Ginekologiczny",{"$error":"#REF!"}]
["C-012D","Chłodziarko-zamrażarka","SPRZĘT AGD","SPRZĘT AGD",1100,"2.02.13","Oddział Okulistyczny",{"$error":"#REF!"}]
["C-012D","Chłodziarko-zamrażarka","SPRZĘT AGD","SPRZĘT AGD",1100,"2.02.05.02","Pracownia Endoskopii",{"$error":"#REF!"}]
["C-012E","Chłodziarka farmaceutyczna","SPRZĘT AGD","SPRZĘT AGD",3320,"2.03.04","Poradnia Chirurgii Onkologicznej",{"$error":"#REF!"}]
["C-012E","Chłodziarka farmaceutyczna","SPRZĘT AGD","SPRZĘT AGD",3320,"2.03.22","Poradnia Otolaryngologiczna",{"$error":"#REF!"}]
["C-012F","Chłodziarko-zamrażarka","SPRZĘT AGD","SPRZĘT AGD",1100,"2.02.10","Oddział Kardiologii Dziecięcej z Pododdziałem Kardiochirurgi",{"$error":"#REF!"}]
["C-012G","Chłodziarko-zamrażarka","SPRZĘT AGD","SPRZĘT AGD",1100,"2.02.15","Oddział Pediatryczny z Pododdziałem Gastroenterologii ",{"$error":"#REF!"}]
["C-012H","Chłodziarko-zamrażarka","SPRZĘT AGD","SPRZĘT AGD",1100,"2.02.09.11","Oddział Kardiologiczny",{"$error":"#REF!"}]
["C-012I","Chłodziarko-zamrażarka","SPRZĘT AGD","SPRZĘT AGD",1100,"3.02.02.01","Hotel Pracowniczy",{"$error":"#REF!"}]
["C-032","Balkonik czterokołowy","MEBLE MEDYCZNE","MEBLE MEDYCZNE",250,"2.02.19","Zamiejscowy Oddział Rehabilitacji Neurologicznej",{"$error":"#REF!"}]
["C-048","Czajnik-bezprzewodowy","SPRZĘT AGD","SPRZĘT AGD",150,"3.02","Dział Gospodarki Nieruchomościami i Utrzymania Ruchu",{"$f":"IF($I$1=G116,$I$1,\"\")","v":{"$error":"#REF!"}}]
["C-048","Czajnik-bezprzewodowy","SPRZĘT AGD","SPRZĘT AGD",150,"1.04.03","Dział Rejestracji Statystyki i Dokumentacji Medycznej",{"$error":"#REF!"}]
["C-048","Czajnik-bezprzewodowy","SPRZĘT AGD","SPRZĘT AGD",150,"3.02.02.01","Hotel Pracowniczy",{"$error":"#REF!"}]
["C-048","Czajnik-bezprzewodowy","SPRZĘT AGD","SPRZĘT AGD",150,"6.03","Zamiejscowy Dział Rehabilitacji Leczniczej",{"$error":"#REF!"}]
["C-048","Czajnik-bezprzewodowy","SPRZĘT AGD","SPRZĘT AGD",150,"2.02.20","Zamiejscowy Oddział Rehabilitacji Ogólnoustrojowej I",{"$error":"#REF!"}]
["C-048A","Czajnik-bezprzewodowy","SPRZĘT AGD","SPRZĘT AGD",150,"2.02.12","Oddział Neonatologiczny z Pododdziałem Patologii Noworodka",{"$error":"#REF!"}]
["C-048B","Czajnik-bezprzewodowy","SPRZĘT AGD","SPRZĘT AGD",150,"1.02","Sekretariat",{"$error":"#REF!"}]
["C-055","Czujnik poziomu hałasu typu SoundEar II","MED. NISK. ŚR. TRW.","MED. NISK. ŚR. TRW.",2000,"2.02.12","Oddział Neonatologiczny z Pododdziałem Patologii Noworodka",{"$error":"#REF!"}]
["D-020","Drabina pojedyńcza 2,5m ","POZOSTAŁE","POZOSTAŁE",400,"2.02.08","Oddział Położniczo – Ginekologiczny",{"$error":"#REF!"}]
["D-020A","Drabina aluminiowa 3-stopniowa","POZOSTAŁE","POZOSTAŁE",200,"1.04.03","Dział Rejestracji Statystyki i Dokumentacji Medycznej",{"$error":"#REF!"}]
["D-020B","Drabina aluminiowa 6-stopniowa","POZOSTAŁE","POZOSTAŁE",260,"2.04.01","Blok Operacyjny",{"$error":"#REF!"}]
["D-020B","Drabina aluminiowa 6-stopniowa","POZOSTAŁE","POZOSTAŁE",260,"1.04.02","Dział Sprzedaży Usług Medycznych",{"$error":"#REF!"}]
["D-020B","Drabina aluminiowa 6-stopniowa","POZOSTAŁE","POZOSTAŁE",260,"2.02.10","Oddział Kardiologii Dziecięcej z Pododdziałem Kardiochirurgi",{"$error":"#REF!"}]
["D-020C","Drabina aluminiowa 4-stopniowa","POZOSTAŁE","POZOSTAŁE",200,"1.04.03","Dział Rejestracji Statystyki i Dokumentacji Medycznej",{"$error":"#REF!"}]
["D-020C","Drabina aluminiowa 4-stopniowa","POZOSTAŁE","POZOSTAŁE",200,"2.08","SekcjaKontroli Zakażeń Szpitalnych",{"$error":"#REF!"}]
["D-020E","Drabina 2-stopniowa","POZOSTAŁE","POZOSTAŁE",180,"2.09","Apteka Szpitalna",{"$error":"#REF!"}]
["D-056","Dermatoskop diodowy mini 3000 LED ze skalą firm","MED. NISK. ŚR. TRW.","MED. NISK. ŚR. TRW.",1341,"2.02.07.01","Programedukacyjny atopowe zapalenie skóry (AZS)",{"$error":"#REF!"}]
["D-060","Detektor tętna płodu UDT-20 SD","MED. NISK. ŚR. TRW.","MED. NISK. ŚR. TRW.",1782,"2.02.08","Oddział Położniczo – Ginekologiczny",{"$error":"#REF!"}]
["F-016","Fotel do pobierania krwi ST-03  U.B.M","MEBLE MEDYCZNE","MEBLE MEDYCZNE",515,"2.02.15","Oddział Pediatryczny z Pododdziałem Gastroenterologii ",{"$error":"#REF!"}]
["F-016A","Fotel do pobierania krwi ST-02  U.B.M","MEBLE MEDYCZNE","MEBLE MEDYCZNE",515,"2.02.04","Oddział Chirurgii Naczyniowej",{"$error":"#REF!"}]
["F-016A","Fotel do pobierania krwi ST-02  U.B.M","MEBLE MEDYCZNE","MEBLE MEDYCZNE",515,"2.02.09.11","Oddział Kardiologiczny",{"$error":"#REF!"}]
["F-026","Fotel obrotowy do komputera","MEBLE","MEBLE",350,"2.04.01","Blok Operacyjny",{"$error":"#REF!"}]
["F-026","Fotel obrotowy do komputera","MEBLE","MEBLE",350,"2.07.03","DODO -Pracowania Tomografii Komputerowej",{"$error":"#REF!"}]
["F-026","Fotel obrotowy do komputera","MEBLE","MEBLE",350,"2.07.05","DODO -Pracownia Rezonansu Magnetycznego",{"$error":"#REF!"}]
["F-026","Fotel obrotowy do komputera","MEBLE","MEBLE",350,"2.07.06","DODO -Pracownia USG",{"$error":"#REF!"}]
["F-026","Fotel obrotowy do komputera","MEBLE","MEBLE",350,"2.07.07","DODO -Pracownia USG Piersi",{"$error":"#REF!"}]
["F-026","Fotel obrotowy do komputera","MEBLE","MEBLE",350,"4.02","Dział Zaopatrzenia i Zamówień Publicznych",{"$error":"#REF!"}]
["F-026","Fotel obrotowy do komputera","MEBLE","MEBLE",350,"2.02.10","Oddział Kardiologii Dziecięcej z Pododdziałem Kardiochirurgi",{"$error":"#REF!"}]
["F-026","Fotel obrotowy do komputera","MEBLE","MEBLE",350,"2.02.08","Oddział Położniczo – Ginekologiczny",{"$error":"#REF!"}]
["F-026","Fotel obrotowy do komputera","MEBLE","MEBLE",350,36951,"Ośrodek Programów Badawczych (OPB)",{"$error":"#REF!"}]
["F-026","Fotel obrotowy do komputera","MEBLE","MEBLE",350,"2.03.14","Poradnia Medycyny Pracy",{"$error":"#REF!"}]
["F-026","Fotel obrotowy do komputera","MEBLE","MEBLE",350,"2.03.20","Poradnia Onkologiczna",{"$error":"#REF!"}]
["F-026","Fotel obrotowy do komputera","MEBLE","MEBLE",350,"2.05","SOR",{"$error":"#REF!"}]
["F-026","Fotel obrotowy do komputera","MEBLE","MEBLE",350,"2.02.19","Zamiejscowy Oddział Rehabilitacji Neurologicznej",{"$error":"#REF!"}]
["F-026","Fotel obrotowy do komputera","MEBLE","MEBLE",350,"2.02.21","Zamiejscowy Oddział Rehabilitacji Ogólnoustrojowej II",{"$error":"#REF!"}]
["F-026A","Fotel obrotowy do komputera","MEBLE","MEBLE",350,"2.08","SekcjaKontroli Zakażeń Szpitalnych",{"$error":"#REF!"}]
["F-026B","Fotel obrotowy do komputera","MEBLE","MEBLE",350,"2.02.19","Zamiejscowy Oddział Rehabilitacji Neurologicznej",{"$error":"#REF!"}]
["F-027","Fotel obrotowy do komputera","MEBLE","MEBLE",350,"3.03","Dział Centralnej Sterylizatorni i DDD",{"$error":"#REF!"}]
["F-027","Fotel obrotowy do komputera","MEBLE","MEBLE",350,"2.02.13","Oddział Okulistyczny",{"$error":"#REF!"}]
["F-027A","Fotel obrotowy do komputera","MEBLE","MEBLE",350,"2.09","Apteka Szpitalna",{"$error":"#REF!"}]
["F-027A","Fotel obrotowy do komputera","MEBLE","MEBLE",350,"2.03.17","Poradnia Neurochirurgiczna",{"$error":"#REF!"}]
["F-037","Fartuch ochronny RTG DG 0,50/0,25 52x100 [SS]","ODZIEŻ OCHRONNA RADIOLOGICZNA","ODZIEŻ OCHRONNA RADIOLOGICZNA",3400,"2.07.04","DODO -Pracownia Diagnostyczno - Zabiegowa Naczyń",{"$error":"#REF!"}]
["F-037A","Fartuch ochronny RTG DG 0,50/0,25 60X90 [MV]","ODZIEŻ OCHRONNA RADIOLOGICZNA","ODZIEŻ OCHRONNA RADIOLOGICZNA",3400,"2.07.04","DODO -Pracownia Diagnostyczno - Zabiegowa Naczyń",{"$error":"#REF!"}]
["F-037B","Fartuch ochronny RTG DG 0,50/0,25 60X100 [MS]","ODZIEŻ OCHRONNA RADIOLOGICZNA","ODZIEŻ OCHRONNA RADIOLOGICZNA",3400,"2.07.04","DODO -Pracownia Diagnostyczno - Zabiegowa Naczyń",{"$error":"#REF!"}]
["F-037B","Fartuch ochronny RTG DG 0,50/0,25 60X100 [MS]","ODZIEŻ OCHRONNA RADIOLOGICZNA","ODZIEŻ OCHRONNA RADIOLOGICZNA",3400,"2.02.09.06","Pracownia Hemodynamiki",{"$error":"#REF!"}]
["F-037C","Fartuch ochronny RTG DG 0,50/0,25 60X110 [MM]","ODZIEŻ OCHRONNA RADIOLOGICZNA","ODZIEŻ OCHRONNA RADIOLOGICZNA",3400,"2.07.04","DODO -Pracownia Diagnostyczno - Zabiegowa Naczyń",{"$error":"#REF!"}]
["F-037C","Fartuch ochronny RTG DG 0,50/0,25 60X110 [MM]","ODZIEŻ OCHRONNA RADIOLOGICZNA","ODZIEŻ OCHRONNA RADIOLOGICZNA",3400,"2.07.01","DODO -Pracownia RTG",{"$error":"#REF!"}]
["F-037C","Fartuch ochronny RTG DG 0,50/0,25 60X110 [MM]","ODZIEŻ OCHRONNA RADIOLOGICZNA","ODZIEŻ OCHRONNA RADIOLOGICZNA",3400,"2.02.09.06","Pracownia Hemodynamiki",{"$error":"#REF!"}]
["F-037D","Fartuch ochronny RTG DG 0,50/0,25 68X100 [LS]","ODZIEŻ OCHRONNA RADIOLOGICZNA","ODZIEŻ OCHRONNA RADIOLOGICZNA",3400,"2.07.04","DODO -Pracownia Diagnostyczno - Zabiegowa Naczyń",{"$error":"#REF!"}]
["F-037E","Fartuch ochronny RTG DG 0,50/0,25 6OX120 [ML]","ODZIEŻ OCHRONNA RADIOLOGICZNA","ODZIEŻ OCHRONNA RADIOLOGICZNA",3400,"2.02.09.11","Oddział Kardiologiczny",{"$error":"#REF!"}]
["F-037F","Fartuch ochronny RTG DG 0,50/0,25 68X120 [LL]","ODZIEŻ OCHRONNA RADIOLOGICZNA","ODZIEŻ OCHRONNA RADIOLOGICZNA",3400,"2.07.04","DODO -Pracownia Diagnostyczno - Zabiegowa Naczyń",{"$f":"IF($I$1=G166,$I$1,\"\")","v":{"$error":"#REF!"}}]
["F-037G","Fartuch ochronny RTG DG 0,50/0,25 72X120 [XLL]","ODZIEŻ OCHRONNA RADIOLOGICZNA","ODZIEŻ OCHRONNA RADIOLOGICZNA",3400,"2.07.04","DODO -Pracownia Diagnostyczno - Zabiegowa Naczyń",{"$error":"#REF!"}]
["F-037G","Fartuch ochronny RTG DG 0,50/0,25 72X120 [XLL]","ODZIEŻ OCHRONNA RADIOLOGICZNA","ODZIEŻ OCHRONNA RADIOLOGICZNA",3400,"2.02.09.05","Pracownia Elektrofizjologii",{"$error":"#REF!"}]
["F-037H","Fartuch ochronny RTG dwuczęściowy kam.męski L d","ODZIEŻ OCHRONNA RADIOLOGICZNA","ODZIEŻ OCHRONNA RADIOLOGICZNA",3400,"2.02.10","Oddział Kardiologii Dziecięcej z Pododdziałem Kardiochirurgi",{"$error":"#REF!"}]
["F-037I","Fartuch ochronny RTG dwuczęściowy kam.męski L d","ODZIEŻ OCHRONNA RADIOLOGICZNA","ODZIEŻ OCHRONNA RADIOLOGICZNA",3400,"2.02.10","Oddział Kardiologii Dziecięcej z Pododdziałem Kardiochirurgi",{"$error":"#REF!"}]
["F-037J","Fartuch ochronny RTG dwuczęściowy kam.damski M","ODZIEŻ OCHRONNA RADIOLOGICZNA","ODZIEŻ OCHRONNA RADIOLOGICZNA",3400,"2.02.10","Oddział Kardiologii Dziecięcej z Pododdziałem Kardiochirurgi",{"$error":"#REF!"}]
["F-037K","Fartuch ochronny RTG DG 0,50/0,25 [XL]","ODZIEŻ OCHRONNA RADIOLOGICZNA","ODZIEŻ OCHRONNA RADIOLOGICZNA",3400,"2.02.17.01","Oddział Urologii i Urologii Onkologicznej",{"$error":"#REF!"}]
["F-037L","Fartuch ochronny RTG DG 0,50/0,25 [XXL]","ODZIEŻ OCHRONNA RADIOLOGICZNA","ODZIEŻ OCHRONNA RADIOLOGICZNA",3400,"2.02.17.01","Oddział Urologii i Urologii Onkologicznej",{"$error":"#REF!"}]
["F-037Ł","Fartuch ochronny RTG DG 0,50/ [M]","ODZIEŻ OCHRONNA RADIOLOGICZNA","ODZIEŻ OCHRONNA RADIOLOGICZNA",3400,"2.02.17.01","Oddział Urologii i Urologii Onkologicznej",{"$error":"#REF!"}]
["F-037M","Fartuch ochronny RTG DG 0,50 [L]","ODZIEŻ OCHRONNA RADIOLOGICZNA","ODZIEŻ OCHRONNA RADIOLOGICZNA",3400,"2.02.17.01","Oddział Urologii i Urologii Onkologicznej",{"$error":"#REF!"}]
["H-014","Haczyk do elektrokoagulacji 8mm na 10 użyć","NARZĘDZIA MEDYCZNE","NARZ. MEDYCZNE",10000,"2.04.01","Blok Operacyjny",{"$error":"#REF!"}]
["H-014","Haczyk do elektrokoagulacji 8mm na 10 użyć","NARZĘDZIA MEDYCZNE","NARZ. MEDYCZNE",10000,"2.04.02","Blok Operacyjny DAVINCI",{"$error":"#REF!"}]
["H-014A","Haczyk do elektrokoagulacji Nr partii M10130522","NARZĘDZIA MEDYCZNE","NARZ. MEDYCZNE",10000,"2.04.01","Blok Operacyjny",{"$error":"#REF!"}]
["H-020","Haczyk mikr. T.Graffe tępy dł.8","NARZĘDZIA MEDYCZNE","NARZ. MEDYCZNE",70,"2.02.13","Oddział Okulistyczny",{"$error":"#REF!"}]
["H-021","Hak operacyjny FARABEUF 25x10/32x12-22x10/28x12","NARZĘDZIA MEDYCZNE","NARZ. MEDYCZNE",51,"2.04.01","Blok Operacyjny",{"$error":"#REF!"}]
["H-021A","Hak operacyjny FARABEUF 23x16/28x16-20x16/24x16","NARZĘDZIA MEDYCZNE","NARZ. MEDYCZNE",63,"2.04.01","Blok Operacyjny",{"$error":"#REF!"}]
["H-022","Hak operacyjny RICHARDSON 30x29mm BT476R","NARZĘDZIA MEDYCZNE","NARZ. MEDYCZNE",220,"2.04.01","Blok Operacyjny",{"$error":"#REF!"}]
["H-023","Haczyk oper.i tchawicz.4Z.ostry BT124R","NARZĘDZIA MEDYCZNE","NARZ. MEDYCZNE",120,"2.04.01","Blok Operacyjny",{"$error":"#REF!"}]
["H-023","Haczyk oper.i tchawicz.4Z.ostry BT124R","NARZĘDZIA MEDYCZNE","NARZ. MEDYCZNE",120,"2.04.03","Zamiejscowy Blok Operacyjny",{"$error":"#REF!"}]
["H-024","Haczyk op.delikat.modyf.4Z.ostry BT114R","NARZĘDZIA MEDYCZNE","NARZ. MEDYCZNE",120,"2.04.01","Blok Operacyjny",{"$error":"#REF!"}]
["H-024","Haczyk op.delikat.modyf.4Z.ostry BT114R","NARZĘDZIA MEDYCZNE","NARZ. MEDYCZNE",120,"2.04.03","Zamiejscowy Blok Operacyjny",{"$error":"#REF!"}]
["H-025","Hak operacyjny VOLKMANN 6z. tępy 8,5x29mm BT230","NARZĘDZIA MEDYCZNE","NARZ. MEDYCZNE",245,"2.04.01","Blok Operacyjny",{"$error":"#REF!"}]
["H-025B","Hak operacyjny VOLKMANN 4z. ostry 9x19mm BT244R","NARZĘDZIA MEDYCZNE","NARZ. MEDYCZNE",245,"2.04.01","Blok Operacyjny",{"$error":"#REF!"}]
["H-025C","Hak operacyjny VOLKMANN 6z. ostry 9x29mm BT246R","NARZĘDZIA MEDYCZNE","NARZ. MEDYCZNE",245,"2.04.01","Blok Operacyjny",{"$error":"#REF!"}]
["H-028","Hak operacyjny OLLIER 4z.tępy 35x55mm BT288R","NARZĘDZIA MEDYCZNE","NARZ. MEDYCZNE",334,"2.04.01","Blok Operacyjny",{"$error":"#REF!"}]
["H-030","Hak brzuszny FRITSCH 64x85mm #5 BT659R","NARZĘDZIA MEDYCZNE","NARZ. MEDYCZNE",420,"2.04.01","Blok Operacyjny",{"$error":"#REF!"}]
["H-031","Hak operacyjny CORYLLOS duży 115x65mm BT523R","NARZĘDZIA MEDYCZNE","NARZ. MEDYCZNE",700,"2.04.01","Blok Operacyjny",{"$error":"#REF!"}]
["H-032","Hak operacyjny US-ARMY 26x15/43x15-23x15/40x15","NARZĘDZIA MEDYCZNE","NARZ. MEDYCZNE",120,"2.04.01","Blok Operacyjny",{"$error":"#REF!"}]
["I-011A","Inhalator pneumatyczny dla dorosłych ","POZOSTAŁE","POZOSTAŁE",700,"6.03","Zamiejscowy Dział Rehabilitacji Leczniczej",{"$error":"#REF!"}]
["I-011A","Inhalator pneumatyczny dla dorosłych ","POZOSTAŁE","POZOSTAŁE",700,"2.02.21","Zamiejscowy Oddział Rehabilitacji Ogólnoustrojowej II",{"$error":"#REF!"}]
["I-011B","Inhalator pneumatyczny ALPHAneb","POZOSTAŁE","POZOSTAŁE",144,"2.02.18","Zamiejscowy Oddział Chirurgii Urazowo - Ortopedycznej",{"$error":"#REF!"}]
["I-011B","Inhalator pneumatyczny dla dorosłych ","POZOSTAŁE","POZOSTAŁE",144,"2.02.19","Zamiejscowy Oddział Rehabilitacji Neurologicznej",{"$error":"#REF!"}]
["I-011C","Inhalator tłokowy","POZOSTAŁE","POZOSTAŁE",860,"2.02.10","Oddział Kardiologii Dziecięcej z Pododdziałem Kardiochirurgi",{"$error":"#REF!"}]
["I-011C","Inhalator tłokowy","POZOSTAŁE","POZOSTAŁE",860,"2.02.18","Zamiejscowy Oddział Chirurgii Urazowo - Ortopedycznej",{"$error":"#REF!"}]
["I-011C","Inhalator tłokowy","POZOSTAŁE","POZOSTAŁE",860,"2.02.19","Zamiejscowy Oddział Rehabilitacji Neurologicznej",{"$error":"#REF!"}]
["I-013B","Igłotrzymacz  HEGAR-MAYO ","NARZĘDZIA MEDYCZNE","NARZ. MEDYCZNE",360,"2.04.01","Blok Operacyjny",{"$error":"#REF!"}]
["I-016","Imadło duże 8mm na 10 użyć","NARZĘDZIA MEDYCZNE","NARZ. MEDYCZNE",10000,"2.04.02","Blok Operacyjny DAVINCI",{"$error":"#REF!"}]
["I-016A","Imadło duże  Nr partii M10130531x1","NARZĘDZIA MEDYCZNE","NARZ. MEDYCZNE",10000,"2.04.01","Blok Operacyjny",{"$error":"#REF!"}]
["I-016B","Imadło duże  Nr partii M10130531x2","NARZĘDZIA MEDYCZNE","NARZ. MEDYCZNE",10000,"2.04.01","Blok Operacyjny",{"$error":"#REF!"}]
["I-016C","Imadło duże Nr partii M11131204X2","NARZĘDZIA MEDYCZNE","NARZ. MEDYCZNE",10000,"2.04.01","Blok Operacyjny",{"$error":"#REF!"}]
["I-016E","Imadło duże  Nr partii N10141003x1","NARZĘDZIA MEDYCZNE","NARZ. MEDYCZNE",10000,"2.04.02","Blok Operacyjny DAVINCI",{"$error":"#REF!"}]
["I-021A","Imadło duże typu SutureCut Nr partii-M10130516x","NARZĘDZIA MEDYCZNE","NARZ. MEDYCZNE",10000,"2.04.01","Blok Operacyjny",{"$error":"#REF!"}]
["I-026","Igłotrzymacz mikrochirurgiczny dł.125mm 5\" szcz","NARZĘDZIA MEDYCZNE","NARZ. MEDYCZNE",170,"2.02.13","Oddział Okulistyczny",{"$error":"#REF!"}]
["I-027","Igłotrzymacz mikrochirurgiczny dł.135mm 5 1/4\"s","NARZĘDZIA MEDYCZNE","NARZ. MEDYCZNE",170,"2.02.13","Oddział Okulistyczny",{"$error":"#REF!"}]
["I-028","Imadło,odgięty pyszczek,dł.125mm typ Castroviej","NARZĘDZIA MEDYCZNE","NARZ. MEDYCZNE",1300,"2.02.13","Oddział Okulistyczny",{"$error":"#REF!"}]
["I-029","Igłotrzymacz typ DE BAKEY dł.230mm prosty z tw.","NARZĘDZIA MEDYCZNE","NARZ. MEDYCZNE",350,"2.04.01","Blok Operacyjny",{"$error":"#REF!"}]
["I-029A","Igłotrzymacz typ DE BAKEY dł.177mm prosty z tw.","NARZĘDZIA MEDYCZNE","NARZ. MEDYCZNE",350,"2.04.01","Blok Operacyjny",{"$error":"#REF!"}]
["I-030","Igłotrzymacz typ CASTROVIEJO dł.140mm prosty z","NARZĘDZIA MEDYCZNE","NARZ. MEDYCZNE",420,"2.04.01","Blok Operacyjny",{"$error":"#REF!"}]
["I-031","Imadło chirurgiczne HEGAR-MAYO 150mm BM235R","NARZĘDZIA MEDYCZNE","NARZ. MEDYCZNE",90,"2.04.01","Blok Operacyjny",{"$error":"#REF!"}]
["I-031","Imadło chirurgiczne HEGAR-MAYO 150mm BM235R","NARZĘDZIA MEDYCZNE","NARZ. MEDYCZNE",90,"2.04.03","Zamiejscowy Blok Operacyjny",{"$error":"#REF!"}]
["I-031A","Imadło chirurgiczne HEGAR-MAYO 190mm BM242R","NARZĘDZIA MEDYCZNE","NARZ. MEDYCZNE",340,"2.04.01","Blok Operacyjny",{"$f":"IF($I$1=G216,$I$1,\"\")","v":{"$error":"#REF!"}}]
["I-031A","Imadło chirurgiczne HEGAR-MAYO 190mm BM242R","NARZĘDZIA MEDYCZNE","NARZ. MEDYCZNE",340,"2.04.03","Zamiejscowy Blok Operacyjny",{"$error":"#REF!"}]
["I-031B","Imadło chirurgiczne HEGAR-MAYO 205mm DUROGRIP B","NARZĘDZIA MEDYCZNE","NARZ. MEDYCZNE",300,"2.04.01","Blok Operacyjny",{"$error":"#REF!"}]
["I-031B","Imadło chirurgiczne HEGAR-MAYO 205mm DUROGRIP B","NARZĘDZIA MEDYCZNE","NARZ. MEDYCZNE",300,"2.02.08","Oddział Położniczo – Ginekologiczny",{"$error":"#REF!"}]
["I-031C","Imadło chirurgiczne HEGAR-MAYO 185mm BM236R","NARZĘDZIA MEDYCZNE","NARZ. MEDYCZNE",105,"2.04.01","Blok Operacyjny",{"$error":"#REF!"}]
["I-031D","Imadło chirurgiczne HEGAR-MAYO 15,5cm TC","NARZĘDZIA MEDYCZNE","NARZ. MEDYCZNE",300,"2.07.04","DODO -Pracownia Diagnostyczno - Zabiegowa Naczyń",{"$error":"#REF!"}]
["I-033","Imadło chirurgiczne CRILE-WOOD mocn. 160mm BM22","NARZĘDZIA MEDYCZNE","NARZ. MEDYCZNE",300,"2.04.01","Blok Operacyjny",{"$error":"#REF!"}]
["I-033","Imadło chirurgiczne CRILE-WOOD mocn. 160mm BM22","NARZĘDZIA MEDYCZNE","NARZ. MEDYCZNE",300,"2.04.03","Zamiejscowy Blok Operacyjny",{"$error":"#REF!"}]
["I-034","Imadło chirurgiczne DE'BAKEY 180mm BM 035R","NARZĘDZIA MEDYCZNE","NARZ. MEDYCZNE",300,"2.04.03","Zamiejscowy Blok Operacyjny",{"$error":"#REF!"}]
["I-035","Imadło chirurgiczne RYDER smukłe 155mm DUROGRIP","NARZĘDZIA MEDYCZNE","NARZ. MEDYCZNE",400,"2.04.03","Zamiejscowy Blok Operacyjny",{"$error":"#REF!"}]
["I-036","Imadło chirurgiczne WANGENSTEEN 275mm BM272R","NARZĘDZIA MEDYCZNE","NARZ. MEDYCZNE",350,"2.04.01","Blok Operacyjny",{"$error":"#REF!"}]
["I-037","Instrument BiClamp,długość 20cm, ceramiczny   E","NARZĘDZIA MEDYCZNE","NARZ. MEDYCZNE",5000,"2.04.01","Blok Operacyjny",{"$error":"#REF!"}]
["I-037A","Instrument BiClamp,długość 26cm, E20195-299","NARZĘDZIA MEDYCZNE","NARZ. MEDYCZNE",5000,"2.04.01","Blok Operacyjny",{"$error":"#REF!"}]
["I-037B","Instrument BiClamp,długość 21cm, E20195-200","NARZĘDZIA MEDYCZNE","NARZ. MEDYCZNE",6000,"2.04.01","Blok Operacyjny",{"$error":"#REF!"}]
["I-037C","Instrument BiClamp,długość 28cm, wygięcie 25 st","NARZĘDZIA MEDYCZNE","NARZ. MEDYCZNE",6000,"2.04.01","Blok Operacyjny",{"$error":"#REF!"}]
["I-039","Imadło naczyniowe 18cm","NARZĘDZIA MEDYCZNE","NARZ. MEDYCZNE",220,"2.07.04","DODO -Pracownia Diagnostyczno - Zabiegowa Naczyń",{"$error":"#REF!"}]
["K-019","Kołdra  CLINIC II 160X200 1200g","POŚCIEL SZPITAL","POŚCIEL SZPITAL",98,"3.02.02.01","Hotel Pracowniczy",{"$error":"#REF!"}]
["K-019","Kołdra  CLINIC II 160X200 1200g","POŚCIEL SZPITAL","POŚCIEL SZPITAL",98,"2.02.02","Oddział Angiologiczny z Pododdziałem Diabetologii",{"$error":"#REF!"}]
["K-019","Kołdra  CLINIC II 160X200 1200g","POŚCIEL SZPITAL","POŚCIEL SZPITAL",98,"2.02.03","Oddział Chemioterapii z Pododdziałem Chemioterapii Dziennej",{"$error":"#REF!"}]
["K-019","Kołdra  CLINIC II 160X200 1200g","POŚCIEL SZPITAL","POŚCIEL SZPITAL",98,"2.02.04","Oddział Chirurgii Naczyniowej",{"$error":"#REF!"}]
["K-019","Kołdra  CLINIC II 160X200 1200g","POŚCIEL SZPITAL","POŚCIEL SZPITAL",98,"2.02.05.01","Oddział Chirurgii Ogólnej z Pododdziałami",{"$error":"#REF!"}]
["K-019","Kołdra  CLINIC II 160X200 1200g","POŚCIEL SZPITAL","POŚCIEL SZPITAL",98,"2.02.06","Oddział Chirurgii Onkologicznej",{"$error":"#REF!"}]
["K-019","Kołdra  CLINIC II 160X200 1200g","POŚCIEL SZPITAL","POŚCIEL SZPITAL",98,"2.02.09.11","Oddział Kardiologiczny",{"$error":"#REF!"}]
["K-019","Kołdra  CLINIC II 160X200 1200g","POŚCIEL SZPITAL","POŚCIEL SZPITAL",98,"2.02.14","Oddział Otolaryngologiczny z Pododdziałem Otolaryngologii",{"$error":"#REF!"}]
["K-019","Kołdra  CLINIC II 160X200 1200g","POŚCIEL SZPITAL","POŚCIEL SZPITAL",98,"2.02.15","Oddział Pediatryczny z Pododdziałem Gastroenterologii ",{"$error":"#REF!"}]
["K-019","Kołdra  CLINIC II 160X200 1200g","POŚCIEL SZPITAL","POŚCIEL SZPITAL",98,"2.02.17.01","Oddział Urologii i Urologii Onkologicznej",{"$error":"#REF!"}]
["K-019","Kołdra  CLINIC II 160X200 1200g","POŚCIEL SZPITAL","POŚCIEL SZPITAL",98,"2.02.19","Zamiejscowy Oddział Rehabilitacji Neurologicznej",{"$error":"#REF!"}]
["K-019","Kołdra  CLINIC II 160X200 1200g","POŚCIEL SZPITAL","POŚCIEL SZPITAL",98,"2.02.20","Zamiejscowy Oddział Rehabilitacji Ogólnoustrojowej I",{"$error":"#REF!"}]
["K-019","Kołdra  CLINIC II 160X200 1200g","POŚCIEL SZPITAL","POŚCIEL SZPITAL",98,"2.02.21","Zamiejscowy Oddział Rehabilitacji Ogólnoustrojowej II",{"$error":"#REF!"}]
["K-019C","Kołdra  CLINIC II 160X200 1200g","POŚCIEL SZPITAL","POŚCIEL SZPITAL",98,"3.02.02.01","Hotel Pracowniczy",{"$error":"#REF!"}]
["K-019D","Kołdra  CLINIC II 160X200 1200g","POŚCIEL SZPITAL","POŚCIEL SZPITAL",98,"3.02.02.01","Hotel Pracowniczy",{"$error":"#REF!"}]
["K-088","Krzesło Iso tapicerowane","MEBLE","MEBLE",140,"2.02.01.02","Intensywna Terapia",{"$error":"#REF!"}]
["K-088","Krzesło Iso tapicerowane","MEBLE","MEBLE",140,"2.02.03","Oddział Chemioterapii z Pododdziałem Chemioterapii Dziennej",{"$error":"#REF!"}]
["K-088","Krzesło Iso tapicerowane","MEBLE","MEBLE",140,"2.05","SOR",{"$error":"#REF!"}]
["K-088A","Krzesło Iso tapicerowane","MEBLE","MEBLE",140,"2.02.07","Oddział Dermatologiczny",{"$error":"#REF!"}]
["K-088A","Krzesło Iso tapicerowane","MEBLE","MEBLE",140,"2.03.15","Poradnia Medycyny Pracy",{"$error":"#REF!"}]
["K-088A","Krzesło Iso tapicerowane","MEBLE","MEBLE",140,"2.03.17","Poradnia Neurochirurgiczna",{"$error":"#REF!"}]
["K-088A","Krzesło Iso tapicerowane","MEBLE","MEBLE",140,"6.03","Zamiejscowy Dział Rehabilitacji Leczniczej",{"$error":"#REF!"}]
["K-088A","Krzesło Iso tapicerowane","MEBLE","MEBLE",140,"4.07.01.02","Zespół Konsultantów Biznesowych",{"$error":"#REF!"}]
["K-088B","Krzesło Iso tapicerowane","MEBLE","MEBLE",140,"2.02.15","Oddział Pediatryczny",{"$error":"#REF!"}]
["K-088B","Krzesło Iso tapicerowane","MEBLE","MEBLE",140,"1.04.04","SekcjaMarketingu",{"$error":"#REF!"}]
["K-088C","Krzesło Iso tapicerowane","MEBLE","MEBLE",140,"6.03","Zamiejscowy Dział Rehabilitacji Leczniczej",{"$error":"#REF!"}]
["K-088D","Krzesło Iso tapicerowane","MEBLE","MEBLE",140,"2.07.03","DODO -Pracowania Tomografii Komputerowej",{"$error":"#REF!"}]
["K-088D","Krzesło Iso tapicerowane","MEBLE","MEBLE",140,"2.07.02","DODO -Pracownia Mammografii",{"$error":"#REF!"}]
["K-088D","Krzesło Iso tapicerowane","MEBLE","MEBLE",140,"6.03","Zamiejscowy Dział Rehabilitacji Leczniczej",{"$error":"#REF!"}]
["K-088D","Krzesło Iso tapicerowane","MEBLE","MEBLE",140,"2.02.19","Zamiejscowy Oddział Rehabilitacji Neurologicznej",{"$error":"#REF!"}]
["K-088E","Krzesło Iso alu S084 2osobowe czy ławka???????","MEBLE","MEBLE",254,"2.02.06","Oddział Chirurgii Onkologicznej",{"$error":"#REF!"}]
["K-088F","Krzesło Iso Wood (drewniane)","MEBLE","MEBLE",170,"2.04.01","Blok Operacyjny",{"$error":"#REF!"}]
["K-088F","Krzesło Iso Wood (drewniane)","MEBLE","MEBLE",170,"2.02.10","Oddział Kardiologii Dziecięcej z Pododdziałem Kardiochirurgi",{"$error":"#REF!"}]
["K-088F","Krzesło Iso Wood (drewniane)","MEBLE","MEBLE",170,"2.02.08","Oddział Położniczo – Ginekologiczny",{"$error":"#REF!"}]
["K-088G","Krzesło Cortina (plastikowe)","MEBLE","MEBLE",80,"2.03.02","Poradnia Chirurgii Naczyniowej",{"$error":"#REF!"}]
["K-088G","Krzesło Cortina (plastikowe)","MEBLE","MEBLE",80,"2.02.21","Zamiejscowy Oddział Rehabilitacji Ogólnoustrojowej II",{"$error":"#REF!"}]
["K-088H","Krzesło  TYPU Samba ","MEBLE","MEBLE",375,"2.02.01.02","Intensywna Terapia",{"$error":"#REF!"}]
["K-088H","Krzesło  TYPU Samba ","MEBLE","MEBLE",375,"2.02.10","Oddział Kardiologii Dziecięcej z Pododdziałem Kardiochirurgi",{"$error":"#REF!"}]
["K-088H","Krzesło  TYPU Samba ","MEBLE","MEBLE",375,"2.02.07.01","Programedukacyjny atopowe zapalenie skóry (AZS)",{"$error":"#REF!"}]
["K-088I","Krzesło Iso Black-skaj V-28","MEBLE","MEBLE",80,"2.02.19","Zamiejscowy Oddział Rehabilitacji Neurologicznej",{"$error":"#REF!"}]
["K-088I","Krzesło Iso Black-skaj V-28","MEBLE","MEBLE",80,"2.02.20","Zamiejscowy Oddział Rehabilitacji Ogólnoustrojowej I",{"$error":"#REF!"}]
["K-088I","Krzesło Iso Black-skaj V-28","MEBLE","MEBLE",80,"2.02.21","Zamiejscowy Oddział Rehabilitacji Ogólnoustrojowej II",{"$error":"#REF!"}]
["K-088J","Krzesło Samba chrom","MEBLE","MEBLE",260,"2.02.12","Oddział Neonatologiczny z Pododdziałem Patologii Noworodka",{"$error":"#REF!"}]
["K-088K","Krzesło Styl chrom -V17","MEBLE","MEBLE",150,"2.02.12","Oddział Neonatologiczny z Pododdziałem Patologii Noworodka",{"$error":"#REF!"}]
["K-088L","Krzesło Iso wood -konferencyjne","MEBLE","MEBLE",120,"2.03.04","Poradnia Chirurgii Onkologicznej",{"$error":"#REF!"}]
["K-088M","Krzesło Beta  Chrome","MEBLE","MEBLE",100,"2.02.09.11","Oddział Kardiologiczny",{"$error":"#REF!"}]
["K-088M","Krzesło Beta  Chrome","MEBLE","MEBLE",100,"2.03.11","Poradnia Kardiologiczna",{"$error":"#REF!"}]
["K-088N","Krzesło OFFIX GTS -M15","MEBLE","MEBLE",450,"2.02.19","Zamiejscowy Oddział Rehabilitacji Neurologicznej",{"$error":"#REF!"}]
["K-091A","Kalkulator ","URZĄDZENIA BIUROWE","URZĄDZ. BIUROWE",60,"4.07.01.02","Zespół Konsultantów Biznesowych",{"$f":"IF($I$1=G280,$I$1,\"\")","v":{"$error":"#REF!"}}]
["K-091B","Kalkulator ","URZĄDZENIA BIUROWE","URZĄDZ. BIUROWE",60,"4.02","Dział Zaopatrzenia i Zamówień Publicznych",{"$error":"#REF!"}]
["K-091C","Kalkulator księgowy","URZĄDZENIA BIUROWE","URZĄDZ. BIUROWE",139.97,"4.06.01","Dział Księgowości i Finansów",{"$error":"#REF!"}]
["K-091D","Kalkulator ","URZĄDZENIA BIUROWE","URZĄDZ. BIUROWE",60,"1.04.02","Dział Sprzedaży Usług Medycznych",{"$error":"#REF!"}]
["K-091D","Kalkulator ","URZĄDZENIA BIUROWE","URZĄDZ. BIUROWE",60,"4.02","Dział Zaopatrzenia i Zamówień Publicznych",{"$error":"#REF!"}]
["K-091E","Kalkulator ","URZĄDZENIA BIUROWE","URZĄDZ. BIUROWE",60,"1.04.02","Dział Sprzedaży Usług Medycznych",{"$error":"#REF!"}]
["K-091E","Kalkulator ","URZĄDZENIA BIUROWE","URZĄDZ. BIUROWE",60,"4.02","Dział Zaopatrzenia i Zamówień Publicznych",{"$error":"#REF!"}]
["K-091G","Kalkulator księgowy","URZĄDZENIA BIUROWE","URZĄDZ. BIUROWE",139.97,"4.06.01","Dział Księgowości i Finansów",{"$error":"#REF!"}]
["K-103","Kozetka -stół rehabilitacyjny ","MEBLE MEDYCZNE","MEBLE MEDYCZNE",275.39999999999998,"2.07.06","DODO -Pracownia USG",{"$error":"#REF!"}]
["K-103","Kozetka -stół rehabilitacyjny ","MEBLE MEDYCZNE","MEBLE MEDYCZNE",275.39999999999998,"2.07.08","DODO -Zamiejscowa Pracownia RTG",{"$error":"#REF!"}]
["K-103","Kozetka -stół rehabilitacyjny ","MEBLE MEDYCZNE","MEBLE MEDYCZNE",275.39999999999998,"2.02.04","Oddział Chirurgii Naczyniowej",{"$error":"#REF!"}]
["K-103","Kozetka -stół rehabilitacyjny ","MEBLE MEDYCZNE","MEBLE MEDYCZNE",275.39999999999998,"2.02.10","Oddział Kardiologii Dziecięcej z Pododdziałem Kardiochirurgi",{"$error":"#REF!"}]
["K-103","Kozetka -stół rehabilitacyjny ","MEBLE MEDYCZNE","MEBLE MEDYCZNE",275.39999999999998,"2.02.15","Oddział Pediatryczny z Pododdziałem Gastroenterologii ",{"$error":"#REF!"}]
["K-103","Kozetka -stół rehabilitacyjny ","MEBLE MEDYCZNE","MEBLE MEDYCZNE",275.39999999999998,"1.03.03","Ośrodek Badań Klinicznych",{"$error":"#REF!"}]
["K-103","Kozetka -stół rehabilitacyjny ","MEBLE MEDYCZNE","MEBLE MEDYCZNE",275.39999999999998,"2.03.04","Poradnia Chirurgii Onkologicznej",{"$error":"#REF!"}]
["K-103","Kozetka -stół rehabilitacyjny ","MEBLE MEDYCZNE","MEBLE MEDYCZNE",275.39999999999998,"2.03.17","Poradnia Neurochirurgiczna",{"$error":"#REF!"}]
["K-103B","Kozetka -stół rehabilitacyjny ","MEBLE MEDYCZNE","MEBLE MEDYCZNE",275.39999999999998,"2.02.08","Oddział Położniczo – Ginekologiczny",{"$error":"#REF!"}]
["K-105","Koszula biała szpitalna dla chorego","POŚCIEL SZPITAL","POŚCIEL SZPITAL",40,"2.02.02","Oddział Angiologiczny z Pododdziałem Diabetologii",{"$error":"#REF!"}]
["K-105","Koszula biała szpitalna dla chorego","POŚCIEL SZPITAL","POŚCIEL SZPITAL",40,"2.02.05.01","Oddział Chirurgii Ogólnej z Pododdziałami",{"$error":"#REF!"}]
["K-105A","Koszula szpitalna dla dzieci flanelowa","POŚCIEL SZPITAL","POŚCIEL SZPITAL",40,"2.02.14","Oddział Otolaryngologiczny z Pododdziałem Otolaryngologii",{"$error":"#REF!"}]
["K-113A","Kontener na kółkach 40x45x60h","MEBLE","MEBLE",479,"4.02","Dział Zaopatrzenia i Zamówień Publicznych",{"$error":"#REF!"}]
["K-113A","Kontener na kółkach 40x45x60h","MEBLE","MEBLE",479,"2.02.10","Oddział Kardiologii Dziecięcej z Pododdziałem Kardiochirurgi",{"$error":"#REF!"}]
["K-113A","Kontener na kółkach 40x45x60h","MEBLE","MEBLE",479,"2.05","SOR",{"$error":"#REF!"}]
["K-113B","Kontener na kółkach 40x50x50h","MEBLE","MEBLE",479,"2.02.13","Oddział Okulistyczny",{"$error":"#REF!"}]
["K-113C","Kontener na kółkach 35x40x60h","MEBLE","MEBLE",479,"2.02.13","Oddział Okulistyczny",{"$error":"#REF!"}]
["K-113C","Kontener na kółkach 35x40x60h","MEBLE","MEBLE",479,"2.03.04","Poradnia Chirurgii Onkologicznej",{"$error":"#REF!"}]
["K-114B","Kleszcze naczyniowe Kocher 1x2z. zakrzywione 14","NARZĘDZIA MEDYCZNE","NARZ. MEDYCZNE",90,"2.04.01","Blok Operacyjny",{"$error":"#REF!"}]
["K-114B","Kleszcze naczyniowe Kocher 1x2z. zakrzywione 14","NARZĘDZIA MEDYCZNE","NARZ. MEDYCZNE",90,"2.03.22","Poradnia Otolaryngologiczna",{"$error":"#REF!"}]
["K-114C","Kleszcze naczyniowe Kocher-OCHSN. zakrzywione 2","NARZĘDZIA MEDYCZNE","NARZ. MEDYCZNE",320,"2.04.01","Blok Operacyjny",{"$error":"#REF!"}]
["K-114C","Kleszcze naczyniowe Kocher-OCHSN. zakrzywione 2","NARZĘDZIA MEDYCZNE","NARZ. MEDYCZNE",320,"2.04.03","Zamiejscowy Blok Operacyjny",{"$error":"#REF!"}]
["K-114E","Kleszcze naczyniowe Kocher-OCHSN zakrzywione 18","NARZĘDZIA MEDYCZNE","NARZ. MEDYCZNE",200,"2.04.01","Blok Operacyjny",{"$error":"#REF!"}]
["K-122","Kuchenka mikrofalowa","SPRZĘT AGD","SPRZĘT AGD",340,"2.02.08","Oddział Położniczo – Ginekologiczny",{"$error":"#REF!"}]
["K-122A","Kuchenka mikrofalowa","SPRZĘT AGD","SPRZĘT AGD",340,"2.02.15","Oddział Pediatryczny z Pododdziałem Gastroenterologii ",{"$error":"#REF!"}]
["K-125A","Kocyk dla noworodka 100%bawełna wymiar: 75/98 c","POŚCIEL SZPITAL","POŚCIEL SZPITAL",33,"2.02.12","Oddział Neonatologiczny z Pododdziałem Patologii Noworodka",{"$error":"#REF!"}]
["K-125A","Kocyk dla noworodka 100%bawełna wymiar: 75/98 c","POŚCIEL SZPITAL","POŚCIEL SZPITAL",33,"2.02.08","Oddział Położniczo – Ginekologiczny",{"$error":"#REF!"}]
["K-125c","Koc szpitalny 160x210","POŚCIEL SZPITAL","POŚCIEL SZPITAL",90,"2.02.02","Oddział Angiologiczny z Pododdziałem Diabetologii",{"$error":"#REF!"}]
["K-125c","Koc szpitalny 160x210","POŚCIEL SZPITAL","POŚCIEL SZPITAL",90,"2.02.03","Oddział Chemioterapii z Pododdziałem Chemioterapii Dziennej",{"$error":"#REF!"}]
["K-125c","Koc szpitalny 160x210","POŚCIEL SZPITAL","POŚCIEL SZPITAL",90,"2.02.06","Oddział Chirurgii Onkologicznej",{"$error":"#REF!"}]
["K-125c","Koc szpitalny 160x210","POŚCIEL SZPITAL","POŚCIEL SZPITAL",90,"2.02.09.11","Oddział Kardiologiczny",{"$error":"#REF!"}]
["K-125c","Koc szpitalny 160x210","POŚCIEL SZPITAL","POŚCIEL SZPITAL",90,"2.02.15","Oddział Pediatryczny z Pododdziałem Gastroenterologii ",{"$error":"#REF!"}]
["K-125c","Koc szpitalny 160x210","POŚCIEL SZPITAL","POŚCIEL SZPITAL",90,"2.02.21","Zamiejscowy Oddział Rehabilitacji Ogólnoustrojowej II",{"$error":"#REF!"}]
["K-158","Kuchnia gazowa","SPRZĘT AGD","SPRZĘT AGD",680.01,"3.02.02.01","Hotel Pracowniczy",{"$error":"#REF!"}]
["K-158A","Kuchnia gazowa","SPRZĘT AGD","SPRZĘT AGD",680.01,"3.02","Dział Gospodarki Nieruchomościami i Utrzymania Ruchu",{"$error":"#REF!"}]
["K-158A","Kuchnia gazowa","SPRZĘT AGD","SPRZĘT AGD",680.01,"3.02.02.01","Hotel Pracowniczy",{"$error":"#REF!"}]
["K-158B","Kuchenka gazowa Amica 58GG4,23OFP","SPRZĘT AGD","SPRZĘT AGD",680.01,"3.02.02.01","Hotel Pracowniczy",{"$error":"#REF!"}]
["K-161","Kanapa-sofa 3DL z funkcją","MEBLE","MEBLE",1249,"2.02.01.02","Intensywna Terapia",{"$error":"#REF!"}]
["K-161A","Kanapa narożna -Narożnik Blue z funkcją tkanina","MEBLE","MEBLE",1899,"2.02.01.02","Intensywna Terapia",{"$error":"#REF!"}]
["K-177","Kosz sterylizacyjny ze stali kwasoodpornej 580x","POZOSTAŁE","POZOSTAŁE",450,"2.02.01.02","Intensywna Terapia",{"$error":"#REF!"}]
["K-177","Kosz sterylizacyjny ze stali kwasoodpornej 580x","POZOSTAŁE","POZOSTAŁE",450,"2.02.05.01","Oddział Chirurgii Ogólnej z Pododdziałami",{"$error":"#REF!"}]
["K-178","Krzesło Prestige","MEBLE","MEBLE",243,"2.02.17.01","Oddział Urologii i Urologii Onkologicznej",{"$error":"#REF!"}]
["K-178A","Krzesło Prestige","MEBLE","MEBLE",243,"2.02.15","Oddział Pediatryczny z Pododdziałem Gastroenterologii ",{"$error":"#REF!"}]
["K-180","Krzesło Ikar ","MEBLE","MEBLE",120.54,"2.02.13","Oddział Okulistyczny",{"$error":"#REF!"}]
["K-180A","Krzesło Ikar ","MEBLE","MEBLE",120.54,"2.02.02","Oddział Angiologiczny z Pododdziałem Diabetologii",{"$error":"#REF!"}]
["K-180B","Krzesło Ikar ","MEBLE","MEBLE",120.54,"2.02.09.11","Oddział Kardiologiczny",{"$error":"#REF!"}]
["K-180B","Krzesło Ikar ","MEBLE","MEBLE",120.54,"2.02.15","Oddział Pediatryczny",{"$error":"#REF!"}]
["K-180B","Krzesło Ikar ","MEBLE","MEBLE",120.54,"2.03.17","Poradnia Neurochirurgiczna",{"$error":"#REF!"}]
["K-180B","Krzesło Ikar ","MEBLE","MEBLE",120.54,"2.02.18","Zamiejscowy Oddział Chirurgii Urazowo - Ortopedycznej",{"$error":"#REF!"}]
["K-180C","Krzesło Ikar ","MEBLE","MEBLE",120.54,"2.03.05","Poradnia Chirurgii Urazowo - Ortopedycznej",{"$error":"#REF!"}]
["K-180D","Krzesło Ikar ","MEBLE","MEBLE",120.54,"2.02.02","Oddział Angiologiczny z Pododdziałem Diabetologii",{"$error":"#REF!"}]
["K-180E","Krzesło Ikar ","MEBLE","MEBLE",120.54,"2.02.03","Oddział Chemioterapii z Pododdziałem Chemioterapii Dziennej",{"$f":"IF($I$1=G339,$I$1,\"\")","v":{"$error":"#REF!"}}]
["K-180E","Krzesło Ikar ","MEBLE","MEBLE",120.54,"2.02.09.11","Oddział Kardiologiczny",{"$error":"#REF!"}]
["K-180E","Krzesło Ikar ","MEBLE","MEBLE",120.54,"2.02.12","Oddział Neonatologiczny",{"$error":"#REF!"}]
["K-180E","Krzesło Ikar ","MEBLE","MEBLE",120.54,"2.06","Stacja Dializ",{"$error":"#REF!"}]
["K-189","Kleszcze zatokowe pediatryczne,lewe STAMMBERGER","NARZĘDZIA MEDYCZNE","NARZ. MEDYCZNE",2200,"2.02.14","Oddział Otolaryngologiczny z Pododdziałem Otolaryngologii",{"$error":"#REF!"}]
["K-189A","Kleszcze zatokowe STAMMBERGER RHINOFORCE II ,pr","NARZĘDZIA MEDYCZNE","NARZ. MEDYCZNE",2600,"2.02.14","Oddział Otolaryngologiczny z Pododdziałem Otolaryngologii",{"$error":"#REF!"}]
["K-189B","Kleszcze zatokowe STAMMBERGER RHINOFORCE II ,le","NARZĘDZIA MEDYCZNE","NARZ. MEDYCZNE",2800,"2.02.14","Oddział Otolaryngologiczny z Pododdziałem Otolaryngologii",{"$error":"#REF!"}]
["K-192","Kasa fiskalna POSNET MOBILE","POZOSTAŁE","POZOSTAŁE",1230,"3.02","Dział Gospodarki Nieruchomościami i Utrzymania Ruchu",{"$error":"#REF!"}]
["K-203","Kleszcze optyczne do kruszenia kamieni,do zast.","NARZĘDZIA MEDYCZNE","NARZ. MEDYCZNE",4500,"2.02.17.01","Oddział Urologii i Urologii Onkologicznej",{"$error":"#REF!"}]
["K-204","Kleszcze optyczne biopsyjne, obie bransze rucho","NARZĘDZIA MEDYCZNE","NARZ. MEDYCZNE",3000,"2.02.17.01","Oddział Urologii i Urologii Onkologicznej",{"$error":"#REF!"}]
["K-205","Kleszcze chwytające,bransze trójramienne ząbkow","NARZĘDZIA MEDYCZNE","NARZ. MEDYCZNE",1300,"2.02.17.01","Oddział Urologii i Urologii Onkologicznej",{"$error":"#REF!"}]
["K-205A","Kleszcze chwytające,bransze trójramienne,ząbkow","NARZĘDZIA MEDYCZNE","NARZ. MEDYCZNE",1400,"2.02.17.01","Oddział Urologii i Urologii Onkologicznej",{"$error":"#REF!"}]
["K-213","Krzesło biurowe DIKE z oparciem głowy","MEBLE","MEBLE",1303.8,"3.02","Dział Gospodarki Nieruchomościami i Utrzymania Ruchu",{"$error":"#REF!"}]
["K-223","Krzesło Smart steel GTS Ring Base","MEBLE","MEBLE",330,"2.02.08","Oddział Położniczo – Ginekologiczny",{"$error":"#REF!"}]
["K-224","Krzeslo Prestige GTS","MEBLE","MEBLE",220,"2.02.14","Oddział Otolaryngologiczny z Pododdziałem Otolaryngologii",{"$error":"#REF!"}]
["K-225","Koszula dla matek karmiących","POŚCIEL SZPITAL","POŚCIEL SZPITAL",50,"2.02.08","Oddział Położniczo – Ginekologiczny",{"$error":"#REF!"}]
["K-225A","Koszula dla matek karmiących","POŚCIEL SZPITAL","POŚCIEL SZPITAL",50,"2.02.08","Oddział Położniczo – Ginekologiczny",{"$error":"#REF!"}]
["K-225C","Koszula dla matek karmiących","POŚCIEL SZPITAL","POŚCIEL SZPITAL",50,"2.02.08","Oddział Położniczo – Ginekologiczny",{"$error":"#REF!"}]
["K-225D","Koszula szpitalna L","POŚCIEL SZPITAL","POŚCIEL SZPITAL",50,"2.02.08","Oddział Położniczo – Ginekologiczny",{"$error":"#REF!"}]
["K-225E","Koszula szpitalna XL","POŚCIEL SZPITAL","POŚCIEL SZPITAL",50,"2.02.08","Oddział Położniczo – Ginekologiczny",{"$error":"#REF!"}]
["K-229","Kaniula metalowa standartowa,prosta, do unitu.","NARZĘDZIA MEDYCZNE","NARZ. MEDYCZNE",400,"2.05","SOR",{"$error":"#REF!"}]
["K-231","Krzesło drewniane","MEBLE","MEBLE",199,"3.02.02.01","Hotel Pracowniczy",{"$error":"#REF!"}]
["K-238A","Kleszcze ClickLine,monopolarne,śr.5mm, dł.rob.4","NARZĘDZIA MEDYCZNE","NARZ. MEDYCZNE",1800,"2.04.01","Blok Operacyjny",{"$error":"#REF!"}]
["K-238B","Kleszcze ClickLine,monopolarne,śr.5mm, dł.rob.4","NARZĘDZIA MEDYCZNE","NARZ. MEDYCZNE",2700,"2.04.01","Blok Operacyjny",{"$error":"#REF!"}]
["K-239A","Kleszcze ClickLine KELLY,długie, monopolarne,śr","NARZĘDZIA MEDYCZNE","NARZ. MEDYCZNE",2600,"2.04.01","Blok Operacyjny",{"$error":"#REF!"}]
["K-239B","Kleszcze ClickLine KELLY,długie, monopolarne,śr","NARZĘDZIA MEDYCZNE","NARZ. MEDYCZNE",2600,"2.04.01","Blok Operacyjny",{"$error":"#REF!"}]
["K-246","Kleszczyki MAGILL 15cm","NARZĘDZIA MEDYCZNE","NARZ. MEDYCZNE",105,"2.02.10","Oddział Kardiologii Dziecięcej z Pododdziałem Kardiochirurgi",{"$error":"#REF!"}]
["K-246","Kleszczyki MAGILL 15cm","NARZĘDZIA MEDYCZNE","NARZ. MEDYCZNE",105,"2.02.12","Oddział Neonatologiczny z Pododdziałem Patologii Noworodka",{"$error":"#REF!"}]
["K-246","Kleszczyki MAGILL 15cm","NARZĘDZIA MEDYCZNE","NARZ. MEDYCZNE",105,"2.02.15","Oddział Pediatryczny z Pododdziałem Gastroenterologii ",{"$error":"#REF!"}]
["K-246A","Kleszczyki MAGILL 20cm","NARZĘDZIA MEDYCZNE","NARZ. MEDYCZNE",40,"2.07.04","DODO -Pracownia Diagnostyczno - Zabiegowa Naczyń",{"$error":"#REF!"}]
["K-246A","Kleszczyki MAGILL 20cm","NARZĘDZIA MEDYCZNE","NARZ. MEDYCZNE",40,"2.02.02","Oddział Angiologiczny z Pododdziałem Diabetologii",{"$error":"#REF!"}]
["K-246A","Kleszczyki MAGILL 20cm","NARZĘDZIA MEDYCZNE","NARZ. MEDYCZNE",40,"2.02.04","Oddział Chirurgii Naczyniowej",{"$error":"#REF!"}]
["K-246A","Kleszczyki MAGILL 20cm","NARZĘDZIA MEDYCZNE","NARZ. MEDYCZNE",40,"2.02.05.01","Oddział Chirurgii Ogólnej z Pododdziałami",{"$error":"#REF!"}]
["K-246A","Kleszczyki MAGILL 20cm","NARZĘDZIA MEDYCZNE","NARZ. MEDYCZNE",40,"2.02.07","Oddział Dermatologiczny",{"$error":"#REF!"}]
["K-246A","Kleszczyki MAGILL 20cm","NARZĘDZIA MEDYCZNE","NARZ. MEDYCZNE",40,"2.02.09.11","Oddział Kardiologiczny",{"$error":"#REF!"}]
["K-246A","Kleszczyki MAGILL 20cm","NARZĘDZIA MEDYCZNE","NARZ. MEDYCZNE",40,"2.02.11.01","Oddział Nefrologiczny",{"$error":"#REF!"}]
["K-246A","Kleszczyki MAGILL 20cm","NARZĘDZIA MEDYCZNE","NARZ. MEDYCZNE",40,"2.02.13","Oddział Okulistyczny",{"$error":"#REF!"}]
["K-246A","Kleszczyki MAGILL 20cm","NARZĘDZIA MEDYCZNE","NARZ. MEDYCZNE",40,"2.02.14","Oddział Otolaryngologiczny z Pododdziałem Otolaryngologii",{"$error":"#REF!"}]
["K-246A","Kleszczyki MAGILL 20cm","NARZĘDZIA MEDYCZNE","NARZ. MEDYCZNE",40,"2.02.15","Oddział Pediatryczny z Pododdziałem Gastroenterologii ",{"$error":"#REF!"}]
["K-246A","Kleszczyki MAGILL 20cm","NARZĘDZIA MEDYCZNE","NARZ. MEDYCZNE",40,"2.02.08","Oddział Położniczo – Ginekologiczny",{"$error":"#REF!"}]
["K-246A","Kleszczyki MAGILL 20cm","NARZĘDZIA MEDYCZNE","NARZ. MEDYCZNE",40,"2.02.17.01","Oddział Urologii i Urologii Onkologicznej",{"$error":"#REF!"}]
["K-246A","Kleszczyki MAGILL 20cm","NARZĘDZIA MEDYCZNE","NARZ. MEDYCZNE",40,"2.03.06","Poradnia Angiologiczna",{"$error":"#REF!"}]
["K-246A","Kleszczyki MAGILL 20cm","NARZĘDZIA MEDYCZNE","NARZ. MEDYCZNE",40,"2.03.03","Poradnia Chirurgii Ogólnej",{"$error":"#REF!"}]
["K-246A","Kleszczyki MAGILL 20cm","NARZĘDZIA MEDYCZNE","NARZ. MEDYCZNE",40,"2.03.04","Poradnia Chirurgii Onkologicznej",{"$error":"#REF!"}]
["K-246A","Kleszczyki MAGILL 20cm","NARZĘDZIA MEDYCZNE","NARZ. MEDYCZNE",40,"2.03.12","Poradnia Kardiologiczna dla Dzieci",{"$error":"#REF!"}]
["K-246A","Kleszczyki MAGILL 20cm","NARZĘDZIA MEDYCZNE","NARZ. MEDYCZNE",40,"2.03.17","Poradnia Neurochirurgiczna",{"$error":"#REF!"}]
["K-246A","Kleszczyki MAGILL 20cm","NARZĘDZIA MEDYCZNE","NARZ. MEDYCZNE",40,"2.03.19","Poradnia Okulistyczna",{"$error":"#REF!"}]
["K-246A","Kleszczyki MAGILL 20cm","NARZĘDZIA MEDYCZNE","NARZ. MEDYCZNE",40,"2.03.24","Poradnia Urologiczna",{"$error":"#REF!"}]
["K-246A","Kleszczyki MAGILL 20cm","NARZĘDZIA MEDYCZNE","NARZ. MEDYCZNE",40,"2.02.05.02","Pracownia Endoskopii",{"$error":"#REF!"}]
["K-246A","Kleszczyki MAGILL 20cm","NARZĘDZIA MEDYCZNE","NARZ. MEDYCZNE",40,"2.05","SOR",{"$error":"#REF!"}]
["K-246A","Kleszczyki MAGILL 20cm","NARZĘDZIA MEDYCZNE","NARZ. MEDYCZNE",40,"2.06","Stacja Dializ",{"$error":"#REF!"}]
["K-246A","Kleszczyki MAGILL 20cm","NARZĘDZIA MEDYCZNE","NARZ. MEDYCZNE",40,"2.02.19","Zamiejscowy Oddział Rehabilitacji Neurologicznej",{"$error":"#REF!"}]
["K-246A","Kleszczyki MAGILL 20cm","NARZĘDZIA MEDYCZNE","NARZ. MEDYCZNE",40,"2.02.21","Zamiejscowy Oddział Rehabilitacji Ogólnoustrojowej II",{"$error":"#REF!"}]
["K-246B","Kleszczyki MAGILL 25cm","NARZĘDZIA MEDYCZNE","NARZ. MEDYCZNE",40,"2.02.15","Oddział Pediatryczny z Pododdziałem Gastroenterologii ",{"$error":"#REF!"}]
["K-250","Kleszcze biopsyjne owalne z igłą AF-2423BW","NARZĘDZIA MEDYCZNE","NARZ. MEDYCZNE",637.20000000000005,"2.02.15","Oddział Pediatryczny z Pododdziałem Gastroenterologii ",{"$error":"#REF!"}]
["K-251","Kaniula ssąca YANKAUER 285mm GF944R","NARZĘDZIA MEDYCZNE","NARZ. MEDYCZNE",130,"2.04.01","Blok Operacyjny",{"$error":"#REF!"}]
["K-251A","Kaniula ssąca FERGUSSON fi 4,0mm DL R.110mm  GF","NARZĘDZIA MEDYCZNE","NARZ. MEDYCZNE",130,"2.04.01","Blok Operacyjny",{"$error":"#REF!"}]
["K-252A","Kleszczyki naczyniowe SATINSKY 265mm FB605R","NARZĘDZIA MEDYCZNE","NARZ. MEDYCZNE",570,"2.04.01","Blok Operacyjny",{"$f":"IF($I$1=G396,$I$1,\"\")","v":{"$error":"#REF!"}}]
["K-253","Kleszcze atraumatyczne naczyniowe DERRA duże 26","NARZĘDZIA MEDYCZNE","NARZ. MEDYCZNE",670,"2.04.01","Blok Operacyjny",{"$error":"#REF!"}]
["K-255","Kleszcze preparacyjne MIXTER 250mm BJ062R","NARZĘDZIA MEDYCZNE","NARZ. MEDYCZNE",370,"2.04.01","Blok Operacyjny",{"$error":"#REF!"}]
["K-255A","Kleszcze preparacyjne OVERHOLT delik.#1 260cmBJ","NARZĘDZIA MEDYCZNE","NARZ. MEDYCZNE",440,"2.04.03","Zamiejscowy Blok Operacyjny",{"$error":"#REF!"}]
["K-255B","Kleszcze preparacyjne OVERHOLT-GEISSEND #3 225m","NARZĘDZIA MEDYCZNE","NARZ. MEDYCZNE",435,"2.04.01","Blok Operacyjny",{"$error":"#REF!"}]
["K-255B","Kleszcze preparacyjne OVERHOLT-GEISSEND #3 225m","NARZĘDZIA MEDYCZNE","NARZ. MEDYCZNE",435,"2.04.03","Zamiejscowy Blok Operacyjny",{"$error":"#REF!"}]
["K-255C","Kleszcze preparacyjne OVERHOLT-GEISSEND #2 220m","NARZĘDZIA MEDYCZNE","NARZ. MEDYCZNE",435,"2.04.01","Blok Operacyjny",{"$error":"#REF!"}]
["K-255C","Kleszcze preparacyjne OVERHOLT-GEISSEND #2 220m","NARZĘDZIA MEDYCZNE","NARZ. MEDYCZNE",435,"2.02.09.05","Pracownia Elektrofizjologii",{"$error":"#REF!"}]
["K-255C","Kleszcze preparacyjne OVERHOLT-GEISSEND #2 220m","NARZĘDZIA MEDYCZNE","NARZ. MEDYCZNE",435,"2.04.03","Zamiejscowy Blok Operacyjny",{"$error":"#REF!"}]
["K-255D","Kleszcze preparacyjne ADSON 180mm, małe BJ014R","NARZĘDZIA MEDYCZNE","NARZ. MEDYCZNE",432,"2.04.01","Blok Operacyjny",{"$error":"#REF!"}]
["K-255E","Kleszcze preparacyjne OVERHOLT-GEISSEND #1 BJ02","NARZĘDZIA MEDYCZNE","NARZ. MEDYCZNE",435,"2.04.01","Blok Operacyjny",{"$error":"#REF!"}]
["K-255F","Kleszcze preparacyjne GEMINI 200mm BJ103R","NARZĘDZIA MEDYCZNE","NARZ. MEDYCZNE",260,"2.04.01","Blok Operacyjny",{"$error":"#REF!"}]
["K-255G","Kleszcze OVERHOLT 21cm,fig.3  07-1711.03","NARZĘDZIA MEDYCZNE","NARZ. MEDYCZNE",100,"2.07.04","DODO -Pracownia Diagnostyczno - Zabiegowa Naczyń",{"$error":"#REF!"}]
["K-255H","Kleszcze OVERHOLT-MARTIN 18,5cm,\"S\" 14.0340.01","NARZĘDZIA MEDYCZNE","NARZ. MEDYCZNE",100,"2.07.04","DODO -Pracownia Diagnostyczno - Zabiegowa Naczyń",{"$error":"#REF!"}]
["K-256","Kleszcze naczyniowe ROCHESTER-PEAN zakrzywione","NARZĘDZIA MEDYCZNE","NARZ. MEDYCZNE",220,"2.04.01","Blok Operacyjny",{"$error":"#REF!"}]
["K-256","Kleszcze naczyniowe ROCHESTER-PEAN zakrzywione","NARZĘDZIA MEDYCZNE","NARZ. MEDYCZNE",220,"2.04.03","Zamiejscowy Blok Operacyjny",{"$error":"#REF!"}]
["K-256A","Kleszcze naczyniowe ROCHESTER-PEAN zakrzywione","NARZĘDZIA MEDYCZNE","NARZ. MEDYCZNE",220,"2.04.01","Blok Operacyjny",{"$error":"#REF!"}]
["K-256A","Kleszcze naczyniowe ROCHESTER-PEAN zakrzywione","NARZĘDZIA MEDYCZNE","NARZ. MEDYCZNE",220,"2.04.03","Zamiejscowy Blok Operacyjny",{"$error":"#REF!"}]
["K-256B","Kleszcze naczyniowe ROCHESTER-PEAN zakrzywione","NARZĘDZIA MEDYCZNE","NARZ. MEDYCZNE",220,"2.04.01","Blok Operacyjny",{"$error":"#REF!"}]
["K-256B","Kleszcze naczyniowe ROCHESTER-PEAN zakrzywione","NARZĘDZIA MEDYCZNE","NARZ. MEDYCZNE",220,"2.03.06","Poradnia Angiologiczna",{"$error":"#REF!"}]
["K-256B","Kleszcze naczyniowe ROCHESTER-PEAN zakrzywione","NARZĘDZIA MEDYCZNE","NARZ. MEDYCZNE",220,"2.03.22","Poradnia Otolaryngologiczna",{"$error":"#REF!"}]
["K-256B","Kleszcze naczyniowe ROCHESTER-PEAN zakrzywione","NARZĘDZIA MEDYCZNE","NARZ. MEDYCZNE",220,"2.06","Stacja Dializ",{"$error":"#REF!"}]
["K-256C","Kleszcze naczyniowe ROCHESTER-PEAN proste 240mm","NARZĘDZIA MEDYCZNE","NARZ. MEDYCZNE",220,"2.04.01","Blok Operacyjny",{"$error":"#REF!"}]
["K-256D","Kleszcze naczyniowe ROCHESTER-PEAN zakrzywione","NARZĘDZIA MEDYCZNE","NARZ. MEDYCZNE",220,"2.02.09.05","Pracownia Elektrofizjologii",{"$error":"#REF!"}]
["K-257","Kleszczyki HALSTEDA proste 125mm  BH110R","NARZĘDZIA MEDYCZNE","NARZ. MEDYCZNE",80,"2.04.01","Blok Operacyjny",{"$error":"#REF!"}]
["K-257","Kleszczyki HALSTEDA proste 125mm  BH110R","NARZĘDZIA MEDYCZNE","NARZ. MEDYCZNE",80,"2.02.16","Oddział Transplantologiczny",{"$error":"#REF!"}]
["K-257","Kleszczyki HALSTEDA proste 125mm  BH110R","NARZĘDZIA MEDYCZNE","NARZ. MEDYCZNE",80,"2.03.22","Poradnia Otolaryngologiczna",{"$error":"#REF!"}]
["K-257A","Kleszczyki HALSTEDA 1x2z. proste 125mm BH120R","NARZĘDZIA MEDYCZNE","NARZ. MEDYCZNE",80,"2.02.09.05","Pracownia Elektrofizjologii",{"$error":"#REF!"}]
["K-257B","Kleszczyki HALSTEDA zakrzywione 125mm BH111R","NARZĘDZIA MEDYCZNE","NARZ. MEDYCZNE",100,"2.04.01","Blok Operacyjny",{"$error":"#REF!"}]
["K-257C","Kleszczyki HALSTEDA zakrzyw. 100mm,małe BH105R","NARZĘDZIA MEDYCZNE","NARZ. MEDYCZNE",100,"2.02.06","Oddział Chirurgii Onkologicznej",{"$error":"#REF!"}]
["K-257C","Kleszczyki HALSTEDA zakrzyw. 100mm,małe BH105R","NARZĘDZIA MEDYCZNE","NARZ. MEDYCZNE",100,"2.03.06","Poradnia Angiologiczna",{"$error":"#REF!"}]
["K-257C","Kleszczyki HALSTEDA zakrzyw. 100mm,małe BH105R","NARZĘDZIA MEDYCZNE","NARZ. MEDYCZNE",100,"2.03.04","Poradnia Chirurgii Onkologicznej",{"$error":"#REF!"}]
["K-257C","Kleszczyki HALSTEDA zakrzyw. 100mm,małe BH105R","NARZĘDZIA MEDYCZNE","NARZ. MEDYCZNE",100,"2.02.09.05","Pracownia Elektrofizjologii",{"$error":"#REF!"}]
["K-257D","Kleszczyki HALSTEDA 1x2z. zakrzywione 100mm BH1","NARZĘDZIA MEDYCZNE","NARZ. MEDYCZNE",100,"2.03.06","Poradnia Angiologiczna",{"$error":"#REF!"}]
["K-266","Krzeslo Cortina -plastikowe","MEBLE","MEBLE",80,"2.02.20","Zamiejscowy Oddział Rehabilitacji Ogólnoustrojowej I",{"$error":"#REF!"}]
["K-267","Fotel obrotowy do komputera","MEBLE","MEBLE",220,"3.02","Dział Gospodarki Nieruchomościami i Utrzymania Ruchu",{"$error":"#REF!"}]
["K-267","Fotel obrotowy do komputera","MEBLE","MEBLE",220,"2.02.15","Oddział Pediatryczny z Pododdziałem Gastroenterologii ",{"$error":"#REF!"}]
["K-267","Fotel obrotowy do komputera","MEBLE","MEBLE",220,"2.02.08","Oddział Położniczo – Ginekologiczny",{"$error":"#REF!"}]
["K-267","Fotel obrotowy do komputera","MEBLE","MEBLE",220,"2.02.20","Zamiejscowy Oddział Rehabilitacji Ogólnoustrojowej I",{"$error":"#REF!"}]
["K-269","Krzesło-Salina fotel ogrodowy 5-cio pozycyjny(b","MEBLE","MEBLE",220,"2.02.03","Oddział Chemioterapii z Pododdziałem Chemioterapii Dziennej",{"$error":"#REF!"}]
["K-271","Kasetka metalowa MG-5P MG-K7","POZOSTAŁE","POZOSTAŁE",130,"2.02.09.11","Oddział Kardiologiczny",{"$error":"#REF!"}]
["K-273","Krzesło Hit W-03 czarne","MEBLE","MEBLE",238.62,"2.09","Apteka Szpitalna",{"$error":"#REF!"}]
["K-273","Krzesło Hit W-03 czarne","MEBLE","MEBLE",238.62,"4.03","Dział Organizacyjno - Prawny",{"$error":"#REF!"}]
["K-273","Krzesło Hit W-03 czarne","MEBLE","MEBLE",238.62,"6.02.04","Pracownik Socjalny",{"$error":"#REF!"}]
["K-273","Krzesło Hit W-03 czarne","MEBLE","MEBLE",238.62,"4.07.01.02","Zespół Konsultantów Biznesowych",{"$error":"#REF!"}]
["K-274","Krzesło TECHNO-1523  Hocker","MEBLE","MEBLE",238.62,"2.02.09.11","Oddział Kardiologiczny",{"$error":"#REF!"}]
["K-284","Kosz ze stali nierdzewnej z uchwytem na szynę[d","POZOSTAŁE","POZOSTAŁE",400,"2.02.09.11","Oddział Kardiologiczny",{"$error":"#REF!"}]
["K-284A","Kosz ze stali nierdzewnej o dł.500mm","POZOSTAŁE","POZOSTAŁE",400,"2.02.10","Oddział Kardiologii Dziecięcej z Pododdziałem Kardiochirurgi",{"$error":"#REF!"}]
["K-285","Kleszcze jelitowe ClickLine,monopolarne, śr.5mm","NARZĘDZIA MEDYCZNE","NARZ. MEDYCZNE",1830.4,"2.04.01","Blok Operacyjny",{"$error":"#REF!"}]
["K-285A","Kleszcze jelitowe JUDD-ALLIS 3x4z 200mm EA026R","NARZĘDZIA MEDYCZNE","NARZ. MEDYCZNE",1830.4,"2.04.01","Blok Operacyjny",{"$error":"#REF!"}]
["K-286","Kleszcze ClickLine,\"Pazury\"2x3,uchwyt metalowy,","NARZĘDZIA MEDYCZNE","NARZ. MEDYCZNE",1837.29,"2.04.01","Blok Operacyjny",{"$error":"#REF!"}]
["K-287","Kleszcze ClickLine MANHES,uchwyt metalowy,śr.5m","NARZĘDZIA MEDYCZNE","NARZ. MEDYCZNE",1730.43,"2.04.01","Blok Operacyjny",{"$error":"#REF!"}]
["K-288","Kleszcze chwytające RoBi,bipolarne, okienkowe,ś","NARZĘDZIA MEDYCZNE","NARZ. MEDYCZNE",3278.16,"2.04.01","Blok Operacyjny",{"$error":"#REF!"}]
["K-289","Kulociąg ClickLine SAWALHE,długi,uchwyt metalow","NARZĘDZIA MEDYCZNE","NARZ. MEDYCZNE",2416.39,"2.04.01","Blok Operacyjny",{"$error":"#REF!"}]
["K-290","Kleszcze ClickLine,miseczkowe,uchwyt metalowy,ś","NARZĘDZIA MEDYCZNE","NARZ. MEDYCZNE",1833.83,"2.04.01","Blok Operacyjny",{"$error":"#REF!"}]
["K-291","Kleszcze chwytające,do fragmentów kamieni,5Fr,d","NARZĘDZIA MEDYCZNE","NARZ. MEDYCZNE",1833.83,"2.02.17.01","Oddział Urologii i Urologii Onkologicznej",{"$error":"#REF!"}]
["K-292","Kleszcze chwytające PEREZ-CASTRO,5Fr, dł.60 cm,","NARZĘDZIA MEDYCZNE","NARZ. MEDYCZNE",1833.83,"2.02.17.01","Oddział Urologii i Urologii Onkologicznej"]
["K-293","Kleszcze rozdzielające,5Fr,dł.60 cm, jedna bran","NARZĘDZIA MEDYCZNE","NARZ. MEDYCZNE",1833.83,"2.02.17.01","Oddział Urologii i Urologii Onkologicznej"]
["K-294","Kleszcze chwytające,obie bransze ruchome,5Fr.dł","NARZĘDZIA MEDYCZNE","NARZ. MEDYCZNE",1300,"2.02.17.01","Oddział Urologii i Urologii Onkologicznej"]
["K-295","Kleszcze biopsyjne,obie bransze ruchome,5Fr.dł.","NARZĘDZIA MEDYCZNE","NARZ. MEDYCZNE",1300,"2.02.17.01","Oddział Urologii i Urologii Onkologicznej"]
["K-298","Kleszcze naczyniowe PEAN zakrzyw.140mm BH 415R","NARZĘDZIA MEDYCZNE","NARZ. MEDYCZNE",50,"2.02.09.05","Pracownia Elektrofizjologii"]
["K-298A","Kleszcze naczyniowe PEAN odgięte długie KN-063-","NARZĘDZIA MEDYCZNE","NARZ. MEDYCZNE",80,"2.04.01","Blok Operacyjny"]
["K-299A","Kleszczyki naczyniowe ROCHESTER-OCHSMR 1x2z. pr","NARZĘDZIA MEDYCZNE","NARZ. MEDYCZNE",80,"2.06","Stacja Dializ"]
["K-300A","Kleszcze naczyniowe Kocher 1x2z. proste 150mm","NARZĘDZIA MEDYCZNE","NARZ. MEDYCZNE",110,"2.02.08","Oddział Położniczo – Ginekologiczny"]
["K-300B","Kleszcze naczyniowe Kocher 1x2z. proste 140mm","NARZĘDZIA MEDYCZNE","NARZ. MEDYCZNE",110,"2.02.08","Oddział Położniczo – Ginekologiczny"]
["K-307","Komoda ","MEBLE","MEBLE",479.7,"4.02","Dział Zaopatrzenia i Zamówień Publicznych"]
["K-307A","Komoda ","MEBLE","MEBLE",479.7,"2.02.10","Oddział Kardiologii Dziecięcej z Pododdziałem Kardiochirurgi"]
["K-309","Kosz druciany perforowany 406x253x106mm JF254R","NARZĘDZIA MEDYCZNE","NARZ. MEDYCZNE",500,"2.04.01","Blok Operacyjny"]
["K-309","Kosz druciany perforowany 406x253x106mm JF254R","NARZĘDZIA MEDYCZNE","NARZ. MEDYCZNE",500,"2.04.03","Zamiejscowy Blok Operacyjny"]
["K-309A","Kosz druciany perforowany 540X253X106mm JF224R","NARZĘDZIA MEDYCZNE","NARZ. MEDYCZNE",500,"2.04.01","Blok Operacyjny"]
["K-317","Krzeslo  do  komputera Stillo 10 GTP","MEBLE","MEBLE",350,"3.02","Dział Gospodarki Nieruchomościami i Utrzymania Ruchu"]
["K-317","Krzeslo  do  komputera Stillo 10 GTP","MEBLE","MEBLE",350,"4.06.01","Dział Księgowości i Finansów"]
["K-317","Krzeslo  do  komputera Stillo 10 GTP","MEBLE","MEBLE",350,"4.07.01.01","Dział Planowania, Analiz i Finansowania Inwestycji"]
["K-317","Krzeslo  do  komputera Stillo 10 GTP","MEBLE","MEBLE",350,"1.04.03","Dział Rejestracji Statystyki i Dokumentacji Medycznej"]
["K-317","Krzeslo  do  komputera Stillo 10 GTP","MEBLE","MEBLE",350,"4.02","Dział Zaopatrzenia i Zamówień Publicznych"]
["K-317","Krzeslo  do  komputera Stillo 10 GTP","MEBLE","MEBLE",350,"4.05","Dział Zatrudnienia i Wynagrodzeń"]
["K-317","Krzeslo  do  komputera Stillo 10 GTP","MEBLE","MEBLE",350,"2.02.01.02","Intensywna Terapia"]
["K-317","Krzeslo  do  komputera Stillo 10 GTP","MEBLE","MEBLE",350,"2.02.10","Oddział Kardiologii Dziecięcej z Pododdziałem Kardiochirurgi"]
["K-317","Krzeslo  do  komputera Stillo 10 GTP","MEBLE","MEBLE",350,"2.03.20","Poradnia Onkologiczna"]
["K-317","Krzeslo  do  komputera Stillo 10 GTP","MEBLE","MEBLE",350,"1.02","Sekretariat"]
["K-317","Krzeslo  do  komputera Stillo 10 GTP","MEBLE","MEBLE",350,"2.05","SOR"]
["K-317A","Krzeslo  do  komputera Stillo 10 GTP","MEBLE","MEBLE",350,"2.02.12","Oddział Neonatologiczny z Pododdziałem Patologii Noworodka"]
["K-317B","Krzeslo  do  komputera Stillo 10 GTP","MEBLE","MEBLE",350,"2.03.04","Poradnia Chirurgii Onkologicznej"]
["K-317B","Krzeslo  do  komputera Stillo 10 GTP","MEBLE","MEBLE",350,"2.02.21","Zamiejscowy Oddział Rehabilitacji Ogólnoustrojowej II"]
["K-319","Krzesło konferencyjne Profim ARCA 21 SL metalik","MEBLE","MEBLE",799.5,"1.04.03","Dział Rejestracji Statystyki i Dokumentacji Medycznej"]
["K-319","Krzesło konferencyjne Profim ARCA 21 SL metalik","MEBLE","MEBLE",799.5,"3.02.04","SekcjaGospodarcza i Obsługa (cześć wspólna)"]
["K-319A","Krzesło konferencyjne Profim  Sensi K1H chrom","MEBLE","MEBLE",799.5,"1.04.03","Dział Rejestracji Statystyki i Dokumentacji Medycznej"]
["K-320","Krzesło obrotowe Profim Arca 21SL metalik","MEBLE","MEBLE",799.5,"1.04.03","Dział Rejestracji Statystyki i Dokumentacji Medycznej"]
["K-320A","Krzesło Bingo GTP Plus wood","MEBLE","MEBLE",565,"2.02.13","Oddział Okulistyczny"]
["K-321","Krzesło Vilmar białe w czarne linie","MEBLE","MEBLE",120,"1.04.03","Dział Rejestracji Statystyki i Dokumentacji Medycznej"]
["K-322","Kubik kontener KUB-KN-021 -z szfladami","MEBLE","MEBLE",900,"1.04.03","Dział Rejestracji Statystyki i Dokumentacji Medycznej"]
["K-322A","Kubik kontener KUB-KN-022-z szfladami","MEBLE","MEBLE",900,"1.04.03","Dział Rejestracji Statystyki i Dokumentacji Medycznej"]
["K-327","Krzeslo H261-ciemny beż","MEBLE","MEBLE",180,"2.02.09.11","Oddział Kardiologiczny"]
["K-327A","Krzeslo KT stelaż jabłoń,obicie Ekoskóra 21S-Or","MEBLE","MEBLE",180,"3.02.02.01","Hotel Pracowniczy"]
["K-332","Kleszcze do zaciskania drenów dł150mm 6\" szczęk","NARZĘDZIA MEDYCZNE","NARZ. MEDYCZNE",60.27,"2.02.13","Oddział Okulistyczny"]
["K-334","Kleszczyki naczyniowe typu JACKE 130mm odgięte","NARZĘDZIA MEDYCZNE","NARZ. MEDYCZNE",72.52,"2.04.01","Blok Operacyjny"]
["K-340","Kleszczyki atraumatyczne ALLIS 6,2mm 160mm EA09","NARZĘDZIA MEDYCZNE","NARZ. MEDYCZNE",440,"2.02.14","Oddział Otolaryngologiczny z Pododdziałem Otolaryngologii"]
["K-341B","Kleszcze atraumatyczne naczyniowe DE'BAKEY 38/8","NARZĘDZIA MEDYCZNE","NARZ. MEDYCZNE",850,"2.04.01","Blok Operacyjny"]
["K-347","Kleszczyki naczyniowe delikatne typ Hals KN-320","NARZĘDZIA MEDYCZNE","NARZ. MEDYCZNE",90,"2.04.01","Blok Operacyjny"]
["K-348","Kleszcze naczyniowe ROCHESTER-PEAN zakrzywione","NARZĘDZIA MEDYCZNE","NARZ. MEDYCZNE",100,"2.04.01","Blok Operacyjny"]
["K-350","Kleszczyki laparaskopowe BiClamp, Maryland [kpl","NARZĘDZIA MEDYCZNE","NARZ. MEDYCZNE",266.11,"2.04.01","Blok Operacyjny"]
["L-006","Lodówka Beko","SPRZĘT AGD","SPRZĘT AGD",1100,"2.02.01.02","Intensywna Terapia"]
["L-006","Lodówka Beko","SPRZĘT AGD","SPRZĘT AGD",1100,"2.02.07","Oddział Dermatologiczny"]
["L-006A","Lodówka","SPRZĘT AGD","SPRZĘT AGD",1299,"3.03","Dział Centralnej Sterylizatorni i DDD"]
["L-006A","Lodówka","SPRZĘT AGD","SPRZĘT AGD",1299,"2.02.07","Oddział Dermatologiczny"]
["L-006B","Lodówko-zamrażarka INDESIT","SPRZĘT AGD","SPRZĘT AGD",1299,"3.02","Dział Gospodarki Nieruchomościami i Utrzymania Ruchu"]
["L-006B","Lodówko-zamrażarka INDESIT","SPRZĘT AGD","SPRZĘT AGD",1299,"3.02.02.01","Hotel Pracowniczy"]
["L-006C","Lodówka Liebherr","SPRZĘT AGD","SPRZĘT AGD",1299,"2.02.07","Oddział Dermatologiczny"]
["L-006E","Lodówka MPM","POZOSTAŁE","POZOSTAŁE",670,"2.02.01.02","Intensywna Terapia"]
["L-006F","Lodówka Electrolux","SPRZĘT AGD","SPRZĘT AGD",849.99,"2.02.08","Oddział Położniczo – Ginekologiczny"]
["L-006G","Lodówka MPM","SPRZĘT AGD","SPRZĘT AGD",670,"3.02.02.01","Hotel Pracowniczy"]
["L-006G","Lodówka MPM","SPRZĘT AGD","SPRZĘT AGD",670,"2.02.01.02","Intensywna Terapia"]
["L-006H","Lodówka Beko","SPRZĘT AGD","SPRZĘT AGD",1300,"2.02.19","Zamiejscowy Oddział Rehabilitacji Neurologicznej"]
["L-006I","Lodówka LG","SPRZĘT AGD","SPRZĘT AGD",899,"2.02.09.11","Oddział Kardiologiczny"]
["L-006J","Lodówka Indesit ","SPRZĘT AGD","SPRZĘT AGD",699,"2.02.01.02","Intensywna Terapia"]
["L-006K","Lodówka Candy","SPRZĘT AGD","SPRZĘT AGD",649,"2.02.01.02","Intensywna Terapia"]
["L-006L","Lodówka Electrolux","SPRZĘT AGD","SPRZĘT AGD",849.99,"2.02.12","Oddział Neonatologiczny z Pododdziałem Patologii Noworodka"]
["L-006Ł","Lodówka Candy","SPRZĘT AGD","SPRZĘT AGD",649,"2.02.10","Oddział Kardiologii Dziecięcej z Pododdziałem Kardiochirurgi"]
["L-007A","Lusterko krtaniowe z uchwytem śr.20mm","NARZĘDZIA MEDYCZNE","NARZ. MEDYCZNE",28,"2.02.14","Oddział Otolaryngologiczny z Pododdziałem Otolaryngologii"]
["L-007B","Lusterko krtaniowe z uchwytem śr.22mm","NARZĘDZIA MEDYCZNE","NARZ. MEDYCZNE",28,"2.02.14","Oddział Otolaryngologiczny z Pododdziałem Otolaryngologii"]
["L-007C","Lusterko krtaniowe z uchwytem śr.18mm","NARZĘDZIA MEDYCZNE","NARZ. MEDYCZNE",28,"2.03.22","Poradnia Otolaryngologiczna"]
["L-013","Laktator elektryczny Electric Plus Electric Plu","MED. NISK. ŚR. TRW.","MED. NISK. ŚR. TRW.",3300,"2.02.08","Oddział Położniczo – Ginekologiczny"]
["L-014","Lampa z podświetloną soczewką soczewka powiększ","MED. NISK. ŚR. TRW.","MED. NISK. ŚR. TRW.",442.8,"3.03","Dział Centralnej Sterylizatorni i DDD"]
["L-015","Lampa do terapii światłem spolaryzowanym Solari","MED. NISK. ŚR. TRW.","MED. NISK. ŚR. TRW.",1500,"2.02.04","Oddział Chirurgii Naczyniowej"]
["L-015","Lampa do terapii światłem spolaryzowanym Solari","MED. NISK. ŚR. TRW.","MED. NISK. ŚR. TRW.",1500,"2.02.11.01","Oddział Nefrologiczny"]
["L-015","Lampa do terapii światłem spolaryzowanym Solari","MED. NISK. ŚR. TRW.","MED. NISK. ŚR. TRW.",1500,"2.02.08","Oddział Położniczo – Ginekologiczny"]
["L-015","Lampa do terapii światłem spolaryzowanym Solari","MED. NISK. ŚR. TRW.","MED. NISK. ŚR. TRW.",1500,"6.03","Zamiejscowy Dział Rehabilitacji Leczniczej"]
["L-015","Lampa do terapii światłem spolaryzowanym Solari","MED. NISK. ŚR. TRW.","MED. NISK. ŚR. TRW.",1500,"2.02.21","Zamiejscowy Oddział Rehabilitacji Ogólnoustrojowej II"]
["L-017","Lampka biurowa","URZĄDZENIA BIUROWE","URZĄDZ. BIUROWE",90,"2.02.01.01","Anestezjologia"]
["L-017","Lampka biurowa","URZĄDZENIA BIUROWE","URZĄDZ. BIUROWE",90,"2.02.19","Zamiejscowy Oddział Rehabilitacji Neurologicznej"]
["L-017A","Lampka biurowa","URZĄDZENIA BIUROWE","URZĄDZ. BIUROWE",90,"2.07.04","DODO -Pracownia Diagnostyczno - Zabiegowa Naczyń"]
["L-017A","Lampka biurowa","URZĄDZENIA BIUROWE","URZĄDZ. BIUROWE",90,"4.02","Dział Zaopatrzenia i Zamówień Publicznych"]
["L-017B","Lampka biurowa","URZĄDZENIA BIUROWE","URZĄDZ. BIUROWE",90,"1.04.02","Dział Sprzedaży Usług Medycznych"]
["L-017C","Lampka biurowa","URZĄDZENIA BIUROWE","URZĄDZ. BIUROWE",90,"4.05","Dział Zatrudnienia i Wynagrodzeń"]
["L-017C","Lampka biurowa","URZĄDZENIA BIUROWE","URZĄDZ. BIUROWE",90,"2.02.15","Oddział Pediatryczny z Pododdziałem Gastroenterologii "]
["L-017D","Lampka biurowa","URZĄDZENIA BIUROWE","URZĄDZ. BIUROWE",90,"4.05","Dział Zatrudnienia i Wynagrodzeń"]
["L-017E","Lampka biurowa","URZĄDZENIA BIUROWE","URZĄDZ. BIUROWE",90,"4.02","Dział Zaopatrzenia i Zamówień Publicznych"]
["L-017E","Lampka biurowa","URZĄDZENIA BIUROWE","URZĄDZ. BIUROWE",90,"2.02.12","Oddział Neonatologiczny z Pododdziałem Patologii Noworodka"]
["L-017E","Lampka biurowa","URZĄDZENIA BIUROWE","URZĄDZ. BIUROWE",90,"2.02.13","Oddział Okulistyczny"]
["L-017E","Lampka biurowa","URZĄDZENIA BIUROWE","URZĄDZ. BIUROWE",90,"2.02.15","Oddział Pediatryczny z Pododdziałem Gastroenterologii "]
["L-017E","Lampka biurowa","URZĄDZENIA BIUROWE","URZĄDZ. BIUROWE",90,"2.02.08","Oddział Położniczo – Ginekologiczny"]
["L-017E","Lampka biurowa","URZĄDZENIA BIUROWE","URZĄDZ. BIUROWE",90,"1.02","Sekretariat"]
["L-017E","Lampka biurowa","URZĄDZENIA BIUROWE","URZĄDZ. BIUROWE",90,"2.02.08.06","Szkoła Rodzenia"]
["L-017H","Lampka biurowa","URZĄDZENIA BIUROWE","URZĄDZ. BIUROWE",90,"4.06.01","Dział Księgowości i Finansów"]
["L-017I","Lampka biurowa","URZĄDZENIA BIUROWE","URZĄDZ. BIUROWE",90,"2.02.10","Oddział Kardiologii Dziecięcej z Pododdziałem Kardiochirurgi"]
["L-017J","Lampka biurowa","URZĄDZENIA BIUROWE","URZĄDZ. BIUROWE",90,"2.02.09.06","Pracownia Hemodynamiki"]
["L-017K","Lampka biurowa","URZĄDZENIA BIUROWE","URZĄDZ. BIUROWE",90,"2.08","SekcjaKontroli Zakażeń Szpitalnych"]
["L-018","Lampa naczołowa Clar N55mm bateryjna z żarówką","MED. NISK. ŚR. TRW.","MED. NISK. ŚR. TRW.",1800,"2.02.14","Oddział Otolaryngologiczny z Pododdziałem Otolaryngologii"]
["L-019","Lampa naczołowa Clar N55mm akumulatorowa z łado","MED. NISK. ŚR. TRW.","MED. NISK. ŚR. TRW.",1800,"2.02.14","Oddział Otolaryngologiczny z Pododdziałem Otolaryngologii"]
["L-020","Latarka neurologiczna w etuii FORTELUX","MED. NISK. ŚR. TRW.","MED. NISK. ŚR. TRW.",100,"2.02.01.02","Intensywna Terapia"]
["L-029","Lampa bakteriobójcza przepływowa","MED. NISK. ŚR. TRW.","MED. NISK. ŚR. TRW.",1168.5,"2.02.01.02","Intensywna Terapia"]
["L-029A","Lampa bakteriobójcza przepływowa","MED. NISK. ŚR. TRW.","MED. NISK. ŚR. TRW.",1168.5,"2.03.04","Poradnia Chirurgii Onkologicznej"]
["L-029B","Lampa bakteriobójcza przepływowa","MED. NISK. ŚR. TRW.","MED. NISK. ŚR. TRW.",1168.5,"2.02.15","Oddział Pediatryczny z Pododdziałem Gastroenterologii "]
["L-029C","Lampa bakteriobójcza przepływowa","MED. NISK. ŚR. TRW.","MED. NISK. ŚR. TRW.",1168.5,"2.02.15","Oddział Pediatryczny z Pododdziałem Gastroenterologii "]
["L-029D","Lampa bakteriobójcza przepływowa","MED. NISK. ŚR. TRW.","MED. NISK. ŚR. TRW.",1168.5,"2.02.08","Oddział Położniczo – Ginekologiczny"]
["L-029E","Lampa bakteriobójcza przepływowa","MED. NISK. ŚR. TRW.","MED. NISK. ŚR. TRW.",1168.5,"2.02.20","Zamiejscowy Oddział Rehabilitacji Ogólnoustrojowej I"]
["L-029F","Lampa bakteriobójcza przepływowa","MED. NISK. ŚR. TRW.","MED. NISK. ŚR. TRW.",1168.5,"2.02.10","Oddział Kardiologii Dziecięcej z Pododdziałem Kardiochirurgi"]
["L-029F","Lampa bakteriobójcza przepływowa","MED. NISK. ŚR. TRW.","MED. NISK. ŚR. TRW.",1168.5,"2.02.08","Oddział Położniczo – Ginekologiczny"]
["L-036","Laktator Lactina Electric Plus,wraz ze stojakam","POZOSTAŁE","POZOSTAŁE",3400,"2.02.08.06","Szkoła Rodzenia"]
["L-037","Lampa operacyjna,zabiegowa PH-121.1","MED. NISK. ŚR. TRW.","MED. NISK. ŚR. TRW.",1807.92,"2.02.08.06","Szkoła Rodzenia"]
["L-038","Latarka KaWe Cliplight kolor czarny","NARZĘDZIA MEDYCZNE","NARZ. MEDYCZNE",83.04,"2.02.01.02","Intensywna Terapia"]
["L-038A","Latarka KaWe Cliplight kolor niebieski","NARZĘDZIA MEDYCZNE","NARZ. MEDYCZNE",108,"2.02.01.02","Intensywna Terapia"]
["L-040","Laryngoskop do trudnych intubacji typu McCoy/FM","NARZĘDZIA MEDYCZNE","NARZ. MEDYCZNE",1353,"2.02.01.01","Anestezjologia"]
["L-076","Laminator Fellowes Saturn A4","URZĄDZENIA BIUROWE","URZĄDZ. BIUROWE",1014.75,"2.02.08.06","Szkoła Rodzenia"]
["L-078","Lampa diagnostyczna BH 132","MED. NISK. ŚR. TRW.","MED. NISK. ŚR. TRW.",1782,"2.02.15","Oddział Pediatryczny z Pododdziałem Gastroenterologii "]
["L-079","Lampa zabiegowa bezcieniowa PH-121.2","MED. NISK. ŚR. TRW.","MED. NISK. ŚR. TRW.",1807.92,"2.02.08","Oddział Położniczo – Ginekologiczny"]
["Ł-011","Ława 90x54x55h","MEBLE","MEBLE",300,"2.02.12","Oddział Neonatologiczny"]
["Ł-013","Łóżko pojedyńcze z materacem","MEBLE","MEBLE",483.1825,"3.02.02.01","Hotel Pracowniczy"]
["Ł-013A","Łóżko medyczne wraz z barierkami bocznymi Solid","MEBLE","MEBLE",1944,"2.02.07","Oddział Dermatologiczny"]
["Ł-013B","Łóżko medyczne Solido 2S","MEBLE","MEBLE",1728,"2.02.10","Oddział Kardiologii Dziecięcej z Pododdziałem Kardiochirurgi"]
["Ł-013C","Łóżko młodzieżowe Solido 2S","MEBLE","MEBLE",1728,"2.02.10","Oddział Kardiologii Dziecięcej z Pododdziałem Kardiochirurgi"]
["Ł-013D","Łóżko dziecięce Junior Plus","MEBLE","MEBLE",2284.1999999999998,"2.02.10","Oddział Kardiologii Dziecięcej z Pododdziałem Kardiochirurgi"]
["Ł-013E","Łóżko składane dla rodziców HILO","MEBLE","MEBLE",940,"2.02.15","Oddział Pediatryczny z Pododdziałem Gastroenterologii "]
["Ł-013F","Łóżko pojedyńcze z materacem \"GRZEŚ\", 90x200 -J","MEBLE","MEBLE",483.1825,"3.02.02.01","Hotel Pracowniczy"]
["Ł-013G","Łóżeczko noworodkowe BM-02","MEBLE","MEBLE",930,"2.02.12","Oddział Neonatologiczny z Pododdziałem Patologii Noworodka"]
["Ł-015","Ławka Rio 3 - trzysiedziskowa plastikowa czarny","MEBLE","MEBLE",475,"2.03.20","Poradnia Onkologiczna"]
["Ł-015A","Ławka  Beta 5 black","MEBLE","MEBLE",475,"2.02.13","Oddział Okulistyczny"]
["Ł-019","Łyżka do laryngoskopu światłowodowa AP NR 3 McC","NARZĘDZIA MEDYCZNE","NARZ. MEDYCZNE",274,"2.02.01.01","Anestezjologia"]
["Ł-019","Łyżka do laryngoskopu światłowodowa AP NR 3 McC","NARZĘDZIA MEDYCZNE","NARZ. MEDYCZNE",274,"2.02.01.02","Intensywna Terapia"]
["Ł-019A","Łyżka do laryngoskopu światłowodowa AP NR 4 McC","NARZĘDZIA MEDYCZNE","NARZ. MEDYCZNE",274,"2.02.01.01","Anestezjologia"]
["Ł-022","Łącznik cystoskop-optyka,z jednym zamykanym kan","NARZĘDZIA MEDYCZNE","NARZ. MEDYCZNE",850,"2.02.17.01","Oddział Urologii i Urologii Onkologicznej"]
["Ł-022","Łącznik cystoskop-optyka,z jednym zamykanym kan","NARZĘDZIA MEDYCZNE","NARZ. MEDYCZNE",850,"2.03.24","Poradnia Urologiczna"]
["Ł-025","Łyżki do defibrylatora Lifepack 20e dla dorosły","NARZĘDZIA MEDYCZNE","NARZ. MEDYCZNE",2675,"2.02.09.11","Oddział Kardiologiczny"]
["M-015E","Monitor bezdechu Babysense II","MED. NISK. ŚR. TRW.","MED. NISK. ŚR. TRW.",600,"2.02.12","Oddział Neonatologiczny z Pododdziałem Patologii Noworodka"]
["M-018B","Materac przeciwodleżynowy TRANCELL II 4010012","MED. NISK. ŚR. TRW.","MED. NISK. ŚR. TRW.",1695.6,"2.02.05.01","Oddział Chirurgii Ogólnej z Pododdziałami"]
["M-018B","Materac przeciwodleżynowy TRANCELL II 4010012","MED. NISK. ŚR. TRW.","MED. NISK. ŚR. TRW.",2500,"2.02.19","Zamiejscowy Oddział Rehabilitacji Neurologicznej"]
["M-018C","Materac przeciwodleżynowy ALPHA TRANCELL DELUXE","MED. NISK. ŚR. TRW.","MED. NISK. ŚR. TRW.",1800,"2.02.04","Oddział Chirurgii Naczyniowej"]
["M-018C","Materac przeciwodleżynowy ALPHA TRANCELL DELUXE","MED. NISK. ŚR. TRW.","MED. NISK. ŚR. TRW.",2500,"2.02.19","Zamiejscowy Oddział Rehabilitacji Neurologicznej"]
["M-018D","Materac żelowy przeciwodleżynowy-GELMAT","MED. NISK. ŚR. TRW.","MED. NISK. ŚR. TRW.",367.2,"2.02.01.01","Anestezjologia"]
["M-044A","Młotek neurologiczny BABINSKY 22cm","NARZĘDZIA MEDYCZNE","NARZ. MEDYCZNE",70,"2.02.01.02","Intensywna Terapia"]
["M-044B","Młotek neurologiczny BABINSKY SPIRIT  CK-503","NARZĘDZIA MEDYCZNE","NARZ. MEDYCZNE",70,"2.02.01.02","Intensywna Terapia"]
["M-044C","Młotek neurologiczny BABINSKY 1-340","NARZĘDZIA MEDYCZNE","NARZ. MEDYCZNE",70,"2.02.01.02","Intensywna Terapia"]
["M-044C","Młotek neurologiczny BABINSKY 1-340","NARZĘDZIA MEDYCZNE","NARZ. MEDYCZNE",70,"2.02.14","Oddział Otolaryngologiczny z Pododdziałem Otolaryngologii"]
["M-044C","Młotek neurologiczny BABINSKY 1-340","NARZĘDZIA MEDYCZNE","NARZ. MEDYCZNE",70,"2.05","SOR"]
["M-044C","Młotek neurologiczny BABINSKY 1-340","NARZĘDZIA MEDYCZNE","NARZ. MEDYCZNE",70,"6.03","Zamiejscowy Dział Rehabilitacji Leczniczej"]
["M-077","Materac podpory pod nogę,duży,lewy AXIS","MED. NISK. ŚR. TRW.","MED. NISK. ŚR. TRW.",950.4,"2.04.01","Blok Operacyjny"]
["M-086","Materac M-18","MED. NISK. ŚR. TRW.","MED. NISK. ŚR. TRW.",226.8,"2.02.07","Oddział Dermatologiczny"]
["M-086A","Materac M-18","MED. NISK. ŚR. TRW.","MED. NISK. ŚR. TRW.",226.8,"2.02.10","Oddział Kardiologii Dziecięcej z Pododdziałem Kardiochirurgi"]
["M-088","Mata funkcyjna do taboretu porodowego -Dullstei","MEBLE MEDYCZNE","MEBLE MEDYCZNE",2460,"2.02.08.06","Szkoła Rodzenia"]
["M-091","Mikrokleszczyki HALSTEDA zakrz.125mm BH109R","NARZĘDZIA MEDYCZNE","NARZ. MEDYCZNE",100,"2.04.01","Blok Operacyjny"]
["M-091","Mikrokleszczyki HALSTEDA zakrz.125mm BH109R","NARZĘDZIA MEDYCZNE","NARZ. MEDYCZNE",100,"2.03.06","Poradnia Angiologiczna"]
["M-091A","Mikrokleszczyki preparacyjne ADSON 140mm BJ008R","NARZĘDZIA MEDYCZNE","NARZ. MEDYCZNE",250,"2.04.03","Zamiejscowy Blok Operacyjny"]
["M-094","Mikro nożyczki sprężynowe 45st.drobny pyszczek-","NARZĘDZIA MEDYCZNE","NARZ. MEDYCZNE",2350,"2.04.01","Blok Operacyjny"]
["M-095","Mikropinceta pierścień 1mm zakrzywiona 150mm DI","NARZĘDZIA MEDYCZNE","NARZ. MEDYCZNE",1600,"2.04.01","Blok Operacyjny"]
["M-096","Mikro imadło 120mm DIADUST FM524R","NARZĘDZIA MEDYCZNE","NARZ. MEDYCZNE",1600,"2.04.01","Blok Operacyjny"]
["M-096A","Mikro imadło okrągły uchwyt 120mm DIADUST FM520","NARZĘDZIA MEDYCZNE","NARZ. MEDYCZNE",1600,"2.04.01","Blok Operacyjny"]
["N-008A","Nosze płachtowe na stelażu alum.składane w torb","MED. NISK. ŚR. TRW.","MED. NISK. ŚR. TRW.",930,"2.02.19","Zamiejscowy Oddział Rehabilitacji Neurologicznej"]
["N-008A","Nosze płachtowe na stelażu alum.składane w torb","MED. NISK. ŚR. TRW.","MED. NISK. ŚR. TRW.",930.01,"2.02.20","Zamiejscowy Oddział Rehabilitacji Ogólnoustrojowej I"]
["N-008A","Nosze płachtowe na stelażu alum.składane w torb","MED. NISK. ŚR. TRW.","MED. NISK. ŚR. TRW.",465,"2.02.21","Zamiejscowy Oddział Rehabilitacji Ogólnoustrojowej II"]
["N-009","Niszczarka do dokumentów","URZĄDZENIA BIUROWE","URZĄDZ. BIUROWE",800,"2.02.01.02","Intensywna Terapia"]
["N-009","Niszczarka do dokumentów","URZĄDZENIA BIUROWE","URZĄDZ. BIUROWE",800,"2.02.06","Oddział Chirurgii Onkologicznej"]
["N-009","Niszczarka do dokumentów","URZĄDZENIA BIUROWE","URZĄDZ. BIUROWE",800,"2.02.13","Oddział Okulistyczny"]
["N-009","Niszczarka do dokumentów","URZĄDZENIA BIUROWE","URZĄDZ. BIUROWE",800,"2.05","SOR"]
["N-009","Niszczarka do dokumentów","URZĄDZENIA BIUROWE","URZĄDZ. BIUROWE",800,"4.07.01.02","Zespół Konsultantów Biznesowych"]
["N-009B","Niszczarka do dokumentów","URZĄDZENIA BIUROWE","URZĄDZ. BIUROWE",800,"2.02.07","Oddział Dermatologiczny"]
["N-009B","Niszczarka do dokumentów","URZĄDZENIA BIUROWE","URZĄDZ. BIUROWE",800,"2.02.20","Zamiejscowy Oddział Rehabilitacji Ogólnoustrojowej I"]
["N-009C","Niszczarka do dokumentów","URZĄDZENIA BIUROWE","URZĄDZ. BIUROWE",800,"2.04.01","Blok Operacyjny"]
["N-009D","Niszczarka do dokumentów","URZĄDZENIA BIUROWE","URZĄDZ. BIUROWE",800,"2.02.19","Zamiejscowy Oddział Rehabilitacji Neurologicznej"]
["N-009E","Niszczarka do dokumentów","URZĄDZENIA BIUROWE","URZĄDZ. BIUROWE",800,"1.04.02","Dział Sprzedaży Usług Medycznych"]
["N-009F","Niszczarka do dokumentów","URZĄDZENIA BIUROWE","URZĄDZ. BIUROWE",800,"2.02.01.01","Anestezjologia"]
["N-009G","Niszczarka do dokumentów","URZĄDZENIA BIUROWE","URZĄDZ. BIUROWE",800,"2.02.15","Oddział Pediatryczny z Pododdziałem Gastroenterologii "]
["N-009H","Niszczarka do dokumentów","URZĄDZENIA BIUROWE","URZĄDZ. BIUROWE",800,"1.04.03","Dział Rejestracji Statystyki i Dokumentacji Medycznej"]
["N-009I","Niszczarka do dokumentów","URZĄDZENIA BIUROWE","URZĄDZ. BIUROWE",800,"3.02","Dział Gospodarki Nieruchomościami i Utrzymania Ruchu"]
["N-009I","Niszczarka do dokumentów","URZĄDZENIA BIUROWE","URZĄDZ. BIUROWE",800,"4.06.01","Dział Księgowości i Finansów"]
["N-009I","Niszczarka do dokumentów","URZĄDZENIA BIUROWE","URZĄDZ. BIUROWE",800,"2.02.05.01","Oddział Chirurgii Ogólnej z Pododdziałami"]
["N-009I","Niszczarka do dokumentów","URZĄDZENIA BIUROWE","URZĄDZ. BIUROWE",800,"2.02.10","Oddział Kardiologii Dziecięcej z Pododdziałem Kardiochirurgi"]
["N-009I","Niszczarka do dokumentów","URZĄDZENIA BIUROWE","URZĄDZ. BIUROWE",800,"2.02.15","Oddział Pediatryczny z Pododdziałem Gastroenterologii "]
["N-009I","Niszczarka do dokumentów","URZĄDZENIA BIUROWE","URZĄDZ. BIUROWE",800,"2.02.17.01","Oddział Urologii i Urologii Onkologicznej"]
["N-009I","Niszczarka do dokumentów","URZĄDZENIA BIUROWE","URZĄDZ. BIUROWE",800,"2.03.12","Poradnia Kardiologiczna dla Dzieci"]
["N-009I","Niszczarka do dokumentów","URZĄDZENIA BIUROWE","URZĄDZ. BIUROWE",800,"2.02.18","Zamiejscowy Oddział Chirurgii Urazowo - Ortopedycznej"]
["N-009J","Niszczarka do dokumentów","URZĄDZENIA BIUROWE","URZĄDZ. BIUROWE",800,"2.07.05","DODO -Pracownia Rezonansu Magnetycznego"]
["N-009J","Niszczarka do dokumentów","URZĄDZENIA BIUROWE","URZĄDZ. BIUROWE",800,"2.07.01","DODO -Pracownia RTG"]
["N-009J","Niszczarka do dokumentów","URZĄDZENIA BIUROWE","URZĄDZ. BIUROWE",800,"2.02.02","Oddział Angiologiczny z Pododdziałem Diabetologii"]
["N-009J","Niszczarka do dokumentów","URZĄDZENIA BIUROWE","URZĄDZ. BIUROWE",800,"2.02.03","Oddział Chemioterapii z Pododdziałem Chemioterapii Dziennej"]
["N-009J","Niszczarka do dokumentów","URZĄDZENIA BIUROWE","URZĄDZ. BIUROWE",800,"2.02.04","Oddział Chirurgii Naczyniowej"]
["N-009J","Niszczarka do dokumentów","URZĄDZENIA BIUROWE","URZĄDZ. BIUROWE",800,"2.02.05.01","Oddział Chirurgii Ogólnej z Pododdziałami"]
["N-009J","Niszczarka do dokumentów","URZĄDZENIA BIUROWE","URZĄDZ. BIUROWE",800,"2.02.09.11","Oddział Kardiologiczny"]
["N-009J","Niszczarka do dokumentów","URZĄDZENIA BIUROWE","URZĄDZ. BIUROWE",800,"2.02.12","Oddział Neonatologiczny z Pododdziałem Patologii Noworodka"]
["N-009J","Niszczarka do dokumentów","URZĄDZENIA BIUROWE","URZĄDZ. BIUROWE",800,"2.02.14","Oddział Otolaryngologiczny z Pododdziałem Otolaryngologii"]
["N-009J","Niszczarka do dokumentów","URZĄDZENIA BIUROWE","URZĄDZ. BIUROWE",800,"2.02.08","Oddział Położniczo – Ginekologiczny"]
["N-009J","Niszczarka do dokumentów","URZĄDZENIA BIUROWE","URZĄDZ. BIUROWE",800,"2.03.03","Poradnia Chirurgii Ogólnej"]
["N-009J","Niszczarka do dokumentów","URZĄDZENIA BIUROWE","URZĄDZ. BIUROWE",800,"1.12","Samodzielne Stanowiska Administracyjne"]
["N-009J","Niszczarka do dokumentów","URZĄDZENIA BIUROWE","URZĄDZ. BIUROWE",800,"2.05","SOR"]
["N-009J","Niszczarka do dokumentów","URZĄDZENIA BIUROWE","URZĄDZ. BIUROWE",800,"2.06","Stacja Dializ"]
["N-009J","Niszczarka do dokumentów","URZĄDZENIA BIUROWE","URZĄDZ. BIUROWE",800,"2.02.19","Zamiejscowy Oddział Rehabilitacji Neurologicznej"]
["N-012","Nadstawka","MEBLE","MEBLE",300,"2.02.12","Oddział Neonatologiczny"]
["N-012A","Nadstawka","MEBLE","MEBLE",300,"2.02.12","Oddział Neonatologiczny"]
["N-012A","Nadstawka","MEBLE","MEBLE",300,"2.03.04","Poradnia Chirurgii Onkologicznej"]
["N-012B","Nadstawka nad segregatorami","MEBLE","MEBLE",300,"3.02","Dział Gospodarki Nieruchomościami i Utrzymania Ruchu"]
["N-014A","Nożyczki chirurgiczne 14cm proste","NARZĘDZIA MEDYCZNE","NARZ. MEDYCZNE",50,"2.02.17.01","Oddział Urologii i Urologii Onkologicznej"]
["N-014B","Nożyczki chirurgiczne proste 145mm T/O BC324R","NARZĘDZIA MEDYCZNE","NARZ. MEDYCZNE",70,"2.04.01","Blok Operacyjny"]
["N-014B","Nożyczki chirurgiczne proste 145mm T/O BC324R","NARZĘDZIA MEDYCZNE","NARZ. MEDYCZNE",70,"2.02.16","Oddział Transplantologiczny"]
["N-014B","Nożyczki chirurgiczne proste 145mm T/O BC324R","NARZĘDZIA MEDYCZNE","NARZ. MEDYCZNE",70,"2.02.09.05","Pracownia Elektrofizjologii"]
["N-014B","Nożyczki chirurgiczne proste 145mm T/O BC324R","NARZĘDZIA MEDYCZNE","NARZ. MEDYCZNE",70,"2.04.03","Zamiejscowy Blok Operacyjny"]
["N-015A","Nożyczki preparacyjne T.LEXER. odgięte 165mm T/","NARZĘDZIA MEDYCZNE","NARZ. MEDYCZNE",450,"2.04.01","Blok Operacyjny"]
["N-015A","Nożyczki preparacyjne T.LEXER. odgięte 165mm T/","NARZĘDZIA MEDYCZNE","NARZ. MEDYCZNE",450,"2.04.03","Zamiejscowy Blok Operacyjny"]
["N-015B","Nożyczki preparacyjne T.KLINKENBERGLOTH odgięte","NARZĘDZIA MEDYCZNE","NARZ. MEDYCZNE",400,"2.04.01","Blok Operacyjny"]
["N-015C","Nożyczki preparacyjne T.LEXER. odgięte 165mm T/","NARZĘDZIA MEDYCZNE","NARZ. MEDYCZNE",950,"2.04.01","Blok Operacyjny"]
["N-015D","Nożyczki preparacyjne T.JAMESON odgięte 150mm B","NARZĘDZIA MEDYCZNE","NARZ. MEDYCZNE",260,"2.02.16","Oddział Transplantologiczny"]
["N-015D","Nożyczki preparacyjne T.JAMESON odgięte 150mm B","NARZĘDZIA MEDYCZNE","NARZ. MEDYCZNE",260,"2.02.09.05","Pracownia Elektrofizjologii"]
["N-015E","Nożyczki preparacyjne T.NELSONMETZ. odgięte 230","NARZĘDZIA MEDYCZNE","NARZ. MEDYCZNE",220.74,"2.04.01","Blok Operacyjny"]
["N-015F","Nożyczki preparacyjne proste 18cm","NARZĘDZIA MEDYCZNE","NARZ. MEDYCZNE",60,"2.02.09.11","Oddział Kardiologiczny"]
["N-020","Nożyczki do zdjęcia szwów SPENCER dł.13cm kat.","NARZĘDZIA MEDYCZNE","NARZ. MEDYCZNE",34,"2.07.04","DODO -Pracownia Diagnostyczno - Zabiegowa Naczyń"]
["N-020A","Nożyczki do zdjęcia szwów SPENCER 115mm-odgięte","NARZĘDZIA MEDYCZNE","NARZ. MEDYCZNE",80,"2.02.17.01","Oddział Urologii i Urologii Onkologicznej"]
["N-020B","Nożyczki do zdjęcia szwów SPENCER dł.12cm","NARZĘDZIA MEDYCZNE","NARZ. MEDYCZNE",32,"2.07.04","DODO -Pracownia Diagnostyczno - Zabiegowa Naczyń"]
["N-028A","Nożyczki mikrochirurgiczne oczne do mięśni pros","NARZĘDZIA MEDYCZNE","NARZ. MEDYCZNE",100,"2.02.13","Oddział Okulistyczny"]
["N-029","Nożyczki mikrochirurgiczne odgięte dł.120mm 4 3","NARZĘDZIA MEDYCZNE","NARZ. MEDYCZNE",735,"2.02.13","Oddział Okulistyczny"]
["N-029A","Nożyczki mikrochirurgiczne dł.180mm odgięte koń","NARZĘDZIA MEDYCZNE","NARZ. MEDYCZNE",153.04,"2.04.01","Blok Operacyjny"]
["N-030","Nakładka do nożyczek monopolarnych typu HotShea","NARZĘDZIA WIELORAZOWE","NARZĘDZIA WIELORAZOWE",1000,"2.04.01","Blok Operacyjny"]
["N-030","Nakładka do nożyczek monopolarnych typu HotShea","NARZĘDZIA WIELORAZOWE","NARZĘDZIA WIELORAZOWE",1000,"2.04.02","Blok Operacyjny DAVINCI"]
["N-033A","Nożyczki monopolarne zakrzywione typu HotShears","NARZĘDZIA MEDYCZNE","NARZ. MEDYCZNE",16000,"2.04.01","Blok Operacyjny"]
["N-033B","Nożyczki monopolarne zakrzywione typu HotShears","NARZĘDZIA MEDYCZNE","NARZ. MEDYCZNE",16000,"2.04.01","Blok Operacyjny"]
["N-033C","Nożyczki monopolarne zakrzywione typu HotShears","NARZĘDZIA MEDYCZNE","NARZ. MEDYCZNE",16000,"2.04.01","Blok Operacyjny"]
["N-033D","Nożyczki monopolarne zakrzywione typu HotShears","NARZĘDZIA MEDYCZNE","NARZ. MEDYCZNE",16000,"2.04.02","Blok Operacyjny DAVINCI"]
["N-033E","Nożyczki monopolarne zakrzywione typu HotShears","NARZĘDZIA MEDYCZNE","NARZ. MEDYCZNE",16000,"2.04.02","Blok Operacyjny DAVINCI"]
["N-034","Nożyczki do pępowiny końce tępe odgięte 16cm","NARZĘDZIA MEDYCZNE","NARZ. MEDYCZNE",45,"2.02.01.01","Anestezjologia"]
["N-034","Nożyczki do pępowiny końce tępe odgięte 16cm","NARZĘDZIA MEDYCZNE","NARZ. MEDYCZNE",45,"2.02.01.02","Intensywna Terapia"]
["N-036","Nóż do uretrotomu 27578A","NARZĘDZIA MEDYCZNE","NARZ. MEDYCZNE",430,"2.02.17.01","Oddział Urologii i Urologii Onkologicznej"]
["N-037","Nóż zimny do uretrotomu,ostrze w kształcie hacz","NARZĘDZIA MEDYCZNE","NARZ. MEDYCZNE",400,"2.02.17.01","Oddział Urologii i Urologii Onkologicznej"]
["N-037A","Nóż zimny SACHSE do uretrotomu,prosty","NARZĘDZIA MEDYCZNE","NARZ. MEDYCZNE",400,"2.02.17.01","Oddział Urologii i Urologii Onkologicznej"]
["N-038","Nożyczki do przewodów ślinowych delikatne,zagię","NARZĘDZIA MEDYCZNE","NARZ. MEDYCZNE",700,"2.02.14","Oddział Otolaryngologiczny z Pododdziałem Otolaryngologii"]
["N-043A","Nożyczki ClickLine,zakrzywione, monopolarne,śr.","NARZĘDZIA MEDYCZNE","NARZ. MEDYCZNE",1823.49,"2.04.01","Blok Operacyjny"]
["N-047","Nożyczki mikrochirurgiczne odgięte dł.120mm 4 3","NARZĘDZIA MEDYCZNE","NARZ. MEDYCZNE",800,"2.02.13","Oddział Okulistyczny"]
["N-048","Nożyczki do ECCE/faco","NARZĘDZIA MEDYCZNE","NARZ. MEDYCZNE",1154.79,"2.02.13","Oddział Okulistyczny"]
["N-049","Nożyczki ClickLine METZENBAUM, monopolarne,śr.5","NARZĘDZIA MEDYCZNE","NARZ. MEDYCZNE",1751.1,"2.04.01","Blok Operacyjny"]
["N-050","Nożyczki,jedno ostrze ruchome 5Fr.dł.40 cm","NARZĘDZIA MEDYCZNE","NARZ. MEDYCZNE",644.49,"2.02.17.01","Oddział Urologii i Urologii Onkologicznej"]
["N-051","Nożyczki chirurgiczne typu METZENBAUM dł.180mm","NARZĘDZIA MEDYCZNE","NARZ. MEDYCZNE",300,"2.04.01","Blok Operacyjny"]
["N-051A","Nożyczki chirurgiczne typu METZENBAUM dł.200mm","NARZĘDZIA MEDYCZNE","NARZ. MEDYCZNE",299.27,"2.04.01","Blok Operacyjny"]
["N-051B","Nożyczki chirurgiczne typu METZENBAUM dł.145mm","NARZĘDZIA MEDYCZNE","NARZ. MEDYCZNE",212.06,"2.04.01","Blok Operacyjny"]
["N-051C","Nozyczki chirurgiczne typu METZENBAUM dł.180mm","NARZĘDZIA MEDYCZNE","NARZ. MEDYCZNE",320.38,"2.04.01","Blok Operacyjny"]
["N-051C","Nozyczki chirurgiczne typu METZENBAUM dł.180mm","NARZĘDZIA MEDYCZNE","NARZ. MEDYCZNE",320.38,"2.07.04","DODO -Pracownia Diagnostyczno - Zabiegowa Naczyń"]
["N-053","Nożyczki naczyniowe T.POTTSDEMAR odgiete 25*185","NARZĘDZIA MEDYCZNE","NARZ. MEDYCZNE",320.38,"2.04.01","Blok Operacyjny"]
["N-053","Nożyczki naczyniowe T.POTTSDEMAR odgiete 25*185","NARZĘDZIA MEDYCZNE","NARZ. MEDYCZNE",320.38,"2.03.22","Poradnia Otolaryngologiczna"]
["N-054","Nożyczki naczyniowe T.DE'BAKEY odgięte 60st 155","NARZĘDZIA MEDYCZNE","NARZ. MEDYCZNE",320.38,"2.04.01","Blok Operacyjny"]
["N-055","Narożnik MAK","MEBLE","MEBLE",1200,"2.02.09.11","Oddział Kardiologiczny"]
["N-056","Negatoskop 1-klatkowy z reg.luminacji NGP-11","MED. NISK. ŚR. TRW.","MED. NISK. ŚR. TRW.",700,"2.03.04","Poradnia Chirurgii Onkologicznej"]
["N-057","Nóż preparacyjny T.TOENNISADSON odgięty dł.175m","NARZĘDZIA MEDYCZNE","NARZ. MEDYCZNE",572,"2.04.01","Blok Operacyjny"]
["N-073","Nożyczki FOMON 15cm","NARZĘDZIA MEDYCZNE","NARZ. MEDYCZNE",133,"2.07.04","DODO -Pracownia Diagnostyczno - Zabiegowa Naczyń"]
["O-022","Obuwie operacyjne zielone nr.36","ODZIEŻ ROBOCZA I OCHRONNA","ODZIEŻ ROBOCZA I OCHRONNA",150,"2.04.01","Blok Operacyjny"]
["O-022A","Obuwie operacyjne zielone nr.37","ODZIEŻ ROBOCZA I OCHRONNA","ODZIEŻ ROBOCZA I OCHRONNA",150,"2.04.01","Blok Operacyjny"]
["O-022B","Obuwie operacyjne zielone nr.39","ODZIEŻ ROBOCZA I OCHRONNA","ODZIEŻ ROBOCZA I OCHRONNA",150,"2.04.01","Blok Operacyjny"]
["O-022C","Obuwie operacyjne zielone nr.40","ODZIEŻ ROBOCZA I OCHRONNA","ODZIEŻ ROBOCZA I OCHRONNA",150,"2.04.01","Blok Operacyjny"]
["O-022D","Obuwie operacyjne zielone nr.41","ODZIEŻ ROBOCZA I OCHRONNA","ODZIEŻ ROBOCZA I OCHRONNA",150,"2.04.01","Blok Operacyjny"]
["O-022E","Obuwie operacyjne zielone nr.42","ODZIEŻ ROBOCZA I OCHRONNA","ODZIEŻ ROBOCZA I OCHRONNA",150,"2.04.01","Blok Operacyjny"]
["O-022F","Obuwie operacyjne zielone nr.43","ODZIEŻ ROBOCZA I OCHRONNA","ODZIEŻ ROBOCZA I OCHRONNA",150,"3.03","Dział Centralnej Sterylizatorni i DDD"]
["O-022G","Obuwie operacyjne zielone nr.45","ODZIEŻ ROBOCZA I OCHRONNA","ODZIEŻ ROBOCZA I OCHRONNA",150,"2.04.01","Blok Operacyjny"]
["O-022H","Obuwie operacyjne niebieskie nr.39","ODZIEŻ ROBOCZA I OCHRONNA","ODZIEŻ ROBOCZA I OCHRONNA",150,"2.02.06","Oddział Chirurgii Onkologicznej"]
["O-022I","Obuwie operacyjne niebieskie nr.45","ODZIEŻ ROBOCZA I OCHRONNA","ODZIEŻ ROBOCZA I OCHRONNA",150,"2.02.17.01","Oddział Urologii i Urologii Onkologicznej"]
["O-022J","Obuwie operacyjne niebieskie nr.46","ODZIEŻ ROBOCZA I OCHRONNA","ODZIEŻ ROBOCZA I OCHRONNA",150,"2.02.17.01","Oddział Urologii i Urologii Onkologicznej"]
["O-022k","Obuwie operacyjne niebieskie nr.36","ODZIEŻ ROBOCZA I OCHRONNA","ODZIEŻ ROBOCZA I OCHRONNA",150,"2.02.06","Oddział Chirurgii Onkologicznej"]
["O-022L","Obuwie operacyjne niebieskie nr.37","ODZIEŻ ROBOCZA I OCHRONNA","ODZIEŻ ROBOCZA I OCHRONNA",150,"2.02.17.01","Oddział Urologii i Urologii Onkologicznej"]
["O-022Ł","Obuwie operacyjne niebieskie nr.38","ODZIEŻ ROBOCZA I OCHRONNA","ODZIEŻ ROBOCZA I OCHRONNA",150,"2.02.06","Oddział Chirurgii Onkologicznej"]
["O-022M","Obuwie operacyjne niebieskie nr.40","ODZIEŻ ROBOCZA I OCHRONNA","ODZIEŻ ROBOCZA I OCHRONNA",150,"2.02.08","Oddział Położniczo – Ginekologiczny"]
["O-022N","Obuwie operacyjne niebieskie nr.42","ODZIEŻ ROBOCZA I OCHRONNA","ODZIEŻ ROBOCZA I OCHRONNA",150,"2.02.08","Oddział Położniczo – Ginekologiczny"]
["O-022N","Obuwie operacyjne niebieskie nr.42","ODZIEŻ ROBOCZA I OCHRONNA","ODZIEŻ ROBOCZA I OCHRONNA",150,"2.02.17.01","Oddział Urologii i Urologii Onkologicznej"]
["O-022O","Obuwie operacyjne niebieskie nr.44","ODZIEŻ ROBOCZA I OCHRONNA","ODZIEŻ ROBOCZA I OCHRONNA",150,"2.02.08","Oddział Położniczo – Ginekologiczny"]
["O-022P","Obuwie operacyjne zielone nr.38","ODZIEŻ ROBOCZA I OCHRONNA","ODZIEŻ ROBOCZA I OCHRONNA",150,"2.04.01","Blok Operacyjny"]
["O-022T","Obuwie operacyjne zielone nr.44","ODZIEŻ ROBOCZA I OCHRONNA","ODZIEŻ ROBOCZA I OCHRONNA",100,"3.03","Dział Centralnej Sterylizatorni i DDD"]
["O-047","Obturator j.uż, 8mm   420023-02","NARZĘDZIA MEDYCZNE","NARZ. MEDYCZNE",3024,"2.04.01","Blok Operacyjny"]
["O-047","Obturator j.uż, 8mm   420023-02","NARZĘDZIA MEDYCZNE","NARZ. MEDYCZNE",3024,"2.04.02","Blok Operacyjny DAVINCI"]
["O-047A","Obturator tępy,8mm,da Vinci","NARZĘDZIA MEDYCZNE","NARZ. MEDYCZNE",3024,"2.04.01","Blok Operacyjny"]
["O-053","Oprawki próbne okularowe TF2","MED. NISK. ŚR. TRW.","MED. NISK. ŚR. TRW.",650,"2.02.13","Oddział Okulistyczny"]
["O-082A","Ochrona tarczycy RTG - AT sliniak 8","ODZIEŻ OCHRONNA RADIOLOGICZNA","ODZIEŻ OCHRONNA RADIOLOGICZNA",370,"2.02.09.06","Pracownia Hemodynamiki"]
["O-082B","Ochrona tarczycy model 840T 0,50mm Pb","ODZIEŻ OCHRONNA RADIOLOGICZNA","ODZIEŻ OCHRONNA RADIOLOGICZNA",370,"2.02.10","Oddział Kardiologii Dziecięcej z Pododdziałem Kardiochirurgi"]
["O-082B","Ochrona tarczycy model 840T 0,50mm Pb","ODZIEŻ OCHRONNA RADIOLOGICZNA","ODZIEŻ OCHRONNA RADIOLOGICZNA",370,"2.02.17.01","Oddział Urologii i Urologii Onkologicznej"]
["O-086","Obuwie gumowe damskie roz.36","ODZIEŻ ROBOCZA I OCHRONNA","ODZIEŻ ROBOCZA I OCHRONNA",45,"2.02.01.01","Anestezjologia"]
["O-086A","Obuwie gumowe damskie roz.38","ODZIEŻ ROBOCZA I OCHRONNA","ODZIEŻ ROBOCZA I OCHRONNA",45,"2.02.01.01","Anestezjologia"]
["O-086B","Obuwie gumowe damskie roz.40","ODZIEŻ ROBOCZA I OCHRONNA","ODZIEŻ ROBOCZA I OCHRONNA",45,"2.02.01.01","Anestezjologia"]
["O-088","Obturator standardowy,do zast.z płaszczami rese","NARZĘDZIA MEDYCZNE","NARZ. MEDYCZNE",440,"2.02.17.01","Oddział Urologii i Urologii Onkologicznej"]
["O-089","Obturator,do zast.z płaszczem uretrotomu 21 Fr.","NARZĘDZIA MEDYCZNE","NARZ. MEDYCZNE",1000,"2.02.17.01","Oddział Urologii i Urologii Onkologicznej"]
["O-131","Odkurzacz  ","SPRZĘT AGD","SPRZĘT AGD",800,"2.02.15","Oddział Pediatryczny z Pododdziałem Gastroenterologii "]
["O-131A","Odkurzacz  ","SPRZĘT AGD","SPRZĘT AGD",800,"3.02","Dział Gospodarki Nieruchomościami i Utrzymania Ruchu"]
["P-051D","Pokrywa 1/1 PRIMELINE,tył kolor czerwony JP001","NARZĘDZIA MEDYCZNE","NARZ. MEDYCZNE",1800,"3.03","Dział Centralnej Sterylizatorni i DDD"]
["P-065","Penseta Colibri rogówkowa, 0,12mm, 1x2 ząbki, p","NARZĘDZIA MEDYCZNE","NARZ. MEDYCZNE",1030,"2.02.13","Oddział Okulistyczny"]
["P-066A","Poduszka równoważna-Balance Pad Elite z wypustk","MATERIAŁY DO REHABILITACJI","MATERIAŁY DO REHABILITACJI",197.1,"6.03","Zamiejscowy Dział Rehabilitacji Leczniczej"]
["P-088","Pryzmat do tonometru aplanacyjnego","MED. NISK. ŚR. TRW.","MED. NISK. ŚR. TRW.",378,"2.02.13","Oddział Okulistyczny"]
["P-094","Podgrzewacz do butelek dla niemowląt","SPRZĘT AGD","SPRZĘT AGD",120,"2.02.10","Oddział Kardiologii Dziecięcej z Pododdziałem Kardiochirurgi"]
["P-094","Podgrzewacz do butelek dla niemowląt","SPRZĘT AGD","SPRZĘT AGD",120,"2.02.12","Oddział Neonatologiczny z Pododdziałem Patologii Noworodka"]
["P-094A","Podgrzewacz do butelek dla niemowląt","SPRZĘT AGD","SPRZĘT AGD",120,"2.02.10","Oddział Kardiologii Dziecięcej z Pododdziałem Kardiochirurgi"]
["P-094C","Podgrzewacz do butelek dla niemowląt","SPRZĘT AGD","SPRZĘT AGD",120,"2.02.12","Oddział Neonatologiczny z Pododdziałem Patologii Noworodka"]
["P-094D","Podgrzewacz do butelek dla niemowląt","SPRZĘT AGD","SPRZĘT AGD",120,"2.02.12","Oddział Neonatologiczny z Pododdziałem Patologii Noworodka"]
["P-097","Poduszka  70X80 CLINIC II 1000g","POŚCIEL SZPITAL","POŚCIEL SZPITAL",49,"3.02.02.01","Hotel Pracowniczy"]
["P-097","Poduszka  70X80 CLINIC II 1000g","POŚCIEL SZPITAL","POŚCIEL SZPITAL",49,"2.02.02","Oddział Angiologiczny z Pododdziałem Diabetologii"]
["P-097","Poduszka  70X80 CLINIC II 1000g","POŚCIEL SZPITAL","POŚCIEL SZPITAL",49,"2.02.04","Oddział Chirurgii Naczyniowej"]
["P-097","Poduszka  70X80 CLINIC II 1000g","POŚCIEL SZPITAL","POŚCIEL SZPITAL",49,"2.02.05.01","Oddział Chirurgii Ogólnej z Pododdziałami"]
["P-097","Poduszka  70X80 CLINIC II 1000g","POŚCIEL SZPITAL","POŚCIEL SZPITAL",49,"2.02.06","Oddział Chirurgii Onkologicznej"]
["P-097","Poduszka  70X80 CLINIC II 1000g","POŚCIEL SZPITAL","POŚCIEL SZPITAL",49,"2.02.09.11","Oddział Kardiologiczny"]
["P-097","Poduszka  70X80 CLINIC II 1000g","POŚCIEL SZPITAL","POŚCIEL SZPITAL",49,"2.02.10","Oddział Kardiologii Dziecięcej z Pododdziałem Kardiochirurgi"]
["P-097","Poduszka  70X80 CLINIC II 1000g","POŚCIEL SZPITAL","POŚCIEL SZPITAL",49,"2.02.11.01","Oddział Nefrologiczny"]
["P-097","Poduszka  70X80 CLINIC II 1000g","POŚCIEL SZPITAL","POŚCIEL SZPITAL",49,"2.02.14","Oddział Otolaryngologiczny z Pododdziałem Otolaryngologii"]
["P-097","Poduszka  70X80 CLINIC II 1000g","POŚCIEL SZPITAL","POŚCIEL SZPITAL",49,"2.02.15","Oddział Pediatryczny z Pododdziałem Gastroenterologii "]
["P-097","Poduszka  70X80 CLINIC II 1000g","POŚCIEL SZPITAL","POŚCIEL SZPITAL",49,"2.02.08","Oddział Położniczo – Ginekologiczny"]
["P-097","Poduszka  70X80 CLINIC II 1000g","POŚCIEL SZPITAL","POŚCIEL SZPITAL",49,"2.02.16","Oddział Transplantologiczny"]
["P-097","Poduszka  70X80 CLINIC II 1000g","POŚCIEL SZPITAL","POŚCIEL SZPITAL",49,"2.02.17.01","Oddział Urologii i Urologii Onkologicznej"]
["P-097","Poduszka  70X80 CLINIC II 1000g","POŚCIEL SZPITAL","POŚCIEL SZPITAL",49,"2.05","SOR"]
["P-097","Poduszka  70X80 CLINIC II 1000g","POŚCIEL SZPITAL","POŚCIEL SZPITAL",49,"2.02.18","Zamiejscowy Oddział Chirurgii Urazowo - Ortopedycznej"]
["P-097","Poduszka  70X80 CLINIC II 1000g","POŚCIEL SZPITAL","POŚCIEL SZPITAL",49,"2.02.19","Zamiejscowy Oddział Rehabilitacji Neurologicznej"]
["P-097","Poduszka  70X80 CLINIC II 1000g","POŚCIEL SZPITAL","POŚCIEL SZPITAL",49,"2.02.20","Zamiejscowy Oddział Rehabilitacji Ogólnoustrojowej I"]
["P-097","Poduszka  70X80 CLINIC II 1000g","POŚCIEL SZPITAL","POŚCIEL SZPITAL",49,"2.02.21","Zamiejscowy Oddział Rehabilitacji Ogólnoustrojowej II"]
["P-097A","Poduszka  40X40 CLINIC III 250g","POŚCIEL SZPITAL","POŚCIEL SZPITAL",14,"2.02.09.11","Oddział Kardiologiczny"]
["P-097A","Poduszka  40X40 CLINIC III 250g","POŚCIEL SZPITAL","POŚCIEL SZPITAL",14,"2.02.10","Oddział Kardiologii Dziecięcej z Pododdziałem Kardiochirurgi"]
["P-097A","Poduszka  40X40 CLINIC III 250g","POŚCIEL SZPITAL","POŚCIEL SZPITAL",14,"2.02.14","Oddział Otolaryngologiczny z Pododdziałem Otolaryngologii"]
["P-097A","Poduszka  40X40 CLINIC III 250g","POŚCIEL SZPITAL","POŚCIEL SZPITAL",14,"2.02.15","Oddział Pediatryczny z Pododdziałem Gastroenterologii "]
["P-097A","Poduszka  40X40 CLINIC III 250g","POŚCIEL SZPITAL","POŚCIEL SZPITAL",14,"2.02.08","Oddział Położniczo – Ginekologiczny"]
["P-097B","Poduszka  50X50 CLINIC","POŚCIEL SZPITAL","POŚCIEL SZPITAL",25,"2.02.14","Oddział Otolaryngologiczny z Pododdziałem Otolaryngologii"]
["P-097B","Poduszka  50X50 CLINIC","POŚCIEL SZPITAL","POŚCIEL SZPITAL",25,"2.02.15","Oddział Pediatryczny z Pododdziałem Gastroenterologii "]
["P-097C","Poduszka 70X80","POŚCIEL SZPITAL","POŚCIEL SZPITAL",60,"3.02.02.01","Hotel Pracowniczy"]
["P-099","Podkład bawełniany biały 90x160","POŚCIEL SZPITAL","POŚCIEL SZPITAL",9,"2.02.04","Oddział Chirurgii Naczyniowej"]
["P-099","Podkład bawełniany biały 90x160","POŚCIEL SZPITAL","POŚCIEL SZPITAL",9,"3.02.04","SekcjaGospodarcza i Obsługa (cześć wspólna)"]
["P-099A","Podkład  biały 80x160","POŚCIEL SZPITAL","POŚCIEL SZPITAL",9,"3.02","Dział Gospodarki Nieruchomościami i Utrzymania Ruchu"]
["P-099A","Podkład  biały 80x160","POŚCIEL SZPITAL","POŚCIEL SZPITAL",9,"4.02","Dział Zaopatrzenia i Zamówień Publicznych"]
["P-099A","Podkład  biały 80x160","POŚCIEL SZPITAL","POŚCIEL SZPITAL",9,"2.02.01.02","Intensywna Terapia"]
["P-099A","Podkład  biały 80x160","POŚCIEL SZPITAL","POŚCIEL SZPITAL",9,"2.02.08","Oddział Położniczo – Ginekologiczny"]
["P-099A","Podkład  biały 80x160","POŚCIEL SZPITAL","POŚCIEL SZPITAL",9,"3.02.04","SekcjaGospodarcza i Obsługa (cześć wspólna)"]
["P-100B","Prześcieradło bawełniane białe 160x250","POŚCIEL SZPITAL","POŚCIEL SZPITAL",25,"2.02.01.02","Intensywna Terapia"]
["P-100B","Prześcieradło bawełniane białe 160x250","POŚCIEL SZPITAL","POŚCIEL SZPITAL",25,"2.02.03","Oddział Chemioterapii z Pododdziałem Chemioterapii Dziennej"]
["P-100B","Prześcieradło bawełniane białe 160x250","POŚCIEL SZPITAL","POŚCIEL SZPITAL",25,"2.02.05.01","Oddział Chirurgii Ogólnej z Pododdziałami"]
["P-100B","Prześcieradło bawełniane białe 160x250","POŚCIEL SZPITAL","POŚCIEL SZPITAL",25,"2.02.06","Oddział Chirurgii Onkologicznej"]
["P-100B","Prześcieradło bawełniane białe 160x250","POŚCIEL SZPITAL","POŚCIEL SZPITAL",25,"2.02.09.11","Oddział Kardiologiczny"]
["P-100B","Prześcieradło bawełniane białe 160x250","POŚCIEL SZPITAL","POŚCIEL SZPITAL",25,"2.02.10","Oddział Kardiologii Dziecięcej z Pododdziałem Kardiochirurgi"]
["P-100B","Prześcieradło bawełniane białe 160x250","POŚCIEL SZPITAL","POŚCIEL SZPITAL",25,"2.02.11.01","Oddział Nefrologiczny"]
["P-100B","Prześcieradło bawełniane białe 160x250","POŚCIEL SZPITAL","POŚCIEL SZPITAL",25,"2.02.15","Oddział Pediatryczny z Pododdziałem Gastroenterologii "]
["P-100B","Prześcieradło bawełniane białe 160x250","POŚCIEL SZPITAL","POŚCIEL SZPITAL",25,"2.02.08","Oddział Położniczo – Ginekologiczny"]
["P-100B","Prześcieradło bawełniane białe 160x250","POŚCIEL SZPITAL","POŚCIEL SZPITAL",25,"2.02.17.01","Oddział Urologii i Urologii Onkologicznej"]
["P-100B","Prześcieradło bawełniane białe 160x250","POŚCIEL SZPITAL","POŚCIEL SZPITAL",25,"3.02.04","SekcjaGospodarcza i Obsługa (cześć wspólna)"]
["P-100B","Prześcieradło bawełniane białe 160x250","POŚCIEL SZPITAL","POŚCIEL SZPITAL",25,"2.06","Stacja Dializ"]
["P-100B","Prześcieradło bawełniane białe 160x250","POŚCIEL SZPITAL","POŚCIEL SZPITAL",25,"2.02.18","Zamiejscowy Oddział Chirurgii Urazowo - Ortopedycznej"]
["P-100B","Prześcieradło bawełniane białe 160x250","POŚCIEL SZPITAL","POŚCIEL SZPITAL",25,"2.02.19","Zamiejscowy Oddział Rehabilitacji Neurologicznej"]
["P-100B","Prześcieradło bawełniane białe 160x250","POŚCIEL SZPITAL","POŚCIEL SZPITAL",25,"2.02.20","Zamiejscowy Oddział Rehabilitacji Ogólnoustrojowej I"]
["P-100B","Prześcieradło bawełniane białe 160x250","POŚCIEL SZPITAL","POŚCIEL SZPITAL",25,"2.02.21","Zamiejscowy Oddział Rehabilitacji Ogólnoustrojowej II"]
["P-100C","Prześcieradło 240X160","POŚCIEL SZPITAL","POŚCIEL SZPITAL",25,"3.02","Dział Gospodarki Nieruchomościami i Utrzymania Ruchu"]
["P-100C","Prześcieradło 240X160","POŚCIEL SZPITAL","POŚCIEL SZPITAL",25,"2.02.04","Oddział Chirurgii Naczyniowej"]
["P-100C","Prześcieradło 240X160","POŚCIEL SZPITAL","POŚCIEL SZPITAL",25,"2.02.05.01","Oddział Chirurgii Ogólnej z Pododdziałami"]
["P-100C","Prześcieradło 240X160","POŚCIEL SZPITAL","POŚCIEL SZPITAL",25,"2.02.07","Oddział Dermatologiczny"]
["P-100C","Prześcieradło 240X160","POŚCIEL SZPITAL","POŚCIEL SZPITAL",25,"2.02.09.11","Oddział Kardiologiczny"]
["P-100C","Prześcieradło 240X160","POŚCIEL SZPITAL","POŚCIEL SZPITAL",25,"2.02.10","Oddział Kardiologii Dziecięcej z Pododdziałem Kardiochirurgi"]
["P-100C","Prześcieradło 240X160","POŚCIEL SZPITAL","POŚCIEL SZPITAL",25,"2.02.11.01","Oddział Nefrologiczny"]
["P-100C","Prześcieradło 240X160","POŚCIEL SZPITAL","POŚCIEL SZPITAL",25,"2.02.13","Oddział Okulistyczny"]
["P-100C","Prześcieradło 240X160","POŚCIEL SZPITAL","POŚCIEL SZPITAL",25,"2.02.14","Oddział Otolaryngologiczny z Pododdziałem Otolaryngologii"]
["P-100C","Prześcieradło 240X160","POŚCIEL SZPITAL","POŚCIEL SZPITAL",25,"2.02.08","Oddział Położniczo – Ginekologiczny"]
["P-100C","Prześcieradło 240X160","POŚCIEL SZPITAL","POŚCIEL SZPITAL",25,"2.02.16","Oddział Transplantologiczny"]
["P-100C","Prześcieradło 240X160","POŚCIEL SZPITAL","POŚCIEL SZPITAL",25,"2.05","SOR"]
["P-100C","Prześcieradło 240X160","POŚCIEL SZPITAL","POŚCIEL SZPITAL",25,"2.06","Stacja Dializ"]
["P-100C","Prześcieradło 240X160","POŚCIEL SZPITAL","POŚCIEL SZPITAL",25,"2.02.18","Zamiejscowy Oddział Chirurgii Urazowo - Ortopedycznej"]
["P-100C","Prześcieradło 240X160","POŚCIEL SZPITAL","POŚCIEL SZPITAL",25,"2.02.20","Zamiejscowy Oddział Rehabilitacji Ogólnoustrojowej I"]
["P-100C","Prześcieradło 240X160","POŚCIEL SZPITAL","POŚCIEL SZPITAL",25,"2.02.21","Zamiejscowy Oddział Rehabilitacji Ogólnoustrojowej II"]
["P-100D","Prześcieradło zielone 240x180","POŚCIEL SZPITAL","POŚCIEL SZPITAL",30,"2.04.03","Zamiejscowy Blok Operacyjny"]
["P-102","Prześcieradło flanelowe 74X110","POŚCIEL SZPITAL","POŚCIEL SZPITAL",20,"2.02.12","Oddział Neonatologiczny z Pododdziałem Patologii Noworodka"]
["P-102A","Prześcieradełko 100%bawełna typu flanela 100x10","POŚCIEL SZPITAL","POŚCIEL SZPITAL",25,"2.02.12","Oddział Neonatologiczny z Pododdziałem Patologii Noworodka"]
["P-102B","Prześcieradełko 100% bawełna wym.74x110","POŚCIEL SZPITAL","POŚCIEL SZPITAL",25,"2.02.12","Oddział Neonatologiczny z Pododdziałem Patologii Noworodka"]
["P-103C","Prześcieradła operacyjne zielone 250X200","POŚCIEL SZPITAL","POŚCIEL SZPITAL",41.04,"2.04.03","Zamiejscowy Blok Operacyjny"]
["P-103D","Prześcieradła  200x220-kolor oliwka","POŚCIEL SZPITAL","POŚCIEL SZPITAL",25,"2.02.15","Oddział Pediatryczny z Pododdziałem Gastroenterologii "]
["P-103E","Prześcieradło operacyjne niebies 220x160","POŚCIEL SZPITAL","POŚCIEL SZPITAL",41,"2.02.14","Oddział Otolaryngologiczny z Pododdziałem Otolaryngologii"]
["P-104","Poszwa 210x160","POŚCIEL SZPITAL","POŚCIEL SZPITAL",40,"2.02.04","Oddział Chirurgii Naczyniowej"]
["P-104A","Poszwa 160X220-biała bawełniana","POŚCIEL SZPITAL","POŚCIEL SZPITAL",40,"3.02","Dział Gospodarki Nieruchomościami i Utrzymania Ruchu"]
["P-104A","Poszwa 160X220-biała bawełniana","POŚCIEL SZPITAL","POŚCIEL SZPITAL",40,"4.02","Dział Zaopatrzenia i Zamówień Publicznych"]
["P-104A","Poszwa 160X220-biała bawełniana","POŚCIEL SZPITAL","POŚCIEL SZPITAL",40,"2.02.01.02","Intensywna Terapia"]
["P-104A","Poszwa 160X220-biała bawełniana","POŚCIEL SZPITAL","POŚCIEL SZPITAL",40,"2.02.03","Oddział Chemioterapii z Pododdziałem Chemioterapii Dziennej"]
["P-104A","Poszwa 160X220-biała bawełniana","POŚCIEL SZPITAL","POŚCIEL SZPITAL",40,"2.02.05.01","Oddział Chirurgii Ogólnej z Pododdziałami"]
["P-104A","Poszwa 160X220-biała bawełniana","POŚCIEL SZPITAL","POŚCIEL SZPITAL",40,"2.02.06","Oddział Chirurgii Onkologicznej"]
["P-104A","Poszwa 160X220-biała bawełniana","POŚCIEL SZPITAL","POŚCIEL SZPITAL",40,"2.02.09.11","Oddział Kardiologiczny"]
["P-104A","Poszwa 160X220-biała bawełniana","POŚCIEL SZPITAL","POŚCIEL SZPITAL",40,"2.02.10","Oddział Kardiologii Dziecięcej z Pododdziałem Kardiochirurgi"]
["P-104A","Poszwa 160X220-biała bawełniana","POŚCIEL SZPITAL","POŚCIEL SZPITAL",40,"2.02.15","Oddział Pediatryczny z Pododdziałem Gastroenterologii "]
["P-104A","Poszwa 160X220-biała bawełniana","POŚCIEL SZPITAL","POŚCIEL SZPITAL",40,"2.02.08","Oddział Położniczo – Ginekologiczny"]
["P-104A","Poszwa 160X220-biała bawełniana","POŚCIEL SZPITAL","POŚCIEL SZPITAL",40,"2.02.17.01","Oddział Urologii i Urologii Onkologicznej"]
["P-104A","Poszwa 160X220-biała bawełniana","POŚCIEL SZPITAL","POŚCIEL SZPITAL",40,"3.02.04","SekcjaGospodarcza i Obsługa (cześć wspólna)"]
["P-104A","Poszwa 160X220-biała bawełniana","POŚCIEL SZPITAL","POŚCIEL SZPITAL",40,"2.06","Stacja Dializ"]
["P-104A","Poszwa 160X220-biała bawełniana","POŚCIEL SZPITAL","POŚCIEL SZPITAL",40,"2.02.18","Zamiejscowy Oddział Chirurgii Urazowo - Ortopedycznej"]
["P-104A","Poszwa 160X220-biała bawełniana","POŚCIEL SZPITAL","POŚCIEL SZPITAL",40,"2.02.19","Zamiejscowy Oddział Rehabilitacji Neurologicznej"]
["P-104A","Poszwa 160X220-biała bawełniana","POŚCIEL SZPITAL","POŚCIEL SZPITAL",40,"2.02.21","Zamiejscowy Oddział Rehabilitacji Ogólnoustrojowej II"]
["P-104B","Poszwa 160X200","POŚCIEL SZPITAL","POŚCIEL SZPITAL",40,"3.02","Dział Gospodarki Nieruchomościami i Utrzymania Ruchu"]
["P-104B","Poszwa 160X200","POŚCIEL SZPITAL","POŚCIEL SZPITAL",40,"2.02.02","Oddział Angiologiczny z Pododdziałem Diabetologii"]
["P-104B","Poszwa 160X200","POŚCIEL SZPITAL","POŚCIEL SZPITAL",40,"2.02.04","Oddział Chirurgii Naczyniowej"]
["P-104B","Poszwa 160X200","POŚCIEL SZPITAL","POŚCIEL SZPITAL",40,"2.02.05.01","Oddział Chirurgii Ogólnej z Pododdziałami"]
["P-104B","Poszwa 160X200","POŚCIEL SZPITAL","POŚCIEL SZPITAL",40,"2.02.07","Oddział Dermatologiczny"]
["P-104B","Poszwa 160X200","POŚCIEL SZPITAL","POŚCIEL SZPITAL",40,"2.02.09.11","Oddział Kardiologiczny"]
["P-104B","Poszwa 160X200","POŚCIEL SZPITAL","POŚCIEL SZPITAL",40,"2.02.10","Oddział Kardiologii Dziecięcej z Pododdziałem Kardiochirurgi"]
["P-104B","Poszwa 160X200","POŚCIEL SZPITAL","POŚCIEL SZPITAL",40,"2.02.11.01","Oddział Nefrologiczny"]
["P-104B","Poszwa 160X200","POŚCIEL SZPITAL","POŚCIEL SZPITAL",40,"2.02.13","Oddział Okulistyczny"]
["P-104B","Poszwa 160X200","POŚCIEL SZPITAL","POŚCIEL SZPITAL",40,"2.02.14","Oddział Otolaryngologiczny z Pododdziałem Otolaryngologii"]
["P-104B","Poszwa 160X200","POŚCIEL SZPITAL","POŚCIEL SZPITAL",40,"2.02.08","Oddział Położniczo – Ginekologiczny"]
["P-104B","Poszwa 160X200","POŚCIEL SZPITAL","POŚCIEL SZPITAL",40,"2.02.16","Oddział Transplantologiczny"]
["P-104B","Poszwa 160X200","POŚCIEL SZPITAL","POŚCIEL SZPITAL",40,"2.02.17.01","Oddział Urologii i Urologii Onkologicznej"]
["P-104B","Poszwa 160X200","POŚCIEL SZPITAL","POŚCIEL SZPITAL",40,"2.05","SOR"]
["P-104B","Poszwa 160X200","POŚCIEL SZPITAL","POŚCIEL SZPITAL",40,"2.06","Stacja Dializ"]
["P-104B","Poszwa 160X200","POŚCIEL SZPITAL","POŚCIEL SZPITAL",40,"2.02.18","Zamiejscowy Oddział Chirurgii Urazowo - Ortopedycznej"]
["P-104B","Poszwa 160X200","POŚCIEL SZPITAL","POŚCIEL SZPITAL",40,"2.02.20","Zamiejscowy Oddział Rehabilitacji Ogólnoustrojowej I"]
["P-104B","Poszwa 160X200","POŚCIEL SZPITAL","POŚCIEL SZPITAL",40,"2.02.21","Zamiejscowy Oddział Rehabilitacji Ogólnoustrojowej II"]
["P-105","Poszwa-160x200 -  kolorowa dla dzieci","POŚCIEL SZPITAL","POŚCIEL SZPITAL",40,"2.02.15","Oddział Pediatryczny z Pododdziałem Gastroenterologii "]
["P-105A","Poszwa-150x200 -  kolorowa","POŚCIEL SZPITAL","POŚCIEL SZPITAL",40,"3.02.02.01","Hotel Pracowniczy"]
["P-107","Poszewka 70X80","POŚCIEL SZPITAL","POŚCIEL SZPITAL",11,"3.02","Dział Gospodarki Nieruchomościami i Utrzymania Ruchu"]
["P-107","Poszewka 70X80","POŚCIEL SZPITAL","POŚCIEL SZPITAL",11,"2.02.02","Oddział Angiologiczny z Pododdziałem Diabetologii"]
["P-107","Poszewka 70X80","POŚCIEL SZPITAL","POŚCIEL SZPITAL",11,"2.02.04","Oddział Chirurgii Naczyniowej"]
["P-107","Poszewka 70X80","POŚCIEL SZPITAL","POŚCIEL SZPITAL",11,"2.02.05.01","Oddział Chirurgii Ogólnej z Pododdziałami"]
["P-107","Poszewka 70X80","POŚCIEL SZPITAL","POŚCIEL SZPITAL",11,"2.02.07","Oddział Dermatologiczny"]
["P-107","Poszewka 70X80","POŚCIEL SZPITAL","POŚCIEL SZPITAL",11,"2.02.09.11","Oddział Kardiologiczny"]
["P-107","Poszewka 70X80","POŚCIEL SZPITAL","POŚCIEL SZPITAL",11,"2.02.10","Oddział Kardiologii Dziecięcej z Pododdziałem Kardiochirurgi"]
["P-107","Poszewka 70X80","POŚCIEL SZPITAL","POŚCIEL SZPITAL",11,"2.02.11.01","Oddział Nefrologiczny"]
["P-107","Poszewka 70X80","POŚCIEL SZPITAL","POŚCIEL SZPITAL",11,"2.02.13","Oddział Okulistyczny"]
["P-107","Poszewka 70X80","POŚCIEL SZPITAL","POŚCIEL SZPITAL",11,"2.02.14","Oddział Otolaryngologiczny z Pododdziałem Otolaryngologii"]
["P-107","Poszewka 70X80","POŚCIEL SZPITAL","POŚCIEL SZPITAL",11,"2.02.08","Oddział Położniczo – Ginekologiczny"]
["P-107","Poszewka 70X80","POŚCIEL SZPITAL","POŚCIEL SZPITAL",11,"2.02.16","Oddział Transplantologiczny"]
["P-107","Poszewka 70X80","POŚCIEL SZPITAL","POŚCIEL SZPITAL",11,"2.02.17.01","Oddział Urologii i Urologii Onkologicznej"]
["P-107","Poszewka 70X80","POŚCIEL SZPITAL","POŚCIEL SZPITAL",11,"2.05","SOR"]
["P-107","Poszewka 70X80","POŚCIEL SZPITAL","POŚCIEL SZPITAL",11,"2.02.18","Zamiejscowy Oddział Chirurgii Urazowo - Ortopedycznej"]
["P-107","Poszewka 70X80","POŚCIEL SZPITAL","POŚCIEL SZPITAL",11,"2.02.20","Zamiejscowy Oddział Rehabilitacji Ogólnoustrojowej I"]
["P-107","Poszewka 70X80","POŚCIEL SZPITAL","POŚCIEL SZPITAL",11,"2.02.21","Zamiejscowy Oddział Rehabilitacji Ogólnoustrojowej II"]
["P-107A","Poszewka 70x80-biala,bawełniana","POŚCIEL SZPITAL","POŚCIEL SZPITAL",11,"2.02.03","Oddział Chemioterapii z Pododdziałem Chemioterapii Dziennej"]
["P-107A","Poszewka 70x80-biala,bawełniana","POŚCIEL SZPITAL","POŚCIEL SZPITAL",11,"2.02.04","Oddział Chirurgii Naczyniowej"]
["P-107A","Poszewka 70x80-biala,bawełniana","POŚCIEL SZPITAL","POŚCIEL SZPITAL",11,"2.02.05.01","Oddział Chirurgii Ogólnej z Pododdziałami"]
["P-107A","Poszewka 70x80-biala,bawełniana","POŚCIEL SZPITAL","POŚCIEL SZPITAL",11,"2.02.06","Oddział Chirurgii Onkologicznej"]
["P-107A","Poszewka 70x80-biala,bawełniana","POŚCIEL SZPITAL","POŚCIEL SZPITAL",11,"2.02.09.11","Oddział Kardiologiczny"]
["P-107A","Poszewka 70x80-biala,bawełniana","POŚCIEL SZPITAL","POŚCIEL SZPITAL",11,"2.02.10","Oddział Kardiologii Dziecięcej z Pododdziałem Kardiochirurgi"]
["P-107A","Poszewka 70x80-biala,bawełniana","POŚCIEL SZPITAL","POŚCIEL SZPITAL",11,"2.02.15","Oddział Pediatryczny z Pododdziałem Gastroenterologii "]
["P-107A","Poszewka 70x80-biala,bawełniana","POŚCIEL SZPITAL","POŚCIEL SZPITAL",11,"2.02.08","Oddział Położniczo – Ginekologiczny"]
["P-107A","Poszewka 70x80-biala,bawełniana","POŚCIEL SZPITAL","POŚCIEL SZPITAL",11,"2.02.17.01","Oddział Urologii i Urologii Onkologicznej"]
["P-107A","Poszewka 70x80-biala,bawełniana","POŚCIEL SZPITAL","POŚCIEL SZPITAL",11,"3.02.04","SekcjaGospodarcza i Obsługa (cześć wspólna)"]
["P-107A","Poszewka 70x80-biala,bawełniana","POŚCIEL SZPITAL","POŚCIEL SZPITAL",11,"2.06","Stacja Dializ"]
["P-107A","Poszewka 70x80-biala,bawełniana","POŚCIEL SZPITAL","POŚCIEL SZPITAL",11,"2.02.18","Zamiejscowy Oddział Chirurgii Urazowo - Ortopedycznej"]
["P-107A","Poszewka 70x80-biala,bawełniana","POŚCIEL SZPITAL","POŚCIEL SZPITAL",11,"2.02.19","Zamiejscowy Oddział Rehabilitacji Neurologicznej"]
["P-107A","Poszewka 70x80-biala,bawełniana","POŚCIEL SZPITAL","POŚCIEL SZPITAL",11,"2.02.20","Zamiejscowy Oddział Rehabilitacji Ogólnoustrojowej I"]
["P-107A","Poszewka 70x80-biala,bawełniana","POŚCIEL SZPITAL","POŚCIEL SZPITAL",11,"2.02.21","Zamiejscowy Oddział Rehabilitacji Ogólnoustrojowej II"]
["P-107B","Poszewka 70x80-kolorowa dla dzieci","POŚCIEL SZPITAL","POŚCIEL SZPITAL",11,"2.02.15","Oddział Pediatryczny z Pododdziałem Gastroenterologii "]
["P-108","Poszewka kolorowa","POŚCIEL SZPITAL","POŚCIEL SZPITAL",11,"3.02.02.01","Hotel Pracowniczy"]
["P-109A","Piżama szpitalna","POŚCIEL SZPITAL","POŚCIEL SZPITAL",42,"1.04.03","Dział Rejestracji Statystyki i Dokumentacji Medycznej"]
["P-109A","Piżama szpitalna","POŚCIEL SZPITAL","POŚCIEL SZPITAL",42,"2.02.02","Oddział Angiologiczny z Pododdziałem Diabetologii"]
["P-109A","Piżama szpitalna","POŚCIEL SZPITAL","POŚCIEL SZPITAL",42,"2.02.05.01","Oddział Chirurgii Ogólnej z Pododdziałami"]
["P-126","Poszewki na kocyki ","POŚCIEL SZPITAL","POŚCIEL SZPITAL",15,"2.02.08","Oddział Położniczo – Ginekologiczny"]
["P-126A","Poszewki na kocyki ","POŚCIEL SZPITAL","POŚCIEL SZPITAL",15,"2.02.12","Oddział Neonatologiczny z Pododdziałem Patologii Noworodka"]
["P-126B","Poszewki na kocyki ","POŚCIEL SZPITAL","POŚCIEL SZPITAL",15,"2.02.12","Oddział Neonatologiczny z Pododdziałem Patologii Noworodka"]
["P-131","Pieluchy z tetry","POŚCIEL SZPITAL","POŚCIEL SZPITAL",6,"2.02.12","Oddział Neonatologiczny z Pododdziałem Patologii Noworodka"]
["P-131","Pieluchy z tetry","POŚCIEL SZPITAL","POŚCIEL SZPITAL",6,"2.02.08","Oddział Położniczo – Ginekologiczny"]
["P-143","Pompa do żywienia dojelitowego","MED. NISK. ŚR. TRW.","MED. NISK. ŚR. TRW.",1400,"2.02.01.02","Intensywna Terapia"]
["P-143","Pompa do żywienia dojelitowego","MED. NISK. ŚR. TRW.","MED. NISK. ŚR. TRW.",1400,"2.02.09.11","Oddział Kardiologiczny"]
["P-145A","Przenośnik rolkowy ROLEX","POZOSTAŁE","POZOSTAŁE",1044.9000000000001,"2.02.01.01","Anestezjologia"]
["P-145A","Przenośnik rolkowy ROLEX","POZOSTAŁE","POZOSTAŁE",1044.9000000000001,"2.02.04","Oddział Chirurgii Naczyniowej"]
["P-152","Parawan pojedyńczy med.P-90","POZOSTAŁE","POZOSTAŁE",184.4,"2.02.09.11","Oddział Kardiologiczny"]
["P-152","Parawan pojedyńczy med.P-90","POZOSTAŁE","POZOSTAŁE",184.4,"2.02.08","Oddział Położniczo – Ginekologiczny"]
["P-152","Parawan pojedyńczy med.P-90","POZOSTAŁE","POZOSTAŁE",184.4,"2.06","Stacja Dializ"]
["P-152","Parawan pojedyńczy med.P-90","POZOSTAŁE","POZOSTAŁE",184.4,"2.02.18","Zamiejscowy Oddział Chirurgii Urazowo - Ortopedycznej"]
["P-152","Parawan pojedyńczy med.P-90","POZOSTAŁE","POZOSTAŁE",184.4,"2.02.21","Zamiejscowy Oddział Rehabilitacji Ogólnoustrojowej II"]
["P-152A","Parawan 2-skrzydłowy z elementów P-90","POZOSTAŁE","POZOSTAŁE",499,"2.02.20","Zamiejscowy Oddział Rehabilitacji Ogólnoustrojowej I"]
["P-156","Płaszcz resektoskopu 25Fr,dziób krótki, z 1LUER","NARZĘDZIA MEDYCZNE","NARZ. MEDYCZNE",1600,"2.02.17.01","Oddział Urologii i Urologii Onkologicznej"]
["P-156A","Płaszcz resektoskopu 26Fr,dziób skośny z 2 LUER","NARZĘDZIA MEDYCZNE","NARZ. MEDYCZNE",2600,"2.02.17.01","Oddział Urologii i Urologii Onkologicznej"]
["P-156B","Płaszcz resektoskopu 27 Fr,dziób pochyły z 1LUE","NARZĘDZIA MEDYCZNE","NARZ. MEDYCZNE",2000,"2.02.17.01","Oddział Urologii i Urologii Onkologicznej"]
["P-156C","Płaszcz resektoskopu 27 Fr,dziób pochyły z zawo","NARZĘDZIA MEDYCZNE","NARZ. MEDYCZNE",2300,"2.02.17.01","Oddział Urologii i Urologii Onkologicznej"]
["P-163A","Pinceta chirurgiczna B-200:4,8  3x4","NARZĘDZIA MEDYCZNE","NARZ. MEDYCZNE",104,"2.02.17.01","Oddział Urologii i Urologii Onkologicznej"]
["P-180","Pętla tnąca bipolarna 24Fr do zast z optyką 261","NARZĘDZIA MEDYCZNE","NARZ. MEDYCZNE",530,"2.02.08","Oddział Położniczo – Ginekologiczny"]
["P-180A","Pętla tnąca,bipolarna,24/26 Fr.do zast.z optyką","NARZĘDZIA MEDYCZNE","NARZ. MEDYCZNE",440,"2.02.17.01","Oddział Urologii i Urologii Onkologicznej"]
["P-189","Pozycjoner głowy i szyi dla dorosłych 272x237x9","MATERIAŁY DO REHABILITACJI","MATERIAŁY DO REHABILITACJI",1000,"2.02.13","Oddział Okulistyczny"]
["P-189A","Pozycjoner w pozycji na wznak- dla niemowląt [p","MATERIAŁY DO REHABILITACJI","MATERIAŁY DO REHABILITACJI",500,"2.07.01","DODO -Pracownia RTG"]
["P-189B","Pozycjoner w pozycji na wznak- dla małych dziec","MATERIAŁY DO REHABILITACJI","MATERIAŁY DO REHABILITACJI",800,"2.07.01","DODO -Pracownia RTG"]
["P-189C","Pozycjoner boczny dla niemowląt 60x30x13cm","MATERIAŁY DO REHABILITACJI","MATERIAŁY DO REHABILITACJI",600,"2.07.01","DODO -Pracownia RTG"]
["P-189D","Pozycjoner żelowy 4006.0200 firmy Maquet pod gł","MATERIAŁY DO REHABILITACJI","MATERIAŁY DO REHABILITACJI",700,"2.02.08","Oddział Położniczo – Ginekologiczny"]
["P-190","Pinceta do opon mózgowych B-200:1,4","NARZĘDZIA MEDYCZNE","NARZ. MEDYCZNE",67.709999999999994,"2.04.01","Blok Operacyjny"]
["P-190","Pinceta do opon mózgowych B-200:1,4","NARZĘDZIA MEDYCZNE","NARZ. MEDYCZNE",67.709999999999994,"2.02.17.01","Oddział Urologii i Urologii Onkologicznej"]
["P-190A","Pinceta do opon mózgowych B-180:1,4","NARZĘDZIA MEDYCZNE","NARZ. MEDYCZNE",67.709999999999994,"2.04.01","Blok Operacyjny"]
["P-190B","Pinceta do opon mózgowych A-200:1,4","NARZĘDZIA MEDYCZNE","NARZ. MEDYCZNE",67.709999999999994,"2.04.01","Blok Operacyjny"]
["P-197","Płaszcz cystoskopowy 20 Fr,z dwoma przyłączami","NARZĘDZIA MEDYCZNE","NARZ. MEDYCZNE",2000,"2.02.17.01","Oddział Urologii i Urologii Onkologicznej"]
["P-197","Płaszcz cystoskopowy 20 Fr,z dwoma przyłączami","NARZĘDZIA MEDYCZNE","NARZ. MEDYCZNE",2000,"2.03.24","Poradnia Urologiczna"]
["P-197A","Płaszcz cystoskopowy 22 Fr,z dwoma przyłączami","NARZĘDZIA MEDYCZNE","NARZ. MEDYCZNE",1850,"2.02.17.01","Oddział Urologii i Urologii Onkologicznej"]
["P-197A","Płaszcz cystoskopowy 22 Fr,z dwoma przyłączami","NARZĘDZIA MEDYCZNE","NARZ. MEDYCZNE",1850,"2.03.24","Poradnia Urologiczna"]
["P-198","Pętla tnąca,zagięta,monopolarna,do zast.z płasz","NARZĘDZIA MEDYCZNE","NARZ. MEDYCZNE",200,"2.02.17.01","Oddział Urologii i Urologii Onkologicznej"]
["P-198A","Pętla tnąca,zagięta,monopolarna,do zast.z płasz","NARZĘDZIA MEDYCZNE","NARZ. MEDYCZNE",200,"2.02.17.01","Oddział Urologii i Urologii Onkologicznej"]
["P-199","Pinceta koagulacyjna bipolarna,izolowana bagnet","NARZĘDZIA MEDYCZNE","NARZ. MEDYCZNE",2500,"2.02.14","Oddział Otolaryngologiczny z Pododdziałem Otolaryngologii"]
["P-202","Penseta chirurgiczna 18,13S","NARZĘDZIA MEDYCZNE","NARZ. MEDYCZNE",865,"2.02.13","Oddział Okulistyczny"]
["P-207","Przenośnik taśmowo-rolkowy","POZOSTAŁE","POZOSTAŁE",1200,"2.02.01.01","Anestezjologia"]
["P-209","Podkładka pod głowę obustronna dla dorosłych","MATERIAŁY DO REHABILITACJI","MATERIAŁY DO REHABILITACJI",430,"2.07.01","DODO -Pracownia RTG"]
["P-210","Pompa  ALPHABED","MED. NISK. ŚR. TRW.","MED. NISK. ŚR. TRW.",1100,"2.02.05.01","Oddział Chirurgii Ogólnej z Pododdziałami"]
["P-210","Pompa  ALPHABED","MED. NISK. ŚR. TRW.","MED. NISK. ŚR. TRW.",1100,"2.02.09.11","Oddział Kardiologiczny"]
["P-211","Pompa  ALPHABED","MED. NISK. ŚR. TRW.","MED. NISK. ŚR. TRW.",1100,"2.02.04","Oddział Chirurgii Naczyniowej"]
["P-211","Pompa  ALPHABED","MED. NISK. ŚR. TRW.","MED. NISK. ŚR. TRW.",1100,"2.02.05.01","Oddział Chirurgii Ogólnej z Pododdziałami"]
["P-211","Pompa  ALPHABED","MED. NISK. ŚR. TRW.","MED. NISK. ŚR. TRW.",1100,"2.02.19","Zamiejscowy Oddział Rehabilitacji Neurologicznej"]
["P-228","Pompa infuzyjna strzykawkowa INJECTOMAT MC","MED. NISK. ŚR. TRW.","MED. NISK. ŚR. TRW.",3200,"2.02.01.01","Anestezjologia"]
["P-228","Pompa infuzyjna strzykawkowa INJECTOMAT MC","MED. NISK. ŚR. TRW.","MED. NISK. ŚR. TRW.",3200,"2.02.01.02","Intensywna Terapia"]
["P-228","Pompa infuzyjna strzykawkowa INJECTOMAT MC","MED. NISK. ŚR. TRW.","MED. NISK. ŚR. TRW.",3200,"2.02.13","Oddział Okulistyczny"]
["P-228","Pompa infuzyjna strzykawkowa INJECTOMAT MC","MED. NISK. ŚR. TRW.","MED. NISK. ŚR. TRW.",3200,"2.02.08","Oddział Położniczo – Ginekologiczny"]
["P-229","Podgrzewacz do krwi i płynów infuzyjnych ET-TF-","MED. NISK. ŚR. TRW.","MED. NISK. ŚR. TRW.",2500,"2.02.01.01","Anestezjologia"]
["P-229","Podgrzewacz do krwi i płynów infuzyjnych ET-TF-","MED. NISK. ŚR. TRW.","MED. NISK. ŚR. TRW.",2500,"2.02.01.02","Intensywna Terapia"]
["P-232","Pokrowiec do materaca NIMBUS 4","MED. NISK. ŚR. TRW.","MED. NISK. ŚR. TRW.",3600,"2.02.09.11","Oddział Kardiologiczny"]
["P-232A","Pokrowiec do materaca NIMBUS 3 PROFESIONAL","MED. NISK. ŚR. TRW.","MED. NISK. ŚR. TRW.",3600,"2.02.01.02","Intensywna Terapia"]
["P-233","Prześcieradło z gumką","POŚCIEL SZPITAL","POŚCIEL SZPITAL",30,"3.02.02.01","Hotel Pracowniczy"]
["P-235","Pościel 160x200","POŚCIEL SZPITAL","POŚCIEL SZPITAL",150,"3.02.02.01","Hotel Pracowniczy"]
["P-241","Pistolet SELECTA [8 końcówek] do mycia ręcznego","MED. NISK. ŚR. TRW.","MED. NISK. ŚR. TRW.",1881.9,"2.02.05.02","Pracownia Endoskopii"]
["P-249","Przewijak","MEBLE","MEBLE",458.48750000000001,"2.02.15","Oddział Pediatryczny z Pododdziałem Gastroenterologii "]
["P-249A","Przewijak z materacykiem 130x57x88h","MEBLE","MEBLE",1599,"2.02.10","Oddział Kardiologii Dziecięcej z Pododdziałem Kardiochirurgi"]
["P-249B","Przewijak dwustronny","MEBLE","MEBLE",900,"2.02.15","Oddział Pediatryczny z Pododdziałem Gastroenterologii "]
["P-287","Płaszcz operacyjny do nefroskopu,26Fr, przepływ","NARZĘDZIA MEDYCZNE","NARZ. MEDYCZNE",1500,"2.02.17.01","Oddział Urologii i Urologii Onkologicznej"]
["P-288","Płaszcz operacyjny 15/18 Fr,do nefroskopu","NARZĘDZIA MEDYCZNE","NARZ. MEDYCZNE",1750,"2.02.17.01","Oddział Urologii i Urologii Onkologicznej"]
["P-288A","Płaszcz operacyjny 16,5/19,5 Fr,do nefroskopu","NARZĘDZIA MEDYCZNE","NARZ. MEDYCZNE",1750,"2.02.17.01","Oddział Urologii i Urologii Onkologicznej"]
["P-288B","Płaszcz operacyjny 21/24 Fr,do nefroskopu","NARZĘDZIA MEDYCZNE","NARZ. MEDYCZNE",1750,"2.02.17.01","Oddział Urologii i Urologii Onkologicznej"]
["P-290","Płaszcz uretrotomu SACHSE 21 Fr.z kanałami i 2","NARZĘDZIA MEDYCZNE","NARZ. MEDYCZNE",1900,"2.02.17.01","Oddział Urologii i Urologii Onkologicznej"]
["P-292","Przepływomierz tlenu MT02 z manometrem [AGA] nr","MED. NISK. ŚR. TRW.","MED. NISK. ŚR. TRW.",550,"2.02.09.11","Oddział Kardiologiczny"]
["P-293","Prześcieradło dziecięce 160x240","POŚCIEL SZPITAL","POŚCIEL SZPITAL",11.99,"2.02.15","Oddział Pediatryczny z Pododdziałem Gastroenterologii "]
["P-309","Penseta epilacyjna, szeroka płaska rączka, dł.c","NARZĘDZIA MEDYCZNE","NARZ. MEDYCZNE",350,"2.02.13","Oddział Okulistyczny"]
["P-310","Penseta Colibri rogówkowa, 0,12mm, 1x2 ząbki, p","NARZĘDZIA MEDYCZNE","NARZ. MEDYCZNE",1200,"2.02.13","Oddział Okulistyczny"]
["P-311","Penseta Colibri rogówkowa, 0,12mm, 1x2 ząbki, p","NARZĘDZIA MEDYCZNE","NARZ. MEDYCZNE",1200,"2.02.13","Oddział Okulistyczny"]
["P-313","Penseta chirurgiczna do katarakty- McPherson","NARZĘDZIA MEDYCZNE","NARZ. MEDYCZNE",1200,"2.02.13","Oddział Okulistyczny"]
["P-315","Penseta Bonn forceps,long model with tying plat","NARZĘDZIA MEDYCZNE","NARZ. MEDYCZNE",1134,"2.02.13","Oddział Okulistyczny"]
["P-316","Penseta McPherson (gaskin fragment forceps)iol","NARZĘDZIA MEDYCZNE","NARZ. MEDYCZNE",631.79999999999995,"2.02.13","Oddział Okulistyczny"]
["P-317","Penseta do wiązania, kompozytowa, prosta","NARZĘDZIA MEDYCZNE","NARZ. MEDYCZNE",648,"2.02.13","Oddział Okulistyczny"]
["P-318","Penseta rogówkowa typ Bonn prosta dł.9,5cm, ząb","NARZĘDZIA MEDYCZNE","NARZ. MEDYCZNE",1803.6,"2.02.13","Oddział Okulistyczny"]
["P-319","Penseta z mikroząbkami 0,1mm,prosta","NARZĘDZIA MEDYCZNE","NARZ. MEDYCZNE",1533.6,"2.02.13","Oddział Okulistyczny"]
["P-320","Pensetka typu Ecard 23G W06","NARZĘDZIA MEDYCZNE","NARZ. MEDYCZNE",4860,"2.02.13","Oddział Okulistyczny"]
["P-320A","Pensetka typu Ecard 23G WP06","NARZĘDZIA MEDYCZNE","NARZ. MEDYCZNE",5400,"2.02.13","Oddział Okulistyczny"]
["P-322","Przystawka do biurka 112x45x75h","MEBLE","MEBLE",553.5,"2.02.10","Oddział Kardiologii Dziecięcej z Pododdziałem Kardiochirurgi"]
["P-322A","Przystawka do biurka","MEBLE","MEBLE",553.5,"2.08","SekcjaKontroli Zakażeń Szpitalnych"]
["P-324","Pled z trzech warstw flaneli,pikowany 100x110cm","POŚCIEL SZPITAL","POŚCIEL SZPITAL",27.06,"2.02.12","Oddział Neonatologiczny z Pododdziałem Patologii Noworodka"]
["P-326","Pinceta atraumatyczna  DE BAKEY dł.200:2mm pros","NARZĘDZIA MEDYCZNE","NARZ. MEDYCZNE",131,"2.04.01","Blok Operacyjny"]
["P-326A","Pinceta atraumatyczna typ DE BAKEY dł.150:2mm o","NARZĘDZIA MEDYCZNE","NARZ. MEDYCZNE",131,"2.04.01","Blok Operacyjny"]
["P-326B","Pinceta atraumatyczna  DE BAKEY dł.15:2mm prost","NARZĘDZIA MEDYCZNE","NARZ. MEDYCZNE",131,"2.04.01","Blok Operacyjny"]
["P-327","Pinceta mikrochirurgiczna okrągła, odgięta 185m","NARZĘDZIA MEDYCZNE","NARZ. MEDYCZNE",608.59,"2.04.01","Blok Operacyjny"]
["P-332","Pinceta atraumatyczna szczęka 2,0mm szer.150mm","NARZĘDZIA MEDYCZNE","NARZ. MEDYCZNE",220,"2.04.01","Blok Operacyjny"]
["P-332","Pinceta atraumatyczna szczęka 2,0mm szer.150mm","NARZĘDZIA MEDYCZNE","NARZ. MEDYCZNE",220,"2.02.10","Oddział Kardiologii Dziecięcej z Pododdziałem Kardiochirurgi"]
["P-332","Pinceta atraumatyczna szczęka 2,0mm szer.150mm","NARZĘDZIA MEDYCZNE","NARZ. MEDYCZNE",220,"2.03.06","Poradnia Angiologiczna"]
["P-332A","Pinceta atraumatyczna szczęka 2,8mm szer.200mm","NARZĘDZIA MEDYCZNE","NARZ. MEDYCZNE",220,"2.04.01","Blok Operacyjny"]
["P-333","Pinceta do wiązania szwów LAZAR 0,8mm 155mm BD2","NARZĘDZIA MEDYCZNE","NARZ. MEDYCZNE",333.72,"2.04.01","Blok Operacyjny"]
["P-334","Pinceta anatomiczna szczęki 1,5mm 155mm BD217R","NARZĘDZIA MEDYCZNE","NARZ. MEDYCZNE",50,"2.04.01","Blok Operacyjny"]
["P-334","Pinceta anatomiczna szczęki 1,5mm 155mm BD217R","NARZĘDZIA MEDYCZNE","NARZ. MEDYCZNE",50,"2.02.10","Oddział Kardiologii Dziecięcej z Pododdziałem Kardiochirurgi"]
["P-334","Pinceta anatomiczna szczęki 1,5mm 155mm BD217R","NARZĘDZIA MEDYCZNE","NARZ. MEDYCZNE",50,"2.03.06","Poradnia Angiologiczna"]
["P-335","Pinceta COOLEY 200mm  BD250R","NARZĘDZIA MEDYCZNE","NARZ. MEDYCZNE",333.72,"2.04.01","Blok Operacyjny"]
["P-335","Pinceta COOLEY 200mm  BD250R","NARZĘDZIA MEDYCZNE","NARZ. MEDYCZNE",333.72,"2.02.14","Oddział Otolaryngologiczny z Pododdziałem Otolaryngologii"]
["P-336","Pinceta anatomiczna CUSHING prosta 250mm BD240R","NARZĘDZIA MEDYCZNE","NARZ. MEDYCZNE",62,"2.04.01","Blok Operacyjny"]
["P-336A","Pinceta anatomiczna CUSHING prosta180mm BD238R","NARZĘDZIA MEDYCZNE","NARZ. MEDYCZNE",62,"2.04.01","Blok Operacyjny"]
["P-337","Pinceta anatomiczna zakrzywiona 200mm BD257R","NARZĘDZIA MEDYCZNE","NARZ. MEDYCZNE",125,"2.04.01","Blok Operacyjny"]
["P-338","Pinceta anatomiczna BROPHY prosta 200mm BD246R","NARZĘDZIA MEDYCZNE","NARZ. MEDYCZNE",62,"2.04.01","Blok Operacyjny"]
["P-338","Pinceta anatomiczna BROPHY prosta 200mm BD246R","NARZĘDZIA MEDYCZNE","NARZ. MEDYCZNE",62,"2.02.14","Oddział Otolaryngologiczny z Pododdziałem Otolaryngologii"]
["P-338","Pinceta anatomiczna BROPHY prosta 200mm BD246R","NARZĘDZIA MEDYCZNE","NARZ. MEDYCZNE",62,"2.03.06","Poradnia Angiologiczna"]
["P-339","Pinceta chirurgiczna średnioszeroka 1x2z. 145mm","NARZĘDZIA MEDYCZNE","NARZ. MEDYCZNE",34,"2.04.01","Blok Operacyjny"]
["P-339","Pinceta chirurgiczna średnioszeroka 1x2z. 145mm","NARZĘDZIA MEDYCZNE","NARZ. MEDYCZNE",34,"2.02.10","Oddział Kardiologii Dziecięcej z Pododdziałem Kardiochirurgi"]
["P-339","Pinceta chirurgiczna średnioszeroka 1x2z. 145mm","NARZĘDZIA MEDYCZNE","NARZ. MEDYCZNE",34,"2.04.03","Zamiejscowy Blok Operacyjny"]
["P-339A","Pinceta chirurgiczna średnioszeroka 1x2z. 200mm","NARZĘDZIA MEDYCZNE","NARZ. MEDYCZNE",34,"2.04.01","Blok Operacyjny"]
["P-343","Pen do przezskórnej identyfikacji nerwów obwodo","MED. NISK. ŚR. TRW.","MED. NISK. ŚR. TRW.",200,"2.02.01.02","Intensywna Terapia"]
["P-345","Pinceta anatomiczna 200mm BD051R","NARZĘDZIA MEDYCZNE","NARZ. MEDYCZNE",37,"2.04.01","Blok Operacyjny"]
["P-346","Pinceta chirurgiczna WAUGH 1X2Z.180mm BD670R","NARZĘDZIA MEDYCZNE","NARZ. MEDYCZNE",75,"2.04.01","Blok Operacyjny"]
["P-352","Pinceta bipolarna,prosta \"1\" dł.19cm+ kabel 201","NARZĘDZIA MEDYCZNE","NARZ. MEDYCZNE",1000,"2.04.01","Blok Operacyjny"]
["P-352A","Pinceta bipolarna,zakrzywiona \"1\" dł.19cm+kabel","NARZĘDZIA MEDYCZNE","NARZ. MEDYCZNE",1000,"2.04.01","Blok Operacyjny"]
["P-372","Pinceta chirurgiczna WAUGH 1x2z 200mm BD671R","NARZĘDZIA MEDYCZNE","NARZ. MEDYCZNE",75,"2.04.01","Blok Operacyjny"]
["P-373","Pinceta anatomiczna średnioszeroka 305mm BD033R","NARZĘDZIA MEDYCZNE","NARZ. MEDYCZNE",100,"2.04.01","Blok Operacyjny"]
["P-374","Pinceta anatomiczna 200mm BD051R","NARZĘDZIA MEDYCZNE","NARZ. MEDYCZNE",37,"2.04.01","Blok Operacyjny"]
["R-019A","Regał otwarty,metalowy","MEBLE","MEBLE",100,"2.02.10","Oddział Kardiologii Dziecięcej z Pododdziałem Kardiochirurgi"]
["R-019Ą","Regał 60 na fartuchy","MEBLE","MEBLE",300,"2.02.05.02","Pracownia Endoskopii"]
["R-019Ć","Regał wysoki","MEBLE","MEBLE",300,"2.02.05.02","Pracownia Endoskopii"]
["R-019F","Regał listwowy naścienny H-1800 ze stali kwasoo","MEBLE","MEBLE",300,"2.02.01.02","Intensywna Terapia"]
["R-019F","Regał listwowy naścienny H-1800 ze stali kwasoo","MEBLE","MEBLE",300,"2.02.05.01","Oddział Chirurgii Ogólnej z Pododdziałami"]
["R-019G","Regał z szufladami","MEBLE","MEBLE",450,"3.02","Dział Gospodarki Nieruchomościami i Utrzymania Ruchu"]
["R-019H","Regał na segregatory","MEBLE","MEBLE",150,"3.02","Dział Gospodarki Nieruchomościami i Utrzymania Ruchu"]
["R-019H","Regał na segregatory","MEBLE","MEBLE",150,"4.06.01","Dział Księgowości i Finansów"]
["R-019H","Regał na segregatory","MEBLE","MEBLE",150,"4.02","Dział Zaopatrzenia i Zamówień Publicznych"]
["R-019I","Regał","MEBLE","MEBLE",383.72,"3.04.01","Biblioteka"]
["R-019I","Regał","MEBLE","MEBLE",383.72,"2.04.01","Blok Operacyjny"]
["R-019I","Regał","MEBLE","MEBLE",383.72,"2.07.03","DODO -Pracowania Tomografii Komputerowej"]
["R-019I","Regał","MEBLE","MEBLE",383.72,"3.03","Dział Centralnej Sterylizatorni i DDD"]
["R-019I","Regał","MEBLE","MEBLE",383.72,"4.06.01","Dział Księgowości i Finansów"]
["R-019I","Regał","MEBLE","MEBLE",383.72,"4.03","Dział Organizacyjno - Prawny"]
["R-019I","Regał","MEBLE","MEBLE",383.72,"2.02.01.02","Intensywna Terapia"]
["R-019I","Regał na segregatory","MEBLE","MEBLE",600,"2.02.19","Zamiejscowy Oddział Rehabilitacji Neurologicznej"]
["R-019J","Regał z nadstawką","MEBLE","MEBLE",300,"2.04.01","Blok Operacyjny"]
["R-019K","Regał gospodarczy-metalowy","MEBLE","MEBLE",300,"2.02.09.11","Oddział Kardiologiczny"]
["R-019K","Regał gospodarczy-metalowy","MEBLE","MEBLE",300,"2.02.14","Oddział Otolaryngologiczny z Pododdziałem Otolaryngologii"]
["R-019L","Regał na korespondencję,z przegródkami","MEBLE","MEBLE",600,"4.03","Dział Organizacyjno - Prawny"]
["R-019Ł","Regał na segregatory","MEBLE","MEBLE",400,"3.02","Dział Gospodarki Nieruchomościami i Utrzymania Ruchu"]
["R-019Ł","Regał na segregatory","MEBLE","MEBLE",400,"2.02.07","Oddział Dermatologiczny"]
["R-019Ł","Regał na segregatory","MEBLE","MEBLE",400,36951,"Ośrodek Programów Badawczych (OPB)"]
["R-019Ł","Regał na segregatory","MEBLE","MEBLE",400,"1.02","Sekretariat"]
["R-019Ł","Regał na segregatory","MEBLE","MEBLE",600,"2.02.19","Zamiejscowy Oddział Rehabilitacji Neurologicznej"]
["R-019Ł","Regał na segregatory","MEBLE","MEBLE",400,"4.07.01.02","Zespół Konsultantów Biznesowych"]
["R-019M","Regał na biurko 73x30x121","MEBLE","MEBLE",400,"4.02","Dział Zaopatrzenia i Zamówień Publicznych"]
["R-019N","Regał z wysuwaną płytą","MEBLE","MEBLE",400,"1.01","Dyrektor Szpitala"]
["R-019O","Regał biurowy-zamknięty","MEBLE","MEBLE",400,"2.02.01.02","Intensywna Terapia"]
["R-019P","Regał biurowy-otwarty","MEBLE","MEBLE",400,"2.02.01.02","Intensywna Terapia"]
["R-019R","Regał gospodarczo-biurowy","MEBLE","MEBLE",400,"2.02.01.02","Intensywna Terapia"]
["R-019R","Regał gospodarczo-biurowy","MEBLE","MEBLE",400,"2.02.09.11","Oddział Kardiologiczny"]
["R-019S","Regał 156x36x125h","MEBLE","MEBLE",400,"2.02.10","Oddział Kardiologii Dziecięcej z Pododdziałem Kardiochirurgi"]
["R-019T","Regał otwarty 60x28x190h","MEBLE","MEBLE",300,"2.02.10","Oddział Kardiologii Dziecięcej z Pododdziałem Kardiochirurgi"]
["R-019U","Regał z szufladą","MEBLE","MEBLE",300,"2.02.19","Zamiejscowy Oddział Rehabilitacji Neurologicznej"]
["R-019W","Regał na książki","MEBLE","MEBLE",300,"2.02.19","Zamiejscowy Oddział Rehabilitacji Neurologicznej"]
["R-019X","Regał 60 z koszem","MEBLE","MEBLE",300,"2.02.05.02","Pracownia Endoskopii"]
["R-019Y","Regał 675X380X2025h","MEBLE","MEBLE",799.5,"2.04.03","Zamiejscowy Blok Operacyjny"]
["R-019Z","Regał 80","MEBLE","MEBLE",300,"2.02.05.02","Pracownia Endoskopii"]
["R-019Ź","Regał 60 z szufladami","MEBLE","MEBLE",450,"2.02.05.02","Pracownia Endoskopii"]
["R-019Ż","Regał 70","MEBLE","MEBLE",300,"2.02.05.02","Pracownia Endoskopii"]
["R-022B","Resuscytator dla dorosłych typ Ambu Mark IV","MED. NISK. ŚR. TRW.","MED. NISK. ŚR. TRW.",619.91999999999996,"2.02.01.01","Anestezjologia"]
["R-022B","Resuscytator dla dorosłych typ Ambu Mark IV","MED. NISK. ŚR. TRW.","MED. NISK. ŚR. TRW.",619.91999999999996,"2.02.01.02","Intensywna Terapia"]
["R-022B","Resuscytator dla dorosłych typ Ambu Mark IV","MED. NISK. ŚR. TRW.","MED. NISK. ŚR. TRW.",619.91999999999996,"2.02.02","Oddział Angiologiczny z Pododdziałem Diabetologii"]
["R-022B","Resuscytator dla dorosłych typ Ambu Mark IV","MED. NISK. ŚR. TRW.","MED. NISK. ŚR. TRW.",619.91999999999996,"2.02.04","Oddział Chirurgii Naczyniowej"]
["R-022B","Resuscytator dla dorosłych typ Ambu Mark IV","MED. NISK. ŚR. TRW.","MED. NISK. ŚR. TRW.",619.91999999999996,"2.02.09.11","Oddział Kardiologiczny"]
["R-022B","Resuscytator dla dorosłych typ Ambu Mark IV","MED. NISK. ŚR. TRW.","MED. NISK. ŚR. TRW.",619.91999999999996,"2.02.10","Oddział Kardiologii Dziecięcej z Pododdziałem Kardiochirurgi"]
["R-022B","Resuscytator dla dorosłych typ Ambu Mark IV","MED. NISK. ŚR. TRW.","MED. NISK. ŚR. TRW.",619.91999999999996,"2.02.11.01","Oddział Nefrologiczny"]
["R-022B","Resuscytator dla dorosłych typ Ambu Mark IV","MED. NISK. ŚR. TRW.","MED. NISK. ŚR. TRW.",619.91999999999996,"2.02.13","Oddział Okulistyczny"]
["R-022B","Resuscytator dla dorosłych typ Ambu Mark IV","MED. NISK. ŚR. TRW.","MED. NISK. ŚR. TRW.",619.91999999999996,"2.02.08","Oddział Położniczo – Ginekologiczny"]
["R-022B","Resuscytator dla dorosłych typ Ambu Mark IV","MED. NISK. ŚR. TRW.","MED. NISK. ŚR. TRW.",619.91999999999996,"2.03.06","Poradnia Angiologiczna"]
["R-022B","Resuscytator dla dorosłych typ Ambu Mark IV","MED. NISK. ŚR. TRW.","MED. NISK. ŚR. TRW.",619.91999999999996,"2.03.07","Poradnia Dermatologiczna"]
["R-022B","Resuscytator dla dorosłych typ Ambu Mark IV","MED. NISK. ŚR. TRW.","MED. NISK. ŚR. TRW.",619.91999999999996,"2.03.12","Poradnia Kardiologiczna dla Dzieci"]
["R-022B","Resuscytator dla dorosłych typ Ambu Mark IV","MED. NISK. ŚR. TRW.","MED. NISK. ŚR. TRW.",619.91999999999996,"2.03.15","Poradnia Nefrologiczna"]
["R-022B","Resuscytator dla dorosłych typ Ambu Mark IV","MED. NISK. ŚR. TRW.","MED. NISK. ŚR. TRW.",619.91999999999996,"2.05","SOR"]
["R-022B","Resuscytator dla dorosłych typ Ambu Mark IV","MED. NISK. ŚR. TRW.","MED. NISK. ŚR. TRW.",619.91999999999996,"2.04.03","Zamiejscowy Blok Operacyjny"]
["R-022B","Resuscytator dla dorosłych typ Ambu Mark IV","MED. NISK. ŚR. TRW.","MED. NISK. ŚR. TRW.",619.91999999999996,"2.02.18","Zamiejscowy Oddział Chirurgii Urazowo - Ortopedycznej"]
["R-022B","Resuscytator dla dorosłych typ Ambu Mark IV","MED. NISK. ŚR. TRW.","MED. NISK. ŚR. TRW.",619.91999999999996,"2.02.21","Zamiejscowy Oddział Rehabilitacji Ogólnoustrojowej II"]
["R-022C","Resuscytator dla noworodków i niemowląt typ Amb","MED. NISK. ŚR. TRW.","MED. NISK. ŚR. TRW.",606.96,"2.02.01.01","Anestezjologia"]
["R-022C","Resuscytator dla noworodków i niemowląt typ Amb","MED. NISK. ŚR. TRW.","MED. NISK. ŚR. TRW.",606.96,"2.02.10","Oddział Kardiologii Dziecięcej z Pododdziałem Kardiochirurgi"]
["R-022C","Resuscytator dla noworodków i niemowląt typ Amb","MED. NISK. ŚR. TRW.","MED. NISK. ŚR. TRW.",606.96,"2.02.12","Oddział Neonatologiczny z Pododdziałem Patologii Noworodka"]
["R-022C","Resuscytator dla noworodków i niemowląt typ Amb","MED. NISK. ŚR. TRW.","MED. NISK. ŚR. TRW.",606.96,"2.02.13","Oddział Okulistyczny"]
["R-022C","Resuscytator dla noworodków i niemowląt typ Amb","MED. NISK. ŚR. TRW.","MED. NISK. ŚR. TRW.",606.96,"2.02.08","Oddział Położniczo – Ginekologiczny"]
["R-022C","Resuscytator dla noworodków i niemowląt typ Amb","MED. NISK. ŚR. TRW.","MED. NISK. ŚR. TRW.",606.96,"2.03.12","Poradnia Kardiologiczna dla Dzieci"]
["R-022C","Resuscytator dla noworodków i niemowląt typ Amb","MED. NISK. ŚR. TRW.","MED. NISK. ŚR. TRW.",606.96,"2.03.19","Poradnia Okulistyczna"]
["R-022D","Resuscytator pediatryczny typ Ambu Oval PLUS","MED. NISK. ŚR. TRW.","MED. NISK. ŚR. TRW.",606.96,"2.02.01.01","Anestezjologia"]
["R-022D","Resuscytator pediatryczny typ Ambu Oval PLUS","MED. NISK. ŚR. TRW.","MED. NISK. ŚR. TRW.",606.96,"2.02.10","Oddział Kardiologii Dziecięcej z Pododdziałem Kardiochirurgi"]
["R-022D","Resuscytator pediatryczny typ Ambu Oval PLUS","MED. NISK. ŚR. TRW.","MED. NISK. ŚR. TRW.",606.96,"2.03.12","Poradnia Kardiologiczna dla Dzieci"]
["R-039A","Regał wiszący otwarty ","MEBLE","MEBLE",350,"2.02.12","Oddział Neonatologiczny"]
["R-045","Regał na baseny i kaczki","MEBLE","MEBLE",2100,"2.02.05.01","Oddział Chirurgii Ogólnej z Pododdziałami"]
["R-046B","Regał magazynowy pięciopółkowy","POZOSTAŁE","POZOSTAŁE",940,"3.03","Dział Centralnej Sterylizatorni i DDD"]
["R-046C","Regał magazynowy ze stali kwasoodpornej ","MEBLE","MEBLE",2300,"2.02.01.02","Intensywna Terapia"]
["R-046D","Regał magazynowy ze stali kwasoodpornej ","MEBLE","MEBLE",2300,"2.02.01.02","Intensywna Terapia"]
["R-046E","Regał magazynowy ze stali kwasoodpornej ","MEBLE","MEBLE",2300,"2.02.01.02","Intensywna Terapia"]
["R-047A","Rower rehabilitacyjny GOLF R","POZOSTAŁE","POZOSTAŁE",3500,"6.03","Zamiejscowy Dział Rehabilitacji Leczniczej"]
["R-056","Radio","SPRZĘT AGD","SPRZĘT AGD",119,"2.02.19","Zamiejscowy Oddział Rehabilitacji Neurologicznej"]
["R-056A","Radio  z odtwarzaczem płyt CD","SPRZĘT AGD","SPRZĘT AGD",279.99,"2.02.19","Zamiejscowy Oddział Rehabilitacji Neurologicznej"]
["R-059","Rękojeść do trepanu H-2560/5","NARZĘDZIA MEDYCZNE","NARZ. MEDYCZNE",200,"2.02.13","Oddział Okulistyczny"]
["R-060","Refraktor PTR PTR,Pinky Trigger Articulating Di","MED. NISK. ŚR. TRW.","MED. NISK. ŚR. TRW.",10260,"2.04.01","Blok Operacyjny"]
["R-063","Rękojeść-GRYF do laryngoskopu światł. do trudny","NARZĘDZIA MEDYCZNE","NARZ. MEDYCZNE",250,"2.02.01.01","Anestezjologia"]
["R-063","Rękojeść-GRYF do laryngoskopu światł. do trudny","NARZĘDZIA MEDYCZNE","NARZ. MEDYCZNE",250,"2.02.01.02","Intensywna Terapia"]
["R-064","Ręcznik PORTO","POŚCIEL SZPITAL","POŚCIEL SZPITAL",15,"3.02.02.01","Hotel Pracowniczy"]
["R-064","Ręcznik PORTO","POŚCIEL SZPITAL","POŚCIEL SZPITAL",15,"1.02","Sekretariat"]
["R-074","Równoważnia Balance Beam z pianki 162x24x6cm","MATERIAŁY DO REHABILITACJI","MATERIAŁY DO REHABILITACJI",397.01,"6.03","Zamiejscowy Dział Rehabilitacji Leczniczej"]
["R-076","Rozwórka do powiek niemowlęca T.prosta","NARZĘDZIA MEDYCZNE","NARZ. MEDYCZNE",45,"2.02.13","Oddział Okulistyczny"]
["R-077","Rozwórka Cook #1 8mm","NARZĘDZIA MEDYCZNE","NARZ. MEDYCZNE",471,"2.02.13","Oddział Okulistyczny"]
["R-080","Rozszerzadło z kanałem na drut prowadzący do za","NARZĘDZIA MEDYCZNE","NARZ. MEDYCZNE",630,"2.02.17.01","Oddział Urologii i Urologii Onkologicznej"]
["R-080A","Rozszerzadło z 2 kanałami na drut prowadzący do","NARZĘDZIA MEDYCZNE","NARZ. MEDYCZNE",850,"2.02.17.01","Oddział Urologii i Urologii Onkologicznej"]
["R-084","Rozwieracz ADSON ostry 3x4Z.265mm BV252R","NARZĘDZIA MEDYCZNE","NARZ. MEDYCZNE",1250,"2.04.01","Blok Operacyjny"]
["R-085","Rozpieracz rany NORFOLK/NORWICH 220mm BV248R","NARZĘDZIA MEDYCZNE","NARZ. MEDYCZNE",1600,"2.04.01","Blok Operacyjny"]
["R-085","Rozpieracz rany NORFOLK/NORWICH 220mm BV248R","NARZĘDZIA MEDYCZNE","NARZ. MEDYCZNE",1600,"2.04.03","Zamiejscowy Blok Operacyjny"]
["R-086","Rozwieracz WEITLANER półostry 3x4Z.165mm BV068R","NARZĘDZIA MEDYCZNE","NARZ. MEDYCZNE",500,"2.04.01","Blok Operacyjny"]
["R-086","Rozwieracz WEITLANER półostry 3x4Z.165mm BV068R","NARZĘDZIA MEDYCZNE","NARZ. MEDYCZNE",500,"2.04.03","Zamiejscowy Blok Operacyjny"]
["R-088","Retraktor HENDERSON pr.te.4x4z.ostry BV113R","NARZĘDZIA MEDYCZNE","NARZ. MEDYCZNE",1200,"2.04.01","Blok Operacyjny"]
["S-044","Stolik typu Mayo do instrumentów chirurgicznych","MEBLE MEDYCZNE","MEBLE MEDYCZNE",1050,"2.02.01.02","Intensywna Terapia"]
["S-045","Stolik zabiegowyze stali nierdzewnej ","MEBLE MEDYCZNE","MEBLE MEDYCZNE",1150,"2.02.13","Oddział Okulistyczny"]
["S-046","Stolik 60x50x60","MEBLE","MEBLE",400,"2.02.21","Zamiejscowy Oddział Rehabilitacji Ogólnoustrojowej II"]
["S-046A","Stolik pod drukarkę","MEBLE","MEBLE",320,"4.06.01","Dział Księgowości i Finansów"]
["S-046B","Stolik nocny","MEBLE","MEBLE",100,"3.02.02.01","Hotel Pracowniczy"]
["S-046C","Stolik","MEBLE","MEBLE",100,"2.02.01.02","Intensywna Terapia"]
["S-046D","Stolik na sprzęt do monitoringu p/poż.","MEBLE","MEBLE",343.8,"3.02.04","SekcjaGospodarcza i Obsługa (cześć wspólna)"]
["S-046E","Stolik na walizkę","MEBLE","MEBLE",345.52,"2.07.03","DODO -Pracowania Tomografii Komputerowej"]
["S-046E","Stolik na walizkę","MEBLE","MEBLE",345.52,"2.07.01","DODO -Pracownia RTG"]
["S-046F","Stolik nocny","MEBLE","MEBLE",100,"3.02.02.01","Hotel Pracowniczy"]
["S-047A","Szafka górna \"80\"","MEBLE","MEBLE",200,"3.02.02.01","Hotel Pracowniczy"]
["S-047D","Szafka","MEBLE","MEBLE",269.86,"3.02.02.01","Hotel Pracowniczy"]
["S-048","Szafa gospodarcza","MEBLE","MEBLE",267,"4.02","Dział Zaopatrzenia i Zamówień Publicznych"]
["S-048A","Szafa gospodarcza","MEBLE","MEBLE",267,"2.02.05.02","Pracownia Endoskopii"]
["S-048B","Szafka gospodarcza","MEBLE","MEBLE",267,"2.02.05.02","Pracownia Endoskopii"]
["S-048C","Szafa gospodarcza","MEBLE","MEBLE",267,"3.02","Dział Gospodarki Nieruchomościami i Utrzymania Ruchu"]
["S-051A","Szczypce bipolarne okienkowe typu Fenestrated N","NARZĘDZIA MEDYCZNE","NARZ. MEDYCZNE",6804,"2.04.01","Blok Operacyjny"]
["S-052A","Szczypce bipolarne typu Maryland Nr partii M111","NARZĘDZIA MEDYCZNE","NARZ. MEDYCZNE",6804,"2.04.01","Blok Operacyjny"]
["S-052B","Szczypce bipolarne typu Maryland Nr partii M101","NARZĘDZIA MEDYCZNE","NARZ. MEDYCZNE",6804,"2.04.01","Blok Operacyjny"]
["S-052C","Szczypce bipolarne typu Maryland Nr partii N111","NARZĘDZIA MEDYCZNE","NARZ. MEDYCZNE",6804,"2.04.02","Blok Operacyjny DAVINCI"]
["S-053A","Szczypce typu ProGrasp Nr partii M10130524x2","NARZĘDZIA MEDYCZNE","NARZ. MEDYCZNE",5670,"2.04.01","Blok Operacyjny"]
["S-053B","Szczypce typu ProGrasp Nr partii M10131114X1","NARZĘDZIA MEDYCZNE","NARZ. MEDYCZNE",5670,"2.04.01","Blok Operacyjny"]
["S-053C","Szczypce typu ProGrasp Nr partii N11141105X1","NARZĘDZIA MEDYCZNE","NARZ. MEDYCZNE",5670,"2.04.02","Blok Operacyjny DAVINCI"]
["S-060","Strzygarka z ruchomą glowicą","POZOSTAŁE","POZOSTAŁE",378,"2.02.02","Oddział Angiologiczny z Pododdziałem Diabetologii"]
["S-060","Strzygarka z ruchomą glowicą","POZOSTAŁE","POZOSTAŁE",378,"2.02.07","Oddział Dermatologiczny"]
["S-060","Strzygarka z ruchomą glowicą","POZOSTAŁE","POZOSTAŁE",378,"2.02.09.11","Oddział Kardiologiczny"]
["S-060","Strzygarka z ruchomą glowicą","POZOSTAŁE","POZOSTAŁE",378,"2.02.10","Oddział Kardiologii Dziecięcej z Pododdziałem Kardiochirurgi"]
["S-060","Strzygarka z ruchomą glowicą","POZOSTAŁE","POZOSTAŁE",378,"2.02.11.01","Oddział Nefrologiczny"]
["S-060","Strzygarka z ruchomą glowicą","POZOSTAŁE","POZOSTAŁE",378,"2.02.14","Oddział Otolaryngologiczny z Pododdziałem Otolaryngologii"]
["S-060","Strzygarka z ruchomą glowicą","POZOSTAŁE","POZOSTAŁE",378,"2.02.08","Oddział Położniczo – Ginekologiczny"]
["S-060","Strzygarka z ruchomą glowicą","POZOSTAŁE","POZOSTAŁE",378,"2.02.17.01","Oddział Urologii i Urologii Onkologicznej"]
["S-060","Strzygarka z ruchomą glowicą","POZOSTAŁE","POZOSTAŁE",378,"2.05","SOR"]
["S-060","Strzygarka z ruchomą glowicą","POZOSTAŁE","POZOSTAŁE",378,"2.02.18","Zamiejscowy Oddział Chirurgii Urazowo - Ortopedycznej"]
["S-064A","Stolik pod aparaturę medyczną","MED. NISK. ŚR. TRW.","MED. NISK. ŚR. TRW.",1300,"2.02.09.11","Oddział Kardiologiczny"]
["S-078","Stół roboczy 900X600X850mm","MEBLE","MEBLE",2200,"2.02.01.02","Intensywna Terapia"]
["S-080B","Szafka 60 z blatem","MEBLE","MEBLE",350,"2.03.02","Poradnia Chirurgii Naczyniowej"]
["S-080D","Szafka 70","MEBLE","MEBLE",350,"3.02","Dział Gospodarki Nieruchomościami i Utrzymania Ruchu"]
["S-080G","Szafka","MEBLE","MEBLE",350,"4.03","Dział Organizacyjno - Prawny"]
["S-080G","Szafka","MEBLE","MEBLE",350,"2.02.01.02","Intensywna Terapia"]
["S-080G","Szafka","MEBLE","MEBLE",350,"2.06","Stacja Dializ"]
["S-081A","Szafka gospodarcza","MEBLE","MEBLE",300,"2.02.01.02","Intensywna Terapia"]
["S-081A","Szafka gospodarcza","MEBLE","MEBLE",300,"2.02.19","Zamiejscowy Oddział Rehabilitacji Neurologicznej"]
["S-081AA","Szafka wisząca 42","MEBLE","MEBLE",450,"2.02.10","Oddział Kardiologii Dziecięcej z Pododdziałem Kardiochirurgi"]
["S-081AB","Szafka 40 z szufladami","MEBLE","MEBLE",600,"2.02.15","Oddział Pediatryczny z Pododdziałem Gastroenterologii "]
["S-081AB","Szafka 40 z szufladami","MEBLE","MEBLE",600,"2.03.02","Poradnia Chirurgii Naczyniowej"]
["S-081AC","Szafka na buty","MEBLE","MEBLE",110,"1.04.03","Dział Rejestracji Statystyki i Dokumentacji Medycznej"]
["S-081AD","Szafka śniadaniowa","MEBLE","MEBLE",250,"2.03.02","Poradnia Chirurgii Naczyniowej"]
["S-081AE","Szafka wisząca 53","MEBLE","MEBLE",160,"2.03.04","Poradnia Chirurgii Onkologicznej"]
["S-081AF","Szafka zlewozmywakowa","MEBLE","MEBLE",270,"2.03.04","Poradnia Chirurgii Onkologicznej"]
["S-081AG","Szafka z blatem 800X500X840h","MEBLE","MEBLE",460,"2.04.03","Zamiejscowy Blok Operacyjny"]
["S-081AH","Szafka szklana na leki","MEBLE","MEBLE",300,"2.02.05.02","Pracownia Endoskopii"]
["S-081Ą","Szafka z suszarką","MEBLE","MEBLE",140,"2.05","SOR"]
["S-081Ć","Szafka pod zlewozmywak","MEBLE","MEBLE",370,"2.02.10","Oddział Kardiologii Dziecięcej z Pododdziałem Kardiochirurgi"]
["S-081Ę","Szafka pod zlewozmywak","MEBLE","MEBLE",370,"2.02.10","Oddział Kardiologii Dziecięcej z Pododdziałem Kardiochirurgi"]
["S-081G","Szafka na segregatory","MEBLE","MEBLE",229.12,"2.04.01","Blok Operacyjny"]
["S-081G","Szafka na segregatory","MEBLE","MEBLE",229.12,"1.04.04","SekcjaMarketingu"]
["S-081K","Szafka na drukarkę 50x40x75h","MEBLE","MEBLE",250,"2.02.12","Oddział Neonatologiczny"]
["S-081Ł","Szafka gospodarcza","MEBLE","MEBLE",250,"2.02.01.02","Intensywna Terapia"]
["S-081N","Szafka pod zlewozmywak","MEBLE","MEBLE",370,"3.02.02.01","Hotel Pracowniczy"]
["S-081N","Szafka pod zlewozmywak","MEBLE","MEBLE",370,"2.02.05.02","Pracownia Endoskopii"]
["S-081N","Szafka pod zlewozmywak","MEBLE","MEBLE",370,"2.05","SOR"]
["S-081Ń","Szafka pod zlewozmywak","MEBLE","MEBLE",370,"2.02.13","Oddział Okulistyczny"]
["S-081Ó","Szafka pod zlewozmywak","MEBLE","MEBLE",370,"3.02","Dział Gospodarki Nieruchomościami i Utrzymania Ruchu"]
["S-081Ó","Szafka pod zlewozmywak","MEBLE","MEBLE",370,"2.02.01.02","Intensywna Terapia"]
["S-081Ó","Szafka pod zlewozmywak","MEBLE","MEBLE",370,"2.02.15","Oddział Pediatryczny z Pododdziałem Gastroenterologii "]
["S-081Ó","Szafka pod zlewozmywak","MEBLE","MEBLE",370,"2.02.19","Zamiejscowy Oddział Rehabilitacji Neurologicznej"]
["S-081R","Szafka z suszarką 60","MEBLE","MEBLE",150,"4.02","Dział Zaopatrzenia i Zamówień Publicznych"]
["S-081T","Szafka pod zlewozmywak","MEBLE","MEBLE",370,"4.02","Dział Zaopatrzenia i Zamówień Publicznych"]
["S-081U","Szafka pod lodówkę","MEBLE","MEBLE",150,"4.06.01","Dział Księgowości i Finansów"]
["S-081W","Szafka z 3 szufladami","MEBLE","MEBLE",900,"1.04.03","Dział Rejestracji Statystyki i Dokumentacji Medycznej"]
["S-081X","Szafka na kółkach z czteroma szufladami 60x55x8","MEBLE","MEBLE",590.4,"2.02.10","Oddział Kardiologii Dziecięcej z Pododdziałem Kardiochirurgi"]
["S-081Y","Szafka pod zlewozmywak","MEBLE","MEBLE",370,"2.02.10","Oddział Kardiologii Dziecięcej z Pododdziałem Kardiochirurgi"]
["S-081Z","Szafka z ociekaczem","MEBLE","MEBLE",170,"3.02","Dział Gospodarki Nieruchomościami i Utrzymania Ruchu"]
["S-081Z","Szafka z ociekaczem","MEBLE","MEBLE",170,"2.02.01.02","Intensywna Terapia"]
["S-081Ź","Szafka z 3 szufladami","MEBLE","MEBLE",900,"2.02.10","Oddział Kardiologii Dziecięcej z Pododdziałem Kardiochirurgi"]
["S-081Ż","Szafka z szufladami i drzwiczkami","MEBLE","MEBLE",608,"3.02","Dział Gospodarki Nieruchomościami i Utrzymania Ruchu"]
["S-082","Szafka dolna","MEBLE","MEBLE",300,"2.02.19","Zamiejscowy Oddział Rehabilitacji Neurologicznej"]
["S-082D","Szafka 60 dolna  z drzwiczkami","MEBLE","MEBLE",300,"2.02.05.02","Pracownia Endoskopii"]
["S-082E","Szafka dolna","MEBLE","MEBLE",300,"3.02.02.01","Hotel Pracowniczy"]
["S-082F","Szafka","MEBLE","MEBLE",450,"3.02.02.01","Hotel Pracowniczy"]
["S-082F","Szafka","MEBLE","MEBLE",450,"2.03.02","Poradnia Chirurgii Naczyniowej"]
["S-082G","Szafka dolna","MEBLE","MEBLE",650,"3.02.02.01","Hotel Pracowniczy"]
["S-082H","Szafka dolna","MEBLE","MEBLE",650,"2.02.01.02","Intensywna Terapia"]
["S-082I","Szafka dolna","MEBLE","MEBLE",650,"2.02.09.11","Oddział Kardiologiczny"]
["S-082J","Szafka dolna","MEBLE","MEBLE",650,"2.03.04","Poradnia Chirurgii Onkologicznej"]
["S-082J","Szafka dolna","MEBLE","MEBLE",650,"2.02.05.02","Pracownia Endoskopii"]
["S-082K","Szafka dolna","MEBLE","MEBLE",650,"2.02.05.02","Pracownia Endoskopii"]
["S-082L","Szafka dolna","MEBLE","MEBLE",269.86,"2.02.05.02","Pracownia Endoskopii"]
["S-082Ł","Szafka dolna","MEBLE","MEBLE",650,"3.02.02.01","Hotel Pracowniczy"]
["S-082M","Szafka dolna","MEBLE","MEBLE",650,"3.02.02.01","Hotel Pracowniczy"]
["S-082N","Szafka dolna","MEBLE","MEBLE",650,"3.02.02.01","Hotel Pracowniczy"]
["S-083","Szafka z plecami ","MEBLE","MEBLE",300,"2.02.21","Zamiejscowy Oddział Rehabilitacji Ogólnoustrojowej II"]
["S-083A","Szafka 120x50x85h","MEBLE","MEBLE",300,"2.02.21","Zamiejscowy Oddział Rehabilitacji Ogólnoustrojowej II"]
["S-084","Szafka przyłóżkowa ","MEBLE","MEBLE",1300,"2.02.08","Oddział Położniczo – Ginekologiczny"]
["S-084A","Szafka przyłóżkowa ","MEBLE","MEBLE",1400,"2.02.20","Zamiejscowy Oddział Rehabilitacji Ogólnoustrojowej I"]
["S-084B","Szafka przyłóżkowa ","MEBLE","MEBLE",2106,"2.02.10","Oddział Kardiologii Dziecięcej z Pododdziałem Kardiochirurgi"]
["S-085","Szafka stojąca","MEBLE","MEBLE",430,"4.02","Dział Zaopatrzenia i Zamówień Publicznych"]
["S-085A","Szafka stojąca","MEBLE","MEBLE",430,"4.06.01","Dział Księgowości i Finansów"]
["S-085A","Szafka stojąca","MEBLE","MEBLE",430,"2.02.21","Zamiejscowy Oddział Rehabilitacji Ogólnoustrojowej II"]
["S-085B","Szafka stojąca","MEBLE","MEBLE",430,"2.02.21","Zamiejscowy Oddział Rehabilitacji Ogólnoustrojowej II"]
["S-085C","Szafka stojąca","MEBLE","MEBLE",430,"2.02.12","Oddział Neonatologiczny"]
["S-085D","Szafka stojąca","MEBLE","MEBLE",430,"2.02.13","Oddział Okulistyczny"]
["S-085E","Szafka stojąca","MEBLE","MEBLE",430,"3.02.02.01","Hotel Pracowniczy"]
["S-085F","Szafka stojąca","MEBLE","MEBLE",430,"2.02.13","Oddział Okulistyczny"]
["S-085G","Szafka stojąca","MEBLE","MEBLE",430,"2.02.05.02","Pracownia Endoskopii"]
["S-085H","Szafka stojąca","MEBLE","MEBLE",430,"2.02.05.02","Pracownia Endoskopii"]
["S-085I","Szafka stojąca","MEBLE","MEBLE",430,"2.02.15","Oddział Pediatryczny z Pododdziałem Gastroenterologii "]
["S-085I","Szafka stojąca","MEBLE","MEBLE",430,"2.05","SOR"]
["S-085J","Szafka stojąca","MEBLE","MEBLE",430,"2.02.10","Oddział Kardiologii Dziecięcej z Pododdziałem Kardiochirurgi"]
["S-085K","Szafka stojąca","MEBLE","MEBLE",430,"2.02.10","Oddział Kardiologii Dziecięcej z Pododdziałem Kardiochirurgi"]
["S-085Ł","Szafka stojąca","MEBLE","MEBLE",430,"2.02.10","Oddział Kardiologii Dziecięcej z Pododdziałem Kardiochirurgi"]
["S-085M","Szafka stojąca","MEBLE","MEBLE",430,"2.02.10","Oddział Kardiologii Dziecięcej z Pododdziałem Kardiochirurgi"]
["S-085N","Szafka stojąca","MEBLE","MEBLE",430,"2.02.09.03","Pracownia Echokardiograficzna"]
["S-086","Szafka stojąca","MEBLE","MEBLE",430,"4.06.01","Dział Księgowości i Finansów"]
["S-086","Szafka stojąca","MEBLE","MEBLE",430,"4.02","Dział Zaopatrzenia i Zamówień Publicznych"]
["S-086A","Szafa wisząca","MEBLE","MEBLE",350,"4.02","Dział Zaopatrzenia i Zamówień Publicznych"]
["S-086A","Szafa wisząca","MEBLE","MEBLE",350,"2.02.10","Oddział Kardiologii Dziecięcej z Pododdziałem Kardiochirurgi"]
["S-086B","Szafa wisząca","MEBLE","MEBLE",350,"2.02.12","Oddział Neonatologiczny"]
["S-086C","Szafa wisząca","MEBLE","MEBLE",350,"1.04.03","Dział Rejestracji Statystyki i Dokumentacji Medycznej"]
["S-086D","Szafa wisząca","MEBLE","MEBLE",350,"3.02.02.01","Hotel Pracowniczy"]
["S-086E","Szafa wisząca","MEBLE","MEBLE",350,"3.02","Dział Gospodarki Nieruchomościami i Utrzymania Ruchu"]
["S-086E","Szafa wisząca","MEBLE","MEBLE",350,"2.02.01.02","Intensywna Terapia"]
["S-086E","Szafa wisząca","MEBLE","MEBLE",350,"2.05","SOR"]
["S-086F","Szafa wisząca","MEBLE","MEBLE",350,"2.02.10","Oddział Kardiologii Dziecięcej z Pododdziałem Kardiochirurgi"]
["S-086G","Szafa wisząca","MEBLE","MEBLE",350,"2.02.10","Oddział Kardiologii Dziecięcej z Pododdziałem Kardiochirurgi"]
["S-086H","Szafa wisząca","MEBLE","MEBLE",350,"2.02.10","Oddział Kardiologii Dziecięcej z Pododdziałem Kardiochirurgi"]
["S-086I","Szafa wisząca","MEBLE","MEBLE",350,"2.02.10","Oddział Kardiologii Dziecięcej z Pododdziałem Kardiochirurgi"]
["S-086J","Szafa wisząca","MEBLE","MEBLE",350,"2.02.10","Oddział Kardiologii Dziecięcej z Pododdziałem Kardiochirurgi"]
["S-086K","Szafa wisząca","MEBLE","MEBLE",350,"2.03.11","Poradnia Kardiologiczna"]
["S-086L","Szafa wisząca","MEBLE","MEBLE",350,"2.02.15","Oddział Pediatryczny z Pododdziałem Gastroenterologii "]
["S-086L","Szafa wisząca","MEBLE","MEBLE",350,"2.03.11","Poradnia Kardiologiczna"]
["S-086Ł","Szafa wisząca","MEBLE","MEBLE",350,"2.02.10","Oddział Kardiologii Dziecięcej z Pododdziałem Kardiochirurgi"]
["S-086M","Szafa wisząca","MEBLE","MEBLE",350,"2.02.10","Oddział Kardiologii Dziecięcej z Pododdziałem Kardiochirurgi"]
["S-086N","Szafa wisząca","MEBLE","MEBLE",350,"2.02.15","Oddział Pediatryczny z Pododdziałem Gastroenterologii "]
["S-089","Stanowisko do pobierania krwi ST-00","MED. NISK. ŚR. TRW.","MED. NISK. ŚR. TRW.",500,"2.02.07","Oddział Dermatologiczny"]
["S-089","Stanowisko do pobierania krwi ST-01","MED. NISK. ŚR. TRW.","MED. NISK. ŚR. TRW.",500,"2.02.08","Oddział Położniczo – Ginekologiczny"]
["S-089","Stanowisko do pobierania krwi ST-02","MED. NISK. ŚR. TRW.","MED. NISK. ŚR. TRW.",500,"2.02.18","Zamiejscowy Oddział Chirurgii Urazowo - Ortopedycznej"]
["S-089","Stanowisko do pobierania krwi ST-03","MED. NISK. ŚR. TRW.","MED. NISK. ŚR. TRW.",500,"2.02.04","Oddział Chirurgii Naczyniowej"]
["S-089A","Stanowisko do pobierania krwi ST-04","MED. NISK. ŚR. TRW.","MED. NISK. ŚR. TRW.",500,"1.03.03","Ośrodek Badań Klinicznych"]
["S-089B","Stanowisko do pobierania krwi ST-01","MED. NISK. ŚR. TRW.","MED. NISK. ŚR. TRW.",500,"2.02.02","Oddział Angiologiczny z Pododdziałem Diabetologii"]
["S-091","Stół rehabillitacyjny z elektryczną regulacją","MED. NISK. ŚR. TRW.","MED. NISK. ŚR. TRW.",3200,"6.03","Zamiejscowy Dział Rehabilitacji Leczniczej"]
["S-094","Stół z białym blatem laminowanym","MEBLE","MEBLE",1500,"1.04.03","Dział Rejestracji Statystyki i Dokumentacji Medycznej"]
["S-094","Stół z białym blatem laminowanym","MEBLE","MEBLE",1500,"2.02.03","Oddział Chemioterapii z Pododdziałem Chemioterapii Dziennej"]
["S-094B","Stół DT-359 013 biały 1405-000-015-001-0001","MEBLE","MEBLE",1000,"2.04.01","Blok Operacyjny"]
["S-094C","Stół kwadratowy pelny","MEBLE","MEBLE",150,"3.02.02.01","Hotel Pracowniczy"]
["S-094D","Stół","MEBLE","MEBLE",200,"3.04.01","Biblioteka"]
["S-094D","Stół","MEBLE","MEBLE",200,"2.08","SekcjaKontroli Zakażeń Szpitalnych"]
["S-094E","Stół","MEBLE","MEBLE",200,"2.02.10","Oddział Kardiologii Dziecięcej z Pododdziałem Kardiochirurgi"]
["S-094F","Stół","MEBLE","MEBLE",200,"2.02.10","Oddział Kardiologii Dziecięcej z Pododdziałem Kardiochirurgi"]
["S-096A","Serweta operacyjna niebieska","POŚCIEL SZPITAL","POŚCIEL SZPITAL",8,"2.02.11.01","Oddział Nefrologiczny"]
["S-096B","Serweta operacyjna niebieska","POŚCIEL SZPITAL","POŚCIEL SZPITAL",8,"2.02.11.01","Oddział Nefrologiczny"]
["S-097","Stolik opatrunkowy","MEBLE MEDYCZNE","MEBLE MEDYCZNE",850,"2.02.08","Oddział Położniczo – Ginekologiczny"]
["S-097A","Stolik typu Mayo do instrumentów chirurgicznych","MEBLE MEDYCZNE","MEBLE MEDYCZNE",1200,"2.02.01.01","Anestezjologia"]
["S-097B","Stolik zabiegowy","MEBLE MEDYCZNE","MEBLE MEDYCZNE",1630.8,"2.02.05.01","Oddział Chirurgii Ogólnej z Pododdziałami"]
["S-097C","Stolik opatrunkowy","MEBLE MEDYCZNE","MEBLE MEDYCZNE",970,"2.02.13","Oddział Okulistyczny"]
["S-097C","Stolik opatrunkowy","MEBLE MEDYCZNE","MEBLE MEDYCZNE",970,"2.02.15","Oddział Pediatryczny z Pododdziałem Gastroenterologii "]
["S-097D","Stolik opatrunkowy","MEBLE MEDYCZNE","MEBLE MEDYCZNE",970,"2.03.20","Poradnia Onkologiczna"]
["S-097E","Stolik typu Mayo do instrumentów chirurgicznych","MEBLE MEDYCZNE","MEBLE MEDYCZNE",1200,"2.02.13","Oddział Okulistyczny"]
["S-110","Stół roboczy 100x70x90cm ze stali nierdzewnej","MEBLE MEDYCZNE","MEBLE MEDYCZNE",2200,"3.03","Dział Centralnej Sterylizatorni i DDD"]
["S-115","Szafa na dokumentację","MEBLE","MEBLE",780,"2.04.01","Blok Operacyjny"]
["S-115","Szafa na dokumentację","MEBLE","MEBLE",780,"2.07.01","DODO -Pracownia RTG"]
["S-116","Szuflada 2xzamek 50x60x100h","MEBLE","MEBLE",400,"2.04.01","Blok Operacyjny"]
["S-116","Szuflada 2xzamek 50x60x100h","MEBLE","MEBLE",400,"2.02.21","Zamiejscowy Oddział Rehabilitacji Ogólnoustrojowej II"]
["S-117","Szczypce biopsyjne tyo Pre Cise","NARZĘDZIA MEDYCZNE","NARZ. MEDYCZNE",14000,"2.04.01","Blok Operacyjny"]
["S-128","Sonda ultradźwiękowa bez koronki, z kanałem ssą","MED. NISK. ŚR. TRW.","MED. NISK. ŚR. TRW.",333.86,"2.02.17.01","Oddział Urologii i Urologii Onkologicznej"]
["S-128A","Sonda ultradźwiękowa bez koronki, z kanałem ssą","MED. NISK. ŚR. TRW.","MED. NISK. ŚR. TRW.",339.7,"2.02.17.01","Oddział Urologii i Urologii Onkologicznej"]
["S-131","Stół z tyłem","MEBLE","MEBLE",1100,"2.02.13","Oddział Okulistyczny"]
["S-131A","Stół z tyłem","MEBLE","MEBLE",1100,"2.02.13","Oddział Okulistyczny"]
["S-133","Stół kuchenny","MEBLE","MEBLE",207.48500000000001,"3.02.02.01","Hotel Pracowniczy"]
["S-133A","Stół kuchenny","MEBLE","MEBLE",207.48500000000001,"3.02.02.01","Hotel Pracowniczy"]
["S-134","Stolik na jednej nodze 60x50","MEBLE","MEBLE",207.48500000000001,"4.02","Dział Zaopatrzenia i Zamówień Publicznych"]
["S-140","Stacja dokująca do systemu SPACE","MED. NISK. ŚR. TRW.","MED. NISK. ŚR. TRW.",2160,"2.02.03","Oddział Chemioterapii z Pododdziałem Chemioterapii Dziennej"]
["S-143","Szafa aktowa","MEBLE","MEBLE",680,"1.04.03","Dział Rejestracji Statystyki i Dokumentacji Medycznej"]
["S-143A","Szafa aktowa","MEBLE","MEBLE",680,"1.04.03","Dział Rejestracji Statystyki i Dokumentacji Medycznej"]
["S-154","Szczypce biopsyjne wielorazowe","NARZĘDZIA MEDYCZNE","NARZ. MEDYCZNE",641.52,"2.02.15","Oddział Pediatryczny z Pododdziałem Gastroenterologii "]
["S-157","Szafa przeszklona","MEBLE","MEBLE",1100,"6.02.04","Pracownik Socjalny"]
["S-159","Sejf meblowy","URZĄDZENIA BIUROWE","URZĄDZ. BIUROWE",2014.74,"2.02.01.02","Intensywna Terapia"]
["S-159A","Sejf ścienny  ","URZĄDZENIA BIUROWE","URZĄDZ. BIUROWE",304.89,"2.05","SOR"]
["S-159B","Sejf meblowo-gabinetowy ","URZĄDZENIA BIUROWE","URZĄDZ. BIUROWE",3260.12,"2.02.01.01","Anestezjologia"]
["S-163","Stolik pod komputer","MEBLE","MEBLE",100,"3.04.01","Biblioteka"]
["S-164","Szafka medyczna dwuskrzydłowa -stojąca 1130x600","MEBLE","MEBLE",2350,"2.02.01.02","Intensywna Terapia"]
["S-165","Szafka medyczna dwuskrzydłowa-wisząca, front pr","MEBLE","MEBLE",1850,"2.02.01.02","Intensywna Terapia"]
["S-166","Szafka stojąca dwuskrzydlowa","MEBLE","MEBLE",2350,"2.02.01.02","Intensywna Terapia"]
["S-167","Szafka medyczna jednoskrzydlowa-wisząca, front","MEBLE","MEBLE",1500,"2.02.01.02","Intensywna Terapia"]
["S-168","Szafka stojąca z trzema szufladami","MEBLE","MEBLE",2350,"2.02.01.02","Intensywna Terapia"]
["S-168A","Szafka stojąca z trzema szufladami","MEBLE","MEBLE",2350,"2.02.01.02","Intensywna Terapia"]
["S-168B","Szafka stojąca z trzema szufladami","MEBLE","MEBLE",2350,"2.02.01.02","Intensywna Terapia"]
["S-168C","Szafka stojąca z trzema szufladami","MEBLE","MEBLE",2350,"2.02.01.02","Intensywna Terapia"]
["S-168D","Szafka stojąca z trzema szufladami","MEBLE","MEBLE",2350,"2.02.01.02","Intensywna Terapia"]
["S-168E","Szafka stojąca z trzema szufladami","MEBLE","MEBLE",2350,"2.02.10","Oddział Kardiologii Dziecięcej z Pododdziałem Kardiochirurgi"]
["S-169","Szafka stojąca dwuskrzydlowa","MEBLE","MEBLE",1800,"2.02.01.02","Intensywna Terapia"]
["S-170","Szafka stojąca z czteroma szufladami","MEBLE","MEBLE",2829,"2.02.01.02","Intensywna Terapia"]
["S-170A","Szafka stojąca z czteroma szufladami","MEBLE","MEBLE",2583,"2.02.01.02","Intensywna Terapia"]
["S-170B","Szafka stojąca czteroszufladowa 60x55x72h","MEBLE","MEBLE",602.70000000000005,"2.02.10","Oddział Kardiologii Dziecięcej z Pododdziałem Kardiochirurgi"]
["S-171","Szafka medyczna otwarta,wisząca 620x300x900","MEBLE","MEBLE",1400,"2.02.01.02","Intensywna Terapia"]
["S-172","Szafka medyczna dwuskrzydłowa-wisząca front prz","MEBLE","MEBLE",2000,"2.02.01.02","Intensywna Terapia"]
["S-173","Szafa ubraniowa BHP;2-drzwiowa bez podziału","MEBLE","MEBLE",402.21,"3.02.04","SekcjaGospodarcza i Obsługa (cześć wspólna)"]
["S-173","Szafa ubraniowa BHP;2-drzwiowa bez podziału","MEBLE","MEBLE",402.21,"3.02.04","SekcjaGospodarcza i Obsługa (cześć wspólna)"]
["S-175","Szafka 7 szufladowa","MEBLE","MEBLE",910.2,"2.02.13","Oddział Okulistyczny"]
["S-176","Szafa na lodówkę","MEBLE","MEBLE",780,"2.02.05.02","Pracownia Endoskopii"]
["S-178","Szafa śniadaniowa","MEBLE","MEBLE",556.96,"3.02","Dział Gospodarki Nieruchomościami i Utrzymania Ruchu"]
["S-180","Szafa na leki","MEBLE","MEBLE",800,"2.03.04","Poradnia Chirurgii Onkologicznej"]
["S-180","Szafa na leki","MEBLE","MEBLE",800,"2.05","SOR"]
["S-183","Sonda ultradźwiękowa z koronką,z kanałem ssącym","MED. NISK. ŚR. TRW.","MED. NISK. ŚR. TRW.",328.02,"2.02.17.01","Oddział Urologii i Urologii Onkologicznej"]
["S-186","Szafka stojąca,drzwi ","MEBLE","MEBLE",332.1,"2.02.10","Oddział Kardiologii Dziecięcej z Pododdziałem Kardiochirurgi"]
["S-186A","Szafka stojąca,drzwi ","MEBLE","MEBLE",332.1,"2.02.10","Oddział Kardiologii Dziecięcej z Pododdziałem Kardiochirurgi"]
["S-187","Szafka stojąca z jedną szufladą 50x50x72h","MEBLE","MEBLE",381.3,"2.02.10","Oddział Kardiologii Dziecięcej z Pododdziałem Kardiochirurgi"]
["S-187A","Szafka stojąca jednoszufladowa 60x50x82h","MEBLE","MEBLE",381.3,"2.02.10","Oddział Kardiologii Dziecięcej z Pododdziałem Kardiochirurgi"]
["S-188","Szafa trzy szuflady+drzwi 70x42x190h","MEBLE","MEBLE",836.4,"2.02.10","Oddział Kardiologii Dziecięcej z Pododdziałem Kardiochirurgi"]
["S-188A","Szafa z trzema szufladami 50x50x210h","MEBLE","MEBLE",787.2,"2.02.10","Oddział Kardiologii Dziecięcej z Pododdziałem Kardiochirurgi"]
["S-188B","Szafa dwuszufladowa+drzwi 115x50x230h","MEBLE","MEBLE",1697.4,"2.02.10","Oddział Kardiologii Dziecięcej z Pododdziałem Kardiochirurgi"]
["S-188C","Szafka jednoszufladowa+drzwi 60x58x82h","MEBLE","MEBLE",381.3,"2.02.10","Oddział Kardiologii Dziecięcej z Pododdziałem Kardiochirurgi"]
["S-189","Szafa ubraniowa","MEBLE","MEBLE",700,"2.02.10","Oddział Kardiologii Dziecięcej z Pododdziałem Kardiochirurgi"]
["S-189A","Szafa ubraniowa","MEBLE","MEBLE",700,"2.02.10","Oddział Kardiologii Dziecięcej z Pododdziałem Kardiochirurgi"]
["S-189A","Szafa ubraniowa","MEBLE","MEBLE",700,"2.03.04","Poradnia Chirurgii Onkologicznej"]
["S-190","Szafka stojąca z pięcioma szufladami","MEBLE","MEBLE",910.2,"2.02.10","Oddział Kardiologii Dziecięcej z Pododdziałem Kardiochirurgi"]
["S-191","Szafka skośna","MEBLE","MEBLE",651.9,"2.02.10","Oddział Kardiologii Dziecięcej z Pododdziałem Kardiochirurgi"]
["S-192","Szafa 140 na cewniki z nadstawką 260h","MEBLE","MEBLE",910.2,"2.02.10","Oddział Kardiologii Dziecięcej z Pododdziałem Kardiochirurgi"]
["S-193","Szafa brudownik 80x35x200h","MEBLE","MEBLE",836.4,"2.02.10","Oddział Kardiologii Dziecięcej z Pododdziałem Kardiochirurgi"]
["S-194","Szafka zamykana sześciodrzwiowa 90x50x90h","MEBLE","MEBLE",885.6,"2.02.10","Oddział Kardiologii Dziecięcej z Pododdziałem Kardiochirurgi"]
["S-194A","Szafka zamykana na klucz 505x505x1155h","MEBLE","MEBLE",885.6,"2.02.20","Zamiejscowy Oddział Rehabilitacji Ogólnoustrojowej I"]
["S-195","Szafa dołem otwarta 119x60x230h","MEBLE","MEBLE",1353,"2.02.10","Oddział Kardiologii Dziecięcej z Pododdziałem Kardiochirurgi"]
["S-197","Stojak na kroplówki z półką NSS-10.2","MED. NISK. ŚR. TRW.","MED. NISK. ŚR. TRW.",280,"2.02.10","Oddział Kardiologii Dziecięcej z Pododdziałem Kardiochirurgi"]
["S-197","Stojak na kroplówki z półką NSS-10.2","MED. NISK. ŚR. TRW.","MED. NISK. ŚR. TRW.",280,"2.02.15","Oddział Pediatryczny z Pododdziałem Gastroenterologii "]
["S-197","Stojak na kroplówki z półką NSS-10.2","MED. NISK. ŚR. TRW.","MED. NISK. ŚR. TRW.",280,"2.02.08","Oddział Położniczo – Ginekologiczny"]
["S-197A","Stojak na kroplówki  NSS-10.2","MED. NISK. ŚR. TRW.","MED. NISK. ŚR. TRW.",243,"2.02.05.01","Oddział Chirurgii Ogólnej z Pododdziałami"]
["S-197A","Stojak na kroplówki  NSS-10.2","MED. NISK. ŚR. TRW.","MED. NISK. ŚR. TRW.",243,"2.02.21","Zamiejscowy Oddział Rehabilitacji Ogólnoustrojowej II"]
["S-197B","Stojak do kroplówek MSS-10.2. 2-wieszakowy","MED. NISK. ŚR. TRW.","MED. NISK. ŚR. TRW.",247.1,"2.02.03","Oddział Chemioterapii z Pododdziałem Chemioterapii Dziennej"]
["S-197B","Stojak do kroplówek MSS-10.2. 2-wieszakowy","MED. NISK. ŚR. TRW.","MED. NISK. ŚR. TRW.",247.1,"2.02.04","Oddział Chirurgii Naczyniowej"]
["S-197B","Stojak do kroplówek MSS-10.2. 2-wieszakowy","MED. NISK. ŚR. TRW.","MED. NISK. ŚR. TRW.",247.1,"2.02.05.01","Oddział Chirurgii Ogólnej z Pododdziałami"]
["S-197B","Stojak do kroplówek MSS-10.2. 2-wieszakowy","MED. NISK. ŚR. TRW.","MED. NISK. ŚR. TRW.",247.1,"2.05","SOR"]
["S-197B","Stojak do kroplówek MSS-10.2. 2-wieszakowy","MED. NISK. ŚR. TRW.","MED. NISK. ŚR. TRW.",247.1,"2.06","Stacja Dializ"]
["S-197B","Stojak do kroplówek MSS-10.2. 2-wieszakowy","MED. NISK. ŚR. TRW.","MED. NISK. ŚR. TRW.",247.1,"2.02.19","Zamiejscowy Oddział Rehabilitacji Neurologicznej"]
["S-197C","Stojak do kroplówek MSS-10.2.PP 2-wieszakowy z","MED. NISK. ŚR. TRW.","MED. NISK. ŚR. TRW.",247.1,"2.02.10","Oddział Kardiologii Dziecięcej z Pododdziałem Kardiochirurgi"]
["S-197D","Stojak do kroplówek MSS-10.2.P 2-wieszakowy z p","MED. NISK. ŚR. TRW.","MED. NISK. ŚR. TRW.",247.1,"2.02.15","Oddział Pediatryczny z Pododdziałem Gastroenterologii "]
["S-197D","Stojak do kroplówek MSS-10.2.P 2-wieszakowy z p","MED. NISK. ŚR. TRW.","MED. NISK. ŚR. TRW.",247.1,"2.02.08","Oddział Położniczo – Ginekologiczny"]
["S-200","Szafy dla rodziców","MEBLE","MEBLE",460,"2.02.15","Oddział Pediatryczny z Pododdziałem Gastroenterologii "]
["S-202","Szafa z koszem uchylnym","MEBLE","MEBLE",500,"2.03.04","Poradnia Chirurgii Onkologicznej"]
["S-202","Szafa z koszem uchylnym","MEBLE","MEBLE",500,"2.02.19","Zamiejscowy Oddział Rehabilitacji Neurologicznej"]
["S-238","Szczypce bipolarne typu PreCise","NARZĘDZIA MEDYCZNE","NARZ. MEDYCZNE",10000,"2.04.01","Blok Operacyjny"]
["S-242","Szafa ubraniowa","MEBLE","MEBLE",450,"2.07.01","DODO -Pracownia RTG"]
["S-242","Szafa ubraniowa","MEBLE","MEBLE",450,"3.02","Dział Gospodarki Nieruchomościami i Utrzymania Ruchu"]
["S-242","Szafa ubraniowa","MEBLE","MEBLE",450,"4.06.01","Dział Księgowości i Finansów"]
["S-243","Szafa ","MEBLE","MEBLE",421.5625,"3.02.02.01","Hotel Pracowniczy"]
["S-243A","Szafa ","MEBLE","MEBLE",421.5625,"2.02.05.01","Oddział Chirurgii Ogólnej z Pododdziałami"]
["S-243B","Szafa ","MEBLE","MEBLE",578.1,"2.02.12","Oddział Neonatologiczny"]
["S-243C","Szafa ","MEBLE","MEBLE",421.5625,"2.02.12","Oddział Neonatologiczny"]
["S-243F","Szafa ","MEBLE","MEBLE",421.5625,"4.03","Dział Organizacyjno - Prawny"]
["S-243G","Szafa ","MEBLE","MEBLE",421.5625,"2.06","Stacja Dializ"]
["S-243H","Szafa ","MEBLE","MEBLE",421.5625,"2.06","Stacja Dializ"]
["S-243I","Szafa","MEBLE","MEBLE",250,"2.02.01.02","Intensywna Terapia"]
["S-243I","Szafa","MEBLE","MEBLE",250,"4.07.01.02","Zespół Konsultantów Biznesowych"]
["S-243J","Szafa","MEBLE","MEBLE",421.5625,"2.08","SekcjaKontroli Zakażeń Szpitalnych"]
["S-243K","Szafa","MEBLE","MEBLE",421.5625,"3.02.02.01","Hotel Pracowniczy"]
["S-244","Szafa","MEBLE","MEBLE",421.5625,"2.02.12","Oddział Neonatologiczny"]
["S-245A","Szafa ","MEBLE","MEBLE",578.1,"2.02.05.02","Pracownia Endoskopii"]
["S-245B","Szafa ","MEBLE","MEBLE",578.1,"2.02.10","Oddział Kardiologii Dziecięcej z Pododdziałem Kardiochirurgi"]
["S-245C","Szafa ","MEBLE","MEBLE",578.1,"2.02.10","Oddział Kardiologii Dziecięcej z Pododdziałem Kardiochirurgi"]
["S-245D","Szafa ","MEBLE","MEBLE",578.1,"2.02.10","Oddział Kardiologii Dziecięcej z Pododdziałem Kardiochirurgi"]
["S-245E","Szafa ","MEBLE","MEBLE",770,"2.03.02","Poradnia Chirurgii Naczyniowej"]
["S-246","Szafa kartotekowa","MEBLE","MEBLE",900,"2.02.15","Oddział Pediatryczny z Pododdziałem Gastroenterologii "]
["S-246A","Szafa kartotekowa","MEBLE","MEBLE",900,"2.03.20","Poradnia Onkologiczna"]
["S-246B","Szafa kartotekowa","MEBLE","MEBLE",900,"2.03.05","Poradnia Chirurgii Urazowo - Ortopedycznej"]
["S-246B","Szafa kartotekowa","MEBLE","MEBLE",900,"2.03.09","Poradnia Gastrologiczna"]
["S-246B","Szafa kartotekowa","MEBLE","MEBLE",900,"2.03.17","Poradnia Neurochirurgiczna"]
["S-246C","Szafa kartotekowa","MEBLE","MEBLE",900,"2.03.03","Poradnia Chirurgii Ogólnej"]
["S-246C","Szafa kartotekowa","MEBLE","MEBLE",900,"2.03.16","Poradnia Medycyny Pracy"]
["S-246D","Szafa kartotekowa","MEBLE","MEBLE",900,"2.02.13","Oddział Okulistyczny"]
["S-246E","Szafa kartotekowa","MEBLE","MEBLE",900,"2.03.20","Poradnia Onkologiczna"]
["S-246F","Szafa kartotekowa","MEBLE","MEBLE",900,"2.03.24","Poradnia Urologiczna"]
["S-247A","Szafa socjalna 2drzwiowa bez podziału 180x60x49","MEBLE","MEBLE",700,"3.02","Dział Gospodarki Nieruchomościami i Utrzymania Ruchu"]
["S-247B","Szafa socjalna (BHP)  ","MEBLE","MEBLE",450,"3.02","Dział Gospodarki Nieruchomościami i Utrzymania Ruchu"]
["S-247C","Szafa socjalna (BHP)  ","MEBLE","MEBLE",450,"3.02","Dział Gospodarki Nieruchomościami i Utrzymania Ruchu"]
["S-250","Szafa na segregatory","MEBLE","MEBLE",700,"2.02.12","Oddział Neonatologiczny"]
["S-250A","Szafa na segregatory","MEBLE","MEBLE",700,"2.04.01","Blok Operacyjny"]
["S-250B","Szafa na segregatory","MEBLE","MEBLE",700,"2.04.01","Blok Operacyjny"]
["S-250C","Szafa na segregatory","MEBLE","MEBLE",700,"2.04.01","Blok Operacyjny"]
["S-250C","Szafa na segregatory","MEBLE","MEBLE",700,"2.08","SekcjaKontroli Zakażeń Szpitalnych"]
["S-251","Szafa ubraniowa","MEBLE","MEBLE",450,"3.02","Dział Gospodarki Nieruchomościami i Utrzymania Ruchu"]
["S-251A","Szafa ubraniowa","MEBLE","MEBLE",450,"3.02","Dział Gospodarki Nieruchomościami i Utrzymania Ruchu"]
["S-251A","Szafa ubraniowa","MEBLE","MEBLE",450,"6.02.04","Pracownik Socjalny"]
["S-251B","Szafa ubraniowa z nadstawką","MEBLE","MEBLE",870,"2.08","SekcjaKontroli Zakażeń Szpitalnych"]
["S-251B","Szafa ubraniowa z nadstawką","MEBLE","MEBLE",870,"2.05","SOR"]
["S-252","Szafa narożna","MEBLE","MEBLE",680,"2.02.12","Oddział Neonatologiczny"]
["S-253","Szafa szatniowa","MEBLE","MEBLE",604.73,"2.06","Stacja Dializ"]
["S-255","Szafa z nadstawką","MEBLE","MEBLE",800,"2.02.12","Oddział Neonatologiczny z Pododdziałem Patologii Noworodka"]
["S-255A","Szafa z nadstawką","MEBLE","MEBLE",799.5,"6.02.04","Pracownik Socjalny"]
["S-255B","Szafa z nadstawką","MEBLE","MEBLE",799.5,"6.02.04","Pracownik Socjalny"]
["S-255C","Szafa z nadstawką","MEBLE","MEBLE",799.5,"2.02.10","Oddział Kardiologii Dziecięcej z Pododdziałem Kardiochirurgi"]
["S-255D","Szafa z nadstawką","MEBLE","MEBLE",799.5,"2.02.10","Oddział Kardiologii Dziecięcej z Pododdziałem Kardiochirurgi"]
["S-258","Stojak medyczny SM/4W","MED. NISK. ŚR. TRW.","MED. NISK. ŚR. TRW.",245,"2.02.17.01","Oddział Urologii i Urologii Onkologicznej"]
["S-267","Ssak elektryczny przenośny","MED. NISK. ŚR. TRW.","MED. NISK. ŚR. TRW.",360,"2.02.03","Oddział Chemioterapii z Pododdziałem Chemioterapii Dziennej"]
["S-267","Ssak elektryczny przenośny","MED. NISK. ŚR. TRW.","MED. NISK. ŚR. TRW.",360,"2.02.04","Oddział Chirurgii Naczyniowej"]
["S-267","Ssak elektryczny przenośny","MED. NISK. ŚR. TRW.","MED. NISK. ŚR. TRW.",360,"2.02.07","Oddział Dermatologiczny"]
["S-267","Ssak elektryczny przenośny","MED. NISK. ŚR. TRW.","MED. NISK. ŚR. TRW.",360,"2.02.09.11","Oddział Kardiologiczny"]
["S-267","Ssak elektryczny przenośny","MED. NISK. ŚR. TRW.","MED. NISK. ŚR. TRW.",360,"2.02.10","Oddział Kardiologii Dziecięcej z Pododdziałem Kardiochirurgi"]
["S-267","Ssak elektryczny przenośny","MED. NISK. ŚR. TRW.","MED. NISK. ŚR. TRW.",360,"2.02.08","Oddział Położniczo – Ginekologiczny"]
["S-267","Ssak elektryczny przenośny","MED. NISK. ŚR. TRW.","MED. NISK. ŚR. TRW.",360,"2.03.06","Poradnia Angiologiczna"]
["S-267","Ssak elektryczny przenośny","MED. NISK. ŚR. TRW.","MED. NISK. ŚR. TRW.",360,"2.03.03","Poradnia Chirurgii Ogólnej"]
["S-267","Ssak elektryczny przenośny","MED. NISK. ŚR. TRW.","MED. NISK. ŚR. TRW.",360,"2.03.04","Poradnia Chirurgii Onkologicznej"]
["S-267","Ssak elektryczny przenośny","MED. NISK. ŚR. TRW.","MED. NISK. ŚR. TRW.",360,"2.03.07","Poradnia Dermatologiczna"]
["S-267","Ssak elektryczny przenośny","MED. NISK. ŚR. TRW.","MED. NISK. ŚR. TRW.",360,"2.03.12","Poradnia Kardiologiczna dla Dzieci"]
["S-267","Ssak elektryczny przenośny","MED. NISK. ŚR. TRW.","MED. NISK. ŚR. TRW.",360,"2.03.17","Poradnia Neurochirurgiczna"]
["S-267","Ssak elektryczny przenośny","MED. NISK. ŚR. TRW.","MED. NISK. ŚR. TRW.",360,"2.04.03","Zamiejscowy Blok Operacyjny"]
["S-267","Ssak elektryczny przenośny","MED. NISK. ŚR. TRW.","MED. NISK. ŚR. TRW.",360,"2.02.19","Zamiejscowy Oddział Rehabilitacji Neurologicznej"]
["S-272","Szczypce opatrunkowe MAIER bez zamka proste 265","NARZĘDZIA MEDYCZNE","NARZ. MEDYCZNE",207,"2.04.01","Blok Operacyjny"]
["S-272A","Szczypce opatrunkowe MAIER bez zamka zakrzywion","NARZĘDZIA MEDYCZNE","NARZ. MEDYCZNE",160,"2.04.01","Blok Operacyjny"]
["S-275","Stanowisko do pielęgnacji noworodków seria AGAT","MEBLE MEDYCZNE","MEBLE MEDYCZNE",847,"2.02.10","Oddział Kardiologii Dziecięcej z Pododdziałem Kardiochirurgi"]
["S-276","Szafka metalowa z zamkiem cylindrycznym -Koldbl","POZOSTAŁE","POZOSTAŁE",252.15,"2.06","Stacja Dializ"]
["S-277","Stymulator nerwów obwodowych STIMUPLEX HNS 12","MED. NISK. ŚR. TRW.","MED. NISK. ŚR. TRW.",2800,"2.02.01.02","Intensywna Terapia"]
["T-048","Taboret do badania pacjentów z oparciem","MED. NISK. ŚR. TRW.","MED. NISK. ŚR. TRW.",1300,"2.02.15","Oddział Pediatryczny z Pododdziałem Gastroenterologii "]
["T-048","Taboret do badania pacjentów z oparciem","MED. NISK. ŚR. TRW.","MED. NISK. ŚR. TRW.",1300,"2.02.08","Oddział Położniczo – Ginekologiczny"]
["T-048A","Taboret plastikowy  z motywem H47","MED. NISK. ŚR. TRW.","MED. NISK. ŚR. TRW.",75.819999999999993,"2.02.21","Zamiejscowy Oddział Rehabilitacji Ogólnoustrojowej II"]
["T-048B","Taboret Sigma-k015","MED. NISK. ŚR. TRW.","MED. NISK. ŚR. TRW.",550,"2.02.14","Oddział Otolaryngologiczny z Pododdziałem Otolaryngologii"]
["T-048C","Taboret TB-02KO","MED. NISK. ŚR. TRW.","MED. NISK. ŚR. TRW.",550,"2.02.17.01","Oddział Urologii i Urologii Onkologicznej"]
["T-048C","Taboret TB-02KO","MED. NISK. ŚR. TRW.","MED. NISK. ŚR. TRW.",550,"2.03.24","Poradnia Urologiczna"]
["T-076","Termohigrometr + świadectwo","POZOSTAŁE","POZOSTAŁE",240,"2.02.01.01","Anestezjologia"]
["T-076","Termohigrometr + świadectwo","POZOSTAŁE","POZOSTAŁE",240,"2.09","Apteka Szpitalna"]
["T-076","Termohigrometr + świadectwo","POZOSTAŁE","POZOSTAŁE",240,"2.04.01","Blok Operacyjny"]
["T-076","Termohigrometr + świadectwo","POZOSTAŁE","POZOSTAŁE",240,"2.07.02","DODO -Pracownia Mammografii"]
["T-076","Termohigrometr + świadectwo","POZOSTAŁE","POZOSTAŁE",240,"2.07.05","DODO -Pracownia Rezonansu Magnetycznego"]
["T-076","Termohigrometr + świadectwo","POZOSTAŁE","POZOSTAŁE",240,"2.02.02","Oddział Angiologiczny z Pododdziałem Diabetologii"]
["T-076","Termohigrometr + świadectwo","POZOSTAŁE","POZOSTAŁE",240,"2.02.05.01","Oddział Chirurgii Ogólnej z Pododdziałami"]
["T-076","Termohigrometr + świadectwo","POZOSTAŁE","POZOSTAŁE",240,"2.02.11.01","Oddział Nefrologiczny"]
["T-076","Termohigrometr + świadectwo","POZOSTAŁE","POZOSTAŁE",240,"2.02.12","Oddział Neonatologiczny z Pododdziałem Patologii Noworodka"]
["T-076","Termohigrometr + świadectwo","POZOSTAŁE","POZOSTAŁE",240,"2.02.17.01","Oddział Urologii i Urologii Onkologicznej"]
["T-076","Termohigrometr + świadectwo","POZOSTAŁE","POZOSTAŁE",240,"2.03.03","Poradnia Chirurgii Ogólnej"]
["T-076","Termohigrometr + świadectwo","POZOSTAŁE","POZOSTAŁE",240,"2.03.12","Poradnia Kardiologiczna dla Dzieci"]
["T-076","Termohigrometr + świadectwo","POZOSTAŁE","POZOSTAŁE",240,"2.03.17","Poradnia Neurochirurgiczna"]
["T-076","Termohigrometr + świadectwo","POZOSTAŁE","POZOSTAŁE",240,"2.02.05.02","Pracownia Endoskopii"]
["T-076","Termohigrometr + świadectwo","POZOSTAŁE","POZOSTAŁE",240,"2.05","SOR"]
["T-076","Termohigrometr + świadectwo","POZOSTAŁE","POZOSTAŁE",240,"2.06","Stacja Dializ"]
["T-076","Termohigrometr + świadectwo","POZOSTAŁE","POZOSTAŁE",240,"2.04.03","Zamiejscowy Blok Operacyjny"]
["T-076","Termohigrometr + świadectwo","POZOSTAŁE","POZOSTAŁE",240,"2.02.18","Zamiejscowy Oddział Chirurgii Urazowo - Ortopedycznej"]
["T-076A","Termohigrometr + świadectwo","POZOSTAŁE","POZOSTAŁE",240,"2.02.13","Oddział Okulistyczny"]
["T-076A","Termohigrometr + świadectwo","POZOSTAŁE","POZOSTAŁE",240,"2.02.15","Oddział Pediatryczny z Pododdziałem Gastroenterologii "]
["T-076A","Termohigrometr + świadectwo","POZOSTAŁE","POZOSTAŁE",240,"2.02.15","Oddział Pediatryczny z Pododdziałem Gastroenterologii "]
["T-076A","Termohigrometr + świadectwo","POZOSTAŁE","POZOSTAŁE",240,"2.04.03","Zamiejscowy Blok Operacyjny"]
["T-076A","Termohigrometr + świadectwo","POZOSTAŁE","POZOSTAŁE",240,"2.02.18","Zamiejscowy Oddział Chirurgii Urazowo - Ortopedycznej"]
["T-122","Taboret kuchenny","MEBLE","MEBLE",50,"3.02.02.01","Hotel Pracowniczy"]
["T-126","Torba ze stelażem","POZOSTAŁE","POZOSTAŁE",69,"4.03","Dział Organizacyjno - Prawny"]
["T-127","Taboret Ringo chrom  ","MEBLE","MEBLE",140,"4.02","Dział Zaopatrzenia i Zamówień Publicznych"]
["T-133","Taboret prysznicowy","MEBLE","MEBLE",45,"3.02.02.01","Hotel Pracowniczy"]
["T-133A","Taboret stelaż","MEBLE","MEBLE",45,"3.02.02.01","Hotel Pracowniczy"]
["T-137","Taboret do badania pacjentów z oparciem","MEBLE","MEBLE",1350,"2.02.01.02","Intensywna Terapia"]
["T-149","Taboret TB -1 na kółkach","MED. NISK. ŚR. TRW.","MED. NISK. ŚR. TRW.",240,"2.04.01","Blok Operacyjny"]
["T-149","Taboret TB -1 na kółkach","MED. NISK. ŚR. TRW.","MED. NISK. ŚR. TRW.",240,"2.07.08","DODO -Zamiejscowa Pracownia RTG"]
["T-149","Taboret TB -1 na kółkach","MED. NISK. ŚR. TRW.","MED. NISK. ŚR. TRW.",240,"2.02.10","Oddział Kardiologii Dziecięcej z Pododdziałem Kardiochirurgi"]
["T-149","Taboret TB -1 na kółkach","MED. NISK. ŚR. TRW.","MED. NISK. ŚR. TRW.",240,"2.02.13","Oddział Okulistyczny"]
["T-149","Taboret TB -1 na kółkach","MED. NISK. ŚR. TRW.","MED. NISK. ŚR. TRW.",240,"2.02.08","Oddział Położniczo – Ginekologiczny"]
["T-149","Taboret TB -1 na kółkach","MED. NISK. ŚR. TRW.","MED. NISK. ŚR. TRW.",240,"2.03.04","Poradnia Chirurgii Onkologicznej"]
["T-149","Taboret TB -1 na kółkach","MED. NISK. ŚR. TRW.","MED. NISK. ŚR. TRW.",240,"2.03.22","Poradnia Otolaryngologiczna"]
["T-149A","Taboret TB -1 na stopkach","MED. NISK. ŚR. TRW.","MED. NISK. ŚR. TRW.",142.07,"2.02.12","Oddział Neonatologiczny z Pododdziałem Patologii Noworodka"]
["T-149A","Taboret TB -1 na stopkach","MED. NISK. ŚR. TRW.","MED. NISK. ŚR. TRW.",142.06,"2.03.19","Poradnia Okulistyczna"]
["T-187","Taboret ALFA K008","MEBLE","MEBLE",215.47,"2.07.06","DODO -Pracownia USG"]
["T-187","Taboret ALFA K008","MEBLE","MEBLE",215.47,"2.07.07","DODO -Pracownia USG Piersi"]
["T-187A","Taboret ALFA K020","MEBLE","MEBLE",215.47,"2.07.05","DODO -Pracownia Rezonansu Magnetycznego"]
["T-187A","Taboret ALFA K020","MEBLE","MEBLE",215.47,"2.07.07","DODO -Pracownia USG Piersi"]
["T-187A","Taboret ALFA K020","MEBLE","MEBLE",215.47,"2.02.13","Oddział Okulistyczny"]
["T-188","Taboret SELLA II K020","MEBLE","MEBLE",215.47,"2.07.06","DODO -Pracownia USG"]
["T-190","Taboret obrotowy o regulowanej wysokośći Kolumn","MEBLE","MEBLE",160,"2.07.02","DODO -Pracownia Mammografii"]
["T-190","Taboret obrotowy o regulowanej wysokośći Kolumn","MEBLE","MEBLE",160,"2.02.13","Oddział Okulistyczny"]
["T-190","Taboret obrotowy o regulowanej wysokośći Kolumn","MEBLE","MEBLE",160,"2.02.08","Oddział Położniczo – Ginekologiczny"]
["T-197","Telewizor 32\"","SPRZĘT AGD","SPRZĘT AGD",1599,"2.02.20","Zamiejscowy Oddział Rehabilitacji Ogólnoustrojowej I"]
["T-197A","Telewizor 32\"","SPRZĘT AGD","SPRZĘT AGD",1599,"2.02.07","Oddział Dermatologiczny"]
["T-197B","Telewizor 32\"","SPRZĘT AGD","SPRZĘT AGD",1599,"2.06","Stacja Dializ"]
["T-197D","Telewizor 32\"","SPRZĘT AGD","SPRZĘT AGD",1599,"2.02.10","Oddział Kardiologii Dziecięcej z Pododdziałem Kardiochirurgi"]
["T-197E","Telewizor 32\"","SPRZĘT AGD","SPRZĘT AGD",1599,"2.02.10","Oddział Kardiologii Dziecięcej z Pododdziałem Kardiochirurgi"]
["T-200","Torba do ssaka -kuferek lekarski TRM-37","MED. NISK. ŚR. TRW.","MED. NISK. ŚR. TRW.",100,"2.02.03","Oddział Chemioterapii z Pododdziałem Chemioterapii Dziennej"]
["T-200","Torba do ssaka -kuferek lekarski TRM-37","MED. NISK. ŚR. TRW.","MED. NISK. ŚR. TRW.",100,"2.02.04","Oddział Chirurgii Naczyniowej"]
["T-200","Torba do ssaka -kuferek lekarski TRM-37","MED. NISK. ŚR. TRW.","MED. NISK. ŚR. TRW.",100,"2.02.07","Oddział Dermatologiczny"]
["T-200","Torba do ssaka -kuferek lekarski TRM-37","MED. NISK. ŚR. TRW.","MED. NISK. ŚR. TRW.",100,"2.02.09.11","Oddział Kardiologiczny"]
["T-200","Torba do ssaka -kuferek lekarski TRM-37","MED. NISK. ŚR. TRW.","MED. NISK. ŚR. TRW.",100,"2.02.10","Oddział Kardiologii Dziecięcej z Pododdziałem Kardiochirurgi"]
["T-200","Torba do ssaka -kuferek lekarski TRM-37","MED. NISK. ŚR. TRW.","MED. NISK. ŚR. TRW.",100,"2.02.08","Oddział Położniczo – Ginekologiczny"]
["T-200","Torba do ssaka -kuferek lekarski TRM-37","MED. NISK. ŚR. TRW.","MED. NISK. ŚR. TRW.",100,"2.03.06","Poradnia Angiologiczna"]
["T-200","Torba do ssaka -kuferek lekarski TRM-37","MED. NISK. ŚR. TRW.","MED. NISK. ŚR. TRW.",100,"2.03.03","Poradnia Chirurgii Ogólnej"]
["T-200","Torba do ssaka -kuferek lekarski TRM-37","MED. NISK. ŚR. TRW.","MED. NISK. ŚR. TRW.",100,"2.03.04","Poradnia Chirurgii Onkologicznej"]
["T-200","Torba do ssaka -kuferek lekarski TRM-37","MED. NISK. ŚR. TRW.","MED. NISK. ŚR. TRW.",100,"2.03.07","Poradnia Dermatologiczna"]
["T-200","Torba do ssaka -kuferek lekarski TRM-37","MED. NISK. ŚR. TRW.","MED. NISK. ŚR. TRW.",100,"2.03.12","Poradnia Kardiologiczna dla Dzieci"]
["T-200","Torba do ssaka -kuferek lekarski TRM-37","MED. NISK. ŚR. TRW.","MED. NISK. ŚR. TRW.",100,"2.03.17","Poradnia Neurochirurgiczna"]
["T-200","Torba do ssaka -kuferek lekarski TRM-37","MED. NISK. ŚR. TRW.","MED. NISK. ŚR. TRW.",100,"2.04.03","Zamiejscowy Blok Operacyjny"]
["T-201","Taboret porodowy-Dullstein","MEBLE MEDYCZNE","MEBLE MEDYCZNE",3075,"2.02.08.06","Szkoła Rodzenia"]
["T-203","Tunelizator AV 27 ze stali nierdzewnej- zagięty","NARZĘDZIA MEDYCZNE","NARZ. MEDYCZNE",1350,"2.04.01","Blok Operacyjny"]
["T-206","Taca sterylizacyjna firmy CBM 210x145x50-symbol","POZOSTAŁE","POZOSTAŁE",260,"3.03","Dział Centralnej Sterylizatorni i DDD"]
["U-058","Uchwyt ClickLine,plastikowy,z zapinką hemostaty","NARZĘDZIA MEDYCZNE","NARZ. MEDYCZNE",692.87,"2.04.01","Blok Operacyjny"]
["U-058A","Uchwyt ClickLine,plastikowy,bez zapinki, monopo","NARZĘDZIA MEDYCZNE","NARZ. MEDYCZNE",592.9,"2.04.01","Blok Operacyjny"]
["U-063","Urządzenie do odsysania wydzieliny","MED. NISK. ŚR. TRW.","MED. NISK. ŚR. TRW.",2700,"2.02.01.02","Intensywna Terapia"]
["U-064","Uchwyt do striperów okrężnych FB108-117 FB119R","NARZĘDZIA MEDYCZNE","NARZ. MEDYCZNE",90,"2.04.01","Blok Operacyjny"]
["U-065","Uchwyt skalpela nr3 dł.125mm  BB073R","NARZĘDZIA MEDYCZNE","NARZ. MEDYCZNE",25,"2.04.01","Blok Operacyjny"]
["U-065","Uchwyt skalpela nr3 dł.125mm  BB073R","NARZĘDZIA MEDYCZNE","NARZ. MEDYCZNE",25,"2.02.16","Oddział Transplantologiczny"]
["U-065","Uchwyt skalpela nr3 dł.125mm  BB073R","NARZĘDZIA MEDYCZNE","NARZ. MEDYCZNE",25,"2.04.03","Zamiejscowy Blok Operacyjny"]
["U-065A","Uchwyt skalpela nr4 dł.135mm  BB084R","NARZĘDZIA MEDYCZNE","NARZ. MEDYCZNE",25,"2.04.01","Blok Operacyjny"]
["U-065A","Uchwyt skalpela nr4 dł.135mm  BB084R","NARZĘDZIA MEDYCZNE","NARZ. MEDYCZNE",25,"2.04.03","Zamiejscowy Blok Operacyjny"]
["W-002","Wieszak aluminiowy ARIZONA ","MEBLE","MEBLE",189,"2.03.17","Poradnia Medycyny Pracy"]
["W-002A","Wieszak na obuwie","MEBLE","MEBLE",240,"2.02.05.01","Oddział Chirurgii Ogólnej z Pododdziałami"]
["W-026","Wentylator stojący","SPRZĘT AGD","SPRZĘT AGD",180,"4.03","Dział Organizacyjno - Prawny"]
["W-026","Wentylator stojący","SPRZĘT AGD","SPRZĘT AGD",180,"4.07.01.01","Dział Planowania, Analiz i Finansowania Inwestycji"]
["W-026","Wentylator stojący","SPRZĘT AGD","SPRZĘT AGD",180,"1.04.03","Dział Rejestracji Statystyki i Dokumentacji Medycznej"]
["W-026","Wentylator stojący","SPRZĘT AGD","SPRZĘT AGD",180,"2.03.04","Poradnia Chirurgii Onkologicznej"]
["W-026","Wentylator stojący","SPRZĘT AGD","SPRZĘT AGD",180,"2.03.20","Poradnia Onkologiczna"]
["W-026","Wentylator stojący","SPRZĘT AGD","SPRZĘT AGD",180,"1.02","Sekretariat"]
["W-026A","Wentylator stojący","SPRZĘT AGD","SPRZĘT AGD",180,"4.07.01.01","Dział Planowania, Analiz i Finansowania Inwestycji"]
["W-026A","Wentylator stojący","SPRZĘT AGD","SPRZĘT AGD",180,"4.05","Dział Zatrudnienia i Wynagrodzeń"]
["W-026B","Wentylator stojący","SPRZĘT AGD","SPRZĘT AGD",180,"4.02","Dział Zaopatrzenia i Zamówień Publicznych"]
["W-026B","Wentylator stojący","SPRZĘT AGD","SPRZĘT AGD",180,"3.02.04","SekcjaGospodarcza i Obsługa (cześć wspólna)"]
["W-026B","Wentylator stojący","SPRZĘT AGD","SPRZĘT AGD",180,"2.02.19","Zamiejscowy Oddział Rehabilitacji Neurologicznej"]
["W-026C","Wentylator stojący","SPRZĘT AGD","SPRZĘT AGD",180,"2.02.10","Oddział Kardiologii Dziecięcej z Pododdziałem Kardiochirurgi"]
["W-026C","Wentylator stojący","SPRZĘT AGD","SPRZĘT AGD",180,36951,"Ośrodek Programów Badawczych (OPB)"]
["W-026C","Wentylator stojący","SPRZĘT AGD","SPRZĘT AGD",180,"1.02","Sekretariat"]
["W-026E","Wentylator stojący","SPRZĘT AGD","SPRZĘT AGD",180,"2.09","Apteka Szpitalna"]
["W-026F","Wentylator stojący","SPRZĘT AGD","SPRZĘT AGD",180,"2.02.05.01","Oddział Chirurgii Ogólnej z Pododdziałami"]
["W-026F","Wentylator stojący","SPRZĘT AGD","SPRZĘT AGD",180,"2.02.09.11","Oddział Kardiologiczny"]
["W-029","Wersalka ","MEBLE","MEBLE",650,"2.02.19","Zamiejscowy Oddział Rehabilitacji Neurologicznej"]
["W-029A","Wersalka ","MEBLE","MEBLE",650,"2.04.01","Blok Operacyjny"]
["W-029B","Wersalka ","MEBLE","MEBLE",650,"2.02.15","Oddział Pediatryczny z Pododdziałem Gastroenterologii "]
["W-030A","Wieszak ścienny Typ  WT na fartuchy RTG- 3 rami","MEBLE","MEBLE",310.20999999999998,"2.04.01","Blok Operacyjny"]
["W-030A","Wieszak ścienny Typ  WT na fartuchy RTG- 3 rami","MEBLE","MEBLE",310.20999999999998,"2.07.01","DODO -Pracownia RTG"]
["W-033","Wózek inwalidzki","MED. NISK. ŚR. TRW.","MED. NISK. ŚR. TRW.",1404.57,"2.02.08","Oddział Położniczo – Ginekologiczny"]
["W-033","Wózek inwalidzki","MED. NISK. ŚR. TRW.","MED. NISK. ŚR. TRW.",1404.57,"2.05","SOR"]
["W-033","Wózek inwalidzki","MED. NISK. ŚR. TRW.","MED. NISK. ŚR. TRW.",1404.57,"2.02.19","Zamiejscowy Oddział Rehabilitacji Neurologicznej"]
["W-033A","Wózek inwalidzki D200","MED. NISK. ŚR. TRW.","MED. NISK. ŚR. TRW.",1000,"2.02.19","Zamiejscowy Oddział Rehabilitacji Neurologicznej"]
["W-033B","Wózek inwalidzki JAZZ 30","MED. NISK. ŚR. TRW.","MED. NISK. ŚR. TRW.",1500,"2.02.19","Zamiejscowy Oddział Rehabilitacji Neurologicznej"]
["W-033C","Wózek inwalidzki V100XXL","MED. NISK. ŚR. TRW.","MED. NISK. ŚR. TRW.",1700,"2.02.08","Oddział Położniczo – Ginekologiczny"]
["W-033D","Wózek inwalidzki model 28","MED. NISK. ŚR. TRW.","MED. NISK. ŚR. TRW.",1080,"2.02.03","Oddział Chemioterapii z Pododdziałem Chemioterapii Dziennej"]
["W-033D","Wózek inwalidzki model 28","MED. NISK. ŚR. TRW.","MED. NISK. ŚR. TRW.",1080,"2.05","SOR"]
["W-033E","Wózek inwalidzki typu ortopedia model TGR-R WA","MED. NISK. ŚR. TRW.","MED. NISK. ŚR. TRW.",680,"2.02.21","Zamiejscowy Oddział Rehabilitacji Ogólnoustrojowej II"]
["W-034","Wózek do worków foliowych pojedyńczy-60 L z pok","POZOSTAŁE","POZOSTAŁE",850,"2.02.01.01","Anestezjologia"]
["W-034","Wózek do worków foliowych pojedyńczy-60 L z pok","POZOSTAŁE","POZOSTAŁE",850,"2.09","Apteka Szpitalna"]
["W-034","Wózek do worków foliowych pojedyńczy-60 L z pok","POZOSTAŁE","POZOSTAŁE",850,"4.02","Dział Zaopatrzenia i Zamówień Publicznych"]
["W-034","Wózek do worków foliowych pojedyńczy-60 L z pok","POZOSTAŁE","POZOSTAŁE",850,"2.02.06","Oddział Chirurgii Onkologicznej"]
["W-034","Wózek do worków foliowych pojedyńczy-60 L z pok","POZOSTAŁE","POZOSTAŁE",850,"2.02.09.11","Oddział Kardiologiczny"]
["W-034","Wózek do worków foliowych pojedyńczy-60 L z pok","POZOSTAŁE","POZOSTAŁE",850,"2.02.12","Oddział Neonatologiczny z Pododdziałem Patologii Noworodka"]
["W-034","Wózek do worków foliowych pojedyńczy-60 L z pok","POZOSTAŁE","POZOSTAŁE",850,"2.02.14","Oddział Otolaryngologiczny z Pododdziałem Otolaryngologii"]
["W-034","Wózek do worków foliowych pojedyńczy-60 L z pok","POZOSTAŁE","POZOSTAŁE",850,"2.02.08","Oddział Położniczo – Ginekologiczny"]
["W-034","Wózek do worków foliowych pojedyńczy-60 L z pok","POZOSTAŁE","POZOSTAŁE",850,"2.03.02","Poradnia Chirurgii Naczyniowej"]
["W-034","Wózek do worków foliowych pojedyńczy-60 L z pok","POZOSTAŁE","POZOSTAŁE",850,"2.03.04","Poradnia Chirurgii Onkologicznej"]
["W-034","Wózek do worków foliowych pojedyńczy-60 L z pok","POZOSTAŁE","POZOSTAŁE",850,"2.05","SOR"]
["W-034A","Wózek do worków foliowych pojedyńczy 120L z pok","POZOSTAŁE","POZOSTAŁE",880,"2.02.01.01","Anestezjologia"]
["W-034A","Wózek do worków foliowych pojedyńczy 120L z pok","POZOSTAŁE","POZOSTAŁE",880,"2.07.04","DODO -Pracownia Diagnostyczno - Zabiegowa Naczyń"]
["W-034A","Wózek do worków foliowych pojedyńczy 120L z pok","POZOSTAŁE","POZOSTAŁE",880,"2.07.02","DODO -Pracownia Mammografii"]
["W-034A","Wózek do worków foliowych pojedyńczy 120L z pok","POZOSTAŁE","POZOSTAŁE",880,"2.07.06","DODO -Pracownia USG"]
["W-034A","Wózek do worków foliowych pojedyńczy 120L z pok","POZOSTAŁE","POZOSTAŁE",880,"2.07.07","DODO -Pracownia USG Piersi"]
["W-034A","Wózek do worków foliowych pojedyńczy 120L z pok","POZOSTAŁE","POZOSTAŁE",880,"3.03","Dział Centralnej Sterylizatorni i DDD"]
["W-034A","Wózek do worków foliowych pojedyńczy 120L z pok","POZOSTAŁE","POZOSTAŁE",880,"2.02.02","Oddział Angiologiczny z Pododdziałem Diabetologii"]
["W-034A","Wózek do worków foliowych pojedyńczy 120L z pok","POZOSTAŁE","POZOSTAŁE",880,"2.02.05.01","Oddział Chirurgii Ogólnej z Pododdziałami"]
["W-034A","Wózek do worków foliowych pojedyńczy 120L z pok","POZOSTAŁE","POZOSTAŁE",880,"2.02.10","Oddział Kardiologii Dziecięcej z Pododdziałem Kardiochirurgi"]
["W-034A","Wózek do worków foliowych pojedyńczy 120L z pok","POZOSTAŁE","POZOSTAŁE",880,"2.02.11.01","Oddział Nefrologiczny"]
["W-034A","Wózek do worków foliowych pojedyńczy 120L z pok","POZOSTAŁE","POZOSTAŁE",880,"2.02.12","Oddział Neonatologiczny z Pododdziałem Patologii Noworodka"]
["W-034A","Wózek do worków foliowych pojedyńczy 120L z pok","POZOSTAŁE","POZOSTAŁE",880,"2.02.13","Oddział Okulistyczny"]
["W-034A","Wózek do worków foliowych pojedyńczy 120L z pok","POZOSTAŁE","POZOSTAŁE",880,"2.02.15","Oddział Pediatryczny z Pododdziałem Gastroenterologii "]
["W-034A","Wózek do worków foliowych pojedyńczy 120L z pok","POZOSTAŁE","POZOSTAŁE",880,"2.02.08","Oddział Położniczo – Ginekologiczny"]
["W-034A","Wózek do worków foliowych pojedyńczy 120L z pok","POZOSTAŁE","POZOSTAŁE",880,"2.03.06","Poradnia Angiologiczna"]
["W-034A","Wózek do worków foliowych pojedyńczy 120L z pok","POZOSTAŁE","POZOSTAŁE",880,"2.06","Stacja Dializ"]
["W-034B","Wózek do worków foliowych potrójny 120L z pokry","POZOSTAŁE","POZOSTAŁE",1600,"2.07.04","DODO -Pracownia Diagnostyczno - Zabiegowa Naczyń"]
["W-034B","Wózek do worków foliowych potrójny 120L z pokry","POZOSTAŁE","POZOSTAŁE",1600,"2.02.02","Oddział Angiologiczny z Pododdziałem Diabetologii"]
["W-034B","Wózek do worków foliowych potrójny 120L z pokry","POZOSTAŁE","POZOSTAŁE",1600,"2.02.07","Oddział Dermatologiczny"]
["W-034B","Wózek do worków foliowych potrójny 120L z pokry","POZOSTAŁE","POZOSTAŁE",1600,"2.02.11.01","Oddział Nefrologiczny"]
["W-034B","Wózek do worków foliowych potrójny 120L z pokry","POZOSTAŁE","POZOSTAŁE",1600,"2.02.17.01","Oddział Urologii i Urologii Onkologicznej"]
["W-034B","Wózek do worków foliowych potrójny 120L z pokry","POZOSTAŁE","POZOSTAŁE",1600,"2.03.24","Poradnia Urologiczna"]
["W-034B","Wózek do worków foliowych potrójny 120L z pokry","POZOSTAŁE","POZOSTAŁE",1600,"2.02.05.02","Pracownia Endoskopii"]
["W-034C","Wózek do worków foliowych podwójny 120L z pokry","POZOSTAŁE","POZOSTAŁE",1250,"2.02.01.01","Anestezjologia"]
["W-034C","Wózek do worków foliowych podwójny 120L z pokry","POZOSTAŁE","POZOSTAŁE",1250,"2.09","Apteka Szpitalna"]
["W-034C","Wózek do worków foliowych podwójny 120L z pokry","POZOSTAŁE","POZOSTAŁE",1250,"2.07.03","DODO -Pracowania Tomografii Komputerowej"]
["W-034C","Wózek do worków foliowych podwójny 120L z pokry","POZOSTAŁE","POZOSTAŁE",1250,"2.07.01","DODO -Pracownia RTG"]
["W-034C","Wózek do worków foliowych podwójny 120L z pokry","POZOSTAŁE","POZOSTAŁE",1250,"2.02.02","Oddział Angiologiczny z Pododdziałem Diabetologii"]
["W-034C","Wózek do worków foliowych podwójny 120L z pokry","POZOSTAŁE","POZOSTAŁE",1250,"2.02.05.01","Oddział Chirurgii Ogólnej z Pododdziałami"]
["W-034C","Wózek do worków foliowych podwójny 120L z pokry","POZOSTAŁE","POZOSTAŁE",1250,"2.02.09.11","Oddział Kardiologiczny"]
["W-034C","Wózek do worków foliowych podwójny 120L z pokry","POZOSTAŁE","POZOSTAŁE",1250,"2.02.12","Oddział Neonatologiczny z Pododdziałem Patologii Noworodka"]
["W-034C","Wózek do worków foliowych podwójny 120L z pokry","POZOSTAŁE","POZOSTAŁE",1250,"2.03.24","Poradnia Urologiczna"]
["W-034D","Wózek do worków foliowych pojedyńczy 100L z pok","POZOSTAŁE","POZOSTAŁE",770,"2.02.01.01","Anestezjologia"]
["W-034E","Wózek do worków foliowych podwójny 60L z pokryw","POZOSTAŁE","POZOSTAŁE",850,"2.02.01.01","Anestezjologia"]
["W-046","Wózek sklepowy TANGO 160 RC z półką dolną  antr","POZOSTAŁE","POZOSTAŁE",1000,"2.02.01.02","Intensywna Terapia"]
["W-046","Wózek sklepowy TANGO 160 RC z półką dolną  antr","POZOSTAŁE","POZOSTAŁE",1000,"2.02.10","Oddział Kardiologii Dziecięcej z Pododdziałem Kardiochirurgi"]
["W-046A","Wózek sklepowy TANGO 160 RC z półką dolną  antr","POZOSTAŁE","POZOSTAŁE",1000,"2.06","Stacja Dializ"]
["W-046B","Wózek sklepowy D 120RC","POZOSTAŁE","POZOSTAŁE",800,"2.02.14","Oddział Otolaryngologiczny z Pododdziałem Otolaryngologii"]
["W-046B","Wózek sklepowy D 120RC","POZOSTAŁE","POZOSTAŁE",800,"2.02.05.02","Pracownia Endoskopii"]
["W-053","Wieszak na kroplówki","MEBLE MEDYCZNE","MEBLE MEDYCZNE",140.4,"2.02.10","Oddział Kardiologii Dziecięcej z Pododdziałem Kardiochirurgi"]
["W-054F","Wieszak na ubrania","MEBLE","MEBLE",20,"2.03.02","Poradnia Chirurgii Naczyniowej"]
["W-055","Wózek platformowy","POZOSTAŁE","POZOSTAŁE",500,"1.02","Sekretariat"]
["W-055A","Wózek platformowy","POZOSTAŁE","POZOSTAŁE",500,"4.02","Dział Zaopatrzenia i Zamówień Publicznych"]
["W-055B","Wózek platformowy,systemowy z 1burtą siatkową 1","POZOSTAŁE","POZOSTAŁE",500,"2.04.01","Blok Operacyjny"]
["W-087A","Wanna do kontenera 1/1 wysokość 135mm JK442","NARZĘDZIA MEDYCZNE","NARZ. MEDYCZNE",1000,"3.03","Dział Centralnej Sterylizatorni i DDD"]
["W-091","Wózek anestezjologiczny 700x700x890","MEBLE MEDYCZNE","MEBLE MEDYCZNE",2200,"2.02.01.01","Anestezjologia"]
["W-092","Wózek do trasp./składowania koszy/ sterylizacyj","POZOSTAŁE","POZOSTAŁE",1600,"3.03","Dział Centralnej Sterylizatorni i DDD"]
["W-093","Wózek z blatem roboczym [2 półki]","POZOSTAŁE","POZOSTAŁE",2700,"3.03","Dział Centralnej Sterylizatorni i DDD"]
["W-095","Waga osobowa","POZOSTAŁE","POZOSTAŁE",1300,"2.02.09.11","Oddział Kardiologiczny"]
["W-095","Waga osobowa","POZOSTAŁE","POZOSTAŁE",1300,"2.02.15","Oddział Pediatryczny z Pododdziałem Gastroenterologii "]
["W-095","Waga osobowa","POZOSTAŁE","POZOSTAŁE",1300,"2.02.08","Oddział Położniczo – Ginekologiczny"]
["W-095A","Waga osobowa","POZOSTAŁE","POZOSTAŁE",1300,"2.02.13","Oddział Okulistyczny"]
["W-095B","Waga osobowa","POZOSTAŁE","POZOSTAŁE",1300,"2.02.15","Oddział Pediatryczny z Pododdziałem Gastroenterologii "]
["W-095B","Waga osobowa","POZOSTAŁE","POZOSTAŁE",1300,"2.03.01","Poradnia Alergologiczna Dla Dzieci"]
["W-096","Waga stołowa ","POZOSTAŁE","POZOSTAŁE",700,"2.02.12","Oddział Neonatologiczny z Pododdziałem Patologii Noworodka"]
["W-097","Waga niemowlęca","POZOSTAŁE","POZOSTAŁE",870,"2.02.10","Oddział Kardiologii Dziecięcej z Pododdziałem Kardiochirurgi"]
["W-097","Waga niemowlęca","POZOSTAŁE","POZOSTAŁE",870,"2.02.12","Oddział Neonatologiczny z Pododdziałem Patologii Noworodka"]
["W-097","Waga niemowlęca","POZOSTAŁE","POZOSTAŁE",870,"2.02.15","Oddział Pediatryczny z Pododdziałem Gastroenterologii "]
["W-097A","Waga niemowlęca","POZOSTAŁE","POZOSTAŁE",870,"2.02.10","Oddział Kardiologii Dziecięcej z Pododdziałem Kardiochirurgi"]
["W-098","Wózek oddziałowy","POZOSTAŁE","POZOSTAŁE",590.76,"2.02.17.01","Oddział Urologii i Urologii Onkologicznej"]
["W-099","Wysięgnik z uchwtyem ręki  ","POZOSTAŁE","POZOSTAŁE",220,"2.02.17.01","Oddział Urologii i Urologii Onkologicznej"]
["W-104","Wentylator stojący","SPRZĘT AGD","SPRZĘT AGD",120,"3.03","Dział Centralnej Sterylizatorni i DDD"]
["W-109","Wózek opatrunkowy typ SK 6002","MEBLE MEDYCZNE","MEBLE MEDYCZNE",3000,"2.02.01.02","Intensywna Terapia"]
["W-110","Wyposażenie dodatkowe do wózka","POZOSTAŁE","POZOSTAŁE",130,"2.02.01.02","Intensywna Terapia"]
["W-115","Wózek do przewożenia zwłok ZTW","POZOSTAŁE","POZOSTAŁE",3198,"2.02.01.01","Anestezjologia"]
["W-118","Wideolaryngoskop MEDLUME LCD S/N 1883; SL S/N 3","MED. NISK. ŚR. TRW.","MED. NISK. ŚR. TRW.",3229.2,"2.02.01.01","Anestezjologia"]
["W-122","Wieszak listwowy naścienny ze stali nierdzewnej","MEBLE","MEBLE",808,"2.02.01.02","Intensywna Terapia"]
["W-124","Walizka reanimacyjna \"R\" W31","MED. NISK. ŚR. TRW.","MED. NISK. ŚR. TRW.",1188,"2.07.04","DODO -Pracownia Diagnostyczno - Zabiegowa Naczyń"]
["W-124","Walizka reanimacyjna \"R\" W31","MED. NISK. ŚR. TRW.","MED. NISK. ŚR. TRW.",1188,"2.02.02","Oddział Angiologiczny z Pododdziałem Diabetologii"]
["W-124","Walizka reanimacyjna \"R\" W31","MED. NISK. ŚR. TRW.","MED. NISK. ŚR. TRW.",1188,"2.02.03","Oddział Chemioterapii z Pododdziałem Chemioterapii Dziennej"]
["W-124","Walizka reanimacyjna \"R\" W31","MED. NISK. ŚR. TRW.","MED. NISK. ŚR. TRW.",1188,"2.02.04","Oddział Chirurgii Naczyniowej"]
["W-124","Walizka reanimacyjna \"R\" W31","MED. NISK. ŚR. TRW.","MED. NISK. ŚR. TRW.",1188,"2.02.06","Oddział Chirurgii Onkologicznej"]
["W-124","Walizka reanimacyjna \"R\" W31","MED. NISK. ŚR. TRW.","MED. NISK. ŚR. TRW.",1188,"2.02.09.11","Oddział Kardiologiczny"]
["W-124","Walizka reanimacyjna \"R\" W31","MED. NISK. ŚR. TRW.","MED. NISK. ŚR. TRW.",1188,"2.02.10","Oddział Kardiologii Dziecięcej z Pododdziałem Kardiochirurgi"]
["W-124","Walizka reanimacyjna \"R\" W31","MED. NISK. ŚR. TRW.","MED. NISK. ŚR. TRW.",1188,"2.02.11.01","Oddział Nefrologiczny"]
["W-124","Walizka reanimacyjna \"R\" W31","MED. NISK. ŚR. TRW.","MED. NISK. ŚR. TRW.",1188,"2.02.12","Oddział Neonatologiczny z Pododdziałem Patologii Noworodka"]
["W-124","Walizka reanimacyjna \"R\" W31","MED. NISK. ŚR. TRW.","MED. NISK. ŚR. TRW.",1188,"2.02.13","Oddział Okulistyczny"]
["W-124","Walizka reanimacyjna \"R\" W31","MED. NISK. ŚR. TRW.","MED. NISK. ŚR. TRW.",1188,"2.02.14","Oddział Otolaryngologiczny z Pododdziałem Otolaryngologii"]
["W-124","Walizka reanimacyjna \"R\" W31","MED. NISK. ŚR. TRW.","MED. NISK. ŚR. TRW.",1188,"2.02.15","Oddział Pediatryczny z Pododdziałem Gastroenterologii "]
["W-124","Walizka reanimacyjna \"R\" W31","MED. NISK. ŚR. TRW.","MED. NISK. ŚR. TRW.",1188,"2.02.08","Oddział Położniczo – Ginekologiczny"]
["W-124","Walizka reanimacyjna \"R\" W31","MED. NISK. ŚR. TRW.","MED. NISK. ŚR. TRW.",1188,"2.02.17.01","Oddział Urologii i Urologii Onkologicznej"]
["W-124","Walizka reanimacyjna \"R\" W31","MED. NISK. ŚR. TRW.","MED. NISK. ŚR. TRW.",1188,"2.03.06","Poradnia Angiologiczna"]
["W-124","Walizka reanimacyjna \"R\" W31","MED. NISK. ŚR. TRW.","MED. NISK. ŚR. TRW.",1188,"2.03.03","Poradnia Chirurgii Ogólnej"]
["W-124","Walizka reanimacyjna \"R\" W31","MED. NISK. ŚR. TRW.","MED. NISK. ŚR. TRW.",1188,"2.03.04","Poradnia Chirurgii Onkologicznej"]
["W-124","Walizka reanimacyjna \"R\" W31","MED. NISK. ŚR. TRW.","MED. NISK. ŚR. TRW.",1188,"2.03.07","Poradnia Dermatologiczna"]
["W-124","Walizka reanimacyjna \"R\" W31","MED. NISK. ŚR. TRW.","MED. NISK. ŚR. TRW.",1188,"2.03.12","Poradnia Kardiologiczna dla Dzieci"]
["W-124","Walizka reanimacyjna \"R\" W31","MED. NISK. ŚR. TRW.","MED. NISK. ŚR. TRW.",1188,"2.03.15","Poradnia Nefrologiczna"]
["W-124","Walizka reanimacyjna \"R\" W31","MED. NISK. ŚR. TRW.","MED. NISK. ŚR. TRW.",1188,"2.03.17","Poradnia Neurochirurgiczna"]
["W-124","Walizka reanimacyjna \"R\" W31","MED. NISK. ŚR. TRW.","MED. NISK. ŚR. TRW.",1188,"2.03.18","Poradnia Neurologiczna"]
["W-124","Walizka reanimacyjna \"R\" W31","MED. NISK. ŚR. TRW.","MED. NISK. ŚR. TRW.",1188,"2.03.19","Poradnia Okulistyczna"]
["W-124","Walizka reanimacyjna \"R\" W31","MED. NISK. ŚR. TRW.","MED. NISK. ŚR. TRW.",1188,"2.03.24","Poradnia Urologiczna"]
["W-124","Walizka reanimacyjna \"R\" W31","MED. NISK. ŚR. TRW.","MED. NISK. ŚR. TRW.",1188,"2.02.05.02","Pracownia Endoskopii"]
["W-124","Walizka reanimacyjna \"R\" W31","MED. NISK. ŚR. TRW.","MED. NISK. ŚR. TRW.",1188,"2.05","SOR"]
["W-124","Walizka reanimacyjna \"R\" W31","MED. NISK. ŚR. TRW.","MED. NISK. ŚR. TRW.",1188,"2.06","Stacja Dializ"]
["W-124","Walizka reanimacyjna \"R\" W31","MED. NISK. ŚR. TRW.","MED. NISK. ŚR. TRW.",1188,"2.04.03","Zamiejscowy Blok Operacyjny"]
["W-124","Walizka reanimacyjna \"R\" W31","MED. NISK. ŚR. TRW.","MED. NISK. ŚR. TRW.",1188,"2.02.18","Zamiejscowy Oddział Chirurgii Urazowo - Ortopedycznej"]
["W-124","Walizka reanimacyjna \"R\" W31","MED. NISK. ŚR. TRW.","MED. NISK. ŚR. TRW.",1188,"2.02.19","Zamiejscowy Oddział Rehabilitacji Neurologicznej"]
["W-124","Walizka reanimacyjna \"R\" W31","MED. NISK. ŚR. TRW.","MED. NISK. ŚR. TRW.",1188,"2.02.20","Zamiejscowy Oddział Rehabilitacji Ogólnoustrojowej I"]
["W-124","Walizka reanimacyjna \"R\" W31","MED. NISK. ŚR. TRW.","MED. NISK. ŚR. TRW.",1188,"2.02.21","Zamiejscowy Oddział Rehabilitacji Ogólnoustrojowej II"]
["W-133","Wózek na leki","MEBLE MEDYCZNE","MEBLE MEDYCZNE",700,"2.02.09.11","Oddział Kardiologiczny"]
["W-134","Wózek na walizkę reanimacyjną","MEBLE MEDYCZNE","MEBLE MEDYCZNE",404,"2.02.09.11","Oddział Kardiologiczny"]
["W-134","Wózek na walizkę reanimacyjną","MEBLE MEDYCZNE","MEBLE MEDYCZNE",404,"2.02.17.01","Oddział Urologii i Urologii Onkologicznej"]
["W-134","Wózek na walizkę reanimacyjną","MEBLE MEDYCZNE","MEBLE MEDYCZNE",404,"2.06","Stacja Dializ"]
["W-198","Wózek medyczny-SCH03","MED. NISK. ŚR. TRW.","MED. NISK. ŚR. TRW.",934.8,"2.02.18","Zamiejscowy Oddział Chirurgii Urazowo - Ortopedycznej"]
["W-199A","Waga kuchenna  WK280S inox","SPRZĘT AGD","SPRZĘT AGD",700,"2.02.10","Oddział Kardiologii Dziecięcej z Pododdziałem Kardiochirurgi"]
["W-199B","Waga elektroniczna SECA 799 ze wzrostomierzem S","POZOSTAŁE","POZOSTAŁE",700,"2.02.10","Oddział Kardiologii Dziecięcej z Pododdziałem Kardiochirurgi"]
["W-203","Wieszak z lustrem 60X107X200","MEBLE","MEBLE",100,"3.02.02.01","Hotel Pracowniczy"]
["W-203","Wieszak z lustrem 60X107X200","MEBLE","MEBLE",100,"2.06","Stacja Dializ"]
["W-203A","Wieszak z lustrem 60X108X200 \"GRZEŚ\"- Jabłoń","MEBLE","MEBLE",100,"3.02.02.01","Hotel Pracowniczy"]
["Z-048B","Zacisk Buldog DIEFFENBACH zakrz.58mm BH027R","NARZĘDZIA MEDYCZNE","NARZ. MEDYCZNE",90,"2.04.01","Blok Operacyjny"]
["Z-048C","Zacisk Buldog DIEFFENBACH prosty.58mm BH026R","NARZĘDZIA MEDYCZNE","NARZ. MEDYCZNE",90,"2.04.01","Blok Operacyjny"]
["Z-050","Zasilacz UPS PowerSine SP 1500","MED. NISK. ŚR. TRW.","MED. NISK. ŚR. TRW.",1476,"2.02.13","Oddział Okulistyczny"]
["Z-051A","Zabudowa wnęki 144X29X278h","MEBLE","MEBLE",725.7,"2.05","SOR"]
["Z-051B","Zabudowa pod zlew","MEBLE","MEBLE",725.7,"2.02.10","Oddział Kardiologii Dziecięcej z Pododdziałem Kardiochirurgi"]
["Z-051C","Zabudowa pod zlew","MEBLE","MEBLE",725.7,"2.02.10","Oddział Kardiologii Dziecięcej z Pododdziałem Kardiochirurgi"]
["Z-057A","Zacisk  Buldog Johns-Hopkins 38mm BH011R","NARZĘDZIA MEDYCZNE","NARZ. MEDYCZNE",60,"2.04.01","Blok Operacyjny"]
["Z-057C","Zacisk  Buldog DE'BAKEY atr.proste 30/90mm   FB","NARZĘDZIA MEDYCZNE","NARZ. MEDYCZNE",60,"2.04.01","Blok Operacyjny"]
["Z-057E","Zacisk  Buldog DE'BAKEY atr.zakrzyw. 25/80mm","NARZĘDZIA MEDYCZNE","NARZ. MEDYCZNE",60,"2.04.01","Blok Operacyjny"]
["Z-057F","Zacisk  Buldog DE'BAKEY atr.zakrzyw. 30/90mm","NARZĘDZIA MEDYCZNE","NARZ. MEDYCZNE",60,"2.04.01","Blok Operacyjny"]
["Z-057G","Zacisk  Buldog DE'BAKEY-HESS odg.20mm BH030R","NARZĘDZIA MEDYCZNE","NARZ. MEDYCZNE",60,"2.04.01","Blok Operacyjny"]
["Z-057I","Zacisk  Buldog JOHNS-HOPKINS 56mm BH013R","NARZĘDZIA MEDYCZNE","NARZ. MEDYCZNE",60,"2.04.01","Blok Operacyjny"]
["Z-066","Zbieracz brudnej bielizny-potrójny model MS365","POZOSTAŁE","POZOSTAŁE",2300,"2.04.01","Blok Operacyjny"]
["Z-079","Zestaw pozycjonerów pacjenta [skóropodobny] 11s","MATERIAŁY DO REHABILITACJI","MATERIAŁY DO REHABILITACJI",1600,"2.07.01","DODO -Pracownia RTG"]
["Z-116","Zestaw głośnomówiący HF 210 SAM NOKIA","POZOSTAŁE","POZOSTAŁE",140,"4.02","Dział Zaopatrzenia i Zamówień Publicznych"]
["Z-118","Zestaw ratunkowy CPAP Boussignac w walizce [DIN","MED. NISK. ŚR. TRW.","MED. NISK. ŚR. TRW.",1700,"2.02.09.11","Oddział Kardiologiczny"]
["Z-121","Zacisk opatrunkowy do papier.opatrunkow. 115mm","NARZĘDZIA MEDYCZNE","NARZ. MEDYCZNE",136,"2.04.01","Blok Operacyjny"]
["Z-122","Zacisk opatrunkowy BACKHAUS 110mm BF432R","NARZĘDZIA MEDYCZNE","NARZ. MEDYCZNE",100,"2.04.01","Blok Operacyjny"]
["Z-122A","Zacisk opatrunkowy BACKHAUS 90mm BF431R","NARZĘDZIA MEDYCZNE","NARZ. MEDYCZNE",100,"2.04.01","Blok Operacyjny"]
["Z-122B","Zacisk opatrunkowy BACKHAUS 135mm BF433R","NARZĘDZIA MEDYCZNE","NARZ. MEDYCZNE",100,"2.04.01","Blok Operacyjny"]
["Z-123","Zacisk naczyniowy atraumatyczny COOLEY 175mm FB","NARZĘDZIA MEDYCZNE","NARZ. MEDYCZNE",870,"2.04.01","Blok Operacyjny"]
["Z-124","Zacisk nerkowy STILLE 220mm WZ.AMER. EF016R","NARZĘDZIA MEDYCZNE","NARZ. MEDYCZNE",560,"2.04.01","Blok Operacyjny"]
["Z-126","Zacisk atraumatyczny obwodu naczyniowego DE'BAK","NARZĘDZIA MEDYCZNE","NARZ. MEDYCZNE",730,"2.04.01","Blok Operacyjny"]
["Z-129","Zestaw resuscytacyjny dla dzieci AERObag HBBO5-","MED. NISK. ŚR. TRW.","MED. NISK. ŚR. TRW.",320,"2.02.12","Oddział Neonatologiczny z Pododdziałem Patologii Noworodka"]
["Z-131","Zamrażarka,196 -Severin KS 9799","SPRZĘT AGD","SPRZĘT AGD",1499,"2.04.01","Blok Operacyjny"]
["Ż-014","Żelazko z nawilżaczem","SPRZĘT AGD","SPRZĘT AGD",339,"3.02.04","SekcjaGospodarcza i Obsługa (cześć wspólna)"]

{"sheet":"nisk_baza robocza","index":12,"n_rows":505,"n_cols":10,"rows_kept":505,"cut":false,"hidden":true,"merged":[]}
[null,1,null,null,null,null,null,"X","Intensywna Terapia"]
[{"$f":"'baza nisk'!A2","v":"INDEKS"},{"$f":"'baza nisk'!B2","v":"NAZWA INDEKSU"},{"$f":"'baza nisk'!C2","v":"KLASA 2"},{"$f":"'baza nisk'!D2","v":"KLASA 2"},{"$f":"'baza nisk'!E2","v":"CENA (ŚREDNIA)"},{"$f":"'baza nisk'!F2","v":"MPK [POZYCJA]"},{"$f":"'baza nisk'!G2","v":"MPK NAZWA"},"FILTR"]
[{"$f":"'baza nisk'!#REF!","v":{"$error":"#REF!"}},{"$f":"'baza nisk'!#REF!","v":{"$error":"#REF!"}},{"$f":"'baza nisk'!#REF!","v":{"$error":"#REF!"}},{"$f":"'baza nisk'!#REF!","v":{"$error":"#REF!"}},{"$f":"'baza nisk'!#REF!","v":{"$error":"#REF!"}},{"$f":"'baza nisk'!#REF!","v":{"$error":"#REF!"}},"Anestezjologia",{"$f":"IF($I$1=G3,$I$1,\"\")","v":""}]
[{"$f":"'baza nisk'!#REF!","v":{"$error":"#REF!"}},{"$f":"'baza nisk'!#REF!","v":{"$error":"#REF!"}},{"$f":"'baza nisk'!#REF!","v":{"$error":"#REF!"}},{"$f":"'baza nisk'!#REF!","v":{"$error":"#REF!"}},{"$f":"'baza nisk'!#REF!","v":{"$error":"#REF!"}},{"$f":"'baza nisk'!#REF!","v":{"$error":"#REF!"}},"Anestezjologia","",null,"ujednolicicć nazwy z nazwami w OPZ"]
[{"$f":"'baza nisk'!#REF!","v":{"$error":"#REF!"}},{"$f":"'baza nisk'!#REF!","v":{"$error":"#REF!"}},{"$f":"'baza nisk'!#REF!","v":{"$error":"#REF!"}},{"$f":"'baza nisk'!#REF!","v":{"$error":"#REF!"}},{"$f":"'baza nisk'!#REF!","v":{"$error":"#REF!"}},{"$f":"'baza nisk'!#REF!","v":{"$error":"#REF!"}},"Anestezjologia",""]
[{"$f":"'baza nisk'!#REF!","v":{"$error":"#REF!"}},{"$f":"'baza nisk'!#REF!","v":{"$error":"#REF!"}},{"$f":"'baza nisk'!#REF!","v":{"$error":"#REF!"}},{"$f":"'baza nisk'!#REF!","v":{"$error":"#REF!"}},{"$f":"'baza nisk'!#REF!","v":{"$error":"#REF!"}},{"$f":"'baza nisk'!#REF!","v":{"$error":"#REF!"}},"Anestezjologia",""]
[{"$f":"'baza nisk'!#REF!","v":{"$error":"#REF!"}},{"$f":"'baza nisk'!#REF!","v":{"$error":"#REF!"}},{"$f":"'baza nisk'!#REF!","v":{"$error":"#REF!"}},{"$f":"'baza nisk'!#REF!","v":{"$error":"#REF!"}},{"$f":"'baza nisk'!#REF!","v":{"$error":"#REF!"}},{"$f":"'baza nisk'!#REF!","v":{"$error":"#REF!"}},"Anestezjologia",""]
[{"$f":"'baza nisk'!A3","v":"A-013"},{"$f":"'baza nisk'!B3","v":"Aparat do mierzenia ciśnienia zegarowy"},{"$f":"'baza nisk'!C3","v":"MED. NISK. ŚR. TRW."},{"$f":"'baza nisk'!D3","v":"MED. NISK. ŚR. TRW."},{"$f":"'baza nisk'!E3","v":50},{"$f":"'baza nisk'!F3","v":"2.02.05.01"},"Anestezjologia",""]
[{"$f":"'baza nisk'!A4","v":"A-013"},{"$f":"'baza nisk'!B4","v":"Aparat do mierzenia ciśnienia zegarowy"},{"$f":"'baza nisk'!C4","v":"MED. NISK. ŚR. TRW."},{"$f":"'baza nisk'!D4","v":"MED. NISK. ŚR. TRW."},{"$f":"'baza nisk'!E4","v":50},{"$f":"'baza nisk'!F4","v":"2.02.09.11"},"Anestezjologia",""]
[{"$f":"'baza nisk'!A5","v":"A-013"},{"$f":"'baza nisk'!B5","v":"Aparat do mierzenia ciśnienia zegarowy"},{"$f":"'baza nisk'!C5","v":"MED. NISK. ŚR. TRW."},{"$f":"'baza nisk'!D5","v":"MED. NISK. ŚR. TRW."},{"$f":"'baza nisk'!E5","v":50},{"$f":"'baza nisk'!F5","v":"2.02.10"},"Anestezjologia",""]
[{"$f":"'baza nisk'!#REF!","v":{"$error":"#REF!"}},{"$f":"'baza nisk'!#REF!","v":{"$error":"#REF!"}},{"$f":"'baza nisk'!#REF!","v":{"$error":"#REF!"}},{"$f":"'baza nisk'!#REF!","v":{"$error":"#REF!"}},{"$f":"'baza nisk'!#REF!","v":{"$error":"#REF!"}},{"$f":"'baza nisk'!#REF!","v":{"$error":"#REF!"}},"Anestezjologia",""]
[{"$f":"'baza nisk'!A6","v":"A-013"},{"$f":"'baza nisk'!B6","v":"Aparat do mierzenia ciśnienia zegarowy"},{"$f":"'baza nisk'!C6","v":"MED. NISK. ŚR. TRW."},{"$f":"'baza nisk'!D6","v":"MED. NISK. ŚR. TRW."},{"$f":"'baza nisk'!E6","v":50},{"$f":"'baza nisk'!F6","v":"2.02.11.01"},"Anestezjologia",""]
[{"$f":"'baza nisk'!A7","v":"A-013"},{"$f":"'baza nisk'!B7","v":"Aparat do mierzenia ciśnienia zegarowy"},{"$f":"'baza nisk'!C7","v":"MED. NISK. ŚR. TRW."},{"$f":"'baza nisk'!D7","v":"MED. NISK. ŚR. TRW."},{"$f":"'baza nisk'!E7","v":50},{"$f":"'baza nisk'!F7","v":"2.02.14"},"Anestezjologia",""]
[{"$f":"'baza nisk'!A8","v":"A-013"},{"$f":"'baza nisk'!B8","v":"Aparat do mierzenia ciśnienia zegarowy"},{"$f":"'baza nisk'!C8","v":"MED. NISK. ŚR. TRW."},{"$f":"'baza nisk'!D8","v":"MED. NISK. ŚR. TRW."},{"$f":"'baza nisk'!E8","v":50},{"$f":"'baza nisk'!F8","v":"2.02.17.01"},"Anestezjologia",""]
[{"$f":"'baza nisk'!A9","v":"A-013"},{"$f":"'baza nisk'!B9","v":"Aparat do mierzenia ciśnienia zegarowy"},{"$f":"'baza nisk'!C9","v":"MED. NISK. ŚR. TRW."},{"$f":"'baza nisk'!D9","v":"MED. NISK. ŚR. TRW."},{"$f":"'baza nisk'!E9","v":50},{"$f":"'baza nisk'!F9","v":"2.03.12"},"Anestezjologia",""]
[{"$f":"'baza nisk'!A10","v":"A-013"},{"$f":"'baza nisk'!B10","v":"Aparat do mierzenia ciśnienia zegarowy"},{"$f":"'baza nisk'!C10","v":"MED. NISK. ŚR. TRW."},{"$f":"'baza nisk'!D10","v":"MED. NISK. ŚR. TRW."},{"$f":"'baza nisk'!E10","v":50},{"$f":"'baza nisk'!F10","v":"2.03.17"},"Biblioteka",{"$f":"IF($I$1=G16,$I$1,\"\")","v":""}]
[{"$f":"'baza nisk'!A11","v":"A-013"},{"$f":"'baza nisk'!B11","v":"Aparat do mierzenia ciśnienia zegarowy"},{"$f":"'baza nisk'!C11","v":"MED. NISK. ŚR. TRW."},{"$f":"'baza nisk'!D11","v":"MED. NISK. ŚR. TRW."},{"$f":"'baza nisk'!E11","v":50},{"$f":"'baza nisk'!F11","v":"2.03.18"},"Biblioteka",""]
[{"$f":"'baza nisk'!A12","v":"A-013"},{"$f":"'baza nisk'!B12","v":"Aparat do mierzenia ciśnienia zegarowy"},{"$f":"'baza nisk'!C12","v":"MED. NISK. ŚR. TRW."},{"$f":"'baza nisk'!D12","v":"MED. NISK. ŚR. TRW."},{"$f":"'baza nisk'!E12","v":50},{"$f":"'baza nisk'!F12","v":"2.03.19"},"Biblioteka",""]
[{"$f":"'baza nisk'!A13","v":"A-013"},{"$f":"'baza nisk'!B13","v":"Aparat do mierzenia ciśnienia zegarowy"},{"$f":"'baza nisk'!C13","v":"MED. NISK. ŚR. TRW."},{"$f":"'baza nisk'!D13","v":"MED. NISK. ŚR. TRW."},{"$f":"'baza nisk'!E13","v":50},{"$f":"'baza nisk'!F13","v":"2.03.22"},"Blok Operacyjny",""]
[{"$f":"'baza nisk'!A14","v":"A-013"},{"$f":"'baza nisk'!B14","v":"Aparat do mierzenia ciśnienia zegarowy"},{"$f":"'baza nisk'!C14","v":"MED. NISK. ŚR. TRW."},{"$f":"'baza nisk'!D14","v":"MED. NISK. ŚR. TRW."},{"$f":"'baza nisk'!E14","v":50},{"$f":"'baza nisk'!F14","v":"2.05"},{"$f":"'baza nisk'!G14","v":"SOR"},""]
[{"$f":"'baza nisk'!A15","v":"A-013"},{"$f":"'baza nisk'!B15","v":"Aparat do mierzenia ciśnienia zegarowy"},{"$f":"'baza nisk'!C15","v":"MED. NISK. ŚR. TRW."},{"$f":"'baza nisk'!D15","v":"MED. NISK. ŚR. TRW."},{"$f":"'baza nisk'!E15","v":50},{"$f":"'baza nisk'!F15","v":"2.06"},{"$f":"'baza nisk'!G15","v":"Stacja Dializ"},""]
[{"$f":"'baza nisk'!A16","v":"A-013"},{"$f":"'baza nisk'!B16","v":"Aparat do mierzenia ciśnienia zegarowy"},{"$f":"'baza nisk'!C16","v":"MED. NISK. ŚR. TRW."},{"$f":"'baza nisk'!D16","v":"MED. NISK. ŚR. TRW."},{"$f":"'baza nisk'!E16","v":50},{"$f":"'baza nisk'!F16","v":"6.03"},{"$f":"'baza nisk'!G16","v":"Zamiejscowy Dział Rehabilitacji Leczniczej"},""]
[{"$f":"'baza nisk'!A17","v":"A-013"},{"$f":"'baza nisk'!B17","v":"Aparat do mierzenia ciśnienia zegarowy"},{"$f":"'baza nisk'!C17","v":"MED. NISK. ŚR. TRW."},{"$f":"'baza nisk'!D17","v":"MED. NISK. ŚR. TRW."},{"$f":"'baza nisk'!E17","v":50},{"$f":"'baza nisk'!F17","v":"2.02.18"},{"$f":"'baza nisk'!G17","v":"Zamiejscowy Oddział Chirurgii Urazowo - Ortopedycznej"},""]
[{"$f":"'baza nisk'!A18","v":"A-013"},{"$f":"'baza nisk'!B18","v":"Aparat do mierzenia ciśnienia zegarowy"},{"$f":"'baza nisk'!C18","v":"MED. NISK. ŚR. TRW."},{"$f":"'baza nisk'!D18","v":"MED. NISK. ŚR. TRW."},{"$f":"'baza nisk'!E18","v":50},{"$f":"'baza nisk'!F18","v":"2.02.19"},{"$f":"'baza nisk'!G18","v":"Zamiejscowy Oddział Rehabilitacji Neurologicznej"},""]
[{"$f":"'baza nisk'!A19","v":"A-013"},{"$f":"'baza nisk'!B19","v":"Aparat do mierzenia ciśnienia zegarowy"},{"$f":"'baza nisk'!C19","v":"MED. NISK. ŚR. TRW."},{"$f":"'baza nisk'!D19","v":"MED. NISK. ŚR. TRW."},{"$f":"'baza nisk'!E19","v":50},{"$f":"'baza nisk'!F19","v":"2.02.20"},{"$f":"'baza nisk'!G19","v":"Zamiejscowy Oddział Rehabilitacji Ogólnoustrojowej I"},""]
[{"$f":"'baza nisk'!A20","v":"A-013"},{"$f":"'baza nisk'!B20","v":"Aparat do mierzenia ciśnienia zegarowy"},{"$f":"'baza nisk'!C20","v":"MED. NISK. ŚR. TRW."},{"$f":"'baza nisk'!D20","v":"MED. NISK. ŚR. TRW."},{"$f":"'baza nisk'!E20","v":50},{"$f":"'baza nisk'!F20","v":"2.02.21"},{"$f":"'baza nisk'!G20","v":"Zamiejscowy Oddział Rehabilitacji Ogólnoustrojowej II"},""]
[{"$f":"'baza nisk'!A21","v":"A-013D"},{"$f":"'baza nisk'!B21","v":"Aparat do mierzenie ciśnienia elektroniczny "},{"$f":"'baza nisk'!C21","v":"MED. NISK. ŚR. TRW."},{"$f":"'baza nisk'!D21","v":"MED. NISK. ŚR. TRW."},{"$f":"'baza nisk'!E21","v":200},{"$f":"'baza nisk'!F21","v":"2.02.05.01"},{"$f":"'baza nisk'!G21","v":"Oddział Chirurgii Ogólnej z Pododdziałami"},""]
[{"$f":"'baza nisk'!A22","v":"A-013D"},{"$f":"'baza nisk'!B22","v":"Aparat do mierzenie ciśnienia elektroniczny "},{"$f":"'baza nisk'!C22","v":"MED. NISK. ŚR. TRW."},{"$f":"'baza nisk'!D22","v":"MED. NISK. ŚR. TRW."},{"$f":"'baza nisk'!E22","v":200},{"$f":"'baza nisk'!F22","v":"2.02.07"},{"$f":"'baza nisk'!G22","v":"Oddział Dermatologiczny"},""]
[{"$f":"'baza nisk'!A23","v":"A-013D"},{"$f":"'baza nisk'!B23","v":"Aparat do mierzenie ciśnienia elektroniczny "},{"$f":"'baza nisk'!C23","v":"MED. NISK. ŚR. TRW."},{"$f":"'baza nisk'!D23","v":"MED. NISK. ŚR. TRW."},{"$f":"'baza nisk'!E23","v":200},{"$f":"'baza nisk'!F23","v":"2.02.08"},{"$f":"'baza nisk'!G23","v":"Oddział Położniczo – Ginekologiczny"},""]
[{"$f":"'baza nisk'!A24","v":"A-013D"},{"$f":"'baza nisk'!B24","v":"Aparat do mierzenie ciśnienia elektroniczny "},{"$f":"'baza nisk'!C24","v":"MED. NISK. ŚR. TRW."},{"$f":"'baza nisk'!D24","v":"MED. NISK. ŚR. TRW."},{"$f":"'baza nisk'!E24","v":200},{"$f":"'baza nisk'!F24","v":"2.03.08"},{"$f":"'baza nisk'!G24","v":"Poradnia Gastroenterologiczna Dla Dzieci"},""]
[{"$f":"'baza nisk'!A25","v":"A-013D"},{"$f":"'baza nisk'!B25","v":"Aparat do mierzenie ciśnienia elektroniczny "},{"$f":"'baza nisk'!C25","v":"MED. NISK. ŚR. TRW."},{"$f":"'baza nisk'!D25","v":"MED. NISK. ŚR. TRW."},{"$f":"'baza nisk'!E25","v":200},{"$f":"'baza nisk'!F25","v":"2.06"},{"$f":"'baza nisk'!G25","v":"Stacja Dializ"},""]
[{"$f":"'baza nisk'!A26","v":"A-013D"},{"$f":"'baza nisk'!B26","v":"Aparat do mierzenie ciśnienia elektroniczny "},{"$f":"'baza nisk'!C26","v":"MED. NISK. ŚR. TRW."},{"$f":"'baza nisk'!D26","v":"MED. NISK. ŚR. TRW."},{"$f":"'baza nisk'!E26","v":200},{"$f":"'baza nisk'!F26","v":"2.02.19"},{"$f":"'baza nisk'!G26","v":"Zamiejscowy Oddział Rehabilitacji Neurologicznej"},""]
[{"$f":"'baza nisk'!A27","v":"A-013E"},{"$f":"'baza nisk'!B27","v":"Aparat do mierzenie ciśnienia elektroniczny "},{"$f":"'baza nisk'!C27","v":"MED. NISK. ŚR. TRW."},{"$f":"'baza nisk'!D27","v":"MED. NISK. ŚR. TRW."},{"$f":"'baza nisk'!E27","v":200},{"$f":"'baza nisk'!F27","v":"2.02.10"},{"$f":"'baza nisk'!G27","v":"Oddział Kardiologii Dziecięcej z Pododdziałem Kardiochirurgi"},""]
[{"$f":"'baza nisk'!A28","v":"A-013E"},{"$f":"'baza nisk'!B28","v":"Aparat do mierzenie ciśnienia elektroniczny "},{"$f":"'baza nisk'!C28","v":"MED. NISK. ŚR. TRW."},{"$f":"'baza nisk'!D28","v":"MED. NISK. ŚR. TRW."},{"$f":"'baza nisk'!E28","v":200},{"$f":"'baza nisk'!F28","v":"2.03.12"},{"$f":"'baza nisk'!G28","v":"Poradnia Kardiologiczna dla Dzieci"},""]
[{"$f":"'baza nisk'!A29","v":"A-013F"},{"$f":"'baza nisk'!B29","v":"Aparat do mierzenie ciśnienia elektroniczny "},{"$f":"'baza nisk'!C29","v":"MED. NISK. ŚR. TRW."},{"$f":"'baza nisk'!D29","v":"MED. NISK. ŚR. TRW."},{"$f":"'baza nisk'!E29","v":200},{"$f":"'baza nisk'!F29","v":"2.02.19"},{"$f":"'baza nisk'!G29","v":"Zamiejscowy Oddział Rehabilitacji Neurologicznej"},""]
[{"$f":"'baza nisk'!A30","v":"A-013G"},{"$f":"'baza nisk'!B30","v":"Aparat do mierzenie ciśnienia elektroniczny "},{"$f":"'baza nisk'!C30","v":"MED. NISK. ŚR. TRW."},{"$f":"'baza nisk'!D30","v":"MED. NISK. ŚR. TRW."},{"$f":"'baza nisk'!E30","v":200},{"$f":"'baza nisk'!F30","v":"2.02.02"},{"$f":"'baza nisk'!G30","v":"Oddział Angiologiczny z Pododdziałem Diabetologii"},""]
[{"$f":"'baza nisk'!A31","v":"A-013G"},{"$f":"'baza nisk'!B31","v":"Aparat do mierzenie ciśnienia elektroniczny "},{"$f":"'baza nisk'!C31","v":"MED. NISK. ŚR. TRW."},{"$f":"'baza nisk'!D31","v":"MED. NISK. ŚR. TRW."},{"$f":"'baza nisk'!E31","v":200},{"$f":"'baza nisk'!F31","v":"2.02.03"},{"$f":"'baza nisk'!G31","v":"Oddział Chemioterapii z Pododdziałem Chemioterapii Dziennej"},""]
[{"$f":"'baza nisk'!A32","v":"A-013G"},{"$f":"'baza nisk'!B32","v":"Aparat do mierzenie ciśnienia elektroniczny "},{"$f":"'baza nisk'!C32","v":"MED. NISK. ŚR. TRW."},{"$f":"'baza nisk'!D32","v":"MED. NISK. ŚR. TRW."},{"$f":"'baza nisk'!E32","v":200},{"$f":"'baza nisk'!F32","v":"2.02.04"},{"$f":"'baza nisk'!G32","v":"Oddział Chirurgii Naczyniowej"},""]
[{"$f":"'baza nisk'!A33","v":"A-013G"},{"$f":"'baza nisk'!B33","v":"Aparat do mierzenie ciśnienia elektroniczny "},{"$f":"'baza nisk'!C33","v":"MED. NISK. ŚR. TRW."},{"$f":"'baza nisk'!D33","v":"MED. NISK. ŚR. TRW."},{"$f":"'baza nisk'!E33","v":200},{"$f":"'baza nisk'!F33","v":"2.02.06"},{"$f":"'baza nisk'!G33","v":"Oddział Chirurgii Onkologicznej"},""]
[{"$f":"'baza nisk'!A34","v":"A-013G"},{"$f":"'baza nisk'!B34","v":"Aparat do mierzenie ciśnienia elektroniczny "},{"$f":"'baza nisk'!C34","v":"MED. NISK. ŚR. TRW."},{"$f":"'baza nisk'!D34","v":"MED. NISK. ŚR. TRW."},{"$f":"'baza nisk'!E34","v":200},{"$f":"'baza nisk'!F34","v":"2.02.11.01"},{"$f":"'baza nisk'!G34","v":"Oddział Nefrologiczny"},""]
[{"$f":"'baza nisk'!A35","v":"A-013G"},{"$f":"'baza nisk'!B35","v":"Aparat do mierzenie ciśnienia elektroniczny "},{"$f":"'baza nisk'!C35","v":"MED. NISK. ŚR. TRW."},{"$f":"'baza nisk'!D35","v":"MED. NISK. ŚR. TRW."},{"$f":"'baza nisk'!E35","v":200},{"$f":"'baza nisk'!F35","v":"2.02.17.01"},{"$f":"'baza nisk'!G35","v":"Oddział Urologii i Urologii Onkologicznej"},""]
[{"$f":"'baza nisk'!A36","v":"A-013G"},{"$f":"'baza nisk'!B36","v":"Aparat do mierzenie ciśnienia elektroniczny "},{"$f":"'baza nisk'!C36","v":"MED. NISK. ŚR. TRW."},{"$f":"'baza nisk'!D36","v":"MED. NISK. ŚR. TRW."},{"$f":"'baza nisk'!E36","v":200},{"$f":"'baza nisk'!F36","v":"2.03.20"},{"$f":"'baza nisk'!G36","v":"Poradnia Onkologiczna"},""]
[{"$f":"'baza nisk'!A37","v":"A-013G"},{"$f":"'baza nisk'!B37","v":"Aparat do mierzenie ciśnienia elektroniczny "},{"$f":"'baza nisk'!C37","v":"MED. NISK. ŚR. TRW."},{"$f":"'baza nisk'!D37","v":"MED. NISK. ŚR. TRW."},{"$f":"'baza nisk'!E37","v":200},{"$f":"'baza nisk'!F37","v":"2.03.24"},{"$f":"'baza nisk'!G37","v":"Poradnia Urologiczna"},""]
[{"$f":"'baza nisk'!A38","v":"A-013G"},{"$f":"'baza nisk'!B38","v":"Aparat do mierzenie ciśnienia elektroniczny "},{"$f":"'baza nisk'!C38","v":"MED. NISK. ŚR. TRW."},{"$f":"'baza nisk'!D38","v":"MED. NISK. ŚR. TRW."},{"$f":"'baza nisk'!E38","v":200},{"$f":"'baza nisk'!F38","v":"2.02.19"},{"$f":"'baza nisk'!G38","v":"Zamiejscowy Oddział Rehabilitacji Neurologicznej"},""]
[{"$f":"'baza nisk'!A39","v":"A-013G"},{"$f":"'baza nisk'!B39","v":"Aparat do mierzenie ciśnienia elektroniczny "},{"$f":"'baza nisk'!C39","v":"MED. NISK. ŚR. TRW."},{"$f":"'baza nisk'!D39","v":"MED. NISK. ŚR. TRW."},{"$f":"'baza nisk'!E39","v":200},{"$f":"'baza nisk'!F39","v":"2.02.20"},{"$f":"'baza nisk'!G39","v":"Zamiejscowy Oddział Rehabilitacji Ogólnoustrojowej I"},""]
[{"$f":"'baza nisk'!A40","v":"A-013G"},{"$f":"'baza nisk'!B40","v":"Aparat do mierzenie ciśnienia elektroniczny "},{"$f":"'baza nisk'!C40","v":"MED. NISK. ŚR. TRW."},{"$f":"'baza nisk'!D40","v":"MED. NISK. ŚR. TRW."},{"$f":"'baza nisk'!E40","v":200},{"$f":"'baza nisk'!F40","v":"2.02.21"},{"$f":"'baza nisk'!G40","v":"Zamiejscowy Oddział Rehabilitacji Ogólnoustrojowej II"},""]
[{"$f":"'baza nisk'!A41","v":"A-013H"},{"$f":"'baza nisk'!B41","v":"Aparat do mierzenie ciśnienia mechaniczny "},{"$f":"'baza nisk'!C41","v":"MED. NISK. ŚR. TRW."},{"$f":"'baza nisk'!D41","v":"MED. NISK. ŚR. TRW."},{"$f":"'baza nisk'!E41","v":50},{"$f":"'baza nisk'!F41","v":"2.02.04"},{"$f":"'baza nisk'!G41","v":"Oddział Chirurgii Naczyniowej"},""]
[{"$f":"'baza nisk'!A42","v":"A-013H"},{"$f":"'baza nisk'!B42","v":"Aparat do mierzenie ciśnienia mechaniczny "},{"$f":"'baza nisk'!C42","v":"MED. NISK. ŚR. TRW."},{"$f":"'baza nisk'!D42","v":"MED. NISK. ŚR. TRW."},{"$f":"'baza nisk'!E42","v":50},{"$f":"'baza nisk'!F42","v":"2.03.03"},{"$f":"'baza nisk'!G42","v":"Poradnia Chirurgii Ogólnej"},""]
[{"$f":"'baza nisk'!A43","v":"A-013H"},{"$f":"'baza nisk'!B43","v":"Aparat do mierzenie ciśnienia mechaniczny "},{"$f":"'baza nisk'!C43","v":"MED. NISK. ŚR. TRW."},{"$f":"'baza nisk'!D43","v":"MED. NISK. ŚR. TRW."},{"$f":"'baza nisk'!E43","v":50},{"$f":"'baza nisk'!F43","v":"2.02.20"},{"$f":"'baza nisk'!G43","v":"Zamiejscowy Oddział Rehabilitacji Ogólnoustrojowej I"},""]
[{"$f":"'baza nisk'!#REF!","v":{"$error":"#REF!"}},{"$f":"'baza nisk'!#REF!","v":{"$error":"#REF!"}},{"$f":"'baza nisk'!#REF!","v":{"$error":"#REF!"}},{"$f":"'baza nisk'!#REF!","v":{"$error":"#REF!"}},{"$f":"'baza nisk'!#REF!","v":{"$error":"#REF!"}},{"$f":"'baza nisk'!#REF!","v":{"$error":"#REF!"}},{"$f":"'baza nisk'!#REF!","v":{"$error":"#REF!"}},{"$error":"#REF!"}]
[{"$f":"'baza nisk'!A44","v":"A-016"},{"$f":"'baza nisk'!B44","v":"Aparat Cyfrowy Samsung"},{"$f":"'baza nisk'!C44","v":"POZOSTAŁE"},{"$f":"'baza nisk'!D44","v":"POZOSTAŁE"},{"$f":"'baza nisk'!E44","v":399.99},{"$f":"'baza nisk'!F44","v":"1.12"},{"$f":"'baza nisk'!G44","v":"Samodzielne Stanowiska Administracyjne"},""]
[{"$f":"'baza nisk'!#REF!","v":{"$error":"#REF!"}},{"$f":"'baza nisk'!#REF!","v":{"$error":"#REF!"}},{"$f":"'baza nisk'!#REF!","v":{"$error":"#REF!"}},{"$f":"'baza nisk'!#REF!","v":{"$error":"#REF!"}},{"$f":"'baza nisk'!#REF!","v":{"$error":"#REF!"}},{"$f":"'baza nisk'!#REF!","v":{"$error":"#REF!"}},{"$f":"'baza nisk'!#REF!","v":{"$error":"#REF!"}},{"$error":"#REF!"}]
[{"$f":"'baza nisk'!#REF!","v":{"$error":"#REF!"}},{"$f":"'baza nisk'!#REF!","v":{"$error":"#REF!"}},{"$f":"'baza nisk'!#REF!","v":{"$error":"#REF!"}},{"$f":"'baza nisk'!#REF!","v":{"$error":"#REF!"}},{"$f":"'baza nisk'!#REF!","v":{"$error":"#REF!"}},{"$f":"'baza nisk'!#REF!","v":{"$error":"#REF!"}},{"$f":"'baza nisk'!#REF!","v":{"$error":"#REF!"}},{"$error":"#REF!"}]
[{"$f":"'baza nisk'!#REF!","v":{"$error":"#REF!"}},{"$f":"'baza nisk'!#REF!","v":{"$error":"#REF!"}},{"$f":"'baza nisk'!#REF!","v":{"$error":"#REF!"}},{"$f":"'baza nisk'!#REF!","v":{"$error":"#REF!"}},{"$f":"'baza nisk'!#REF!","v":{"$error":"#REF!"}},{"$f":"'baza nisk'!#REF!","v":{"$error":"#REF!"}},{"$f":"'baza nisk'!#REF!","v":{"$error":"#REF!"}},{"$error":"#REF!"}]
[{"$f":"'baza nisk'!#REF!","v":{"$error":"#REF!"}},{"$f":"'baza nisk'!#REF!","v":{"$error":"#REF!"}},{"$f":"'baza nisk'!#REF!","v":{"$error":"#REF!"}},{"$f":"'baza nisk'!#REF!","v":{"$error":"#REF!"}},{"$f":"'baza nisk'!#REF!","v":{"$error":"#REF!"}},{"$f":"'baza nisk'!#REF!","v":{"$error":"#REF!"}},{"$f":"'baza nisk'!#REF!","v":{"$error":"#REF!"}},{"$error":"#REF!"}]
[{"$f":"'baza nisk'!#REF!","v":{"$error":"#REF!"}},{"$f":"'baza nisk'!#REF!","v":{"$error":"#REF!"}},{"$f":"'baza nisk'!#REF!","v":{"$error":"#REF!"}},{"$f":"'baza nisk'!#REF!","v":{"$error":"#REF!"}},{"$f":"'baza nisk'!#REF!","v":{"$error":"#REF!"}},{"$f":"'baza nisk'!#REF!","v":{"$error":"#REF!"}},{"$f":"'baza nisk'!#REF!","v":{"$error":"#REF!"}},{"$error":"#REF!"}]
[{"$f":"'baza nisk'!A45","v":"A-061"},{"$f":"'baza nisk'!B45","v":"Aparat do elektroterapii"},{"$f":"'baza nisk'!C45","v":"MED. NISK. ŚR. TRW."},{"$f":"'baza nisk'!D45","v":"MED. NISK. ŚR. TRW."},{"$f":"'baza nisk'!E45","v":2800},{"$f":"'baza nisk'!F45","v":"6.03"},{"$f":"'baza nisk'!G45","v":"Zamiejscowy Dział Rehabilitacji Leczniczej"},""]
[{"$f":"'baza nisk'!A46","v":"B-011"},{"$f":"'baza nisk'!B46","v":"Biurko komputerowe + 1 kontener"},{"$f":"'baza nisk'!C46","v":"MEBLE"},{"$f":"'baza nisk'!D46","v":"MEBLE"},{"$f":"'baza nisk'!E46","v":850},{"$f":"'baza nisk'!F46","v":"4.02"},{"$f":"'baza nisk'!G46","v":"Dział Zaopatrzenia i Zamówień Publicznych"},""]
[{"$f":"'baza nisk'!A47","v":"B-011"},{"$f":"'baza nisk'!B47","v":"Biurko komputerowe + 1 kontener"},{"$f":"'baza nisk'!C47","v":"MEBLE"},{"$f":"'baza nisk'!D47","v":"MEBLE"},{"$f":"'baza nisk'!E47","v":850},{"$f":"'baza nisk'!F47","v":"2.02.12"},{"$f":"'baza nisk'!G47","v":"Oddział Neonatologiczny"},""]
[{"$f":"'baza nisk'!A48","v":"B-011A"},{"$f":"'baza nisk'!B48","v":"Biurko komputerowe + 1 kontener"},{"$f":"'baza nisk'!C48","v":"MEBLE"},{"$f":"'baza nisk'!D48","v":"MEBLE"},{"$f":"'baza nisk'!E48","v":850},{"$f":"'baza nisk'!F48","v":"2.02.09.11"},{"$f":"'baza nisk'!G48","v":"Oddział Kardiologiczny"},""]
[{"$f":"'baza nisk'!A49","v":"B-011B"},{"$f":"'baza nisk'!B49","v":"Biurko komputerowe +2 kontenery"},{"$f":"'baza nisk'!C49","v":"MEBLE"},{"$f":"'baza nisk'!D49","v":"MEBLE"},{"$f":"'baza nisk'!E49","v":1350},{"$f":"'baza nisk'!F49","v":"2.04.01"},{"$f":"'baza nisk'!G49","v":"Blok Operacyjny"},""]
[{"$f":"'baza nisk'!A50","v":"B-011B"},{"$f":"'baza nisk'!B50","v":"Biurko komputerowe +2 kontenery"},{"$f":"'baza nisk'!C50","v":"MEBLE"},{"$f":"'baza nisk'!D50","v":"MEBLE"},{"$f":"'baza nisk'!E50","v":1350},{"$f":"'baza nisk'!F50","v":"3.02"},{"$f":"'baza nisk'!G50","v":"Dział Gospodarki Nieruchomościami i Utrzymania Ruchu"},""]
[{"$f":"'baza nisk'!A51","v":"B-011B"},{"$f":"'baza nisk'!B51","v":"Biurko komputerowe +2 kontenery"},{"$f":"'baza nisk'!C51","v":"MEBLE"},{"$f":"'baza nisk'!D51","v":"MEBLE"},{"$f":"'baza nisk'!E51","v":1350},{"$f":"'baza nisk'!F51","v":"4.06.01"},{"$f":"'baza nisk'!G51","v":"Dział Księgowości i Finansów"},""]
[{"$f":"'baza nisk'!A52","v":"B-011B"},{"$f":"'baza nisk'!B52","v":"Biurko komputerowe +2 kontenery"},{"$f":"'baza nisk'!C52","v":"MEBLE"},{"$f":"'baza nisk'!D52","v":"MEBLE"},{"$f":"'baza nisk'!E52","v":1350},{"$f":"'baza nisk'!F52","v":"2.03.13"},{"$f":"'baza nisk'!G52","v":"Poradnia Medycyny Pracy"},""]
[{"$f":"'baza nisk'!A53","v":"B-011C"},{"$f":"'baza nisk'!B53","v":"Biurko komputerowe +2 kontenery"},{"$f":"'baza nisk'!C53","v":"MEBLE"},{"$f":"'baza nisk'!D53","v":"MEBLE"},{"$f":"'baza nisk'!E53","v":1350},{"$f":"'baza nisk'!F53","v":"3.02"},{"$f":"'baza nisk'!G53","v":"Dział Gospodarki Nieruchomościami i Utrzymania Ruchu"},""]
[{"$f":"'baza nisk'!A54","v":"B-011D"},{"$f":"'baza nisk'!B54","v":"Biurko komputerowe +2 kontenery"},{"$f":"'baza nisk'!C54","v":"MEBLE"},{"$f":"'baza nisk'!D54","v":"MEBLE"},{"$f":"'baza nisk'!E54","v":1350},{"$f":"'baza nisk'!F54","v":"2.02.04"},"Blok Operacyjny DAVINCI",""]
[{"$f":"'baza nisk'!A55","v":"B-011D"},{"$f":"'baza nisk'!B55","v":"Biurko komputerowe +2 kontenery"},{"$f":"'baza nisk'!C55","v":"MEBLE"},{"$f":"'baza nisk'!D55","v":"MEBLE"},{"$f":"'baza nisk'!E55","v":1350},{"$f":"'baza nisk'!F55","v":"2.03.02"},{"$f":"'baza nisk'!G55","v":"Poradnia Chirurgii Naczyniowej"},{"$f":"IF($I$1=G67,$I$1,\"\")","v":""}]
[{"$f":"'baza nisk'!A56","v":"B-011D"},{"$f":"'baza nisk'!B56","v":"Biurko komputerowe + 1 kontener"},{"$f":"'baza nisk'!C56","v":"MEBLE"},{"$f":"'baza nisk'!D56","v":"MEBLE"},{"$f":"'baza nisk'!E56","v":850},{"$f":"'baza nisk'!F56","v":"2.03.03"},{"$f":"'baza nisk'!G56","v":"Poradnia Chirurgii Ogólnej"},""]
[{"$f":"'baza nisk'!A57","v":"B-011D"},{"$f":"'baza nisk'!B57","v":"Biurko komputerowe + 1 kontener"},{"$f":"'baza nisk'!C57","v":"MEBLE"},{"$f":"'baza nisk'!D57","v":"MEBLE"},{"$f":"'baza nisk'!E57","v":850},{"$f":"'baza nisk'!F57","v":"1.02"},"DODO - Pracownia Diagnostyczno - Zabiegowa Naczyń",""]
[{"$f":"'baza nisk'!A58","v":"B-011D"},{"$f":"'baza nisk'!B58","v":"Biurko komputerowe + 1 kontener"},{"$f":"'baza nisk'!C58","v":"MEBLE"},{"$f":"'baza nisk'!D58","v":"MEBLE"},{"$f":"'baza nisk'!E58","v":850},{"$f":"'baza nisk'!F58","v":"2.02.21"},{"$f":"'baza nisk'!G58","v":"Zamiejscowy Oddział Rehabilitacji Ogólnoustrojowej II"},""]
[{"$f":"'baza nisk'!A59","v":"B-011D"},{"$f":"'baza nisk'!B59","v":"Biurko narożne"},{"$f":"'baza nisk'!C59","v":"MEBLE"},{"$f":"'baza nisk'!D59","v":"MEBLE"},{"$f":"'baza nisk'!E59","v":800},{"$f":"'baza nisk'!F59","v":"4.03"},{"$f":"'baza nisk'!G59","v":"Dział Organizacyjno - Prawny"},""]
[{"$f":"'baza nisk'!A60","v":"B-011D"},{"$f":"'baza nisk'!B60","v":"Biurko narożne"},{"$f":"'baza nisk'!C60","v":"MEBLE"},{"$f":"'baza nisk'!D60","v":"MEBLE"},{"$f":"'baza nisk'!E60","v":800},{"$f":"'baza nisk'!F60","v":"2.02.01.02"},{"$f":"'baza nisk'!G60","v":"Intensywna Terapia"},"Intensywna Terapia"]
[{"$f":"'baza nisk'!A61","v":"B-011D"},{"$f":"'baza nisk'!B61","v":"Biurko narożne"},{"$f":"'baza nisk'!C61","v":"MEBLE"},{"$f":"'baza nisk'!D61","v":"MEBLE"},{"$f":"'baza nisk'!E61","v":800},{"$f":"'baza nisk'!F61","v":"2.02.14"},"Dział Gospodarki Nieruchomościami i Utrzymania Ruchu",""]
[{"$f":"'baza nisk'!A62","v":"B-011D"},{"$f":"'baza nisk'!B62","v":"Biurko narożne"},{"$f":"'baza nisk'!C62","v":"MEBLE"},{"$f":"'baza nisk'!D62","v":"MEBLE"},{"$f":"'baza nisk'!E62","v":800},{"$f":"'baza nisk'!F62","v":"2.03.04"},{"$f":"'baza nisk'!G62","v":"Poradnia Chirurgii Onkologicznej"},""]
[{"$f":"'baza nisk'!A63","v":"B-011D"},{"$f":"'baza nisk'!B63","v":"Biurko narożne"},{"$f":"'baza nisk'!C63","v":"MEBLE"},{"$f":"'baza nisk'!D63","v":"MEBLE"},{"$f":"'baza nisk'!E63","v":800},{"$f":"'baza nisk'!F63","v":"2.02.05.02"},{"$f":"'baza nisk'!G63","v":"Pracownia Endoskopii"},""]
[{"$f":"'baza nisk'!A64","v":"B-011E"},{"$f":"'baza nisk'!B64","v":"Biurko narożne"},{"$f":"'baza nisk'!C64","v":"MEBLE"},{"$f":"'baza nisk'!D64","v":"MEBLE"},{"$f":"'baza nisk'!E64","v":800},{"$f":"'baza nisk'!F64","v":"4.07.01.02"},{"$f":"'baza nisk'!G64","v":"Zespół Konsultantów Biznesowych"},""]
[{"$f":"'baza nisk'!A65","v":"B-011F"},{"$f":"'baza nisk'!B65","v":"Biurko narożne"},{"$f":"'baza nisk'!C65","v":"MEBLE"},{"$f":"'baza nisk'!D65","v":"MEBLE"},{"$f":"'baza nisk'!E65","v":800},{"$f":"'baza nisk'!F65","v":"2.02.01.02"},{"$f":"'baza nisk'!G65","v":"Intensywna Terapia"},"Intensywna Terapia"]
[{"$f":"'baza nisk'!A66","v":"B-011F"},{"$f":"'baza nisk'!B66","v":"Biurko narożne"},{"$f":"'baza nisk'!C66","v":"MEBLE"},{"$f":"'baza nisk'!D66","v":"MEBLE"},{"$f":"'baza nisk'!E66","v":800},{"$f":"'baza nisk'!F66","v":"2.02.19"},{"$f":"'baza nisk'!G66","v":"Zamiejscowy Oddział Rehabilitacji Neurologicznej"},""]
[{"$f":"'baza nisk'!A67","v":"B-011G"},{"$f":"'baza nisk'!B67","v":"Biurko komputerowe jedno szafkowe"},{"$f":"'baza nisk'!C67","v":"MEBLE"},{"$f":"'baza nisk'!D67","v":"MEBLE"},{"$f":"'baza nisk'!E67","v":850},{"$f":"'baza nisk'!F67","v":"2.02.13"},{"$f":"'baza nisk'!G67","v":"Oddział Okulistyczny"},""]
[{"$f":"'baza nisk'!A68","v":"B-011H"},{"$f":"'baza nisk'!B68","v":"Biurko komputerowe jedno szafkowe"},{"$f":"'baza nisk'!C68","v":"MEBLE"},{"$f":"'baza nisk'!D68","v":"MEBLE"},{"$f":"'baza nisk'!E68","v":850},{"$f":"'baza nisk'!F68","v":"2.02.09.03"},{"$f":"'baza nisk'!G68","v":"Pracownia Echokardiograficzna"},""]
[{"$f":"'baza nisk'!A69","v":"B-011H"},{"$f":"'baza nisk'!B69","v":"Biurko komputerowe jedno szafkowe"},{"$f":"'baza nisk'!C69","v":"MEBLE"},{"$f":"'baza nisk'!D69","v":"MEBLE"},{"$f":"'baza nisk'!E69","v":850},{"$f":"'baza nisk'!F69","v":"2.02.05.02"},{"$f":"'baza nisk'!G69","v":"Pracownia Endoskopii"},""]
[{"$f":"'baza nisk'!A70","v":"B-011I"},{"$f":"'baza nisk'!B70","v":"Biurko komputerowe dwuszafkowe "},{"$f":"'baza nisk'!C70","v":"MEBLE"},{"$f":"'baza nisk'!D70","v":"MEBLE"},{"$f":"'baza nisk'!E70","v":1350},{"$f":"'baza nisk'!F70","v":"2.03.04"},{"$f":"'baza nisk'!G70","v":"Poradnia Chirurgii Onkologicznej"},""]
[{"$f":"'baza nisk'!A71","v":"B-011I"},{"$f":"'baza nisk'!B71","v":"Biurko komputerowe jedno szafkowe"},{"$f":"'baza nisk'!C71","v":"MEBLE"},{"$f":"'baza nisk'!D71","v":"MEBLE"},{"$f":"'baza nisk'!E71","v":850},{"$f":"'baza nisk'!F71","v":"2.02.13"},{"$f":"'baza nisk'!G71","v":"Oddział Okulistyczny"},""]
[{"$f":"'baza nisk'!A72","v":"B-011J"},{"$f":"'baza nisk'!B72","v":"Biurko komputerowe dwuszafkowe "},{"$f":"'baza nisk'!C72","v":"MEBLE"},{"$f":"'baza nisk'!D72","v":"MEBLE"},{"$f":"'baza nisk'!E72","v":1350},{"$f":"'baza nisk'!F72","v":"2.02.13"},{"$f":"'baza nisk'!G72","v":"Oddział Okulistyczny"},""]
[{"$f":"'baza nisk'!A73","v":"B-011K"},{"$f":"'baza nisk'!B73","v":"Biurko komputerowe dwuszafkowe "},{"$f":"'baza nisk'!C73","v":"MEBLE"},{"$f":"'baza nisk'!D73","v":"MEBLE"},{"$f":"'baza nisk'!E73","v":1350},{"$f":"'baza nisk'!F73","v":"2.02.05.02"},{"$f":"'baza nisk'!G73","v":"Pracownia Endoskopii"},""]
[{"$f":"'baza nisk'!A74","v":"B-011L"},{"$f":"'baza nisk'!B74","v":"Biurko komputerowe dwuszafkowe "},{"$f":"'baza nisk'!C74","v":"MEBLE"},{"$f":"'baza nisk'!D74","v":"MEBLE"},{"$f":"'baza nisk'!E74","v":1350},{"$f":"'baza nisk'!F74","v":"2.02.15"},{"$f":"'baza nisk'!G74","v":"Oddział Pediatryczny z Pododdziałem Gastroenterologii "},""]
[{"$f":"'baza nisk'!A75","v":"B-011L"},{"$f":"'baza nisk'!B75","v":"Biurko komputerowe dwuszafkowe "},{"$f":"'baza nisk'!C75","v":"MEBLE"},{"$f":"'baza nisk'!D75","v":"MEBLE"},{"$f":"'baza nisk'!E75","v":1350},{"$f":"'baza nisk'!F75","v":"2.03.20"},{"$f":"'baza nisk'!G75","v":"Poradnia Onkologiczna"},""]
[{"$f":"'baza nisk'!A76","v":"B-011L"},{"$f":"'baza nisk'!B76","v":"Biurko komputerowe dwuszafkowe "},{"$f":"'baza nisk'!C76","v":"MEBLE"},{"$f":"'baza nisk'!D76","v":"MEBLE"},{"$f":"'baza nisk'!E76","v":1350},{"$f":"'baza nisk'!F76","v":"2.05"},{"$f":"'baza nisk'!G76","v":"SOR"},""]
[{"$f":"'baza nisk'!A77","v":"B-011Ł"},{"$f":"'baza nisk'!B77","v":"Biurko komputerowe dwuszafkowe "},{"$f":"'baza nisk'!C77","v":"MEBLE"},{"$f":"'baza nisk'!D77","v":"MEBLE"},{"$f":"'baza nisk'!E77","v":1350},{"$f":"'baza nisk'!F77","v":"2.02.10"},{"$f":"'baza nisk'!G77","v":"Oddział Kardiologii Dziecięcej z Pododdziałem Kardiochirurgi"},""]
[{"$f":"'baza nisk'!A78","v":"B-011M"},{"$f":"'baza nisk'!B78","v":"Biurko komputerowe dwuszafkowe "},{"$f":"'baza nisk'!C78","v":"MEBLE"},{"$f":"'baza nisk'!D78","v":"MEBLE"},{"$f":"'baza nisk'!E78","v":1350},{"$f":"'baza nisk'!F78","v":"2.02.10"},{"$f":"'baza nisk'!G78","v":"Oddział Kardiologii Dziecięcej z Pododdziałem Kardiochirurgi"},""]
[{"$f":"'baza nisk'!A79","v":"B-011N"},{"$f":"'baza nisk'!B79","v":"Biurko narożne"},{"$f":"'baza nisk'!C79","v":"MEBLE"},{"$f":"'baza nisk'!D79","v":"MEBLE"},{"$f":"'baza nisk'!E79","v":850},{"$f":"'baza nisk'!F79","v":"2.02.19"},{"$f":"'baza nisk'!G79","v":"Zamiejscowy Oddział Rehabilitacji Neurologicznej"},""]
[{"$f":"'baza nisk'!A80","v":"B-011O"},{"$f":"'baza nisk'!B80","v":"Biurko narożne"},{"$f":"'baza nisk'!C80","v":"MEBLE"},{"$f":"'baza nisk'!D80","v":"MEBLE"},{"$f":"'baza nisk'!E80","v":850},{"$f":"'baza nisk'!F80","v":"2.08"},{"$f":"'baza nisk'!G80","v":"SekcjaKontroli Zakażeń Szpitalnych"},""]
[{"$f":"'baza nisk'!A81","v":"B-011P"},{"$f":"'baza nisk'!B81","v":"Biurko narożne"},{"$f":"'baza nisk'!C81","v":"MEBLE"},{"$f":"'baza nisk'!D81","v":"MEBLE"},{"$f":"'baza nisk'!E81","v":850},{"$f":"'baza nisk'!F81","v":"3.02.02.01"},{"$f":"'baza nisk'!G81","v":"Hotel Pracowniczy"},""]
[{"$f":"'baza nisk'!A82","v":"B-023A"},{"$f":"'baza nisk'!B82","v":"Balkonik rehabilitacyjny składany aluminiowy"},{"$f":"'baza nisk'!C82","v":"POZOSTAŁE"},{"$f":"'baza nisk'!D82","v":"POZOSTAŁE"},{"$f":"'baza nisk'!E82","v":250},{"$f":"'baza nisk'!F82","v":"2.02.05.01"},{"$f":"'baza nisk'!G82","v":"Oddział Chirurgii Ogólnej z Pododdziałami"},""]
[{"$f":"'baza nisk'!A83","v":"B-023A"},{"$f":"'baza nisk'!B83","v":"Balkonik rehabilitacyjny składany aluminiowy"},{"$f":"'baza nisk'!C83","v":"POZOSTAŁE"},{"$f":"'baza nisk'!D83","v":"POZOSTAŁE"},{"$f":"'baza nisk'!E83","v":250},{"$f":"'baza nisk'!F83","v":"6.03"},{"$f":"'baza nisk'!G83","v":"Zamiejscowy Dział Rehabilitacji Leczniczej"},""]
[{"$f":"'baza nisk'!A84","v":"B-023B"},{"$f":"'baza nisk'!B84","v":"Balkonik czterokołowy"},{"$f":"'baza nisk'!C84","v":"POZOSTAŁE"},{"$f":"'baza nisk'!D84","v":"POZOSTAŁE"},{"$f":"'baza nisk'!E84","v":400},{"$f":"'baza nisk'!F84","v":"2.02.05.01"},{"$f":"'baza nisk'!G84","v":"Oddział Chirurgii Ogólnej z Pododdziałami"},""]
[{"$f":"'baza nisk'!A85","v":"B-023B"},{"$f":"'baza nisk'!B85","v":"Balkonik czterokołowy"},{"$f":"'baza nisk'!C85","v":"POZOSTAŁE"},{"$f":"'baza nisk'!D85","v":"POZOSTAŁE"},{"$f":"'baza nisk'!E85","v":400},{"$f":"'baza nisk'!F85","v":"6.03"},{"$f":"'baza nisk'!G85","v":"Zamiejscowy Dział Rehabilitacji Leczniczej"},""]
[{"$f":"'baza nisk'!A86","v":"B-023C"},{"$f":"'baza nisk'!B86","v":"Balkonik czterokołowy z podporami pod pachy"},{"$f":"'baza nisk'!C86","v":"POZOSTAŁE"},{"$f":"'baza nisk'!D86","v":"POZOSTAŁE"},{"$f":"'baza nisk'!E86","v":500},{"$f":"'baza nisk'!F86","v":"6.03"},{"$f":"'baza nisk'!G86","v":"Zamiejscowy Dział Rehabilitacji Leczniczej"},""]
[{"$f":"'baza nisk'!A87","v":"B-023D"},{"$f":"'baza nisk'!B87","v":"Balkonik krocząco-stały"},{"$f":"'baza nisk'!C87","v":"POZOSTAŁE"},{"$f":"'baza nisk'!D87","v":"POZOSTAŁE"},{"$f":"'baza nisk'!E87","v":110.54},{"$f":"'baza nisk'!F87","v":"2.02.04"},{"$f":"'baza nisk'!G87","v":"Oddział Chirurgii Naczyniowej"},""]
[{"$f":"'baza nisk'!A88","v":"B-023D"},{"$f":"'baza nisk'!B88","v":"Balkonik krocząco-stały"},{"$f":"'baza nisk'!C88","v":"POZOSTAŁE"},{"$f":"'baza nisk'!D88","v":"POZOSTAŁE"},{"$f":"'baza nisk'!E88","v":110.54},{"$f":"'baza nisk'!F88","v":"2.02.21"},"Dział Organizacyjno - Prawny",""]
[{"$f":"'baza nisk'!A89","v":"B-033"},{"$f":"'baza nisk'!B89","v":"Blindownica WALLNER"},{"$f":"'baza nisk'!C89","v":"URZĄDZENIA BIUROWE"},{"$f":"'baza nisk'!D89","v":"URZĄDZ. BIUROWE"},{"$f":"'baza nisk'!E89","v":420},{"$f":"'baza nisk'!F89","v":"1.04.02"},{"$f":"'baza nisk'!G89","v":"Dział Sprzedaży Usług Medycznych"},""]
[{"$f":"'baza nisk'!A90","v":"B-033A"},{"$f":"'baza nisk'!B90","v":"Blindownica Fellowes "},{"$f":"'baza nisk'!C90","v":"URZĄDZENIA BIUROWE"},{"$f":"'baza nisk'!D90","v":"URZĄDZ. BIUROWE"},{"$f":"'baza nisk'!E90","v":420},{"$f":"'baza nisk'!F90","v":"2.02.08.06"},{"$f":"'baza nisk'!G90","v":"Szkoła Rodzenia"},""]
[{"$f":"'baza nisk'!A91","v":"C-006"},{"$f":"'baza nisk'!B91","v":"Czajnik-bezprzewodowy"},{"$f":"'baza nisk'!C91","v":"SPRZĘT AGD"},{"$f":"'baza nisk'!D91","v":"SPRZĘT AGD"},{"$f":"'baza nisk'!E91","v":150},{"$f":"'baza nisk'!F91","v":"2.04.01"},{"$f":"'baza nisk'!G91","v":"Blok Operacyjny"},""]
[{"$f":"'baza nisk'!A92","v":"C-006"},{"$f":"'baza nisk'!B92","v":"Czajnik-bezprzewodowy"},{"$f":"'baza nisk'!C92","v":"SPRZĘT AGD"},{"$f":"'baza nisk'!D92","v":"SPRZĘT AGD"},{"$f":"'baza nisk'!E92","v":150},{"$f":"'baza nisk'!F92","v":"3.02"},{"$f":"'baza nisk'!G92","v":"Dział Gospodarki Nieruchomościami i Utrzymania Ruchu"},""]
[{"$f":"'baza nisk'!A93","v":"C-006"},{"$f":"'baza nisk'!B93","v":"Czajnik-bezprzewodowy"},{"$f":"'baza nisk'!C93","v":"SPRZĘT AGD"},{"$f":"'baza nisk'!D93","v":"SPRZĘT AGD"},{"$f":"'baza nisk'!E93","v":150},{"$f":"'baza nisk'!F93","v":"1.04.03"},{"$f":"'baza nisk'!G93","v":"Dział Rejestracji Statystyki i Dokumentacji Medycznej"},""]
[{"$f":"'baza nisk'!A94","v":"C-006"},{"$f":"'baza nisk'!B94","v":"Czajnik-bezprzewodowy"},{"$f":"'baza nisk'!C94","v":"SPRZĘT AGD"},{"$f":"'baza nisk'!D94","v":"SPRZĘT AGD"},{"$f":"'baza nisk'!E94","v":150},{"$f":"'baza nisk'!F94","v":"4.02"},{"$f":"'baza nisk'!G94","v":"Dział Zaopatrzenia i Zamówień Publicznych"},""]
[{"$f":"'baza nisk'!#REF!","v":{"$error":"#REF!"}},{"$f":"'baza nisk'!#REF!","v":{"$error":"#REF!"}},{"$f":"'baza nisk'!#REF!","v":{"$error":"#REF!"}},{"$f":"'baza nisk'!#REF!","v":{"$error":"#REF!"}},{"$f":"'baza nisk'!#REF!","v":{"$error":"#REF!"}},{"$f":"'baza nisk'!#REF!","v":{"$error":"#REF!"}},{"$f":"'baza nisk'!#REF!","v":{"$error":"#REF!"}},{"$error":"#REF!"}]
[{"$f":"'baza nisk'!#REF!","v":{"$error":"#REF!"}},{"$f":"'baza nisk'!#REF!","v":{"$error":"#REF!"}},{"$f":"'baza nisk'!#REF!","v":{"$error":"#REF!"}},{"$f":"'baza nisk'!#REF!","v":{"$error":"#REF!"}},{"$f":"'baza nisk'!#REF!","v":{"$error":"#REF!"}},{"$f":"'baza nisk'!#REF!","v":{"$error":"#REF!"}},{"$f":"'baza nisk'!#REF!","v":{"$error":"#REF!"}},{"$error":"#REF!"}]
[{"$f":"'baza nisk'!A95","v":"C-006"},{"$f":"'baza nisk'!B95","v":"Czajnik-bezprzewodowy"},{"$f":"'baza nisk'!C95","v":"SPRZĘT AGD"},{"$f":"'baza nisk'!D95","v":"SPRZĘT AGD"},{"$f":"'baza nisk'!E95","v":150},{"$f":"'baza nisk'!F95","v":"2.03.04"},{"$f":"'baza nisk'!G95","v":"Poradnia Chirurgii Onkologicznej"},""]
[{"$f":"'baza nisk'!A96","v":"C-006"},{"$f":"'baza nisk'!B96","v":"Czajnik-bezprzewodowy"},{"$f":"'baza nisk'!C96","v":"SPRZĘT AGD"},{"$f":"'baza nisk'!D96","v":"SPRZĘT AGD"},{"$f":"'baza nisk'!E96","v":150},{"$f":"'baza nisk'!F96","v":"1.04.04"},{"$f":"'baza nisk'!G96","v":"SekcjaMarketingu"},""]
[{"$f":"'baza nisk'!A97","v":"C-006"},{"$f":"'baza nisk'!B97","v":"Czajnik-bezprzewodowy"},{"$f":"'baza nisk'!C97","v":"SPRZĘT AGD"},{"$f":"'baza nisk'!D97","v":"SPRZĘT AGD"},{"$f":"'baza nisk'!E97","v":150},{"$f":"'baza nisk'!F97","v":"2.05"},{"$f":"'baza nisk'!G97","v":"SOR"},""]
[{"$f":"'baza nisk'!A98","v":"C-006"},{"$f":"'baza nisk'!B98","v":"Czajnik-bezprzewodowy"},{"$f":"'baza nisk'!C98","v":"SPRZĘT AGD"},{"$f":"'baza nisk'!D98","v":"SPRZĘT AGD"},{"$f":"'baza nisk'!E98","v":150},{"$f":"'baza nisk'!F98","v":"2.02.19"},{"$f":"'baza nisk'!G98","v":"Zamiejscowy Oddział Rehabilitacji Neurologicznej"},""]
[{"$f":"'baza nisk'!A99","v":"C-006A"},{"$f":"'baza nisk'!B99","v":"Czajnik-bezprzewodowy"},{"$f":"'baza nisk'!C99","v":"SPRZĘT AGD"},{"$f":"'baza nisk'!D99","v":"SPRZĘT AGD"},{"$f":"'baza nisk'!E99","v":150},{"$f":"'baza nisk'!F99","v":"3.02"},{"$f":"'baza nisk'!G99","v":"Dział Gospodarki Nieruchomościami i Utrzymania Ruchu"},""]
[{"$f":"'baza nisk'!A100","v":"C-006A"},{"$f":"'baza nisk'!B100","v":"Czajnik-bezprzewodowy"},{"$f":"'baza nisk'!C100","v":"SPRZĘT AGD"},{"$f":"'baza nisk'!D100","v":"SPRZĘT AGD"},{"$f":"'baza nisk'!E100","v":150},{"$f":"'baza nisk'!F100","v":"4.05"},{"$f":"'baza nisk'!G100","v":"Dział Zatrudnienia i Wynagrodzeń"},""]
[{"$f":"'baza nisk'!A101","v":"C-006A"},{"$f":"'baza nisk'!B101","v":"Czajnik-bezprzewodowy"},{"$f":"'baza nisk'!C101","v":"SPRZĘT AGD"},{"$f":"'baza nisk'!D101","v":"SPRZĘT AGD"},{"$f":"'baza nisk'!E101","v":150},{"$f":"'baza nisk'!F101","v":"2.02.20"},{"$f":"'baza nisk'!G101","v":"Zamiejscowy Oddział Rehabilitacji Ogólnoustrojowej I"},""]
[{"$f":"'baza nisk'!A102","v":"C-006B"},{"$f":"'baza nisk'!B102","v":"Czajnik-bezprzewodowy"},{"$f":"'baza nisk'!C102","v":"SPRZĘT AGD"},{"$f":"'baza nisk'!D102","v":"SPRZĘT AGD"},{"$f":"'baza nisk'!E102","v":150},{"$f":"'baza nisk'!F102","v":"2.02.15"},{"$f":"'baza nisk'!G102","v":"Oddział Pediatryczny z Pododdziałem Gastroenterologii "},""]
[{"$f":"'baza nisk'!A103","v":"C-006C"},{"$f":"'baza nisk'!B103","v":"Czajnik-bezprzewodowy"},{"$f":"'baza nisk'!C103","v":"SPRZĘT AGD"},{"$f":"'baza nisk'!D103","v":"SPRZĘT AGD"},{"$f":"'baza nisk'!E103","v":150},{"$f":"'baza nisk'!F103","v":"3.02.02.01"},{"$f":"'baza nisk'!G103","v":"Hotel Pracowniczy"},""]
[{"$f":"'baza nisk'!A104","v":"C-012"},{"$f":"'baza nisk'!B104","v":"Chłodziarko-zamrażarka"},{"$f":"'baza nisk'!C104","v":"SPRZĘT AGD"},{"$f":"'baza nisk'!D104","v":"SPRZĘT AGD"},{"$f":"'baza nisk'!E104","v":1100},{"$f":"'baza nisk'!F104","v":"2.02.08"},{"$f":"'baza nisk'!G104","v":"Oddział Położniczo – Ginekologiczny"},""]
[{"$f":"'baza nisk'!A105","v":"C-012B"},{"$f":"'baza nisk'!B105","v":"Chłodziarko-zamrażarka"},{"$f":"'baza nisk'!C105","v":"SPRZĘT AGD"},{"$f":"'baza nisk'!D105","v":"SPRZĘT AGD"},{"$f":"'baza nisk'!E105","v":1100},{"$f":"'baza nisk'!F105","v":"3.02.02.01"},{"$f":"'baza nisk'!G105","v":"Hotel Pracowniczy"},""]
[{"$f":"'baza nisk'!A106","v":"C-012C"},{"$f":"'baza nisk'!B106","v":"Chłodziarko-zamrażarka"},{"$f":"'baza nisk'!C106","v":"SPRZĘT AGD"},{"$f":"'baza nisk'!D106","v":"SPRZĘT AGD"},{"$f":"'baza nisk'!E106","v":1100},{"$f":"'baza nisk'!F106","v":"2.02.08"},{"$f":"'baza nisk'!G106","v":"Oddział Położniczo – Ginekologiczny"},""]
[{"$f":"'baza nisk'!A107","v":"C-012D"},{"$f":"'baza nisk'!B107","v":"Chłodziarko-zamrażarka"},{"$f":"'baza nisk'!C107","v":"SPRZĘT AGD"},{"$f":"'baza nisk'!D107","v":"SPRZĘT AGD"},{"$f":"'baza nisk'!E107","v":1100},{"$f":"'baza nisk'!F107","v":"2.02.13"},{"$f":"'baza nisk'!G107","v":"Oddział Okulistyczny"},""]
[{"$f":"'baza nisk'!A108","v":"C-012D"},{"$f":"'baza nisk'!B108","v":"Chłodziarko-zamrażarka"},{"$f":"'baza nisk'!C108","v":"SPRZĘT AGD"},{"$f":"'baza nisk'!D108","v":"SPRZĘT AGD"},{"$f":"'baza nisk'!E108","v":1100},{"$f":"'baza nisk'!F108","v":"2.02.05.02"},{"$f":"'baza nisk'!G108","v":"Pracownia Endoskopii"},""]
[{"$f":"'baza nisk'!A109","v":"C-012E"},{"$f":"'baza nisk'!B109","v":"Chłodziarka farmaceutyczna"},{"$f":"'baza nisk'!C109","v":"SPRZĘT AGD"},{"$f":"'baza nisk'!D109","v":"SPRZĘT AGD"},{"$f":"'baza nisk'!E109","v":3320},{"$f":"'baza nisk'!F109","v":"2.03.04"},{"$f":"'baza nisk'!G109","v":"Poradnia Chirurgii Onkologicznej"},""]
[{"$f":"'baza nisk'!A110","v":"C-012E"},{"$f":"'baza nisk'!B110","v":"Chłodziarka farmaceutyczna"},{"$f":"'baza nisk'!C110","v":"SPRZĘT AGD"},{"$f":"'baza nisk'!D110","v":"SPRZĘT AGD"},{"$f":"'baza nisk'!E110","v":3320},{"$f":"'baza nisk'!F110","v":"2.03.22"},{"$f":"'baza nisk'!G110","v":"Poradnia Otolaryngologiczna"},""]
[{"$f":"'baza nisk'!A111","v":"C-012F"},{"$f":"'baza nisk'!B111","v":"Chłodziarko-zamrażarka"},{"$f":"'baza nisk'!C111","v":"SPRZĘT AGD"},{"$f":"'baza nisk'!D111","v":"SPRZĘT AGD"},{"$f":"'baza nisk'!E111","v":1100},{"$f":"'baza nisk'!F111","v":"2.02.10"},{"$f":"'baza nisk'!G111","v":"Oddział Kardiologii Dziecięcej z Pododdziałem Kardiochirurgi"},""]
[{"$f":"'baza nisk'!A112","v":"C-012G"},{"$f":"'baza nisk'!B112","v":"Chłodziarko-zamrażarka"},{"$f":"'baza nisk'!C112","v":"SPRZĘT AGD"},{"$f":"'baza nisk'!D112","v":"SPRZĘT AGD"},{"$f":"'baza nisk'!E112","v":1100},{"$f":"'baza nisk'!F112","v":"2.02.15"},{"$f":"'baza nisk'!G112","v":"Oddział Pediatryczny z Pododdziałem Gastroenterologii "},""]
[{"$f":"'baza nisk'!A113","v":"C-012H"},{"$f":"'baza nisk'!B113","v":"Chłodziarko-zamrażarka"},{"$f":"'baza nisk'!C113","v":"SPRZĘT AGD"},{"$f":"'baza nisk'!D113","v":"SPRZĘT AGD"},{"$f":"'baza nisk'!E113","v":1100},{"$f":"'baza nisk'!F113","v":"2.02.09.11"},{"$f":"'baza nisk'!G113","v":"Oddział Kardiologiczny"},""]
[{"$f":"'baza nisk'!A114","v":"C-012I"},{"$f":"'baza nisk'!B114","v":"Chłodziarko-zamrażarka"},{"$f":"'baza nisk'!C114","v":"SPRZĘT AGD"},{"$f":"'baza nisk'!D114","v":"SPRZĘT AGD"},{"$f":"'baza nisk'!E114","v":1100},{"$f":"'baza nisk'!F114","v":"3.02.02.01"},{"$f":"'baza nisk'!G114","v":"Hotel Pracowniczy"},""]
[{"$f":"'baza nisk'!#REF!","v":{"$error":"#REF!"}},{"$f":"'baza nisk'!#REF!","v":{"$error":"#REF!"}},{"$f":"'baza nisk'!#REF!","v":{"$error":"#REF!"}},{"$f":"'baza nisk'!#REF!","v":{"$error":"#REF!"}},{"$f":"'baza nisk'!#REF!","v":{"$error":"#REF!"}},{"$f":"'baza nisk'!#REF!","v":{"$error":"#REF!"}},{"$f":"'baza nisk'!#REF!","v":{"$error":"#REF!"}},{"$error":"#REF!"}]
[{"$f":"'baza nisk'!A115","v":"C-032"},{"$f":"'baza nisk'!B115","v":"Balkonik czterokołowy"},{"$f":"'baza nisk'!C115","v":"MEBLE MEDYCZNE"},{"$f":"'baza nisk'!D115","v":"MEBLE MEDYCZNE"},{"$f":"'baza nisk'!E115","v":250},{"$f":"'baza nisk'!F115","v":"2.02.19"},{"$f":"'baza nisk'!G115","v":"Zamiejscowy Oddział Rehabilitacji Neurologicznej"},""]
[{"$f":"'baza nisk'!A116","v":"C-048"},{"$f":"'baza nisk'!B116","v":"Czajnik-bezprzewodowy"},{"$f":"'baza nisk'!C116","v":"SPRZĘT AGD"},{"$f":"'baza nisk'!D116","v":"SPRZĘT AGD"},{"$f":"'baza nisk'!E116","v":150},{"$f":"'baza nisk'!F116","v":"3.02"},{"$f":"'baza nisk'!G116","v":"Dział Gospodarki Nieruchomościami i Utrzymania Ruchu"},{"$f":"IF($I$1=G131,$I$1,\"\")","v":""}]
[{"$f":"'baza nisk'!A117","v":"C-048"},{"$f":"'baza nisk'!B117","v":"Czajnik-bezprzewodowy"},{"$f":"'baza nisk'!C117","v":"SPRZĘT AGD"},{"$f":"'baza nisk'!D117","v":"SPRZĘT AGD"},{"$f":"'baza nisk'!E117","v":150},{"$f":"'baza nisk'!F117","v":"1.04.03"},{"$f":"'baza nisk'!G117","v":"Dział Rejestracji Statystyki i Dokumentacji Medycznej"},""]
[{"$f":"'baza nisk'!A118","v":"C-048"},{"$f":"'baza nisk'!B118","v":"Czajnik-bezprzewodowy"},{"$f":"'baza nisk'!C118","v":"SPRZĘT AGD"},{"$f":"'baza nisk'!D118","v":"SPRZĘT AGD"},{"$f":"'baza nisk'!E118","v":150},{"$f":"'baza nisk'!F118","v":"3.02.02.01"},{"$f":"'baza nisk'!G118","v":"Hotel Pracowniczy"},""]
[{"$f":"'baza nisk'!A119","v":"C-048"},{"$f":"'baza nisk'!B119","v":"Czajnik-bezprzewodowy"},{"$f":"'baza nisk'!C119","v":"SPRZĘT AGD"},{"$f":"'baza nisk'!D119","v":"SPRZĘT AGD"},{"$f":"'baza nisk'!E119","v":150},{"$f":"'baza nisk'!F119","v":"6.03"},{"$f":"'baza nisk'!G119","v":"Zamiejscowy Dział Rehabilitacji Leczniczej"},""]
[{"$f":"'baza nisk'!A120","v":"C-048"},{"$f":"'baza nisk'!B120","v":"Czajnik-bezprzewodowy"},{"$f":"'baza nisk'!C120","v":"SPRZĘT AGD"},{"$f":"'baza nisk'!D120","v":"SPRZĘT AGD"},{"$f":"'baza nisk'!E120","v":150},{"$f":"'baza nisk'!F120","v":"2.02.20"},{"$f":"'baza nisk'!G120","v":"Zamiejscowy Oddział Rehabilitacji Ogólnoustrojowej I"},""]
[{"$f":"'baza nisk'!A121","v":"C-048A"},{"$f":"'baza nisk'!B121","v":"Czajnik-bezprzewodowy"},{"$f":"'baza nisk'!C121","v":"SPRZĘT AGD"},{"$f":"'baza nisk'!D121","v":"SPRZĘT AGD"},{"$f":"'baza nisk'!E121","v":150},{"$f":"'baza nisk'!F121","v":"2.02.12"},{"$f":"'baza nisk'!G121","v":"Oddział Neonatologiczny z Pododdziałem Patologii Noworodka"},""]
[{"$f":"'baza nisk'!A122","v":"C-048B"},{"$f":"'baza nisk'!B122","v":"Czajnik-bezprzewodowy"},{"$f":"'baza nisk'!C122","v":"SPRZĘT AGD"},{"$f":"'baza nisk'!D122","v":"SPRZĘT AGD"},{"$f":"'baza nisk'!E122","v":150},{"$f":"'baza nisk'!F122","v":"1.02"},{"$f":"'baza nisk'!G122","v":"Sekretariat"},""]
[{"$f":"'baza nisk'!A123","v":"C-055"},{"$f":"'baza nisk'!B123","v":"Czujnik poziomu hałasu typu SoundEar II"},{"$f":"'baza nisk'!C123","v":"MED. NISK. ŚR. TRW."},{"$f":"'baza nisk'!D123","v":"MED. NISK. ŚR. TRW."},{"$f":"'baza nisk'!E123","v":2000},{"$f":"'baza nisk'!F123","v":"2.02.12"},{"$f":"'baza nisk'!G123","v":"Oddział Neonatologiczny z Pododdziałem Patologii Noworodka"},""]
[{"$f":"'baza nisk'!A124","v":"D-020"},{"$f":"'baza nisk'!B124","v":"Drabina pojedyńcza 2,5m "},{"$f":"'baza nisk'!C124","v":"POZOSTAŁE"},{"$f":"'baza nisk'!D124","v":"POZOSTAŁE"},{"$f":"'baza nisk'!E124","v":400},{"$f":"'baza nisk'!F124","v":"2.02.08"},{"$f":"'baza nisk'!G124","v":"Oddział Położniczo – Ginekologiczny"},""]
[{"$f":"'baza nisk'!A125","v":"D-020A"},{"$f":"'baza nisk'!B125","v":"Drabina aluminiowa 3-stopniowa"},{"$f":"'baza nisk'!C125","v":"POZOSTAŁE"},{"$f":"'baza nisk'!D125","v":"POZOSTAŁE"},{"$f":"'baza nisk'!E125","v":200},{"$f":"'baza nisk'!F125","v":"1.04.03"},{"$f":"'baza nisk'!G125","v":"Dział Rejestracji Statystyki i Dokumentacji Medycznej"},""]
[{"$f":"'baza nisk'!A126","v":"D-020B"},{"$f":"'baza nisk'!B126","v":"Drabina aluminiowa 6-stopniowa"},{"$f":"'baza nisk'!C126","v":"POZOSTAŁE"},{"$f":"'baza nisk'!D126","v":"POZOSTAŁE"},{"$f":"'baza nisk'!E126","v":260},{"$f":"'baza nisk'!F126","v":"2.04.01"},{"$f":"'baza nisk'!G126","v":"Blok Operacyjny"},""]
[{"$f":"'baza nisk'!A127","v":"D-020B"},{"$f":"'baza nisk'!B127","v":"Drabina aluminiowa 6-stopniowa"},{"$f":"'baza nisk'!C127","v":"POZOSTAŁE"},{"$f":"'baza nisk'!D127","v":"POZOSTAŁE"},{"$f":"'baza nisk'!E127","v":260},{"$f":"'baza nisk'!F127","v":"1.04.02"},{"$f":"'baza nisk'!G127","v":"Dział Sprzedaży Usług Medycznych"},""]
[{"$f":"'baza nisk'!A128","v":"D-020B"},{"$f":"'baza nisk'!B128","v":"Drabina aluminiowa 6-stopniowa"},{"$f":"'baza nisk'!C128","v":"POZOSTAŁE"},{"$f":"'baza nisk'!D128","v":"POZOSTAŁE"},{"$f":"'baza nisk'!E128","v":260},{"$f":"'baza nisk'!F128","v":"2.02.10"},{"$f":"'baza nisk'!G128","v":"Oddział Kardiologii Dziecięcej z Pododdziałem Kardiochirurgi"},""]
[{"$f":"'baza nisk'!A129","v":"D-020C"},{"$f":"'baza nisk'!B129","v":"Drabina aluminiowa 4-stopniowa"},{"$f":"'baza nisk'!C129","v":"POZOSTAŁE"},{"$f":"'baza nisk'!D129","v":"POZOSTAŁE"},{"$f":"'baza nisk'!E129","v":200},{"$f":"'baza nisk'!F129","v":"1.04.03"},{"$f":"'baza nisk'!G129","v":"Dział Rejestracji Statystyki i Dokumentacji Medycznej"},""]
[{"$f":"'baza nisk'!A130","v":"D-020C"},{"$f":"'baza nisk'!B130","v":"Drabina aluminiowa 4-stopniowa"},{"$f":"'baza nisk'!C130","v":"POZOSTAŁE"},{"$f":"'baza nisk'!D130","v":"POZOSTAŁE"},{"$f":"'baza nisk'!E130","v":200},{"$f":"'baza nisk'!F130","v":"2.08"},{"$f":"'baza nisk'!G130","v":"SekcjaKontroli Zakażeń Szpitalnych"},""]
[{"$f":"'baza nisk'!A131","v":"D-020E"},{"$f":"'baza nisk'!B131","v":"Drabina 2-stopniowa"},{"$f":"'baza nisk'!C131","v":"POZOSTAŁE"},{"$f":"'baza nisk'!D131","v":"POZOSTAŁE"},{"$f":"'baza nisk'!E131","v":180},{"$f":"'baza nisk'!F131","v":"2.09"},{"$f":"'baza nisk'!G131","v":"Apteka Szpitalna"},""]
[{"$f":"'baza nisk'!A132","v":"D-056"},{"$f":"'baza nisk'!B132","v":"Dermatoskop diodowy mini 3000 LED ze skalą firm"},{"$f":"'baza nisk'!C132","v":"MED. NISK. ŚR. TRW."},{"$f":"'baza nisk'!D132","v":"MED. NISK. ŚR. TRW."},{"$f":"'baza nisk'!E132","v":1341},{"$f":"'baza nisk'!F132","v":"2.02.07.01"},{"$f":"'baza nisk'!G132","v":"Programedukacyjny atopowe zapalenie skóry (AZS)"},""]
[{"$f":"'baza nisk'!A133","v":"D-060"},{"$f":"'baza nisk'!B133","v":"Detektor tętna płodu UDT-20 SD"},{"$f":"'baza nisk'!C133","v":"MED. NISK. ŚR. TRW."},{"$f":"'baza nisk'!D133","v":"MED. NISK. ŚR. TRW."},{"$f":"'baza nisk'!E133","v":1782},{"$f":"'baza nisk'!F133","v":"2.02.08"},{"$f":"'baza nisk'!G133","v":"Oddział Położniczo – Ginekologiczny"},""]
[{"$f":"'baza nisk'!A134","v":"F-016"},{"$f":"'baza nisk'!B134","v":"Fotel do pobierania krwi ST-03  U.B.M"},{"$f":"'baza nisk'!C134","v":"MEBLE MEDYCZNE"},{"$f":"'baza nisk'!D134","v":"MEBLE MEDYCZNE"},{"$f":"'baza nisk'!E134","v":515},{"$f":"'baza nisk'!F134","v":"2.02.15"},{"$f":"'baza nisk'!G134","v":"Oddział Pediatryczny z Pododdziałem Gastroenterologii "},""]
[{"$f":"'baza nisk'!A135","v":"F-016A"},{"$f":"'baza nisk'!B135","v":"Fotel do pobierania krwi ST-02  U.B.M"},{"$f":"'baza nisk'!C135","v":"MEBLE MEDYCZNE"},{"$f":"'baza nisk'!D135","v":"MEBLE MEDYCZNE"},{"$f":"'baza nisk'!E135","v":515},{"$f":"'baza nisk'!F135","v":"2.02.04"},{"$f":"'baza nisk'!G135","v":"Oddział Chirurgii Naczyniowej"},""]
[{"$f":"'baza nisk'!A136","v":"F-016A"},{"$f":"'baza nisk'!B136","v":"Fotel do pobierania krwi ST-02  U.B.M"},{"$f":"'baza nisk'!C136","v":"MEBLE MEDYCZNE"},{"$f":"'baza nisk'!D136","v":"MEBLE MEDYCZNE"},{"$f":"'baza nisk'!E136","v":515},{"$f":"'baza nisk'!F136","v":"2.02.09.11"},{"$f":"'baza nisk'!G136","v":"Oddział Kardiologiczny"},""]
[{"$f":"'baza nisk'!A137","v":"F-026"},{"$f":"'baza nisk'!B137","v":"Fotel obrotowy do komputera"},{"$f":"'baza nisk'!C137","v":"MEBLE"},{"$f":"'baza nisk'!D137","v":"MEBLE"},{"$f":"'baza nisk'!E137","v":350},{"$f":"'baza nisk'!F137","v":"2.04.01"},{"$f":"'baza nisk'!G137","v":"Blok Operacyjny"},""]
[{"$f":"'baza nisk'!A138","v":"F-026"},{"$f":"'baza nisk'!B138","v":"Fotel obrotowy do komputera"},{"$f":"'baza nisk'!C138","v":"MEBLE"},{"$f":"'baza nisk'!D138","v":"MEBLE"},{"$f":"'baza nisk'!E138","v":350},{"$f":"'baza nisk'!F138","v":"2.07.03"},{"$f":"'baza nisk'!G138","v":"DODO -Pracowania Tomografii Komputerowej"},""]
[{"$f":"'baza nisk'!#REF!","v":{"$error":"#REF!"}},{"$f":"'baza nisk'!#REF!","v":{"$error":"#REF!"}},{"$f":"'baza nisk'!#REF!","v":{"$error":"#REF!"}},{"$f":"'baza nisk'!#REF!","v":{"$error":"#REF!"}},{"$f":"'baza nisk'!#REF!","v":{"$error":"#REF!"}},{"$f":"'baza nisk'!#REF!","v":{"$error":"#REF!"}},{"$f":"'baza nisk'!#REF!","v":{"$error":"#REF!"}},{"$error":"#REF!"}]
[{"$f":"'baza nisk'!#REF!","v":{"$error":"#REF!"}},{"$f":"'baza nisk'!#REF!","v":{"$error":"#REF!"}},{"$f":"'baza nisk'!#REF!","v":{"$error":"#REF!"}},{"$f":"'baza nisk'!#REF!","v":{"$error":"#REF!"}},{"$f":"'baza nisk'!#REF!","v":{"$error":"#REF!"}},{"$f":"'baza nisk'!#REF!","v":{"$error":"#REF!"}},{"$f":"'baza nisk'!#REF!","v":{"$error":"#REF!"}},{"$error":"#REF!"}]
[{"$f":"'baza nisk'!#REF!","v":{"$error":"#REF!"}},{"$f":"'baza nisk'!#REF!","v":{"$error":"#REF!"}},{"$f":"'baza nisk'!#REF!","v":{"$error":"#REF!"}},{"$f":"'baza nisk'!#REF!","v":{"$error":"#REF!"}},{"$f":"'baza nisk'!#REF!","v":{"$error":"#REF!"}},{"$f":"'baza nisk'!#REF!","v":{"$error":"#REF!"}},{"$f":"'baza nisk'!#REF!","v":{"$error":"#REF!"}},{"$error":"#REF!"}]
[{"$f":"'baza nisk'!A139","v":"F-026"},{"$f":"'baza nisk'!B139","v":"Fotel obrotowy do komputera"},{"$f":"'baza nisk'!C139","v":"MEBLE"},{"$f":"'baza nisk'!D139","v":"MEBLE"},{"$f":"'baza nisk'!E139","v":350},{"$f":"'baza nisk'!F139","v":"2.07.05"},{"$f":"'baza nisk'!G139","v":"DODO -Pracownia Rezonansu Magnetycznego"},""]
[{"$f":"'baza nisk'!A140","v":"F-026"},{"$f":"'baza nisk'!B140","v":"Fotel obrotowy do komputera"},{"$f":"'baza nisk'!C140","v":"MEBLE"},{"$f":"'baza nisk'!D140","v":"MEBLE"},{"$f":"'baza nisk'!E140","v":350},{"$f":"'baza nisk'!F140","v":"2.07.06"},{"$f":"'baza nisk'!G140","v":"DODO -Pracownia USG"},""]
[{"$f":"'baza nisk'!A141","v":"F-026"},{"$f":"'baza nisk'!B141","v":"Fotel obrotowy do komputera"},{"$f":"'baza nisk'!C141","v":"MEBLE"},{"$f":"'baza nisk'!D141","v":"MEBLE"},{"$f":"'baza nisk'!E141","v":350},{"$f":"'baza nisk'!F141","v":"2.07.07"},{"$f":"'baza nisk'!G141","v":"DODO -Pracownia USG Piersi"},""]
[{"$f":"'baza nisk'!A142","v":"F-026"},{"$f":"'baza nisk'!B142","v":"Fotel obrotowy do komputera"},{"$f":"'baza nisk'!C142","v":"MEBLE"},{"$f":"'baza nisk'!D142","v":"MEBLE"},{"$f":"'baza nisk'!E142","v":350},{"$f":"'baza nisk'!F142","v":"4.02"},{"$f":"'baza nisk'!G142","v":"Dział Zaopatrzenia i Zamówień Publicznych"},""]
[{"$f":"'baza nisk'!A143","v":"F-026"},{"$f":"'baza nisk'!B143","v":"Fotel obrotowy do komputera"},{"$f":"'baza nisk'!C143","v":"MEBLE"},{"$f":"'baza nisk'!D143","v":"MEBLE"},{"$f":"'baza nisk'!E143","v":350},{"$f":"'baza nisk'!F143","v":"2.02.10"},{"$f":"'baza nisk'!G143","v":"Oddział Kardiologii Dziecięcej z Pododdziałem Kardiochirurgi"},""]
[{"$f":"'baza nisk'!A144","v":"F-026"},{"$f":"'baza nisk'!B144","v":"Fotel obrotowy do komputera"},{"$f":"'baza nisk'!C144","v":"MEBLE"},{"$f":"'baza nisk'!D144","v":"MEBLE"},{"$f":"'baza nisk'!E144","v":350},{"$f":"'baza nisk'!F144","v":"2.02.08"},{"$f":"'baza nisk'!G144","v":"Oddział Położniczo – Ginekologiczny"},""]
[{"$f":"'baza nisk'!A145","v":"F-026"},{"$f":"'baza nisk'!B145","v":"Fotel obrotowy do komputera"},{"$f":"'baza nisk'!C145","v":"MEBLE"},{"$f":"'baza nisk'!D145","v":"MEBLE"},{"$f":"'baza nisk'!E145","v":350},{"$f":"'baza nisk'!F145","v":36951},{"$f":"'baza nisk'!G145","v":"Ośrodek Programów Badawczych (OPB)"},""]
[{"$f":"'baza nisk'!A146","v":"F-026"},{"$f":"'baza nisk'!B146","v":"Fotel obrotowy do komputera"},{"$f":"'baza nisk'!C146","v":"MEBLE"},{"$f":"'baza nisk'!D146","v":"MEBLE"},{"$f":"'baza nisk'!E146","v":350},{"$f":"'baza nisk'!F146","v":"2.03.14"},{"$f":"'baza nisk'!G146","v":"Poradnia Medycyny Pracy"},""]
[{"$f":"'baza nisk'!A147","v":"F-026"},{"$f":"'baza nisk'!B147","v":"Fotel obrotowy do komputera"},{"$f":"'baza nisk'!C147","v":"MEBLE"},{"$f":"'baza nisk'!D147","v":"MEBLE"},{"$f":"'baza nisk'!E147","v":350},{"$f":"'baza nisk'!F147","v":"2.03.20"},{"$f":"'baza nisk'!G147","v":"Poradnia Onkologiczna"},""]
[{"$f":"'baza nisk'!A148","v":"F-026"},{"$f":"'baza nisk'!B148","v":"Fotel obrotowy do komputera"},{"$f":"'baza nisk'!C148","v":"MEBLE"},{"$f":"'baza nisk'!D148","v":"MEBLE"},{"$f":"'baza nisk'!E148","v":350},{"$f":"'baza nisk'!F148","v":"2.05"},{"$f":"'baza nisk'!G148","v":"SOR"},""]
[{"$f":"'baza nisk'!A149","v":"F-026"},{"$f":"'baza nisk'!B149","v":"Fotel obrotowy do komputera"},{"$f":"'baza nisk'!C149","v":"MEBLE"},{"$f":"'baza nisk'!D149","v":"MEBLE"},{"$f":"'baza nisk'!E149","v":350},{"$f":"'baza nisk'!F149","v":"2.02.19"},{"$f":"'baza nisk'!G149","v":"Zamiejscowy Oddział Rehabilitacji Neurologicznej"},""]
[{"$f":"'baza nisk'!A150","v":"F-026"},{"$f":"'baza nisk'!B150","v":"Fotel obrotowy do komputera"},{"$f":"'baza nisk'!C150","v":"MEBLE"},{"$f":"'baza nisk'!D150","v":"MEBLE"},{"$f":"'baza nisk'!E150","v":350},{"$f":"'baza nisk'!F150","v":"2.02.21"},{"$f":"'baza nisk'!G150","v":"Zamiejscowy Oddział Rehabilitacji Ogólnoustrojowej II"},""]
[{"$f":"'baza nisk'!A151","v":"F-026A"},{"$f":"'baza nisk'!B151","v":"Fotel obrotowy do komputera"},{"$f":"'baza nisk'!C151","v":"MEBLE"},{"$f":"'baza nisk'!D151","v":"MEBLE"},{"$f":"'baza nisk'!E151","v":350},{"$f":"'baza nisk'!F151","v":"2.08"},{"$f":"'baza nisk'!G151","v":"SekcjaKontroli Zakażeń Szpitalnych"},""]
[{"$f":"'baza nisk'!A152","v":"F-026B"},{"$f":"'baza nisk'!B152","v":"Fotel obrotowy do komputera"},{"$f":"'baza nisk'!C152","v":"MEBLE"},{"$f":"'baza nisk'!D152","v":"MEBLE"},{"$f":"'baza nisk'!E152","v":350},{"$f":"'baza nisk'!F152","v":"2.02.19"},{"$f":"'baza nisk'!G152","v":"Zamiejscowy Oddział Rehabilitacji Neurologicznej"},""]
[{"$f":"'baza nisk'!A153","v":"F-027"},{"$f":"'baza nisk'!B153","v":"Fotel obrotowy do komputera"},{"$f":"'baza nisk'!C153","v":"MEBLE"},{"$f":"'baza nisk'!D153","v":"MEBLE"},{"$f":"'baza nisk'!E153","v":350},{"$f":"'baza nisk'!F153","v":"3.03"},{"$f":"'baza nisk'!G153","v":"Dział Centralnej Sterylizatorni i DDD"},""]
[{"$f":"'baza nisk'!A154","v":"F-027"},{"$f":"'baza nisk'!B154","v":"Fotel obrotowy do komputera"},{"$f":"'baza nisk'!C154","v":"MEBLE"},{"$f":"'baza nisk'!D154","v":"MEBLE"},{"$f":"'baza nisk'!E154","v":350},{"$f":"'baza nisk'!F154","v":"2.02.13"},{"$f":"'baza nisk'!G154","v":"Oddział Okulistyczny"},""]
[{"$f":"'baza nisk'!#REF!","v":{"$error":"#REF!"}},{"$f":"'baza nisk'!#REF!","v":{"$error":"#REF!"}},{"$f":"'baza nisk'!#REF!","v":{"$error":"#REF!"}},{"$f":"'baza nisk'!#REF!","v":{"$error":"#REF!"}},{"$f":"'baza nisk'!#REF!","v":{"$error":"#REF!"}},{"$f":"'baza nisk'!#REF!","v":{"$error":"#REF!"}},{"$f":"'baza nisk'!#REF!","v":{"$error":"#REF!"}},{"$error":"#REF!"}]
[{"$f":"'baza nisk'!#REF!","v":{"$error":"#REF!"}},{"$f":"'baza nisk'!#REF!","v":{"$error":"#REF!"}},{"$f":"'baza nisk'!#REF!","v":{"$error":"#REF!"}},{"$f":"'baza nisk'!#REF!","v":{"$error":"#REF!"}},{"$f":"'baza nisk'!#REF!","v":{"$error":"#REF!"}},{"$f":"'baza nisk'!#REF!","v":{"$error":"#REF!"}},{"$f":"'baza nisk'!#REF!","v":{"$error":"#REF!"}},{"$error":"#REF!"}]
[{"$f":"'baza nisk'!#REF!","v":{"$error":"#REF!"}},{"$f":"'baza nisk'!#REF!","v":{"$error":"#REF!"}},{"$f":"'baza nisk'!#REF!","v":{"$error":"#REF!"}},{"$f":"'baza nisk'!#REF!","v":{"$error":"#REF!"}},{"$f":"'baza nisk'!#REF!","v":{"$error":"#REF!"}},{"$f":"'baza nisk'!#REF!","v":{"$error":"#REF!"}},{"$f":"'baza nisk'!#REF!","v":{"$error":"#REF!"}},{"$error":"#REF!"}]
[{"$f":"'baza nisk'!#REF!","v":{"$error":"#REF!"}},{"$f":"'baza nisk'!#REF!","v":{"$error":"#REF!"}},{"$f":"'baza nisk'!#REF!","v":{"$error":"#REF!"}},{"$f":"'baza nisk'!#REF!","v":{"$error":"#REF!"}},{"$f":"'baza nisk'!#REF!","v":{"$error":"#REF!"}},{"$f":"'baza nisk'!#REF!","v":{"$error":"#REF!"}},{"$f":"'baza nisk'!#REF!","v":{"$error":"#REF!"}},{"$error":"#REF!"}]
[{"$f":"'baza nisk'!#REF!","v":{"$error":"#REF!"}},{"$f":"'baza nisk'!#REF!","v":{"$error":"#REF!"}},{"$f":"'baza nisk'!#REF!","v":{"$error":"#REF!"}},{"$f":"'baza nisk'!#REF!","v":{"$error":"#REF!"}},{"$f":"'baza nisk'!#REF!","v":{"$error":"#REF!"}},{"$f":"'baza nisk'!#REF!","v":{"$error":"#REF!"}},{"$f":"'baza nisk'!#REF!","v":{"$error":"#REF!"}},{"$error":"#REF!"}]
[{"$f":"'baza nisk'!#REF!","v":{"$error":"#REF!"}},{"$f":"'baza nisk'!#REF!","v":{"$error":"#REF!"}},{"$f":"'baza nisk'!#REF!","v":{"$error":"#REF!"}},{"$f":"'baza nisk'!#REF!","v":{"$error":"#REF!"}},{"$f":"'baza nisk'!#REF!","v":{"$error":"#REF!"}},{"$f":"'baza nisk'!#REF!","v":{"$error":"#REF!"}},{"$f":"'baza nisk'!#REF!","v":{"$error":"#REF!"}},{"$error":"#REF!"}]
[{"$f":"'baza nisk'!#REF!","v":{"$error":"#REF!"}},{"$f":"'baza nisk'!#REF!","v":{"$error":"#REF!"}},{"$f":"'baza nisk'!#REF!","v":{"$error":"#REF!"}},{"$f":"'baza nisk'!#REF!","v":{"$error":"#REF!"}},{"$f":"'baza nisk'!#REF!","v":{"$error":"#REF!"}},{"$f":"'baza nisk'!#REF!","v":{"$error":"#REF!"}},{"$f":"'baza nisk'!#REF!","v":{"$error":"#REF!"}},{"$error":"#REF!"}]
[{"$f":"'baza nisk'!#REF!","v":{"$error":"#REF!"}},{"$f":"'baza nisk'!#REF!","v":{"$error":"#REF!"}},{"$f":"'baza nisk'!#REF!","v":{"$error":"#REF!"}},{"$f":"'baza nisk'!#REF!","v":{"$error":"#REF!"}},{"$f":"'baza nisk'!#REF!","v":{"$error":"#REF!"}},{"$f":"'baza nisk'!#REF!","v":{"$error":"#REF!"}},{"$f":"'baza nisk'!#REF!","v":{"$error":"#REF!"}},{"$error":"#REF!"}]
[{"$f":"'baza nisk'!#REF!","v":{"$error":"#REF!"}},{"$f":"'baza nisk'!#REF!","v":{"$error":"#REF!"}},{"$f":"'baza nisk'!#REF!","v":{"$error":"#REF!"}},{"$f":"'baza nisk'!#REF!","v":{"$error":"#REF!"}},{"$f":"'baza nisk'!#REF!","v":{"$error":"#REF!"}},{"$f":"'baza nisk'!#REF!","v":{"$error":"#REF!"}},{"$f":"'baza nisk'!#REF!","v":{"$error":"#REF!"}},{"$error":"#REF!"}]
[{"$f":"'baza nisk'!#REF!","v":{"$error":"#REF!"}},{"$f":"'baza nisk'!#REF!","v":{"$error":"#REF!"}},{"$f":"'baza nisk'!#REF!","v":{"$error":"#REF!"}},{"$f":"'baza nisk'!#REF!","v":{"$error":"#REF!"}},{"$f":"'baza nisk'!#REF!","v":{"$error":"#REF!"}},{"$f":"'baza nisk'!#REF!","v":{"$error":"#REF!"}},{"$f":"'baza nisk'!#REF!","v":{"$error":"#REF!"}},{"$error":"#REF!"}]
[{"$f":"'baza nisk'!#REF!","v":{"$error":"#REF!"}},{"$f":"'baza nisk'!#REF!","v":{"$error":"#REF!"}},{"$f":"'baza nisk'!#REF!","v":{"$error":"#REF!"}},{"$f":"'baza nisk'!#REF!","v":{"$error":"#REF!"}},{"$f":"'baza nisk'!#REF!","v":{"$error":"#REF!"}},{"$f":"'baza nisk'!#REF!","v":{"$error":"#REF!"}},{"$f":"'baza nisk'!#REF!","v":{"$error":"#REF!"}},{"$error":"#REF!"}]
[{"$f":"'baza nisk'!A155","v":"F-027A"},{"$f":"'baza nisk'!B155","v":"Fotel obrotowy do komputera"},{"$f":"'baza nisk'!C155","v":"MEBLE"},{"$f":"'baza nisk'!D155","v":"MEBLE"},{"$f":"'baza nisk'!E155","v":350},{"$f":"'baza nisk'!F155","v":"2.09"},{"$f":"'baza nisk'!G155","v":"Apteka Szpitalna"},""]
[{"$f":"'baza nisk'!A156","v":"F-027A"},{"$f":"'baza nisk'!B156","v":"Fotel obrotowy do komputera"},{"$f":"'baza nisk'!C156","v":"MEBLE"},{"$f":"'baza nisk'!D156","v":"MEBLE"},{"$f":"'baza nisk'!E156","v":350},{"$f":"'baza nisk'!F156","v":"2.03.17"},{"$f":"'baza nisk'!G156","v":"Poradnia Neurochirurgiczna"},""]
[{"$f":"'baza nisk'!A157","v":"F-037"},{"$f":"'baza nisk'!B157","v":"Fartuch ochronny RTG DG 0,50/0,25 52x100 [SS]"},{"$f":"'baza nisk'!C157","v":"ODZIEŻ OCHRONNA RADIOLOGICZNA"},{"$f":"'baza nisk'!D157","v":"ODZIEŻ OCHRONNA RADIOLOGICZNA"},{"$f":"'baza nisk'!E157","v":3400},{"$f":"'baza nisk'!F157","v":"2.07.04"},{"$f":"'baza nisk'!G157","v":"DODO -Pracownia Diagnostyczno - Zabiegowa Naczyń"},""]
[{"$f":"'baza nisk'!A158","v":"F-037A"},{"$f":"'baza nisk'!B158","v":"Fartuch ochronny RTG DG 0,50/0,25 60X90 [MV]"},{"$f":"'baza nisk'!C158","v":"ODZIEŻ OCHRONNA RADIOLOGICZNA"},{"$f":"'baza nisk'!D158","v":"ODZIEŻ OCHRONNA RADIOLOGICZNA"},{"$f":"'baza nisk'!E158","v":3400},{"$f":"'baza nisk'!F158","v":"2.07.04"},{"$f":"'baza nisk'!G158","v":"DODO -Pracownia Diagnostyczno - Zabiegowa Naczyń"},""]
[{"$f":"'baza nisk'!A159","v":"F-037B"},{"$f":"'baza nisk'!B159","v":"Fartuch ochronny RTG DG 0,50/0,25 60X100 [MS]"},{"$f":"'baza nisk'!C159","v":"ODZIEŻ OCHRONNA RADIOLOGICZNA"},{"$f":"'baza nisk'!D159","v":"ODZIEŻ OCHRONNA RADIOLOGICZNA"},{"$f":"'baza nisk'!E159","v":3400},{"$f":"'baza nisk'!F159","v":"2.07.04"},{"$f":"'baza nisk'!G159","v":"DODO -Pracownia Diagnostyczno - Zabiegowa Naczyń"},""]
[{"$f":"'baza nisk'!A160","v":"F-037B"},{"$f":"'baza nisk'!B160","v":"Fartuch ochronny RTG DG 0,50/0,25 60X100 [MS]"},{"$f":"'baza nisk'!C160","v":"ODZIEŻ OCHRONNA RADIOLOGICZNA"},{"$f":"'baza nisk'!D160","v":"ODZIEŻ OCHRONNA RADIOLOGICZNA"},{"$f":"'baza nisk'!E160","v":3400},{"$f":"'baza nisk'!F160","v":"2.02.09.06"},{"$f":"'baza nisk'!G160","v":"Pracownia Hemodynamiki"},""]
[{"$f":"'baza nisk'!A161","v":"F-037C"},{"$f":"'baza nisk'!B161","v":"Fartuch ochronny RTG DG 0,50/0,25 60X110 [MM]"},{"$f":"'baza nisk'!C161","v":"ODZIEŻ OCHRONNA RADIOLOGICZNA"},{"$f":"'baza nisk'!D161","v":"ODZIEŻ OCHRONNA RADIOLOGICZNA"},{"$f":"'baza nisk'!E161","v":3400},{"$f":"'baza nisk'!F161","v":"2.07.04"},{"$f":"'baza nisk'!G161","v":"DODO -Pracownia Diagnostyczno - Zabiegowa Naczyń"},""]
[{"$f":"'baza nisk'!A162","v":"F-037C"},{"$f":"'baza nisk'!B162","v":"Fartuch ochronny RTG DG 0,50/0,25 60X110 [MM]"},{"$f":"'baza nisk'!C162","v":"ODZIEŻ OCHRONNA RADIOLOGICZNA"},{"$f":"'baza nisk'!D162","v":"ODZIEŻ OCHRONNA RADIOLOGICZNA"},{"$f":"'baza nisk'!E162","v":3400},{"$f":"'baza nisk'!F162","v":"2.07.01"},{"$f":"'baza nisk'!G162","v":"DODO -Pracownia RTG"},""]
[{"$f":"'baza nisk'!A163","v":"F-037C"},{"$f":"'baza nisk'!B163","v":"Fartuch ochronny RTG DG 0,50/0,25 60X110 [MM]"},{"$f":"'baza nisk'!C163","v":"ODZIEŻ OCHRONNA RADIOLOGICZNA"},{"$f":"'baza nisk'!D163","v":"ODZIEŻ OCHRONNA RADIOLOGICZNA"},{"$f":"'baza nisk'!E163","v":3400},{"$f":"'baza nisk'!F163","v":"2.02.09.06"},{"$f":"'baza nisk'!G163","v":"Pracownia Hemodynamiki"},""]
[{"$f":"'baza nisk'!A164","v":"F-037D"},{"$f":"'baza nisk'!B164","v":"Fartuch ochronny RTG DG 0,50/0,25 68X100 [LS]"},{"$f":"'baza nisk'!C164","v":"ODZIEŻ OCHRONNA RADIOLOGICZNA"},{"$f":"'baza nisk'!D164","v":"ODZIEŻ OCHRONNA RADIOLOGICZNA"},{"$f":"'baza nisk'!E164","v":3400},{"$f":"'baza nisk'!F164","v":"2.07.04"},{"$f":"'baza nisk'!G164","v":"DODO -Pracownia Diagnostyczno - Zabiegowa Naczyń"},""]
[{"$f":"'baza nisk'!A165","v":"F-037E"},{"$f":"'baza nisk'!B165","v":"Fartuch ochronny RTG DG 0,50/0,25 6OX120 [ML]"},{"$f":"'baza nisk'!C165","v":"ODZIEŻ OCHRONNA RADIOLOGICZNA"},{"$f":"'baza nisk'!D165","v":"ODZIEŻ OCHRONNA RADIOLOGICZNA"},{"$f":"'baza nisk'!E165","v":3400},{"$f":"'baza nisk'!F165","v":"2.02.09.11"},{"$f":"'baza nisk'!G165","v":"Oddział Kardiologiczny"},""]
[{"$f":"'baza nisk'!A166","v":"F-037F"},{"$f":"'baza nisk'!B166","v":"Fartuch ochronny RTG DG 0,50/0,25 68X120 [LL]"},{"$f":"'baza nisk'!C166","v":"ODZIEŻ OCHRONNA RADIOLOGICZNA"},{"$f":"'baza nisk'!D166","v":"ODZIEŻ OCHRONNA RADIOLOGICZNA"},{"$f":"'baza nisk'!E166","v":3400},{"$f":"'baza nisk'!F166","v":"2.07.04"},{"$f":"'baza nisk'!G166","v":"DODO -Pracownia Diagnostyczno - Zabiegowa Naczyń"},{"$f":"IF($I$1=G195,$I$1,\"\")","v":""}]
[{"$f":"'baza nisk'!A167","v":"F-037G"},{"$f":"'baza nisk'!B167","v":"Fartuch ochronny RTG DG 0,50/0,25 72X120 [XLL]"},{"$f":"'baza nisk'!C167","v":"ODZIEŻ OCHRONNA RADIOLOGICZNA"},{"$f":"'baza nisk'!D167","v":"ODZIEŻ OCHRONNA RADIOLOGICZNA"},{"$f":"'baza nisk'!E167","v":3400},{"$f":"'baza nisk'!F167","v":"2.07.04"},{"$f":"'baza nisk'!G167","v":"DODO -Pracownia Diagnostyczno - Zabiegowa Naczyń"},""]
[{"$f":"'baza nisk'!A168","v":"F-037G"},{"$f":"'baza nisk'!B168","v":"Fartuch ochronny RTG DG 0,50/0,25 72X120 [XLL]"},{"$f":"'baza nisk'!C168","v":"ODZIEŻ OCHRONNA RADIOLOGICZNA"},{"$f":"'baza nisk'!D168","v":"ODZIEŻ OCHRONNA RADIOLOGICZNA"},{"$f":"'baza nisk'!E168","v":3400},{"$f":"'baza nisk'!F168","v":"2.02.09.05"},{"$f":"'baza nisk'!G168","v":"Pracownia Elektrofizjologii"},""]
[{"$f":"'baza nisk'!#REF!","v":{"$error":"#REF!"}},{"$f":"'baza nisk'!#REF!","v":{"$error":"#REF!"}},{"$f":"'baza nisk'!#REF!","v":{"$error":"#REF!"}},{"$f":"'baza nisk'!#REF!","v":{"$error":"#REF!"}},{"$f":"'baza nisk'!#REF!","v":{"$error":"#REF!"}},{"$f":"'baza nisk'!#REF!","v":{"$error":"#REF!"}},{"$f":"'baza nisk'!#REF!","v":{"$error":"#REF!"}},{"$error":"#REF!"}]
[{"$f":"'baza nisk'!#REF!","v":{"$error":"#REF!"}},{"$f":"'baza nisk'!#REF!","v":{"$error":"#REF!"}},{"$f":"'baza nisk'!#REF!","v":{"$error":"#REF!"}},{"$f":"'baza nisk'!#REF!","v":{"$error":"#REF!"}},{"$f":"'baza nisk'!#REF!","v":{"$error":"#REF!"}},{"$f":"'baza nisk'!#REF!","v":{"$error":"#REF!"}},{"$f":"'baza nisk'!#REF!","v":{"$error":"#REF!"}},{"$error":"#REF!"}]
[{"$f":"'baza nisk'!#REF!","v":{"$error":"#REF!"}},{"$f":"'baza nisk'!#REF!","v":{"$error":"#REF!"}},{"$f":"'baza nisk'!#REF!","v":{"$error":"#REF!"}},{"$f":"'baza nisk'!#REF!","v":{"$error":"#REF!"}},{"$f":"'baza nisk'!#REF!","v":{"$error":"#REF!"}},{"$f":"'baza nisk'!#REF!","v":{"$error":"#REF!"}},{"$f":"'baza nisk'!#REF!","v":{"$error":"#REF!"}},{"$error":"#REF!"}]
[{"$f":"'baza nisk'!#REF!","v":{"$error":"#REF!"}},{"$f":"'baza nisk'!#REF!","v":{"$error":"#REF!"}},{"$f":"'baza nisk'!#REF!","v":{"$error":"#REF!"}},{"$f":"'baza nisk'!#REF!","v":{"$error":"#REF!"}},{"$f":"'baza nisk'!#REF!","v":{"$error":"#REF!"}},{"$f":"'baza nisk'!#REF!","v":{"$error":"#REF!"}},{"$f":"'baza nisk'!#REF!","v":{"$error":"#REF!"}},{"$error":"#REF!"}]
[{"$f":"'baza nisk'!#REF!","v":{"$error":"#REF!"}},{"$f":"'baza nisk'!#REF!","v":{"$error":"#REF!"}},{"$f":"'baza nisk'!#REF!","v":{"$error":"#REF!"}},{"$f":"'baza nisk'!#REF!","v":{"$error":"#REF!"}},{"$f":"'baza nisk'!#REF!","v":{"$error":"#REF!"}},{"$f":"'baza nisk'!#REF!","v":{"$error":"#REF!"}},{"$f":"'baza nisk'!#REF!","v":{"$error":"#REF!"}},{"$error":"#REF!"}]
[{"$f":"'baza nisk'!A169","v":"F-037H"},{"$f":"'baza nisk'!B169","v":"Fartuch ochronny RTG dwuczęściowy kam.męski L d"},{"$f":"'baza nisk'!C169","v":"ODZIEŻ OCHRONNA RADIOLOGICZNA"},{"$f":"'baza nisk'!D169","v":"ODZIEŻ OCHRONNA RADIOLOGICZNA"},{"$f":"'baza nisk'!E169","v":3400},{"$f":"'baza nisk'!F169","v":"2.02.10"},{"$f":"'baza nisk'!G169","v":"Oddział Kardiologii Dziecięcej z Pododdziałem Kardiochirurgi"},""]
[{"$f":"'baza nisk'!#REF!","v":{"$error":"#REF!"}},{"$f":"'baza nisk'!#REF!","v":{"$error":"#REF!"}},{"$f":"'baza nisk'!#REF!","v":{"$error":"#REF!"}},{"$f":"'baza nisk'!#REF!","v":{"$error":"#REF!"}},{"$f":"'baza nisk'!#REF!","v":{"$error":"#REF!"}},{"$f":"'baza nisk'!#REF!","v":{"$error":"#REF!"}},{"$f":"'baza nisk'!#REF!","v":{"$error":"#REF!"}},{"$error":"#REF!"}]
[{"$f":"'baza nisk'!#REF!","v":{"$error":"#REF!"}},{"$f":"'baza nisk'!#REF!","v":{"$error":"#REF!"}},{"$f":"'baza nisk'!#REF!","v":{"$error":"#REF!"}},{"$f":"'baza nisk'!#REF!","v":{"$error":"#REF!"}},{"$f":"'baza nisk'!#REF!","v":{"$error":"#REF!"}},{"$f":"'baza nisk'!#REF!","v":{"$error":"#REF!"}},{"$f":"'baza nisk'!#REF!","v":{"$error":"#REF!"}},{"$error":"#REF!"}]
[{"$f":"'baza nisk'!#REF!","v":{"$error":"#REF!"}},{"$f":"'baza nisk'!#REF!","v":{"$error":"#REF!"}},{"$f":"'baza nisk'!#REF!","v":{"$error":"#REF!"}},{"$f":"'baza nisk'!#REF!","v":{"$error":"#REF!"}},{"$f":"'baza nisk'!#REF!","v":{"$error":"#REF!"}},{"$f":"'baza nisk'!#REF!","v":{"$error":"#REF!"}},{"$f":"'baza nisk'!#REF!","v":{"$error":"#REF!"}},{"$error":"#REF!"}]
[{"$f":"'baza nisk'!#REF!","v":{"$error":"#REF!"}},{"$f":"'baza nisk'!#REF!","v":{"$error":"#REF!"}},{"$f":"'baza nisk'!#REF!","v":{"$error":"#REF!"}},{"$f":"'baza nisk'!#REF!","v":{"$error":"#REF!"}},{"$f":"'baza nisk'!#REF!","v":{"$error":"#REF!"}},{"$f":"'baza nisk'!#REF!","v":{"$error":"#REF!"}},{"$f":"'baza nisk'!#REF!","v":{"$error":"#REF!"}},{"$error":"#REF!"}]
[{"$f":"'baza nisk'!A170","v":"F-037I"},{"$f":"'baza nisk'!B170","v":"Fartuch ochronny RTG dwuczęściowy kam.męski L d"},{"$f":"'baza nisk'!C170","v":"ODZIEŻ OCHRONNA RADIOLOGICZNA"},{"$f":"'baza nisk'!D170","v":"ODZIEŻ OCHRONNA RADIOLOGICZNA"},{"$f":"'baza nisk'!E170","v":3400},{"$f":"'baza nisk'!F170","v":"2.02.10"},{"$f":"'baza nisk'!G170","v":"Oddział Kardiologii Dziecięcej z Pododdziałem Kardiochirurgi"},""]
[{"$f":"'baza nisk'!#REF!","v":{"$error":"#REF!"}},{"$f":"'baza nisk'!#REF!","v":{"$error":"#REF!"}},{"$f":"'baza nisk'!#REF!","v":{"$error":"#REF!"}},{"$f":"'baza nisk'!#REF!","v":{"$error":"#REF!"}},{"$f":"'baza nisk'!#REF!","v":{"$error":"#REF!"}},{"$f":"'baza nisk'!#REF!","v":{"$error":"#REF!"}},{"$f":"'baza nisk'!#REF!","v":{"$error":"#REF!"}},{"$error":"#REF!"}]
[{"$f":"'baza nisk'!A171","v":"F-037J"},{"$f":"'baza nisk'!B171","v":"Fartuch ochronny RTG dwuczęściowy kam.damski M"},{"$f":"'baza nisk'!C171","v":"ODZIEŻ OCHRONNA RADIOLOGICZNA"},{"$f":"'baza nisk'!D171","v":"ODZIEŻ OCHRONNA RADIOLOGICZNA"},{"$f":"'baza nisk'!E171","v":3400},{"$f":"'baza nisk'!F171","v":"2.02.10"},{"$f":"'baza nisk'!G171","v":"Oddział Kardiologii Dziecięcej z Pododdziałem Kardiochirurgi"},""]
[{"$f":"'baza nisk'!A172","v":"F-037K"},{"$f":"'baza nisk'!B172","v":"Fartuch ochronny RTG DG 0,50/0,25 [XL]"},{"$f":"'baza nisk'!C172","v":"ODZIEŻ OCHRONNA RADIOLOGICZNA"},{"$f":"'baza nisk'!D172","v":"ODZIEŻ OCHRONNA RADIOLOGICZNA"},{"$f":"'baza nisk'!E172","v":3400},{"$f":"'baza nisk'!F172","v":"2.02.17.01"},{"$f":"'baza nisk'!G172","v":"Oddział Urologii i Urologii Onkologicznej"},""]
[{"$f":"'baza nisk'!A173","v":"F-037L"},{"$f":"'baza nisk'!B173","v":"Fartuch ochronny RTG DG 0,50/0,25 [XXL]"},{"$f":"'baza nisk'!C173","v":"ODZIEŻ OCHRONNA RADIOLOGICZNA"},{"$f":"'baza nisk'!D173","v":"ODZIEŻ OCHRONNA RADIOLOGICZNA"},{"$f":"'baza nisk'!E173","v":3400},{"$f":"'baza nisk'!F173","v":"2.02.17.01"},{"$f":"'baza nisk'!G173","v":"Oddział Urologii i Urologii Onkologicznej"},""]
[{"$f":"'baza nisk'!A174","v":"F-037Ł"},{"$f":"'baza nisk'!B174","v":"Fartuch ochronny RTG DG 0,50/ [M]"},{"$f":"'baza nisk'!C174","v":"ODZIEŻ OCHRONNA RADIOLOGICZNA"},{"$f":"'baza nisk'!D174","v":"ODZIEŻ OCHRONNA RADIOLOGICZNA"},{"$f":"'baza nisk'!E174","v":3400},{"$f":"'baza nisk'!F174","v":"2.02.17.01"},{"$f":"'baza nisk'!G174","v":"Oddział Urologii i Urologii Onkologicznej"},""]
[{"$f":"'baza nisk'!A175","v":"F-037M"},{"$f":"'baza nisk'!B175","v":"Fartuch ochronny RTG DG 0,50 [L]"},{"$f":"'baza nisk'!C175","v":"ODZIEŻ OCHRONNA RADIOLOGICZNA"},{"$f":"'baza nisk'!D175","v":"ODZIEŻ OCHRONNA RADIOLOGICZNA"},{"$f":"'baza nisk'!E175","v":3400},{"$f":"'baza nisk'!F175","v":"2.02.17.01"},{"$f":"'baza nisk'!G175","v":"Oddział Urologii i Urologii Onkologicznej"},""]
[{"$f":"'baza nisk'!A176","v":"H-014"},{"$f":"'baza nisk'!B176","v":"Haczyk do elektrokoagulacji 8mm na 10 użyć"},{"$f":"'baza nisk'!C176","v":"NARZĘDZIA MEDYCZNE"},{"$f":"'baza nisk'!D176","v":"NARZ. MEDYCZNE"},{"$f":"'baza nisk'!E176","v":10000},{"$f":"'baza nisk'!F176","v":"2.04.01"},{"$f":"'baza nisk'!G176","v":"Blok Operacyjny"},""]
[{"$f":"'baza nisk'!A177","v":"H-014"},{"$f":"'baza nisk'!B177","v":"Haczyk do elektrokoagulacji 8mm na 10 użyć"},{"$f":"'baza nisk'!C177","v":"NARZĘDZIA MEDYCZNE"},{"$f":"'baza nisk'!D177","v":"NARZ. MEDYCZNE"},{"$f":"'baza nisk'!E177","v":10000},{"$f":"'baza nisk'!F177","v":"2.04.02"},{"$f":"'baza nisk'!G177","v":"Blok Operacyjny DAVINCI"},""]
[{"$f":"'baza nisk'!A178","v":"H-014A"},{"$f":"'baza nisk'!B178","v":"Haczyk do elektrokoagulacji Nr partii M10130522"},{"$f":"'baza nisk'!C178","v":"NARZĘDZIA MEDYCZNE"},{"$f":"'baza nisk'!D178","v":"NARZ. MEDYCZNE"},{"$f":"'baza nisk'!E178","v":10000},{"$f":"'baza nisk'!F178","v":"2.04.01"},{"$f":"'baza nisk'!G178","v":"Blok Operacyjny"},""]
[{"$f":"'baza nisk'!A179","v":"H-020"},{"$f":"'baza nisk'!B179","v":"Haczyk mikr. T.Graffe tępy dł.8"},{"$f":"'baza nisk'!C179","v":"NARZĘDZIA MEDYCZNE"},{"$f":"'baza nisk'!D179","v":"NARZ. MEDYCZNE"},{"$f":"'baza nisk'!E179","v":70},{"$f":"'baza nisk'!F179","v":"2.02.13"},{"$f":"'baza nisk'!G179","v":"Oddział Okulistyczny"},""]
[{"$f":"'baza nisk'!A180","v":"H-021"},{"$f":"'baza nisk'!B180","v":"Hak operacyjny FARABEUF 25x10/32x12-22x10/28x12"},{"$f":"'baza nisk'!C180","v":"NARZĘDZIA MEDYCZNE"},{"$f":"'baza nisk'!D180","v":"NARZ. MEDYCZNE"},{"$f":"'baza nisk'!E180","v":51},{"$f":"'baza nisk'!F180","v":"2.04.01"},{"$f":"'baza nisk'!G180","v":"Blok Operacyjny"},""]
[{"$f":"'baza nisk'!A181","v":"H-021A"},{"$f":"'baza nisk'!B181","v":"Hak operacyjny FARABEUF 23x16/28x16-20x16/24x16"},{"$f":"'baza nisk'!C181","v":"NARZĘDZIA MEDYCZNE"},{"$f":"'baza nisk'!D181","v":"NARZ. MEDYCZNE"},{"$f":"'baza nisk'!E181","v":63},{"$f":"'baza nisk'!F181","v":"2.04.01"},{"$f":"'baza nisk'!G181","v":"Blok Operacyjny"},""]
[{"$f":"'baza nisk'!A182","v":"H-022"},{"$f":"'baza nisk'!B182","v":"Hak operacyjny RICHARDSON 30x29mm BT476R"},{"$f":"'baza nisk'!C182","v":"NARZĘDZIA MEDYCZNE"},{"$f":"'baza nisk'!D182","v":"NARZ. MEDYCZNE"},{"$f":"'baza nisk'!E182","v":220},{"$f":"'baza nisk'!F182","v":"2.04.01"},{"$f":"'baza nisk'!G182","v":"Blok Operacyjny"},""]
[{"$f":"'baza nisk'!A183","v":"H-023"},{"$f":"'baza nisk'!B183","v":"Haczyk oper.i tchawicz.4Z.ostry BT124R"},{"$f":"'baza nisk'!C183","v":"NARZĘDZIA MEDYCZNE"},{"$f":"'baza nisk'!D183","v":"NARZ. MEDYCZNE"},{"$f":"'baza nisk'!E183","v":120},{"$f":"'baza nisk'!F183","v":"2.04.01"},{"$f":"'baza nisk'!G183","v":"Blok Operacyjny"},""]
[{"$f":"'baza nisk'!A184","v":"H-023"},{"$f":"'baza nisk'!B184","v":"Haczyk oper.i tchawicz.4Z.ostry BT124R"},{"$f":"'baza nisk'!C184","v":"NARZĘDZIA MEDYCZNE"},{"$f":"'baza nisk'!D184","v":"NARZ. MEDYCZNE"},{"$f":"'baza nisk'!E184","v":120},{"$f":"'baza nisk'!F184","v":"2.04.03"},{"$f":"'baza nisk'!G184","v":"Zamiejscowy Blok Operacyjny"},""]
[{"$f":"'baza nisk'!A185","v":"H-024"},{"$f":"'baza nisk'!B185","v":"Haczyk op.delikat.modyf.4Z.ostry BT114R"},{"$f":"'baza nisk'!C185","v":"NARZĘDZIA MEDYCZNE"},{"$f":"'baza nisk'!D185","v":"NARZ. MEDYCZNE"},{"$f":"'baza nisk'!E185","v":120},{"$f":"'baza nisk'!F185","v":"2.04.01"},{"$f":"'baza nisk'!G185","v":"Blok Operacyjny"},""]
[{"$f":"'baza nisk'!A186","v":"H-024"},{"$f":"'baza nisk'!B186","v":"Haczyk op.delikat.modyf.4Z.ostry BT114R"},{"$f":"'baza nisk'!C186","v":"NARZĘDZIA MEDYCZNE"},{"$f":"'baza nisk'!D186","v":"NARZ. MEDYCZNE"},{"$f":"'baza nisk'!E186","v":120},{"$f":"'baza nisk'!F186","v":"2.04.03"},{"$f":"'baza nisk'!G186","v":"Zamiejscowy Blok Operacyjny"},""]
[{"$f":"'baza nisk'!A187","v":"H-025"},{"$f":"'baza nisk'!B187","v":"Hak operacyjny VOLKMANN 6z. tępy 8,5x29mm BT230"},{"$f":"'baza nisk'!C187","v":"NARZĘDZIA MEDYCZNE"},{"$f":"'baza nisk'!D187","v":"NARZ. MEDYCZNE"},{"$f":"'baza nisk'!E187","v":245},{"$f":"'baza nisk'!F187","v":"2.04.01"},{"$f":"'baza nisk'!G187","v":"Blok Operacyjny"},""]
[{"$f":"'baza nisk'!A188","v":"H-025B"},{"$f":"'baza nisk'!B188","v":"Hak operacyjny VOLKMANN 4z. ostry 9x19mm BT244R"},{"$f":"'baza nisk'!C188","v":"NARZĘDZIA MEDYCZNE"},{"$f":"'baza nisk'!D188","v":"NARZ. MEDYCZNE"},{"$f":"'baza nisk'!E188","v":245},{"$f":"'baza nisk'!F188","v":"2.04.01"},{"$f":"'baza nisk'!G188","v":"Blok Operacyjny"},""]
[{"$f":"'baza nisk'!A189","v":"H-025C"},{"$f":"'baza nisk'!B189","v":"Hak operacyjny VOLKMANN 6z. ostry 9x29mm BT246R"},{"$f":"'baza nisk'!C189","v":"NARZĘDZIA MEDYCZNE"},{"$f":"'baza nisk'!D189","v":"NARZ. MEDYCZNE"},{"$f":"'baza nisk'!E189","v":245},{"$f":"'baza nisk'!F189","v":"2.04.01"},{"$f":"'baza nisk'!G189","v":"Blok Operacyjny"},""]
[{"$f":"'baza nisk'!A190","v":"H-028"},{"$f":"'baza nisk'!B190","v":"Hak operacyjny OLLIER 4z.tępy 35x55mm BT288R"},{"$f":"'baza nisk'!C190","v":"NARZĘDZIA MEDYCZNE"},{"$f":"'baza nisk'!D190","v":"NARZ. MEDYCZNE"},{"$f":"'baza nisk'!E190","v":334},{"$f":"'baza nisk'!F190","v":"2.04.01"},{"$f":"'baza nisk'!G190","v":"Blok Operacyjny"},""]
[{"$f":"'baza nisk'!A191","v":"H-030"},{"$f":"'baza nisk'!B191","v":"Hak brzuszny FRITSCH 64x85mm #5 BT659R"},{"$f":"'baza nisk'!C191","v":"NARZĘDZIA MEDYCZNE"},{"$f":"'baza nisk'!D191","v":"NARZ. MEDYCZNE"},{"$f":"'baza nisk'!E191","v":420},{"$f":"'baza nisk'!F191","v":"2.04.01"},{"$f":"'baza nisk'!G191","v":"Blok Operacyjny"},""]
[{"$f":"'baza nisk'!A192","v":"H-031"},{"$f":"'baza nisk'!B192","v":"Hak operacyjny CORYLLOS duży 115x65mm BT523R"},{"$f":"'baza nisk'!C192","v":"NARZĘDZIA MEDYCZNE"},{"$f":"'baza nisk'!D192","v":"NARZ. MEDYCZNE"},{"$f":"'baza nisk'!E192","v":700},{"$f":"'baza nisk'!F192","v":"2.04.01"},{"$f":"'baza nisk'!G192","v":"Blok Operacyjny"},""]
[{"$f":"'baza nisk'!A193","v":"H-032"},{"$f":"'baza nisk'!B193","v":"Hak operacyjny US-ARMY 26x15/43x15-23x15/40x15"},{"$f":"'baza nisk'!C193","v":"NARZĘDZIA MEDYCZNE"},{"$f":"'baza nisk'!D193","v":"NARZ. MEDYCZNE"},{"$f":"'baza nisk'!E193","v":120},{"$f":"'baza nisk'!F193","v":"2.04.01"},{"$f":"'baza nisk'!G193","v":"Blok Operacyjny"},""]
[{"$f":"'baza nisk'!A194","v":"I-011A"},{"$f":"'baza nisk'!B194","v":"Inhalator pneumatyczny dla dorosłych "},{"$f":"'baza nisk'!C194","v":"POZOSTAŁE"},{"$f":"'baza nisk'!D194","v":"POZOSTAŁE"},{"$f":"'baza nisk'!E194","v":700},{"$f":"'baza nisk'!F194","v":"6.03"},{"$f":"'baza nisk'!G194","v":"Zamiejscowy Dział Rehabilitacji Leczniczej"},""]
[{"$f":"'baza nisk'!A195","v":"I-011A"},{"$f":"'baza nisk'!B195","v":"Inhalator pneumatyczny dla dorosłych "},{"$f":"'baza nisk'!C195","v":"POZOSTAŁE"},{"$f":"'baza nisk'!D195","v":"POZOSTAŁE"},{"$f":"'baza nisk'!E195","v":700},{"$f":"'baza nisk'!F195","v":"2.02.21"},{"$f":"'baza nisk'!G195","v":"Zamiejscowy Oddział Rehabilitacji Ogólnoustrojowej II"},""]
[{"$f":"'baza nisk'!A196","v":"I-011B"},{"$f":"'baza nisk'!B196","v":"Inhalator pneumatyczny ALPHAneb"},{"$f":"'baza nisk'!C196","v":"POZOSTAŁE"},{"$f":"'baza nisk'!D196","v":"POZOSTAŁE"},{"$f":"'baza nisk'!E196","v":144},{"$f":"'baza nisk'!F196","v":"2.02.18"},{"$f":"'baza nisk'!G196","v":"Zamiejscowy Oddział Chirurgii Urazowo - Ortopedycznej"},""]
[{"$f":"'baza nisk'!A197","v":"I-011B"},{"$f":"'baza nisk'!B197","v":"Inhalator pneumatyczny dla dorosłych "},{"$f":"'baza nisk'!C197","v":"POZOSTAŁE"},{"$f":"'baza nisk'!D197","v":"POZOSTAŁE"},{"$f":"'baza nisk'!E197","v":144},{"$f":"'baza nisk'!F197","v":"2.02.19"},{"$f":"'baza nisk'!G197","v":"Zamiejscowy Oddział Rehabilitacji Neurologicznej"},""]
[{"$f":"'baza nisk'!A198","v":"I-011C"},{"$f":"'baza nisk'!B198","v":"Inhalator tłokowy"},{"$f":"'baza nisk'!C198","v":"POZOSTAŁE"},{"$f":"'baza nisk'!D198","v":"POZOSTAŁE"},{"$f":"'baza nisk'!E198","v":860},{"$f":"'baza nisk'!F198","v":"2.02.10"},{"$f":"'baza nisk'!G198","v":"Oddział Kardiologii Dziecięcej z Pododdziałem Kardiochirurgi"},""]
[{"$f":"'baza nisk'!A199","v":"I-011C"},{"$f":"'baza nisk'!B199","v":"Inhalator tłokowy"},{"$f":"'baza nisk'!C199","v":"POZOSTAŁE"},{"$f":"'baza nisk'!D199","v":"POZOSTAŁE"},{"$f":"'baza nisk'!E199","v":860},{"$f":"'baza nisk'!F199","v":"2.02.18"},{"$f":"'baza nisk'!G199","v":"Zamiejscowy Oddział Chirurgii Urazowo - Ortopedycznej"},""]
[{"$f":"'baza nisk'!A200","v":"I-011C"},{"$f":"'baza nisk'!B200","v":"Inhalator tłokowy"},{"$f":"'baza nisk'!C200","v":"POZOSTAŁE"},{"$f":"'baza nisk'!D200","v":"POZOSTAŁE"},{"$f":"'baza nisk'!E200","v":860},{"$f":"'baza nisk'!F200","v":"2.02.19"},{"$f":"'baza nisk'!G200","v":"Zamiejscowy Oddział Rehabilitacji Neurologicznej"},""]
[{"$f":"'baza nisk'!A201","v":"I-013B"},{"$f":"'baza nisk'!B201","v":"Igłotrzymacz  HEGAR-MAYO "},{"$f":"'baza nisk'!C201","v":"NARZĘDZIA MEDYCZNE"},{"$f":"'baza nisk'!D201","v":"NARZ. MEDYCZNE"},{"$f":"'baza nisk'!E201","v":360},{"$f":"'baza nisk'!F201","v":"2.04.01"},{"$f":"'baza nisk'!G201","v":"Blok Operacyjny"},""]
[{"$f":"'baza nisk'!A202","v":"I-016"},{"$f":"'baza nisk'!B202","v":"Imadło duże 8mm na 10 użyć"},{"$f":"'baza nisk'!C202","v":"NARZĘDZIA MEDYCZNE"},{"$f":"'baza nisk'!D202","v":"NARZ. MEDYCZNE"},{"$f":"'baza nisk'!E202","v":10000},{"$f":"'baza nisk'!F202","v":"2.04.02"},{"$f":"'baza nisk'!G202","v":"Blok Operacyjny DAVINCI"},""]
[{"$f":"'baza nisk'!A203","v":"I-016A"},{"$f":"'baza nisk'!B203","v":"Imadło duże  Nr partii M10130531x1"},{"$f":"'baza nisk'!C203","v":"NARZĘDZIA MEDYCZNE"},{"$f":"'baza nisk'!D203","v":"NARZ. MEDYCZNE"},{"$f":"'baza nisk'!E203","v":10000},{"$f":"'baza nisk'!F203","v":"2.04.01"},{"$f":"'baza nisk'!G203","v":"Blok Operacyjny"},""]
[{"$f":"'baza nisk'!A204","v":"I-016B"},{"$f":"'baza nisk'!B204","v":"Imadło duże  Nr partii M10130531x2"},{"$f":"'baza nisk'!C204","v":"NARZĘDZIA MEDYCZNE"},{"$f":"'baza nisk'!D204","v":"NARZ. MEDYCZNE"},{"$f":"'baza nisk'!E204","v":10000},{"$f":"'baza nisk'!F204","v":"2.04.01"},{"$f":"'baza nisk'!G204","v":"Blok Operacyjny"},""]
[{"$f":"'baza nisk'!A205","v":"I-016C"},{"$f":"'baza nisk'!B205","v":"Imadło duże Nr partii M11131204X2"},{"$f":"'baza nisk'!C205","v":"NARZĘDZIA MEDYCZNE"},{"$f":"'baza nisk'!D205","v":"NARZ. MEDYCZNE"},{"$f":"'baza nisk'!E205","v":10000},{"$f":"'baza nisk'!F205","v":"2.04.01"},{"$f":"'baza nisk'!G205","v":"Blok Operacyjny"},""]
[{"$f":"'baza nisk'!A206","v":"I-016E"},{"$f":"'baza nisk'!B206","v":"Imadło duże  Nr partii N10141003x1"},{"$f":"'baza nisk'!C206","v":"NARZĘDZIA MEDYCZNE"},{"$f":"'baza nisk'!D206","v":"NARZ. MEDYCZNE"},{"$f":"'baza nisk'!E206","v":10000},{"$f":"'baza nisk'!F206","v":"2.04.02"},{"$f":"'baza nisk'!G206","v":"Blok Operacyjny DAVINCI"},""]
[{"$f":"'baza nisk'!A207","v":"I-021A"},{"$f":"'baza nisk'!B207","v":"Imadło duże typu SutureCut Nr partii-M10130516x"},{"$f":"'baza nisk'!C207","v":"NARZĘDZIA MEDYCZNE"},{"$f":"'baza nisk'!D207","v":"NARZ. MEDYCZNE"},{"$f":"'baza nisk'!E207","v":10000},{"$f":"'baza nisk'!F207","v":"2.04.01"},{"$f":"'baza nisk'!G207","v":"Blok Operacyjny"},""]
[{"$f":"'baza nisk'!A208","v":"I-026"},{"$f":"'baza nisk'!B208","v":"Igłotrzymacz mikrochirurgiczny dł.125mm 5\" szcz"},{"$f":"'baza nisk'!C208","v":"NARZĘDZIA MEDYCZNE"},{"$f":"'baza nisk'!D208","v":"NARZ. MEDYCZNE"},{"$f":"'baza nisk'!E208","v":170},{"$f":"'baza nisk'!F208","v":"2.02.13"},{"$f":"'baza nisk'!G208","v":"Oddział Okulistyczny"},""]
[{"$f":"'baza nisk'!A209","v":"I-027"},{"$f":"'baza nisk'!B209","v":"Igłotrzymacz mikrochirurgiczny dł.135mm 5 1/4\"s"},{"$f":"'baza nisk'!C209","v":"NARZĘDZIA MEDYCZNE"},{"$f":"'baza nisk'!D209","v":"NARZ. MEDYCZNE"},{"$f":"'baza nisk'!E209","v":170},{"$f":"'baza nisk'!F209","v":"2.02.13"},{"$f":"'baza nisk'!G209","v":"Oddział Okulistyczny"},""]
[{"$f":"'baza nisk'!A210","v":"I-028"},{"$f":"'baza nisk'!B210","v":"Imadło,odgięty pyszczek,dł.125mm typ Castroviej"},{"$f":"'baza nisk'!C210","v":"NARZĘDZIA MEDYCZNE"},{"$f":"'baza nisk'!D210","v":"NARZ. MEDYCZNE"},{"$f":"'baza nisk'!E210","v":1300},{"$f":"'baza nisk'!F210","v":"2.02.13"},{"$f":"'baza nisk'!G210","v":"Oddział Okulistyczny"},""]
[{"$f":"'baza nisk'!A211","v":"I-029"},{"$f":"'baza nisk'!B211","v":"Igłotrzymacz typ DE BAKEY dł.230mm prosty z tw."},{"$f":"'baza nisk'!C211","v":"NARZĘDZIA MEDYCZNE"},{"$f":"'baza nisk'!D211","v":"NARZ. MEDYCZNE"},{"$f":"'baza nisk'!E211","v":350},{"$f":"'baza nisk'!F211","v":"2.04.01"},{"$f":"'baza nisk'!G211","v":"Blok Operacyjny"},""]
[{"$f":"'baza nisk'!A212","v":"I-029A"},{"$f":"'baza nisk'!B212","v":"Igłotrzymacz typ DE BAKEY dł.177mm prosty z tw."},{"$f":"'baza nisk'!C212","v":"NARZĘDZIA MEDYCZNE"},{"$f":"'baza nisk'!D212","v":"NARZ. MEDYCZNE"},{"$f":"'baza nisk'!E212","v":350},{"$f":"'baza nisk'!F212","v":"2.04.01"},{"$f":"'baza nisk'!G212","v":"Blok Operacyjny"},""]
[{"$f":"'baza nisk'!A213","v":"I-030"},{"$f":"'baza nisk'!B213","v":"Igłotrzymacz typ CASTROVIEJO dł.140mm prosty z"},{"$f":"'baza nisk'!C213","v":"NARZĘDZIA MEDYCZNE"},{"$f":"'baza nisk'!D213","v":"NARZ. MEDYCZNE"},{"$f":"'baza nisk'!E213","v":420},{"$f":"'baza nisk'!F213","v":"2.04.01"},{"$f":"'baza nisk'!G213","v":"Blok Operacyjny"},""]
[{"$f":"'baza nisk'!A214","v":"I-031"},{"$f":"'baza nisk'!B214","v":"Imadło chirurgiczne HEGAR-MAYO 150mm BM235R"},{"$f":"'baza nisk'!C214","v":"NARZĘDZIA MEDYCZNE"},{"$f":"'baza nisk'!D214","v":"NARZ. MEDYCZNE"},{"$f":"'baza nisk'!E214","v":90},{"$f":"'baza nisk'!F214","v":"2.04.01"},{"$f":"'baza nisk'!G214","v":"Blok Operacyjny"},""]
[{"$f":"'baza nisk'!#REF!","v":{"$error":"#REF!"}},{"$f":"'baza nisk'!#REF!","v":{"$error":"#REF!"}},{"$f":"'baza nisk'!#REF!","v":{"$error":"#REF!"}},{"$f":"'baza nisk'!#REF!","v":{"$error":"#REF!"}},{"$f":"'baza nisk'!#REF!","v":{"$error":"#REF!"}},{"$f":"'baza nisk'!#REF!","v":{"$error":"#REF!"}},{"$f":"'baza nisk'!#REF!","v":{"$error":"#REF!"}},{"$error":"#REF!"}]
[{"$f":"'baza nisk'!#REF!","v":{"$error":"#REF!"}},{"$f":"'baza nisk'!#REF!","v":{"$error":"#REF!"}},{"$f":"'baza nisk'!#REF!","v":{"$error":"#REF!"}},{"$f":"'baza nisk'!#REF!","v":{"$error":"#REF!"}},{"$f":"'baza nisk'!#REF!","v":{"$error":"#REF!"}},{"$f":"'baza nisk'!#REF!","v":{"$error":"#REF!"}},{"$f":"'baza nisk'!#REF!","v":{"$error":"#REF!"}},{"$error":"#REF!"}]
[{"$f":"'baza nisk'!#REF!","v":{"$error":"#REF!"}},{"$f":"'baza nisk'!#REF!","v":{"$error":"#REF!"}},{"$f":"'baza nisk'!#REF!","v":{"$error":"#REF!"}},{"$f":"'baza nisk'!#REF!","v":{"$error":"#REF!"}},{"$f":"'baza nisk'!#REF!","v":{"$error":"#REF!"}},{"$f":"'baza nisk'!#REF!","v":{"$error":"#REF!"}},{"$f":"'baza nisk'!#REF!","v":{"$error":"#REF!"}},{"$error":"#REF!"}]
[{"$f":"'baza nisk'!#REF!","v":{"$error":"#REF!"}},{"$f":"'baza nisk'!#REF!","v":{"$error":"#REF!"}},{"$f":"'baza nisk'!#REF!","v":{"$error":"#REF!"}},{"$f":"'baza nisk'!#REF!","v":{"$error":"#REF!"}},{"$f":"'baza nisk'!#REF!","v":{"$error":"#REF!"}},{"$f":"'baza nisk'!#REF!","v":{"$error":"#REF!"}},{"$f":"'baza nisk'!#REF!","v":{"$error":"#REF!"}},{"$error":"#REF!"}]
[{"$f":"'baza nisk'!A215","v":"I-031"},{"$f":"'baza nisk'!B215","v":"Imadło chirurgiczne HEGAR-MAYO 150mm BM235R"},{"$f":"'baza nisk'!C215","v":"NARZĘDZIA MEDYCZNE"},{"$f":"'baza nisk'!D215","v":"NARZ. MEDYCZNE"},{"$f":"'baza nisk'!E215","v":90},{"$f":"'baza nisk'!F215","v":"2.04.03"},{"$f":"'baza nisk'!G215","v":"Zamiejscowy Blok Operacyjny"},""]
[{"$f":"'baza nisk'!A216","v":"I-031A"},{"$f":"'baza nisk'!B216","v":"Imadło chirurgiczne HEGAR-MAYO 190mm BM242R"},{"$f":"'baza nisk'!C216","v":"NARZĘDZIA MEDYCZNE"},{"$f":"'baza nisk'!D216","v":"NARZ. MEDYCZNE"},{"$f":"'baza nisk'!E216","v":340},{"$f":"'baza nisk'!F216","v":"2.04.01"},{"$f":"'baza nisk'!G216","v":"Blok Operacyjny"},{"$f":"IF($I$1=G259,$I$1,\"\")","v":""}]
[{"$f":"'baza nisk'!A217","v":"I-031A"},{"$f":"'baza nisk'!B217","v":"Imadło chirurgiczne HEGAR-MAYO 190mm BM242R"},{"$f":"'baza nisk'!C217","v":"NARZĘDZIA MEDYCZNE"},{"$f":"'baza nisk'!D217","v":"NARZ. MEDYCZNE"},{"$f":"'baza nisk'!E217","v":340},{"$f":"'baza nisk'!F217","v":"2.04.03"},{"$f":"'baza nisk'!G217","v":"Zamiejscowy Blok Operacyjny"},""]
[{"$f":"'baza nisk'!A218","v":"I-031B"},{"$f":"'baza nisk'!B218","v":"Imadło chirurgiczne HEGAR-MAYO 205mm DUROGRIP B"},{"$f":"'baza nisk'!C218","v":"NARZĘDZIA MEDYCZNE"},{"$f":"'baza nisk'!D218","v":"NARZ. MEDYCZNE"},{"$f":"'baza nisk'!E218","v":300},{"$f":"'baza nisk'!F218","v":"2.04.01"},{"$f":"'baza nisk'!G218","v":"Blok Operacyjny"},""]
[{"$f":"'baza nisk'!A219","v":"I-031B"},{"$f":"'baza nisk'!B219","v":"Imadło chirurgiczne HEGAR-MAYO 205mm DUROGRIP B"},{"$f":"'baza nisk'!C219","v":"NARZĘDZIA MEDYCZNE"},{"$f":"'baza nisk'!D219","v":"NARZ. MEDYCZNE"},{"$f":"'baza nisk'!E219","v":300},{"$f":"'baza nisk'!F219","v":"2.02.08"},{"$f":"'baza nisk'!G219","v":"Oddział Położniczo – Ginekologiczny"},""]
[{"$f":"'baza nisk'!A220","v":"I-031C"},{"$f":"'baza nisk'!B220","v":"Imadło chirurgiczne HEGAR-MAYO 185mm BM236R"},{"$f":"'baza nisk'!C220","v":"NARZĘDZIA MEDYCZNE"},{"$f":"'baza nisk'!D220","v":"NARZ. MEDYCZNE"},{"$f":"'baza nisk'!E220","v":105},{"$f":"'baza nisk'!F220","v":"2.04.01"},{"$f":"'baza nisk'!G220","v":"Blok Operacyjny"},""]
[{"$f":"'baza nisk'!A221","v":"I-031D"},{"$f":"'baza nisk'!B221","v":"Imadło chirurgiczne HEGAR-MAYO 15,5cm TC"},{"$f":"'baza nisk'!C221","v":"NARZĘDZIA MEDYCZNE"},{"$f":"'baza nisk'!D221","v":"NARZ. MEDYCZNE"},{"$f":"'baza nisk'!E221","v":300},{"$f":"'baza nisk'!F221","v":"2.07.04"},{"$f":"'baza nisk'!G221","v":"DODO -Pracownia Diagnostyczno - Zabiegowa Naczyń"},""]
[{"$f":"'baza nisk'!A222","v":"I-033"},{"$f":"'baza nisk'!B222","v":"Imadło chirurgiczne CRILE-WOOD mocn. 160mm BM22"},{"$f":"'baza nisk'!C222","v":"NARZĘDZIA MEDYCZNE"},{"$f":"'baza nisk'!D222","v":"NARZ. MEDYCZNE"},{"$f":"'baza nisk'!E222","v":300},{"$f":"'baza nisk'!F222","v":"2.04.01"},{"$f":"'baza nisk'!G222","v":"Blok Operacyjny"},""]
[{"$f":"'baza nisk'!A223","v":"I-033"},{"$f":"'baza nisk'!B223","v":"Imadło chirurgiczne CRILE-WOOD mocn. 160mm BM22"},{"$f":"'baza nisk'!C223","v":"NARZĘDZIA MEDYCZNE"},{"$f":"'baza nisk'!D223","v":"NARZ. MEDYCZNE"},{"$f":"'baza nisk'!E223","v":300},{"$f":"'baza nisk'!F223","v":"2.04.03"},{"$f":"'baza nisk'!G223","v":"Zamiejscowy Blok Operacyjny"},""]
[{"$f":"'baza nisk'!A224","v":"I-034"},{"$f":"'baza nisk'!B224","v":"Imadło chirurgiczne DE'BAKEY 180mm BM 035R"},{"$f":"'baza nisk'!C224","v":"NARZĘDZIA MEDYCZNE"},{"$f":"'baza nisk'!D224","v":"NARZ. MEDYCZNE"},{"$f":"'baza nisk'!E224","v":300},{"$f":"'baza nisk'!F224","v":"2.04.03"},{"$f":"'baza nisk'!G224","v":"Zamiejscowy Blok Operacyjny"},""]
[{"$f":"'baza nisk'!A225","v":"I-035"},{"$f":"'baza nisk'!B225","v":"Imadło chirurgiczne RYDER smukłe 155mm DUROGRIP"},{"$f":"'baza nisk'!C225","v":"NARZĘDZIA MEDYCZNE"},{"$f":"'baza nisk'!D225","v":"NARZ. MEDYCZNE"},{"$f":"'baza nisk'!E225","v":400},{"$f":"'baza nisk'!F225","v":"2.04.03"},{"$f":"'baza nisk'!G225","v":"Zamiejscowy Blok Operacyjny"},""]
[{"$f":"'baza nisk'!A226","v":"I-036"},{"$f":"'baza nisk'!B226","v":"Imadło chirurgiczne WANGENSTEEN 275mm BM272R"},{"$f":"'baza nisk'!C226","v":"NARZĘDZIA MEDYCZNE"},{"$f":"'baza nisk'!D226","v":"NARZ. MEDYCZNE"},{"$f":"'baza nisk'!E226","v":350},{"$f":"'baza nisk'!F226","v":"2.04.01"},{"$f":"'baza nisk'!G226","v":"Blok Operacyjny"},""]
[{"$f":"'baza nisk'!A227","v":"I-037"},{"$f":"'baza nisk'!B227","v":"Instrument BiClamp,długość 20cm, ceramiczny   E"},{"$f":"'baza nisk'!C227","v":"NARZĘDZIA MEDYCZNE"},{"$f":"'baza nisk'!D227","v":"NARZ. MEDYCZNE"},{"$f":"'baza nisk'!E227","v":5000},{"$f":"'baza nisk'!F227","v":"2.04.01"},{"$f":"'baza nisk'!G227","v":"Blok Operacyjny"},""]
[{"$f":"'baza nisk'!A228","v":"I-037A"},{"$f":"'baza nisk'!B228","v":"Instrument BiClamp,długość 26cm, E20195-299"},{"$f":"'baza nisk'!C228","v":"NARZĘDZIA MEDYCZNE"},{"$f":"'baza nisk'!D228","v":"NARZ. MEDYCZNE"},{"$f":"'baza nisk'!E228","v":5000},{"$f":"'baza nisk'!F228","v":"2.04.01"},{"$f":"'baza nisk'!G228","v":"Blok Operacyjny"},""]
[{"$f":"'baza nisk'!A229","v":"I-037B"},{"$f":"'baza nisk'!B229","v":"Instrument BiClamp,długość 21cm, E20195-200"},{"$f":"'baza nisk'!C229","v":"NARZĘDZIA MEDYCZNE"},{"$f":"'baza nisk'!D229","v":"NARZ. MEDYCZNE"},{"$f":"'baza nisk'!E229","v":6000},{"$f":"'baza nisk'!F229","v":"2.04.01"},{"$f":"'baza nisk'!G229","v":"Blok Operacyjny"},""]
[{"$f":"'baza nisk'!A230","v":"I-037C"},{"$f":"'baza nisk'!B230","v":"Instrument BiClamp,długość 28cm, wygięcie 25 st"},{"$f":"'baza nisk'!C230","v":"NARZĘDZIA MEDYCZNE"},{"$f":"'baza nisk'!D230","v":"NARZ. MEDYCZNE"},{"$f":"'baza nisk'!E230","v":6000},{"$f":"'baza nisk'!F230","v":"2.04.01"},{"$f":"'baza nisk'!G230","v":"Blok Operacyjny"},""]
[{"$f":"'baza nisk'!A231","v":"I-039"},{"$f":"'baza nisk'!B231","v":"Imadło naczyniowe 18cm"},{"$f":"'baza nisk'!C231","v":"NARZĘDZIA MEDYCZNE"},{"$f":"'baza nisk'!D231","v":"NARZ. MEDYCZNE"},{"$f":"'baza nisk'!E231","v":220},{"$f":"'baza nisk'!F231","v":"2.07.04"},{"$f":"'baza nisk'!G231","v":"DODO -Pracownia Diagnostyczno - Zabiegowa Naczyń"},""]
[{"$f":"'baza nisk'!A232","v":"K-019"},{"$f":"'baza nisk'!B232","v":"Kołdra  CLINIC II 160X200 1200g"},{"$f":"'baza nisk'!C232","v":"POŚCIEL SZPITAL"},{"$f":"'baza nisk'!D232","v":"POŚCIEL SZPITAL"},{"$f":"'baza nisk'!E232","v":98},{"$f":"'baza nisk'!F232","v":"3.02.02.01"},{"$f":"'baza nisk'!G232","v":"Hotel Pracowniczy"},""]
[{"$f":"'baza nisk'!A233","v":"K-019"},{"$f":"'baza nisk'!B233","v":"Kołdra  CLINIC II 160X200 1200g"},{"$f":"'baza nisk'!C233","v":"POŚCIEL SZPITAL"},{"$f":"'baza nisk'!D233","v":"POŚCIEL SZPITAL"},{"$f":"'baza nisk'!E233","v":98},{"$f":"'baza nisk'!F233","v":"2.02.02"},{"$f":"'baza nisk'!G233","v":"Oddział Angiologiczny z Pododdziałem Diabetologii"},""]
[{"$f":"'baza nisk'!A234","v":"K-019"},{"$f":"'baza nisk'!B234","v":"Kołdra  CLINIC II 160X200 1200g"},{"$f":"'baza nisk'!C234","v":"POŚCIEL SZPITAL"},{"$f":"'baza nisk'!D234","v":"POŚCIEL SZPITAL"},{"$f":"'baza nisk'!E234","v":98},{"$f":"'baza nisk'!F234","v":"2.02.03"},{"$f":"'baza nisk'!G234","v":"Oddział Chemioterapii z Pododdziałem Chemioterapii Dziennej"},""]
[{"$f":"'baza nisk'!A235","v":"K-019"},{"$f":"'baza nisk'!B235","v":"Kołdra  CLINIC II 160X200 1200g"},{"$f":"'baza nisk'!C235","v":"POŚCIEL SZPITAL"},{"$f":"'baza nisk'!D235","v":"POŚCIEL SZPITAL"},{"$f":"'baza nisk'!E235","v":98},{"$f":"'baza nisk'!F235","v":"2.02.04"},{"$f":"'baza nisk'!G235","v":"Oddział Chirurgii Naczyniowej"},""]
[{"$f":"'baza nisk'!A236","v":"K-019"},{"$f":"'baza nisk'!B236","v":"Kołdra  CLINIC II 160X200 1200g"},{"$f":"'baza nisk'!C236","v":"POŚCIEL SZPITAL"},{"$f":"'baza nisk'!D236","v":"POŚCIEL SZPITAL"},{"$f":"'baza nisk'!E236","v":98},{"$f":"'baza nisk'!F236","v":"2.02.05.01"},{"$f":"'baza nisk'!G236","v":"Oddział Chirurgii Ogólnej z Pododdziałami"},""]
[{"$f":"'baza nisk'!A237","v":"K-019"},{"$f":"'baza nisk'!B237","v":"Kołdra  CLINIC II 160X200 1200g"},{"$f":"'baza nisk'!C237","v":"POŚCIEL SZPITAL"},{"$f":"'baza nisk'!D237","v":"POŚCIEL SZPITAL"},{"$f":"'baza nisk'!E237","v":98},{"$f":"'baza nisk'!F237","v":"2.02.06"},{"$f":"'baza nisk'!G237","v":"Oddział Chirurgii Onkologicznej"},""]
[{"$f":"'baza nisk'!A238","v":"K-019"},{"$f":"'baza nisk'!B238","v":"Kołdra  CLINIC II 160X200 1200g"},{"$f":"'baza nisk'!C238","v":"POŚCIEL SZPITAL"},{"$f":"'baza nisk'!D238","v":"POŚCIEL SZPITAL"},{"$f":"'baza nisk'!E238","v":98},{"$f":"'baza nisk'!F238","v":"2.02.09.11"},{"$f":"'baza nisk'!G238","v":"Oddział Kardiologiczny"},""]
[{"$f":"'baza nisk'!A239","v":"K-019"},{"$f":"'baza nisk'!B239","v":"Kołdra  CLINIC II 160X200 1200g"},{"$f":"'baza nisk'!C239","v":"POŚCIEL SZPITAL"},{"$f":"'baza nisk'!D239","v":"POŚCIEL SZPITAL"},{"$f":"'baza nisk'!E239","v":98},{"$f":"'baza nisk'!F239","v":"2.02.14"},{"$f":"'baza nisk'!G239","v":"Oddział Otolaryngologiczny z Pododdziałem Otolaryngologii"},""]
[{"$f":"'baza nisk'!A240","v":"K-019"},{"$f":"'baza nisk'!B240","v":"Kołdra  CLINIC II 160X200 1200g"},{"$f":"'baza nisk'!C240","v":"POŚCIEL SZPITAL"},{"$f":"'baza nisk'!D240","v":"POŚCIEL SZPITAL"},{"$f":"'baza nisk'!E240","v":98},{"$f":"'baza nisk'!F240","v":"2.02.15"},{"$f":"'baza nisk'!G240","v":"Oddział Pediatryczny z Pododdziałem Gastroenterologii "},""]
[{"$f":"'baza nisk'!A241","v":"K-019"},{"$f":"'baza nisk'!B241","v":"Kołdra  CLINIC II 160X200 1200g"},{"$f":"'baza nisk'!C241","v":"POŚCIEL SZPITAL"},{"$f":"'baza nisk'!D241","v":"POŚCIEL SZPITAL"},{"$f":"'baza nisk'!E241","v":98},{"$f":"'baza nisk'!F241","v":"2.02.17.01"},{"$f":"'baza nisk'!G241","v":"Oddział Urologii i Urologii Onkologicznej"},""]
[{"$f":"'baza nisk'!A242","v":"K-019"},{"$f":"'baza nisk'!B242","v":"Kołdra  CLINIC II 160X200 1200g"},{"$f":"'baza nisk'!C242","v":"POŚCIEL SZPITAL"},{"$f":"'baza nisk'!D242","v":"POŚCIEL SZPITAL"},{"$f":"'baza nisk'!E242","v":98},{"$f":"'baza nisk'!F242","v":"2.02.19"},{"$f":"'baza nisk'!G242","v":"Zamiejscowy Oddział Rehabilitacji Neurologicznej"},""]
[{"$f":"'baza nisk'!A243","v":"K-019"},{"$f":"'baza nisk'!B243","v":"Kołdra  CLINIC II 160X200 1200g"},{"$f":"'baza nisk'!C243","v":"POŚCIEL SZPITAL"},{"$f":"'baza nisk'!D243","v":"POŚCIEL SZPITAL"},{"$f":"'baza nisk'!E243","v":98},{"$f":"'baza nisk'!F243","v":"2.02.20"},{"$f":"'baza nisk'!G243","v":"Zamiejscowy Oddział Rehabilitacji Ogólnoustrojowej I"},""]
[{"$f":"'baza nisk'!A244","v":"K-019"},{"$f":"'baza nisk'!B244","v":"Kołdra  CLINIC II 160X200 1200g"},{"$f":"'baza nisk'!C244","v":"POŚCIEL SZPITAL"},{"$f":"'baza nisk'!D244","v":"POŚCIEL SZPITAL"},{"$f":"'baza nisk'!E244","v":98},{"$f":"'baza nisk'!F244","v":"2.02.21"},{"$f":"'baza nisk'!G244","v":"Zamiejscowy Oddział Rehabilitacji Ogólnoustrojowej II"},""]
[{"$f":"'baza nisk'!A245","v":"K-019C"},{"$f":"'baza nisk'!B245","v":"Kołdra  CLINIC II 160X200 1200g"},{"$f":"'baza nisk'!C245","v":"POŚCIEL SZPITAL"},{"$f":"'baza nisk'!D245","v":"POŚCIEL SZPITAL"},{"$f":"'baza nisk'!E245","v":98},{"$f":"'baza nisk'!F245","v":"3.02.02.01"},{"$f":"'baza nisk'!G245","v":"Hotel Pracowniczy"},""]
[{"$f":"'baza nisk'!A246","v":"K-019D"},{"$f":"'baza nisk'!B246","v":"Kołdra  CLINIC II 160X200 1200g"},{"$f":"'baza nisk'!C246","v":"POŚCIEL SZPITAL"},{"$f":"'baza nisk'!D246","v":"POŚCIEL SZPITAL"},{"$f":"'baza nisk'!E246","v":98},{"$f":"'baza nisk'!F246","v":"3.02.02.01"},{"$f":"'baza nisk'!G246","v":"Hotel Pracowniczy"},""]
[{"$f":"'baza nisk'!A247","v":"K-088"},{"$f":"'baza nisk'!B247","v":"Krzesło Iso tapicerowane"},{"$f":"'baza nisk'!C247","v":"MEBLE"},{"$f":"'baza nisk'!D247","v":"MEBLE"},{"$f":"'baza nisk'!E247","v":140},{"$f":"'baza nisk'!F247","v":"2.02.01.02"},{"$f":"'baza nisk'!G247","v":"Intensywna Terapia"},"Intensywna Terapia"]
[{"$f":"'baza nisk'!A248","v":"K-088"},{"$f":"'baza nisk'!B248","v":"Krzesło Iso tapicerowane"},{"$f":"'baza nisk'!C248","v":"MEBLE"},{"$f":"'baza nisk'!D248","v":"MEBLE"},{"$f":"'baza nisk'!E248","v":140},{"$f":"'baza nisk'!F248","v":"2.02.03"},{"$f":"'baza nisk'!G248","v":"Oddział Chemioterapii z Pododdziałem Chemioterapii Dziennej"},""]
[{"$f":"'baza nisk'!A249","v":"K-088"},{"$f":"'baza nisk'!B249","v":"Krzesło Iso tapicerowane"},{"$f":"'baza nisk'!C249","v":"MEBLE"},{"$f":"'baza nisk'!D249","v":"MEBLE"},{"$f":"'baza nisk'!E249","v":140},{"$f":"'baza nisk'!F249","v":"2.05"},{"$f":"'baza nisk'!G249","v":"SOR"},""]
[{"$f":"'baza nisk'!A250","v":"K-088A"},{"$f":"'baza nisk'!B250","v":"Krzesło Iso tapicerowane"},{"$f":"'baza nisk'!C250","v":"MEBLE"},{"$f":"'baza nisk'!D250","v":"MEBLE"},{"$f":"'baza nisk'!E250","v":140},{"$f":"'baza nisk'!F250","v":"2.02.07"},{"$f":"'baza nisk'!G250","v":"Oddział Dermatologiczny"},""]
[{"$f":"'baza nisk'!A251","v":"K-088A"},{"$f":"'baza nisk'!B251","v":"Krzesło Iso tapicerowane"},{"$f":"'baza nisk'!C251","v":"MEBLE"},{"$f":"'baza nisk'!D251","v":"MEBLE"},{"$f":"'baza nisk'!E251","v":140},{"$f":"'baza nisk'!F251","v":"2.03.15"},{"$f":"'baza nisk'!G251","v":"Poradnia Medycyny Pracy"},""]
[{"$f":"'baza nisk'!A252","v":"K-088A"},{"$f":"'baza nisk'!B252","v":"Krzesło Iso tapicerowane"},{"$f":"'baza nisk'!C252","v":"MEBLE"},{"$f":"'baza nisk'!D252","v":"MEBLE"},{"$f":"'baza nisk'!E252","v":140},{"$f":"'baza nisk'!F252","v":"2.03.17"},{"$f":"'baza nisk'!G252","v":"Poradnia Neurochirurgiczna"},""]
[{"$f":"'baza nisk'!A253","v":"K-088A"},{"$f":"'baza nisk'!B253","v":"Krzesło Iso tapicerowane"},{"$f":"'baza nisk'!C253","v":"MEBLE"},{"$f":"'baza nisk'!D253","v":"MEBLE"},{"$f":"'baza nisk'!E253","v":140},{"$f":"'baza nisk'!F253","v":"6.03"},{"$f":"'baza nisk'!G253","v":"Zamiejscowy Dział Rehabilitacji Leczniczej"},""]
[{"$f":"'baza nisk'!A254","v":"K-088A"},{"$f":"'baza nisk'!B254","v":"Krzesło Iso tapicerowane"},{"$f":"'baza nisk'!C254","v":"MEBLE"},{"$f":"'baza nisk'!D254","v":"MEBLE"},{"$f":"'baza nisk'!E254","v":140},{"$f":"'baza nisk'!F254","v":"4.07.01.02"},{"$f":"'baza nisk'!G254","v":"Zespół Konsultantów Biznesowych"},""]
[{"$f":"'baza nisk'!A255","v":"K-088B"},{"$f":"'baza nisk'!B255","v":"Krzesło Iso tapicerowane"},{"$f":"'baza nisk'!C255","v":"MEBLE"},{"$f":"'baza nisk'!D255","v":"MEBLE"},{"$f":"'baza nisk'!E255","v":140},{"$f":"'baza nisk'!F255","v":"2.02.15"},{"$f":"'baza nisk'!G255","v":"Oddział Pediatryczny"},""]
[{"$f":"'baza nisk'!A256","v":"K-088B"},{"$f":"'baza nisk'!B256","v":"Krzesło Iso tapicerowane"},{"$f":"'baza nisk'!C256","v":"MEBLE"},{"$f":"'baza nisk'!D256","v":"MEBLE"},{"$f":"'baza nisk'!E256","v":140},{"$f":"'baza nisk'!F256","v":"1.04.04"},{"$f":"'baza nisk'!G256","v":"SekcjaMarketingu"},""]
[{"$f":"'baza nisk'!A257","v":"K-088C"},{"$f":"'baza nisk'!B257","v":"Krzesło Iso tapicerowane"},{"$f":"'baza nisk'!C257","v":"MEBLE"},{"$f":"'baza nisk'!D257","v":"MEBLE"},{"$f":"'baza nisk'!E257","v":140},{"$f":"'baza nisk'!F257","v":"6.03"},{"$f":"'baza nisk'!G257","v":"Zamiejscowy Dział Rehabilitacji Leczniczej"},""]
[{"$f":"'baza nisk'!A258","v":"K-088D"},{"$f":"'baza nisk'!B258","v":"Krzesło Iso tapicerowane"},{"$f":"'baza nisk'!C258","v":"MEBLE"},{"$f":"'baza nisk'!D258","v":"MEBLE"},{"$f":"'baza nisk'!E258","v":140},{"$f":"'baza nisk'!F258","v":"2.07.03"},{"$f":"'baza nisk'!G258","v":"DODO -Pracowania Tomografii Komputerowej"},""]
[{"$f":"'baza nisk'!A259","v":"K-088D"},{"$f":"'baza nisk'!B259","v":"Krzesło Iso tapicerowane"},{"$f":"'baza nisk'!C259","v":"MEBLE"},{"$f":"'baza nisk'!D259","v":"MEBLE"},{"$f":"'baza nisk'!E259","v":140},{"$f":"'baza nisk'!F259","v":"2.07.02"},{"$f":"'baza nisk'!G259","v":"DODO -Pracownia Mammografii"},""]
[{"$f":"'baza nisk'!A260","v":"K-088D"},{"$f":"'baza nisk'!B260","v":"Krzesło Iso tapicerowane"},{"$f":"'baza nisk'!C260","v":"MEBLE"},{"$f":"'baza nisk'!D260","v":"MEBLE"},{"$f":"'baza nisk'!E260","v":140},{"$f":"'baza nisk'!F260","v":"6.03"},{"$f":"'baza nisk'!G260","v":"Zamiejscowy Dział Rehabilitacji Leczniczej"},""]
[{"$f":"'baza nisk'!A261","v":"K-088D"},{"$f":"'baza nisk'!B261","v":"Krzesło Iso tapicerowane"},{"$f":"'baza nisk'!C261","v":"MEBLE"},{"$f":"'baza nisk'!D261","v":"MEBLE"},{"$f":"'baza nisk'!E261","v":140},{"$f":"'baza nisk'!F261","v":"2.02.19"},{"$f":"'baza nisk'!G261","v":"Zamiejscowy Oddział Rehabilitacji Neurologicznej"},""]
[{"$f":"'baza nisk'!A262","v":"K-088E"},{"$f":"'baza nisk'!B262","v":"Krzesło Iso alu S084 2osobowe czy ławka???????"},{"$f":"'baza nisk'!C262","v":"MEBLE"},{"$f":"'baza nisk'!D262","v":"MEBLE"},{"$f":"'baza nisk'!E262","v":254},{"$f":"'baza nisk'!F262","v":"2.02.06"},{"$f":"'baza nisk'!G262","v":"Oddział Chirurgii Onkologicznej"},""]
[{"$f":"'baza nisk'!A263","v":"K-088F"},{"$f":"'baza nisk'!B263","v":"Krzesło Iso Wood (drewniane)"},{"$f":"'baza nisk'!C263","v":"MEBLE"},{"$f":"'baza nisk'!D263","v":"MEBLE"},{"$f":"'baza nisk'!E263","v":170},{"$f":"'baza nisk'!F263","v":"2.04.01"},{"$f":"'baza nisk'!G263","v":"Blok Operacyjny"},""]
[{"$f":"'baza nisk'!A264","v":"K-088F"},{"$f":"'baza nisk'!B264","v":"Krzesło Iso Wood (drewniane)"},{"$f":"'baza nisk'!C264","v":"MEBLE"},{"$f":"'baza nisk'!D264","v":"MEBLE"},{"$f":"'baza nisk'!E264","v":170},{"$f":"'baza nisk'!F264","v":"2.02.10"},{"$f":"'baza nisk'!G264","v":"Oddział Kardiologii Dziecięcej z Pododdziałem Kardiochirurgi"},""]
[{"$f":"'baza nisk'!A265","v":"K-088F"},{"$f":"'baza nisk'!B265","v":"Krzesło Iso Wood (drewniane)"},{"$f":"'baza nisk'!C265","v":"MEBLE"},{"$f":"'baza nisk'!D265","v":"MEBLE"},{"$f":"'baza nisk'!E265","v":170},{"$f":"'baza nisk'!F265","v":"2.02.08"},{"$f":"'baza nisk'!G265","v":"Oddział Położniczo – Ginekologiczny"},""]
[{"$f":"'baza nisk'!A266","v":"K-088G"},{"$f":"'baza nisk'!B266","v":"Krzesło Cortina (plastikowe)"},{"$f":"'baza nisk'!C266","v":"MEBLE"},{"$f":"'baza nisk'!D266","v":"MEBLE"},{"$f":"'baza nisk'!E266","v":80},{"$f":"'baza nisk'!F266","v":"2.03.02"},{"$f":"'baza nisk'!G266","v":"Poradnia Chirurgii Naczyniowej"},""]
[{"$f":"'baza nisk'!A267","v":"K-088G"},{"$f":"'baza nisk'!B267","v":"Krzesło Cortina (plastikowe)"},{"$f":"'baza nisk'!C267","v":"MEBLE"},{"$f":"'baza nisk'!D267","v":"MEBLE"},{"$f":"'baza nisk'!E267","v":80},{"$f":"'baza nisk'!F267","v":"2.02.21"},{"$f":"'baza nisk'!G267","v":"Zamiejscowy Oddział Rehabilitacji Ogólnoustrojowej II"},""]
[{"$f":"'baza nisk'!A268","v":"K-088H"},{"$f":"'baza nisk'!B268","v":"Krzesło  TYPU Samba "},{"$f":"'baza nisk'!C268","v":"MEBLE"},{"$f":"'baza nisk'!D268","v":"MEBLE"},{"$f":"'baza nisk'!E268","v":375},{"$f":"'baza nisk'!F268","v":"2.02.01.02"},{"$f":"'baza nisk'!G268","v":"Intensywna Terapia"},"Intensywna Terapia"]
[{"$f":"'baza nisk'!A269","v":"K-088H"},{"$f":"'baza nisk'!B269","v":"Krzesło  TYPU Samba "},{"$f":"'baza nisk'!C269","v":"MEBLE"},{"$f":"'baza nisk'!D269","v":"MEBLE"},{"$f":"'baza nisk'!E269","v":375},{"$f":"'baza nisk'!F269","v":"2.02.10"},{"$f":"'baza nisk'!G269","v":"Oddział Kardiologii Dziecięcej z Pododdziałem Kardiochirurgi"},""]
[{"$f":"'baza nisk'!A270","v":"K-088H"},{"$f":"'baza nisk'!B270","v":"Krzesło  TYPU Samba "},{"$f":"'baza nisk'!C270","v":"MEBLE"},{"$f":"'baza nisk'!D270","v":"MEBLE"},{"$f":"'baza nisk'!E270","v":375},{"$f":"'baza nisk'!F270","v":"2.02.07.01"},{"$f":"'baza nisk'!G270","v":"Programedukacyjny atopowe zapalenie skóry (AZS)"},""]
[{"$f":"'baza nisk'!A271","v":"K-088I"},{"$f":"'baza nisk'!B271","v":"Krzesło Iso Black-skaj V-28"},{"$f":"'baza nisk'!C271","v":"MEBLE"},{"$f":"'baza nisk'!D271","v":"MEBLE"},{"$f":"'baza nisk'!E271","v":80},{"$f":"'baza nisk'!F271","v":"2.02.19"},{"$f":"'baza nisk'!G271","v":"Zamiejscowy Oddział Rehabilitacji Neurologicznej"},""]
[{"$f":"'baza nisk'!A272","v":"K-088I"},{"$f":"'baza nisk'!B272","v":"Krzesło Iso Black-skaj V-28"},{"$f":"'baza nisk'!C272","v":"MEBLE"},{"$f":"'baza nisk'!D272","v":"MEBLE"},{"$f":"'baza nisk'!E272","v":80},{"$f":"'baza nisk'!F272","v":"2.02.20"},{"$f":"'baza nisk'!G272","v":"Zamiejscowy Oddział Rehabilitacji Ogólnoustrojowej I"},""]
[{"$f":"'baza nisk'!A273","v":"K-088I"},{"$f":"'baza nisk'!B273","v":"Krzesło Iso Black-skaj V-28"},{"$f":"'baza nisk'!C273","v":"MEBLE"},{"$f":"'baza nisk'!D273","v":"MEBLE"},{"$f":"'baza nisk'!E273","v":80},{"$f":"'baza nisk'!F273","v":"2.02.21"},{"$f":"'baza nisk'!G273","v":"Zamiejscowy Oddział Rehabilitacji Ogólnoustrojowej II"},""]
[{"$f":"'baza nisk'!A274","v":"K-088J"},{"$f":"'baza nisk'!B274","v":"Krzesło Samba chrom"},{"$f":"'baza nisk'!C274","v":"MEBLE"},{"$f":"'baza nisk'!D274","v":"MEBLE"},{"$f":"'baza nisk'!E274","v":260},{"$f":"'baza nisk'!F274","v":"2.02.12"},{"$f":"'baza nisk'!G274","v":"Oddział Neonatologiczny z Pododdziałem Patologii Noworodka"},""]
[{"$f":"'baza nisk'!A275","v":"K-088K"},{"$f":"'baza nisk'!B275","v":"Krzesło Styl chrom -V17"},{"$f":"'baza nisk'!C275","v":"MEBLE"},{"$f":"'baza nisk'!D275","v":"MEBLE"},{"$f":"'baza nisk'!E275","v":150},{"$f":"'baza nisk'!F275","v":"2.02.12"},{"$f":"'baza nisk'!G275","v":"Oddział Neonatologiczny z Pododdziałem Patologii Noworodka"},""]
[{"$f":"'baza nisk'!A276","v":"K-088L"},{"$f":"'baza nisk'!B276","v":"Krzesło Iso wood -konferencyjne"},{"$f":"'baza nisk'!C276","v":"MEBLE"},{"$f":"'baza nisk'!D276","v":"MEBLE"},{"$f":"'baza nisk'!E276","v":120},{"$f":"'baza nisk'!F276","v":"2.03.04"},{"$f":"'baza nisk'!G276","v":"Poradnia Chirurgii Onkologicznej"},""]
[{"$f":"'baza nisk'!A277","v":"K-088M"},{"$f":"'baza nisk'!B277","v":"Krzesło Beta  Chrome"},{"$f":"'baza nisk'!C277","v":"MEBLE"},{"$f":"'baza nisk'!D277","v":"MEBLE"},{"$f":"'baza nisk'!E277","v":100},{"$f":"'baza nisk'!F277","v":"2.02.09.11"},{"$f":"'baza nisk'!G277","v":"Oddział Kardiologiczny"},""]
[{"$f":"'baza nisk'!A278","v":"K-088M"},{"$f":"'baza nisk'!B278","v":"Krzesło Beta  Chrome"},{"$f":"'baza nisk'!C278","v":"MEBLE"},{"$f":"'baza nisk'!D278","v":"MEBLE"},{"$f":"'baza nisk'!E278","v":100},{"$f":"'baza nisk'!F278","v":"2.03.11"},{"$f":"'baza nisk'!G278","v":"Poradnia Kardiologiczna"},""]
[{"$f":"'baza nisk'!A279","v":"K-088N"},{"$f":"'baza nisk'!B279","v":"Krzesło OFFIX GTS -M15"},{"$f":"'baza nisk'!C279","v":"MEBLE"},{"$f":"'baza nisk'!D279","v":"MEBLE"},{"$f":"'baza nisk'!E279","v":450},{"$f":"'baza nisk'!F279","v":"2.02.19"},{"$f":"'baza nisk'!G279","v":"Zamiejscowy Oddział Rehabilitacji Neurologicznej"},""]
[{"$f":"'baza nisk'!A280","v":"K-091A"},{"$f":"'baza nisk'!B280","v":"Kalkulator "},{"$f":"'baza nisk'!C280","v":"URZĄDZENIA BIUROWE"},{"$f":"'baza nisk'!D280","v":"URZĄDZ. BIUROWE"},{"$f":"'baza nisk'!E280","v":60},{"$f":"'baza nisk'!F280","v":"4.07.01.02"},{"$f":"'baza nisk'!G280","v":"Zespół Konsultantów Biznesowych"},{"$f":"IF($I$1=G323,$I$1,\"\")","v":""}]
[{"$f":"'baza nisk'!A281","v":"K-091B"},{"$f":"'baza nisk'!B281","v":"Kalkulator "},{"$f":"'baza nisk'!C281","v":"URZĄDZENIA BIUROWE"},{"$f":"'baza nisk'!D281","v":"URZĄDZ. BIUROWE"},{"$f":"'baza nisk'!E281","v":60},{"$f":"'baza nisk'!F281","v":"4.02"},{"$f":"'baza nisk'!G281","v":"Dział Zaopatrzenia i Zamówień Publicznych"},""]
[{"$f":"'baza nisk'!A282","v":"K-091C"},{"$f":"'baza nisk'!B282","v":"Kalkulator księgowy"},{"$f":"'baza nisk'!C282","v":"URZĄDZENIA BIUROWE"},{"$f":"'baza nisk'!D282","v":"URZĄDZ. BIUROWE"},{"$f":"'baza nisk'!E282","v":139.97},{"$f":"'baza nisk'!F282","v":"4.06.01"},{"$f":"'baza nisk'!G282","v":"Dział Księgowości i Finansów"},""]
[{"$f":"'baza nisk'!A283","v":"K-091D"},{"$f":"'baza nisk'!B283","v":"Kalkulator "},{"$f":"'baza nisk'!C283","v":"URZĄDZENIA BIUROWE"},{"$f":"'baza nisk'!D283","v":"URZĄDZ. BIUROWE"},{"$f":"'baza nisk'!E283","v":60},{"$f":"'baza nisk'!F283","v":"1.04.02"},{"$f":"'baza nisk'!G283","v":"Dział Sprzedaży Usług Medycznych"},""]
[{"$f":"'baza nisk'!A284","v":"K-091D"},{"$f":"'baza nisk'!B284","v":"Kalkulator "},{"$f":"'baza nisk'!C284","v":"URZĄDZENIA BIUROWE"},{"$f":"'baza nisk'!D284","v":"URZĄDZ. BIUROWE"},{"$f":"'baza nisk'!E284","v":60},{"$f":"'baza nisk'!F284","v":"4.02"},{"$f":"'baza nisk'!G284","v":"Dział Zaopatrzenia i Zamówień Publicznych"},""]
[{"$f":"'baza nisk'!A285","v":"K-091E"},{"$f":"'baza nisk'!B285","v":"Kalkulator "},{"$f":"'baza nisk'!C285","v":"URZĄDZENIA BIUROWE"},{"$f":"'baza nisk'!D285","v":"URZĄDZ. BIUROWE"},{"$f":"'baza nisk'!E285","v":60},{"$f":"'baza nisk'!F285","v":"1.04.02"},{"$f":"'baza nisk'!G285","v":"Dział Sprzedaży Usług Medycznych"},""]
[{"$f":"'baza nisk'!A286","v":"K-091E"},{"$f":"'baza nisk'!B286","v":"Kalkulator "},{"$f":"'baza nisk'!C286","v":"URZĄDZENIA BIUROWE"},{"$f":"'baza nisk'!D286","v":"URZĄDZ. BIUROWE"},{"$f":"'baza nisk'!E286","v":60},{"$f":"'baza nisk'!F286","v":"4.02"},{"$f":"'baza nisk'!G286","v":"Dział Zaopatrzenia i Zamówień Publicznych"},""]
[{"$f":"'baza nisk'!#REF!","v":{"$error":"#REF!"}},{"$f":"'baza nisk'!#REF!","v":{"$error":"#REF!"}},{"$f":"'baza nisk'!#REF!","v":{"$error":"#REF!"}},{"$f":"'baza nisk'!#REF!","v":{"$error":"#REF!"}},{"$f":"'baza nisk'!#REF!","v":{"$error":"#REF!"}},{"$f":"'baza nisk'!#REF!","v":{"$error":"#REF!"}},{"$f":"'baza nisk'!#REF!","v":{"$error":"#REF!"}},{"$error":"#REF!"}]
[{"$f":"'baza nisk'!#REF!","v":{"$error":"#REF!"}},{"$f":"'baza nisk'!#REF!","v":{"$error":"#REF!"}},{"$f":"'baza nisk'!#REF!","v":{"$error":"#REF!"}},{"$f":"'baza nisk'!#REF!","v":{"$error":"#REF!"}},{"$f":"'baza nisk'!#REF!","v":{"$error":"#REF!"}},{"$f":"'baza nisk'!#REF!","v":{"$error":"#REF!"}},{"$f":"'baza nisk'!#REF!","v":{"$error":"#REF!"}},{"$error":"#REF!"}]
[{"$f":"'baza nisk'!A287","v":"K-091G"},{"$f":"'baza nisk'!B287","v":"Kalkulator księgowy"},{"$f":"'baza nisk'!C287","v":"URZĄDZENIA BIUROWE"},{"$f":"'baza nisk'!D287","v":"URZĄDZ. BIUROWE"},{"$f":"'baza nisk'!E287","v":139.97},{"$f":"'baza nisk'!F287","v":"4.06.01"},{"$f":"'baza nisk'!G287","v":"Dział Księgowości i Finansów"},""]
[{"$f":"'baza nisk'!A288","v":"K-103"},{"$f":"'baza nisk'!B288","v":"Kozetka -stół rehabilitacyjny "},{"$f":"'baza nisk'!C288","v":"MEBLE MEDYCZNE"},{"$f":"'baza nisk'!D288","v":"MEBLE MEDYCZNE"},{"$f":"'baza nisk'!E288","v":275.39999999999998},{"$f":"'baza nisk'!F288","v":"2.07.06"},{"$f":"'baza nisk'!G288","v":"DODO -Pracownia USG"},""]
[{"$f":"'baza nisk'!A289","v":"K-103"},{"$f":"'baza nisk'!B289","v":"Kozetka -stół rehabilitacyjny "},{"$f":"'baza nisk'!C289","v":"MEBLE MEDYCZNE"},{"$f":"'baza nisk'!D289","v":"MEBLE MEDYCZNE"},{"$f":"'baza nisk'!E289","v":275.39999999999998},{"$f":"'baza nisk'!F289","v":"2.07.08"},{"$f":"'baza nisk'!G289","v":"DODO -Zamiejscowa Pracownia RTG"},""]
[{"$f":"'baza nisk'!A290","v":"K-103"},{"$f":"'baza nisk'!B290","v":"Kozetka -stół rehabilitacyjny "},{"$f":"'baza nisk'!C290","v":"MEBLE MEDYCZNE"},{"$f":"'baza nisk'!D290","v":"MEBLE MEDYCZNE"},{"$f":"'baza nisk'!E290","v":275.39999999999998},{"$f":"'baza nisk'!F290","v":"2.02.04"},{"$f":"'baza nisk'!G290","v":"Oddział Chirurgii Naczyniowej"},""]
[{"$f":"'baza nisk'!A291","v":"K-103"},{"$f":"'baza nisk'!B291","v":"Kozetka -stół rehabilitacyjny "},{"$f":"'baza nisk'!C291","v":"MEBLE MEDYCZNE"},{"$f":"'baza nisk'!D291","v":"MEBLE MEDYCZNE"},{"$f":"'baza nisk'!E291","v":275.39999999999998},{"$f":"'baza nisk'!F291","v":"2.02.10"},{"$f":"'baza nisk'!G291","v":"Oddział Kardiologii Dziecięcej z Pododdziałem Kardiochirurgi"},""]
[{"$f":"'baza nisk'!A292","v":"K-103"},{"$f":"'baza nisk'!B292","v":"Kozetka -stół rehabilitacyjny "},{"$f":"'baza nisk'!C292","v":"MEBLE MEDYCZNE"},{"$f":"'baza nisk'!D292","v":"MEBLE MEDYCZNE"},{"$f":"'baza nisk'!E292","v":275.39999999999998},{"$f":"'baza nisk'!F292","v":"2.02.15"},{"$f":"'baza nisk'!G292","v":"Oddział Pediatryczny z Pododdziałem Gastroenterologii "},""]
[{"$f":"'baza nisk'!A293","v":"K-103"},{"$f":"'baza nisk'!B293","v":"Kozetka -stół rehabilitacyjny "},{"$f":"'baza nisk'!C293","v":"MEBLE MEDYCZNE"},{"$f":"'baza nisk'!D293","v":"MEBLE MEDYCZNE"},{"$f":"'baza nisk'!E293","v":275.39999999999998},{"$f":"'baza nisk'!F293","v":"1.03.03"},{"$f":"'baza nisk'!G293","v":"Ośrodek Badań Klinicznych"},""]
[{"$f":"'baza nisk'!A294","v":"K-103"},{"$f":"'baza nisk'!B294","v":"Kozetka -stół rehabilitacyjny "},{"$f":"'baza nisk'!C294","v":"MEBLE MEDYCZNE"},{"$f":"'baza nisk'!D294","v":"MEBLE MEDYCZNE"},{"$f":"'baza nisk'!E294","v":275.39999999999998},{"$f":"'baza nisk'!F294","v":"2.03.04"},{"$f":"'baza nisk'!G294","v":"Poradnia Chirurgii Onkologicznej"},""]
[{"$f":"'baza nisk'!A295","v":"K-103"},{"$f":"'baza nisk'!B295","v":"Kozetka -stół rehabilitacyjny "},{"$f":"'baza nisk'!C295","v":"MEBLE MEDYCZNE"},{"$f":"'baza nisk'!D295","v":"MEBLE MEDYCZNE"},{"$f":"'baza nisk'!E295","v":275.39999999999998},{"$f":"'baza nisk'!F295","v":"2.03.17"},{"$f":"'baza nisk'!G295","v":"Poradnia Neurochirurgiczna"},""]
[{"$f":"'baza nisk'!A296","v":"K-103B"},{"$f":"'baza nisk'!B296","v":"Kozetka -stół rehabilitacyjny "},{"$f":"'baza nisk'!C296","v":"MEBLE MEDYCZNE"},{"$f":"'baza nisk'!D296","v":"MEBLE MEDYCZNE"},{"$f":"'baza nisk'!E296","v":275.39999999999998},{"$f":"'baza nisk'!F296","v":"2.02.08"},{"$f":"'baza nisk'!G296","v":"Oddział Położniczo – Ginekologiczny"},""]
[{"$f":"'baza nisk'!A297","v":"K-105"},{"$f":"'baza nisk'!B297","v":"Koszula biała szpitalna dla chorego"},{"$f":"'baza nisk'!C297","v":"POŚCIEL SZPITAL"},{"$f":"'baza nisk'!D297","v":"POŚCIEL SZPITAL"},{"$f":"'baza nisk'!E297","v":40},{"$f":"'baza nisk'!F297","v":"2.02.02"},{"$f":"'baza nisk'!G297","v":"Oddział Angiologiczny z Pododdziałem Diabetologii"},""]
[{"$f":"'baza nisk'!A298","v":"K-105"},{"$f":"'baza nisk'!B298","v":"Koszula biała szpitalna dla chorego"},{"$f":"'baza nisk'!C298","v":"POŚCIEL SZPITAL"},{"$f":"'baza nisk'!D298","v":"POŚCIEL SZPITAL"},{"$f":"'baza nisk'!E298","v":40},{"$f":"'baza nisk'!F298","v":"2.02.05.01"},{"$f":"'baza nisk'!G298","v":"Oddział Chirurgii Ogólnej z Pododdziałami"},""]
[{"$f":"'baza nisk'!A299","v":"K-105A"},{"$f":"'baza nisk'!B299","v":"Koszula szpitalna dla dzieci flanelowa"},{"$f":"'baza nisk'!C299","v":"POŚCIEL SZPITAL"},{"$f":"'baza nisk'!D299","v":"POŚCIEL SZPITAL"},{"$f":"'baza nisk'!E299","v":40},{"$f":"'baza nisk'!F299","v":"2.02.14"},{"$f":"'baza nisk'!G299","v":"Oddział Otolaryngologiczny z Pododdziałem Otolaryngologii"},""]
[{"$f":"'baza nisk'!A300","v":"K-113A"},{"$f":"'baza nisk'!B300","v":"Kontener na kółkach 40x45x60h"},{"$f":"'baza nisk'!C300","v":"MEBLE"},{"$f":"'baza nisk'!D300","v":"MEBLE"},{"$f":"'baza nisk'!E300","v":479},{"$f":"'baza nisk'!F300","v":"4.02"},{"$f":"'baza nisk'!G300","v":"Dział Zaopatrzenia i Zamówień Publicznych"},""]
[{"$f":"'baza nisk'!A301","v":"K-113A"},{"$f":"'baza nisk'!B301","v":"Kontener na kółkach 40x45x60h"},{"$f":"'baza nisk'!C301","v":"MEBLE"},{"$f":"'baza nisk'!D301","v":"MEBLE"},{"$f":"'baza nisk'!E301","v":479},{"$f":"'baza nisk'!F301","v":"2.02.10"},{"$f":"'baza nisk'!G301","v":"Oddział Kardiologii Dziecięcej z Pododdziałem Kardiochirurgi"},""]
[{"$f":"'baza nisk'!A302","v":"K-113A"},{"$f":"'baza nisk'!B302","v":"Kontener na kółkach 40x45x60h"},{"$f":"'baza nisk'!C302","v":"MEBLE"},{"$f":"'baza nisk'!D302","v":"MEBLE"},{"$f":"'baza nisk'!E302","v":479},{"$f":"'baza nisk'!F302","v":"2.05"},{"$f":"'baza nisk'!G302","v":"SOR"},""]
[{"$f":"'baza nisk'!A303","v":"K-113B"},{"$f":"'baza nisk'!B303","v":"Kontener na kółkach 40x50x50h"},{"$f":"'baza nisk'!C303","v":"MEBLE"},{"$f":"'baza nisk'!D303","v":"MEBLE"},{"$f":"'baza nisk'!E303","v":479},{"$f":"'baza nisk'!F303","v":"2.02.13"},{"$f":"'baza nisk'!G303","v":"Oddział Okulistyczny"},""]
[{"$f":"'baza nisk'!A304","v":"K-113C"},{"$f":"'baza nisk'!B304","v":"Kontener na kółkach 35x40x60h"},{"$f":"'baza nisk'!C304","v":"MEBLE"},{"$f":"'baza nisk'!D304","v":"MEBLE"},{"$f":"'baza nisk'!E304","v":479},{"$f":"'baza nisk'!F304","v":"2.02.13"},{"$f":"'baza nisk'!G304","v":"Oddział Okulistyczny"},""]
[{"$f":"'baza nisk'!A305","v":"K-113C"},{"$f":"'baza nisk'!B305","v":"Kontener na kółkach 35x40x60h"},{"$f":"'baza nisk'!C305","v":"MEBLE"},{"$f":"'baza nisk'!D305","v":"MEBLE"},{"$f":"'baza nisk'!E305","v":479},{"$f":"'baza nisk'!F305","v":"2.03.04"},{"$f":"'baza nisk'!G305","v":"Poradnia Chirurgii Onkologicznej"},""]
[{"$f":"'baza nisk'!A306","v":"K-114B"},{"$f":"'baza nisk'!B306","v":"Kleszcze naczyniowe Kocher 1x2z. zakrzywione 14"},{"$f":"'baza nisk'!C306","v":"NARZĘDZIA MEDYCZNE"},{"$f":"'baza nisk'!D306","v":"NARZ. MEDYCZNE"},{"$f":"'baza nisk'!E306","v":90},{"$f":"'baza nisk'!F306","v":"2.04.01"},{"$f":"'baza nisk'!G306","v":"Blok Operacyjny"},""]
[{"$f":"'baza nisk'!A307","v":"K-114B"},{"$f":"'baza nisk'!B307","v":"Kleszcze naczyniowe Kocher 1x2z. zakrzywione 14"},{"$f":"'baza nisk'!C307","v":"NARZĘDZIA MEDYCZNE"},{"$f":"'baza nisk'!D307","v":"NARZ. MEDYCZNE"},{"$f":"'baza nisk'!E307","v":90},{"$f":"'baza nisk'!F307","v":"2.03.22"},{"$f":"'baza nisk'!G307","v":"Poradnia Otolaryngologiczna"},""]
[{"$f":"'baza nisk'!A308","v":"K-114C"},{"$f":"'baza nisk'!B308","v":"Kleszcze naczyniowe Kocher-OCHSN. zakrzywione 2"},{"$f":"'baza nisk'!C308","v":"NARZĘDZIA MEDYCZNE"},{"$f":"'baza nisk'!D308","v":"NARZ. MEDYCZNE"},{"$f":"'baza nisk'!E308","v":320},{"$f":"'baza nisk'!F308","v":"2.04.01"},{"$f":"'baza nisk'!G308","v":"Blok Operacyjny"},""]
[{"$f":"'baza nisk'!A309","v":"K-114C"},{"$f":"'baza nisk'!B309","v":"Kleszcze naczyniowe Kocher-OCHSN. zakrzywione 2"},{"$f":"'baza nisk'!C309","v":"NARZĘDZIA MEDYCZNE"},{"$f":"'baza nisk'!D309","v":"NARZ. MEDYCZNE"},{"$f":"'baza nisk'!E309","v":320},{"$f":"'baza nisk'!F309","v":"2.04.03"},{"$f":"'baza nisk'!G309","v":"Zamiejscowy Blok Operacyjny"},""]
[{"$f":"'baza nisk'!A310","v":"K-114E"},{"$f":"'baza nisk'!B310","v":"Kleszcze naczyniowe Kocher-OCHSN zakrzywione 18"},{"$f":"'baza nisk'!C310","v":"NARZĘDZIA MEDYCZNE"},{"$f":"'baza nisk'!D310","v":"NARZ. MEDYCZNE"},{"$f":"'baza nisk'!E310","v":200},{"$f":"'baza nisk'!F310","v":"2.04.01"},{"$f":"'baza nisk'!G310","v":"Blok Operacyjny"},""]
[{"$f":"'baza nisk'!A311","v":"K-122"},{"$f":"'baza nisk'!B311","v":"Kuchenka mikrofalowa"},{"$f":"'baza nisk'!C311","v":"SPRZĘT AGD"},{"$f":"'baza nisk'!D311","v":"SPRZĘT AGD"},{"$f":"'baza nisk'!E311","v":340},{"$f":"'baza nisk'!F311","v":"2.02.08"},{"$f":"'baza nisk'!G311","v":"Oddział Położniczo – Ginekologiczny"},""]
[{"$f":"'baza nisk'!A312","v":"K-122A"},{"$f":"'baza nisk'!B312","v":"Kuchenka mikrofalowa"},{"$f":"'baza nisk'!C312","v":"SPRZĘT AGD"},{"$f":"'baza nisk'!D312","v":"SPRZĘT AGD"},{"$f":"'baza nisk'!E312","v":340},{"$f":"'baza nisk'!F312","v":"2.02.15"},{"$f":"'baza nisk'!G312","v":"Oddział Pediatryczny z Pododdziałem Gastroenterologii "},""]
[{"$f":"'baza nisk'!A313","v":"K-125A"},{"$f":"'baza nisk'!B313","v":"Kocyk dla noworodka 100%bawełna wymiar: 75/98 c"},{"$f":"'baza nisk'!C313","v":"POŚCIEL SZPITAL"},{"$f":"'baza nisk'!D313","v":"POŚCIEL SZPITAL"},{"$f":"'baza nisk'!E313","v":33},{"$f":"'baza nisk'!F313","v":"2.02.12"},{"$f":"'baza nisk'!G313","v":"Oddział Neonatologiczny z Pododdziałem Patologii Noworodka"},""]
[{"$f":"'baza nisk'!A314","v":"K-125A"},{"$f":"'baza nisk'!B314","v":"Kocyk dla noworodka 100%bawełna wymiar: 75/98 c"},{"$f":"'baza nisk'!C314","v":"POŚCIEL SZPITAL"},{"$f":"'baza nisk'!D314","v":"POŚCIEL SZPITAL"},{"$f":"'baza nisk'!E314","v":33},{"$f":"'baza nisk'!F314","v":"2.02.08"},{"$f":"'baza nisk'!G314","v":"Oddział Położniczo – Ginekologiczny"},""]
[{"$f":"'baza nisk'!A315","v":"K-125c"},{"$f":"'baza nisk'!B315","v":"Koc szpitalny 160x210"},{"$f":"'baza nisk'!C315","v":"POŚCIEL SZPITAL"},{"$f":"'baza nisk'!D315","v":"POŚCIEL SZPITAL"},{"$f":"'baza nisk'!E315","v":90},{"$f":"'baza nisk'!F315","v":"2.02.02"},{"$f":"'baza nisk'!G315","v":"Oddział Angiologiczny z Pododdziałem Diabetologii"},""]
[{"$f":"'baza nisk'!A316","v":"K-125c"},{"$f":"'baza nisk'!B316","v":"Koc szpitalny 160x210"},{"$f":"'baza nisk'!C316","v":"POŚCIEL SZPITAL"},{"$f":"'baza nisk'!D316","v":"POŚCIEL SZPITAL"},{"$f":"'baza nisk'!E316","v":90},{"$f":"'baza nisk'!F316","v":"2.02.03"},{"$f":"'baza nisk'!G316","v":"Oddział Chemioterapii z Pododdziałem Chemioterapii Dziennej"},""]
[{"$f":"'baza nisk'!A317","v":"K-125c"},{"$f":"'baza nisk'!B317","v":"Koc szpitalny 160x210"},{"$f":"'baza nisk'!C317","v":"POŚCIEL SZPITAL"},{"$f":"'baza nisk'!D317","v":"POŚCIEL SZPITAL"},{"$f":"'baza nisk'!E317","v":90},{"$f":"'baza nisk'!F317","v":"2.02.06"},{"$f":"'baza nisk'!G317","v":"Oddział Chirurgii Onkologicznej"},""]
[{"$f":"'baza nisk'!A318","v":"K-125c"},{"$f":"'baza nisk'!B318","v":"Koc szpitalny 160x210"},{"$f":"'baza nisk'!C318","v":"POŚCIEL SZPITAL"},{"$f":"'baza nisk'!D318","v":"POŚCIEL SZPITAL"},{"$f":"'baza nisk'!E318","v":90},{"$f":"'baza nisk'!F318","v":"2.02.09.11"},{"$f":"'baza nisk'!G318","v":"Oddział Kardiologiczny"},""]
[{"$f":"'baza nisk'!A319","v":"K-125c"},{"$f":"'baza nisk'!B319","v":"Koc szpitalny 160x210"},{"$f":"'baza nisk'!C319","v":"POŚCIEL SZPITAL"},{"$f":"'baza nisk'!D319","v":"POŚCIEL SZPITAL"},{"$f":"'baza nisk'!E319","v":90},{"$f":"'baza nisk'!F319","v":"2.02.15"},{"$f":"'baza nisk'!G319","v":"Oddział Pediatryczny z Pododdziałem Gastroenterologii "},""]
[{"$f":"'baza nisk'!A320","v":"K-125c"},{"$f":"'baza nisk'!B320","v":"Koc szpitalny 160x210"},{"$f":"'baza nisk'!C320","v":"POŚCIEL SZPITAL"},{"$f":"'baza nisk'!D320","v":"POŚCIEL SZPITAL"},{"$f":"'baza nisk'!E320","v":90},{"$f":"'baza nisk'!F320","v":"2.02.21"},{"$f":"'baza nisk'!G320","v":"Zamiejscowy Oddział Rehabilitacji Ogólnoustrojowej II"},""]
[{"$f":"'baza nisk'!A321","v":"K-158"},{"$f":"'baza nisk'!B321","v":"Kuchnia gazowa"},{"$f":"'baza nisk'!C321","v":"SPRZĘT AGD"},{"$f":"'baza nisk'!D321","v":"SPRZĘT AGD"},{"$f":"'baza nisk'!E321","v":680.01},{"$f":"'baza nisk'!F321","v":"3.02.02.01"},{"$f":"'baza nisk'!G321","v":"Hotel Pracowniczy"},""]
[{"$f":"'baza nisk'!A322","v":"K-158A"},{"$f":"'baza nisk'!B322","v":"Kuchnia gazowa"},{"$f":"'baza nisk'!C322","v":"SPRZĘT AGD"},{"$f":"'baza nisk'!D322","v":"SPRZĘT AGD"},{"$f":"'baza nisk'!E322","v":680.01},{"$f":"'baza nisk'!F322","v":"3.02"},{"$f":"'baza nisk'!G322","v":"Dział Gospodarki Nieruchomościami i Utrzymania Ruchu"},""]
[{"$f":"'baza nisk'!A323","v":"K-158A"},{"$f":"'baza nisk'!B323","v":"Kuchnia gazowa"},{"$f":"'baza nisk'!C323","v":"SPRZĘT AGD"},{"$f":"'baza nisk'!D323","v":"SPRZĘT AGD"},{"$f":"'baza nisk'!E323","v":680.01},{"$f":"'baza nisk'!F323","v":"3.02.02.01"},{"$f":"'baza nisk'!G323","v":"Hotel Pracowniczy"},""]
[{"$f":"'baza nisk'!A324","v":"K-158B"},{"$f":"'baza nisk'!B324","v":"Kuchenka gazowa Amica 58GG4,23OFP"},{"$f":"'baza nisk'!C324","v":"SPRZĘT AGD"},{"$f":"'baza nisk'!D324","v":"SPRZĘT AGD"},{"$f":"'baza nisk'!E324","v":680.01},{"$f":"'baza nisk'!F324","v":"3.02.02.01"},{"$f":"'baza nisk'!G324","v":"Hotel Pracowniczy"},""]
[{"$f":"'baza nisk'!A325","v":"K-161"},{"$f":"'baza nisk'!B325","v":"Kanapa-sofa 3DL z funkcją"},{"$f":"'baza nisk'!C325","v":"MEBLE"},{"$f":"'baza nisk'!D325","v":"MEBLE"},{"$f":"'baza nisk'!E325","v":1249},{"$f":"'baza nisk'!F325","v":"2.02.01.02"},{"$f":"'baza nisk'!G325","v":"Intensywna Terapia"},"Intensywna Terapia"]
[{"$f":"'baza nisk'!A326","v":"K-161A"},{"$f":"'baza nisk'!B326","v":"Kanapa narożna -Narożnik Blue z funkcją tkanina"},{"$f":"'baza nisk'!C326","v":"MEBLE"},{"$f":"'baza nisk'!D326","v":"MEBLE"},{"$f":"'baza nisk'!E326","v":1899},{"$f":"'baza nisk'!F326","v":"2.02.01.02"},{"$f":"'baza nisk'!G326","v":"Intensywna Terapia"},"Intensywna Terapia"]
[{"$f":"'baza nisk'!A327","v":"K-177"},{"$f":"'baza nisk'!B327","v":"Kosz sterylizacyjny ze stali kwasoodpornej 580x"},{"$f":"'baza nisk'!C327","v":"POZOSTAŁE"},{"$f":"'baza nisk'!D327","v":"POZOSTAŁE"},{"$f":"'baza nisk'!E327","v":450},{"$f":"'baza nisk'!F327","v":"2.02.01.02"},{"$f":"'baza nisk'!G327","v":"Intensywna Terapia"},"Intensywna Terapia"]
[{"$f":"'baza nisk'!#REF!","v":{"$error":"#REF!"}},{"$f":"'baza nisk'!#REF!","v":{"$error":"#REF!"}},{"$f":"'baza nisk'!#REF!","v":{"$error":"#REF!"}},{"$f":"'baza nisk'!#REF!","v":{"$error":"#REF!"}},{"$f":"'baza nisk'!#REF!","v":{"$error":"#REF!"}},{"$f":"'baza nisk'!#REF!","v":{"$error":"#REF!"}},{"$f":"'baza nisk'!#REF!","v":{"$error":"#REF!"}},{"$error":"#REF!"}]
[{"$f":"'baza nisk'!#REF!","v":{"$error":"#REF!"}},{"$f":"'baza nisk'!#REF!","v":{"$error":"#REF!"}},{"$f":"'baza nisk'!#REF!","v":{"$error":"#REF!"}},{"$f":"'baza nisk'!#REF!","v":{"$error":"#REF!"}},{"$f":"'baza nisk'!#REF!","v":{"$error":"#REF!"}},{"$f":"'baza nisk'!#REF!","v":{"$error":"#REF!"}},{"$f":"'baza nisk'!#REF!","v":{"$error":"#REF!"}},{"$error":"#REF!"}]
[{"$f":"'baza nisk'!#REF!","v":{"$error":"#REF!"}},{"$f":"'baza nisk'!#REF!","v":{"$error":"#REF!"}},{"$f":"'baza nisk'!#REF!","v":{"$error":"#REF!"}},{"$f":"'baza nisk'!#REF!","v":{"$error":"#REF!"}},{"$f":"'baza nisk'!#REF!","v":{"$error":"#REF!"}},{"$f":"'baza nisk'!#REF!","v":{"$error":"#REF!"}},{"$f":"'baza nisk'!#REF!","v":{"$error":"#REF!"}},{"$error":"#REF!"}]
[{"$f":"'baza nisk'!A328","v":"K-177"},{"$f":"'baza nisk'!B328","v":"Kosz sterylizacyjny ze stali kwasoodpornej 580x"},{"$f":"'baza nisk'!C328","v":"POZOSTAŁE"},{"$f":"'baza nisk'!D328","v":"POZOSTAŁE"},{"$f":"'baza nisk'!E328","v":450},{"$f":"'baza nisk'!F328","v":"2.02.05.01"},{"$f":"'baza nisk'!G328","v":"Oddział Chirurgii Ogólnej z Pododdziałami"},""]
[{"$f":"'baza nisk'!A329","v":"K-178"},{"$f":"'baza nisk'!B329","v":"Krzesło Prestige"},{"$f":"'baza nisk'!C329","v":"MEBLE"},{"$f":"'baza nisk'!D329","v":"MEBLE"},{"$f":"'baza nisk'!E329","v":243},{"$f":"'baza nisk'!F329","v":"2.02.17.01"},{"$f":"'baza nisk'!G329","v":"Oddział Urologii i Urologii Onkologicznej"},""]
[{"$f":"'baza nisk'!A330","v":"K-178A"},{"$f":"'baza nisk'!B330","v":"Krzesło Prestige"},{"$f":"'baza nisk'!C330","v":"MEBLE"},{"$f":"'baza nisk'!D330","v":"MEBLE"},{"$f":"'baza nisk'!E330","v":243},{"$f":"'baza nisk'!F330","v":"2.02.15"},{"$f":"'baza nisk'!G330","v":"Oddział Pediatryczny z Pododdziałem Gastroenterologii "},""]
[{"$f":"'baza nisk'!A331","v":"K-180"},{"$f":"'baza nisk'!B331","v":"Krzesło Ikar "},{"$f":"'baza nisk'!C331","v":"MEBLE"},{"$f":"'baza nisk'!D331","v":"MEBLE"},{"$f":"'baza nisk'!E331","v":120.54},{"$f":"'baza nisk'!F331","v":"2.02.13"},{"$f":"'baza nisk'!G331","v":"Oddział Okulistyczny"},""]
[{"$f":"'baza nisk'!A332","v":"K-180A"},{"$f":"'baza nisk'!B332","v":"Krzesło Ikar "},{"$f":"'baza nisk'!C332","v":"MEBLE"},{"$f":"'baza nisk'!D332","v":"MEBLE"},{"$f":"'baza nisk'!E332","v":120.54},{"$f":"'baza nisk'!F332","v":"2.02.02"},{"$f":"'baza nisk'!G332","v":"Oddział Angiologiczny z Pododdziałem Diabetologii"},""]
[{"$f":"'baza nisk'!A333","v":"K-180B"},{"$f":"'baza nisk'!B333","v":"Krzesło Ikar "},{"$f":"'baza nisk'!C333","v":"MEBLE"},{"$f":"'baza nisk'!D333","v":"MEBLE"},{"$f":"'baza nisk'!E333","v":120.54},{"$f":"'baza nisk'!F333","v":"2.02.09.11"},{"$f":"'baza nisk'!G333","v":"Oddział Kardiologiczny"},""]
[{"$f":"'baza nisk'!A334","v":"K-180B"},{"$f":"'baza nisk'!B334","v":"Krzesło Ikar "},{"$f":"'baza nisk'!C334","v":"MEBLE"},{"$f":"'baza nisk'!D334","v":"MEBLE"},{"$f":"'baza nisk'!E334","v":120.54},{"$f":"'baza nisk'!F334","v":"2.02.15"},{"$f":"'baza nisk'!G334","v":"Oddział Pediatryczny"},""]
[{"$f":"'baza nisk'!A335","v":"K-180B"},{"$f":"'baza nisk'!B335","v":"Krzesło Ikar "},{"$f":"'baza nisk'!C335","v":"MEBLE"},{"$f":"'baza nisk'!D335","v":"MEBLE"},{"$f":"'baza nisk'!E335","v":120.54},{"$f":"'baza nisk'!F335","v":"2.03.17"},{"$f":"'baza nisk'!G335","v":"Poradnia Neurochirurgiczna"},""]
[{"$f":"'baza nisk'!A336","v":"K-180B"},{"$f":"'baza nisk'!B336","v":"Krzesło Ikar "},{"$f":"'baza nisk'!C336","v":"MEBLE"},{"$f":"'baza nisk'!D336","v":"MEBLE"},{"$f":"'baza nisk'!E336","v":120.54},{"$f":"'baza nisk'!F336","v":"2.02.18"},{"$f":"'baza nisk'!G336","v":"Zamiejscowy Oddział Chirurgii Urazowo - Ortopedycznej"},""]
[{"$f":"'baza nisk'!A337","v":"K-180C"},{"$f":"'baza nisk'!B337","v":"Krzesło Ikar "},{"$f":"'baza nisk'!C337","v":"MEBLE"},{"$f":"'baza nisk'!D337","v":"MEBLE"},{"$f":"'baza nisk'!E337","v":120.54},{"$f":"'baza nisk'!F337","v":"2.03.05"},{"$f":"'baza nisk'!G337","v":"Poradnia Chirurgii Urazowo - Ortopedycznej"},""]
[{"$f":"'baza nisk'!A338","v":"K-180D"},{"$f":"'baza nisk'!B338","v":"Krzesło Ikar "},{"$f":"'baza nisk'!C338","v":"MEBLE"},{"$f":"'baza nisk'!D338","v":"MEBLE"},{"$f":"'baza nisk'!E338","v":120.54},{"$f":"'baza nisk'!F338","v":"2.02.02"},{"$f":"'baza nisk'!G338","v":"Oddział Angiologiczny z Pododdziałem Diabetologii"},""]
[{"$f":"'baza nisk'!A339","v":"K-180E"},{"$f":"'baza nisk'!B339","v":"Krzesło Ikar "},{"$f":"'baza nisk'!C339","v":"MEBLE"},{"$f":"'baza nisk'!D339","v":"MEBLE"},{"$f":"'baza nisk'!E339","v":120.54},{"$f":"'baza nisk'!F339","v":"2.02.03"},{"$f":"'baza nisk'!G339","v":"Oddział Chemioterapii z Pododdziałem Chemioterapii Dziennej"},{"$f":"IF($I$1=G387,$I$1,\"\")","v":""}]
[{"$f":"'baza nisk'!A340","v":"K-180E"},{"$f":"'baza nisk'!B340","v":"Krzesło Ikar "},{"$f":"'baza nisk'!C340","v":"MEBLE"},{"$f":"'baza nisk'!D340","v":"MEBLE"},{"$f":"'baza nisk'!E340","v":120.54},{"$f":"'baza nisk'!F340","v":"2.02.09.11"},{"$f":"'baza nisk'!G340","v":"Oddział Kardiologiczny"},""]
[{"$f":"'baza nisk'!A341","v":"K-180E"},{"$f":"'baza nisk'!B341","v":"Krzesło Ikar "},{"$f":"'baza nisk'!C341","v":"MEBLE"},{"$f":"'baza nisk'!D341","v":"MEBLE"},{"$f":"'baza nisk'!E341","v":120.54},{"$f":"'baza nisk'!F341","v":"2.02.12"},{"$f":"'baza nisk'!G341","v":"Oddział Neonatologiczny"},""]
[{"$f":"'baza nisk'!A342","v":"K-180E"},{"$f":"'baza nisk'!B342","v":"Krzesło Ikar "},{"$f":"'baza nisk'!C342","v":"MEBLE"},{"$f":"'baza nisk'!D342","v":"MEBLE"},{"$f":"'baza nisk'!E342","v":120.54},{"$f":"'baza nisk'!F342","v":"2.06"},{"$f":"'baza nisk'!G342","v":"Stacja Dializ"},""]
[{"$f":"'baza nisk'!A343","v":"K-189"},{"$f":"'baza nisk'!B343","v":"Kleszcze zatokowe pediatryczne,lewe STAMMBERGER"},{"$f":"'baza nisk'!C343","v":"NARZĘDZIA MEDYCZNE"},{"$f":"'baza nisk'!D343","v":"NARZ. MEDYCZNE"},{"$f":"'baza nisk'!E343","v":2200},{"$f":"'baza nisk'!F343","v":"2.02.14"},{"$f":"'baza nisk'!G343","v":"Oddział Otolaryngologiczny z Pododdziałem Otolaryngologii"},""]
[{"$f":"'baza nisk'!A344","v":"K-189A"},{"$f":"'baza nisk'!B344","v":"Kleszcze zatokowe STAMMBERGER RHINOFORCE II ,pr"},{"$f":"'baza nisk'!C344","v":"NARZĘDZIA MEDYCZNE"},{"$f":"'baza nisk'!D344","v":"NARZ. MEDYCZNE"},{"$f":"'baza nisk'!E344","v":2600},{"$f":"'baza nisk'!F344","v":"2.02.14"},{"$f":"'baza nisk'!G344","v":"Oddział Otolaryngologiczny z Pododdziałem Otolaryngologii"},""]
[{"$f":"'baza nisk'!A345","v":"K-189B"},{"$f":"'baza nisk'!B345","v":"Kleszcze zatokowe STAMMBERGER RHINOFORCE II ,le"},{"$f":"'baza nisk'!C345","v":"NARZĘDZIA MEDYCZNE"},{"$f":"'baza nisk'!D345","v":"NARZ. MEDYCZNE"},{"$f":"'baza nisk'!E345","v":2800},{"$f":"'baza nisk'!F345","v":"2.02.14"},{"$f":"'baza nisk'!G345","v":"Oddział Otolaryngologiczny z Pododdziałem Otolaryngologii"},""]
[{"$f":"'baza nisk'!A346","v":"K-192"},{"$f":"'baza nisk'!B346","v":"Kasa fiskalna POSNET MOBILE"},{"$f":"'baza nisk'!C346","v":"POZOSTAŁE"},{"$f":"'baza nisk'!D346","v":"POZOSTAŁE"},{"$f":"'baza nisk'!E346","v":1230},{"$f":"'baza nisk'!F346","v":"3.02"},{"$f":"'baza nisk'!G346","v":"Dział Gospodarki Nieruchomościami i Utrzymania Ruchu"},""]
[{"$f":"'baza nisk'!A347","v":"K-203"},{"$f":"'baza nisk'!B347","v":"Kleszcze optyczne do kruszenia kamieni,do zast."},{"$f":"'baza nisk'!C347","v":"NARZĘDZIA MEDYCZNE"},{"$f":"'baza nisk'!D347","v":"NARZ. MEDYCZNE"},{"$f":"'baza nisk'!E347","v":4500},{"$f":"'baza nisk'!F347","v":"2.02.17.01"},{"$f":"'baza nisk'!G347","v":"Oddział Urologii i Urologii Onkologicznej"},""]
[{"$f":"'baza nisk'!A348","v":"K-204"},{"$f":"'baza nisk'!B348","v":"Kleszcze optyczne biopsyjne, obie bransze rucho"},{"$f":"'baza nisk'!C348","v":"NARZĘDZIA MEDYCZNE"},{"$f":"'baza nisk'!D348","v":"NARZ. MEDYCZNE"},{"$f":"'baza nisk'!E348","v":3000},{"$f":"'baza nisk'!F348","v":"2.02.17.01"},{"$f":"'baza nisk'!G348","v":"Oddział Urologii i Urologii Onkologicznej"},""]
[{"$f":"'baza nisk'!A349","v":"K-205"},{"$f":"'baza nisk'!B349","v":"Kleszcze chwytające,bransze trójramienne ząbkow"},{"$f":"'baza nisk'!C349","v":"NARZĘDZIA MEDYCZNE"},{"$f":"'baza nisk'!D349","v":"NARZ. MEDYCZNE"},{"$f":"'baza nisk'!E349","v":1300},{"$f":"'baza nisk'!F349","v":"2.02.17.01"},{"$f":"'baza nisk'!G349","v":"Oddział Urologii i Urologii Onkologicznej"},""]
[{"$f":"'baza nisk'!A350","v":"K-205A"},{"$f":"'baza nisk'!B350","v":"Kleszcze chwytające,bransze trójramienne,ząbkow"},{"$f":"'baza nisk'!C350","v":"NARZĘDZIA MEDYCZNE"},{"$f":"'baza nisk'!D350","v":"NARZ. MEDYCZNE"},{"$f":"'baza nisk'!E350","v":1400},{"$f":"'baza nisk'!F350","v":"2.02.17.01"},{"$f":"'baza nisk'!G350","v":"Oddział Urologii i Urologii Onkologicznej"},""]
[{"$f":"'baza nisk'!A351","v":"K-213"},{"$f":"'baza nisk'!B351","v":"Krzesło biurowe DIKE z oparciem głowy"},{"$f":"'baza nisk'!C351","v":"MEBLE"},{"$f":"'baza nisk'!D351","v":"MEBLE"},{"$f":"'baza nisk'!E351","v":1303.8},{"$f":"'baza nisk'!F351","v":"3.02"},{"$f":"'baza nisk'!G351","v":"Dział Gospodarki Nieruchomościami i Utrzymania Ruchu"},""]
[{"$f":"'baza nisk'!A352","v":"K-223"},{"$f":"'baza nisk'!B352","v":"Krzesło Smart steel GTS Ring Base"},{"$f":"'baza nisk'!C352","v":"MEBLE"},{"$f":"'baza nisk'!D352","v":"MEBLE"},{"$f":"'baza nisk'!E352","v":330},{"$f":"'baza nisk'!F352","v":"2.02.08"},{"$f":"'baza nisk'!G352","v":"Oddział Położniczo – Ginekologiczny"},""]
[{"$f":"'baza nisk'!#REF!","v":{"$error":"#REF!"}},{"$f":"'baza nisk'!#REF!","v":{"$error":"#REF!"}},{"$f":"'baza nisk'!#REF!","v":{"$error":"#REF!"}},{"$f":"'baza nisk'!#REF!","v":{"$error":"#REF!"}},{"$f":"'baza nisk'!#REF!","v":{"$error":"#REF!"}},{"$f":"'baza nisk'!#REF!","v":{"$error":"#REF!"}},{"$f":"'baza nisk'!#REF!","v":{"$error":"#REF!"}},{"$error":"#REF!"}]
[{"$f":"'baza nisk'!#REF!","v":{"$error":"#REF!"}},{"$f":"'baza nisk'!#REF!","v":{"$error":"#REF!"}},{"$f":"'baza nisk'!#REF!","v":{"$error":"#REF!"}},{"$f":"'baza nisk'!#REF!","v":{"$error":"#REF!"}},{"$f":"'baza nisk'!#REF!","v":{"$error":"#REF!"}},{"$f":"'baza nisk'!#REF!","v":{"$error":"#REF!"}},{"$f":"'baza nisk'!#REF!","v":{"$error":"#REF!"}},{"$error":"#REF!"}]
[{"$f":"'baza nisk'!#REF!","v":{"$error":"#REF!"}},{"$f":"'baza nisk'!#REF!","v":{"$error":"#REF!"}},{"$f":"'baza nisk'!#REF!","v":{"$error":"#REF!"}},{"$f":"'baza nisk'!#REF!","v":{"$error":"#REF!"}},{"$f":"'baza nisk'!#REF!","v":{"$error":"#REF!"}},{"$f":"'baza nisk'!#REF!","v":{"$error":"#REF!"}},{"$f":"'baza nisk'!#REF!","v":{"$error":"#REF!"}},{"$error":"#REF!"}]
[{"$f":"'baza nisk'!#REF!","v":{"$error":"#REF!"}},{"$f":"'baza nisk'!#REF!","v":{"$error":"#REF!"}},{"$f":"'baza nisk'!#REF!","v":{"$error":"#REF!"}},{"$f":"'baza nisk'!#REF!","v":{"$error":"#REF!"}},{"$f":"'baza nisk'!#REF!","v":{"$error":"#REF!"}},{"$f":"'baza nisk'!#REF!","v":{"$error":"#REF!"}},{"$f":"'baza nisk'!#REF!","v":{"$error":"#REF!"}},{"$error":"#REF!"}]
[{"$f":"'baza nisk'!A353","v":"K-224"},{"$f":"'baza nisk'!B353","v":"Krzeslo Prestige GTS"},{"$f":"'baza nisk'!C353","v":"MEBLE"},{"$f":"'baza nisk'!D353","v":"MEBLE"},{"$f":"'baza nisk'!E353","v":220},{"$f":"'baza nisk'!F353","v":"2.02.14"},{"$f":"'baza nisk'!G353","v":"Oddział Otolaryngologiczny z Pododdziałem Otolaryngologii"},""]
[{"$f":"'baza nisk'!A354","v":"K-225"},{"$f":"'baza nisk'!B354","v":"Koszula dla matek karmiących"},{"$f":"'baza nisk'!C354","v":"POŚCIEL SZPITAL"},{"$f":"'baza nisk'!D354","v":"POŚCIEL SZPITAL"},{"$f":"'baza nisk'!E354","v":50},{"$f":"'baza nisk'!F354","v":"2.02.08"},{"$f":"'baza nisk'!G354","v":"Oddział Położniczo – Ginekologiczny"},""]
[{"$f":"'baza nisk'!A355","v":"K-225A"},{"$f":"'baza nisk'!B355","v":"Koszula dla matek karmiących"},{"$f":"'baza nisk'!C355","v":"POŚCIEL SZPITAL"},{"$f":"'baza nisk'!D355","v":"POŚCIEL SZPITAL"},{"$f":"'baza nisk'!E355","v":50},{"$f":"'baza nisk'!F355","v":"2.02.08"},{"$f":"'baza nisk'!G355","v":"Oddział Położniczo – Ginekologiczny"},""]
[{"$f":"'baza nisk'!A356","v":"K-225C"},{"$f":"'baza nisk'!B356","v":"Koszula dla matek karmiących"},{"$f":"'baza nisk'!C356","v":"POŚCIEL SZPITAL"},{"$f":"'baza nisk'!D356","v":"POŚCIEL SZPITAL"},{"$f":"'baza nisk'!E356","v":50},{"$f":"'baza nisk'!F356","v":"2.02.08"},{"$f":"'baza nisk'!G356","v":"Oddział Położniczo – Ginekologiczny"},""]
[{"$f":"'baza nisk'!A357","v":"K-225D"},{"$f":"'baza nisk'!B357","v":"Koszula szpitalna L"},{"$f":"'baza nisk'!C357","v":"POŚCIEL SZPITAL"},{"$f":"'baza nisk'!D357","v":"POŚCIEL SZPITAL"},{"$f":"'baza nisk'!E357","v":50},{"$f":"'baza nisk'!F357","v":"2.02.08"},{"$f":"'baza nisk'!G357","v":"Oddział Położniczo – Ginekologiczny"},""]
[{"$f":"'baza nisk'!A358","v":"K-225E"},{"$f":"'baza nisk'!B358","v":"Koszula szpitalna XL"},{"$f":"'baza nisk'!C358","v":"POŚCIEL SZPITAL"},{"$f":"'baza nisk'!D358","v":"POŚCIEL SZPITAL"},{"$f":"'baza nisk'!E358","v":50},{"$f":"'baza nisk'!F358","v":"2.02.08"},{"$f":"'baza nisk'!G358","v":"Oddział Położniczo – Ginekologiczny"},""]
[{"$f":"'baza nisk'!A359","v":"K-229"},{"$f":"'baza nisk'!B359","v":"Kaniula metalowa standartowa,prosta, do unitu."},{"$f":"'baza nisk'!C359","v":"NARZĘDZIA MEDYCZNE"},{"$f":"'baza nisk'!D359","v":"NARZ. MEDYCZNE"},{"$f":"'baza nisk'!E359","v":400},{"$f":"'baza nisk'!F359","v":"2.05"},{"$f":"'baza nisk'!G359","v":"SOR"},""]
[{"$f":"'baza nisk'!A360","v":"K-231"},{"$f":"'baza nisk'!B360","v":"Krzesło drewniane"},{"$f":"'baza nisk'!C360","v":"MEBLE"},{"$f":"'baza nisk'!D360","v":"MEBLE"},{"$f":"'baza nisk'!E360","v":199},{"$f":"'baza nisk'!F360","v":"3.02.02.01"},{"$f":"'baza nisk'!G360","v":"Hotel Pracowniczy"},""]
[{"$f":"'baza nisk'!A361","v":"K-238A"},{"$f":"'baza nisk'!B361","v":"Kleszcze ClickLine,monopolarne,śr.5mm, dł.rob.4"},{"$f":"'baza nisk'!C361","v":"NARZĘDZIA MEDYCZNE"},{"$f":"'baza nisk'!D361","v":"NARZ. MEDYCZNE"},{"$f":"'baza nisk'!E361","v":1800},{"$f":"'baza nisk'!F361","v":"2.04.01"},{"$f":"'baza nisk'!G361","v":"Blok Operacyjny"},""]
[{"$f":"'baza nisk'!A362","v":"K-238B"},{"$f":"'baza nisk'!B362","v":"Kleszcze ClickLine,monopolarne,śr.5mm, dł.rob.4"},{"$f":"'baza nisk'!C362","v":"NARZĘDZIA MEDYCZNE"},{"$f":"'baza nisk'!D362","v":"NARZ. MEDYCZNE"},{"$f":"'baza nisk'!E362","v":2700},{"$f":"'baza nisk'!F362","v":"2.04.01"},{"$f":"'baza nisk'!G362","v":"Blok Operacyjny"},""]
[{"$f":"'baza nisk'!#REF!","v":{"$error":"#REF!"}},{"$f":"'baza nisk'!#REF!","v":{"$error":"#REF!"}},{"$f":"'baza nisk'!#REF!","v":{"$error":"#REF!"}},{"$f":"'baza nisk'!#REF!","v":{"$error":"#REF!"}},{"$f":"'baza nisk'!#REF!","v":{"$error":"#REF!"}},{"$f":"'baza nisk'!#REF!","v":{"$error":"#REF!"}},{"$f":"'baza nisk'!#REF!","v":{"$error":"#REF!"}},{"$error":"#REF!"}]
[{"$f":"'baza nisk'!A363","v":"K-239A"},{"$f":"'baza nisk'!B363","v":"Kleszcze ClickLine KELLY,długie, monopolarne,śr"},{"$f":"'baza nisk'!C363","v":"NARZĘDZIA MEDYCZNE"},{"$f":"'baza nisk'!D363","v":"NARZ. MEDYCZNE"},{"$f":"'baza nisk'!E363","v":2600},{"$f":"'baza nisk'!F363","v":"2.04.01"},{"$f":"'baza nisk'!G363","v":"Blok Operacyjny"},""]
[{"$f":"'baza nisk'!A364","v":"K-239B"},{"$f":"'baza nisk'!B364","v":"Kleszcze ClickLine KELLY,długie, monopolarne,śr"},{"$f":"'baza nisk'!C364","v":"NARZĘDZIA MEDYCZNE"},{"$f":"'baza nisk'!D364","v":"NARZ. MEDYCZNE"},{"$f":"'baza nisk'!E364","v":2600},{"$f":"'baza nisk'!F364","v":"2.04.01"},{"$f":"'baza nisk'!G364","v":"Blok Operacyjny"},""]
[{"$f":"'baza nisk'!A365","v":"K-246"},{"$f":"'baza nisk'!B365","v":"Kleszczyki MAGILL 15cm"},{"$f":"'baza nisk'!C365","v":"NARZĘDZIA MEDYCZNE"},{"$f":"'baza nisk'!D365","v":"NARZ. MEDYCZNE"},{"$f":"'baza nisk'!E365","v":105},{"$f":"'baza nisk'!F365","v":"2.02.10"},{"$f":"'baza nisk'!G365","v":"Oddział Kardiologii Dziecięcej z Pododdziałem Kardiochirurgi"},""]
[{"$f":"'baza nisk'!A366","v":"K-246"},{"$f":"'baza nisk'!B366","v":"Kleszczyki MAGILL 15cm"},{"$f":"'baza nisk'!C366","v":"NARZĘDZIA MEDYCZNE"},{"$f":"'baza nisk'!D366","v":"NARZ. MEDYCZNE"},{"$f":"'baza nisk'!E366","v":105},{"$f":"'baza nisk'!F366","v":"2.02.12"},{"$f":"'baza nisk'!G366","v":"Oddział Neonatologiczny z Pododdziałem Patologii Noworodka"},""]
[{"$f":"'baza nisk'!A367","v":"K-246"},{"$f":"'baza nisk'!B367","v":"Kleszczyki MAGILL 15cm"},{"$f":"'baza nisk'!C367","v":"NARZĘDZIA MEDYCZNE"},{"$f":"'baza nisk'!D367","v":"NARZ. MEDYCZNE"},{"$f":"'baza nisk'!E367","v":105},{"$f":"'baza nisk'!F367","v":"2.02.15"},{"$f":"'baza nisk'!G367","v":"Oddział Pediatryczny z Pododdziałem Gastroenterologii "},""]
[{"$f":"'baza nisk'!A368","v":"K-246A"},{"$f":"'baza nisk'!B368","v":"Kleszczyki MAGILL 20cm"},{"$f":"'baza nisk'!C368","v":"NARZĘDZIA MEDYCZNE"},{"$f":"'baza nisk'!D368","v":"NARZ. MEDYCZNE"},{"$f":"'baza nisk'!E368","v":40},{"$f":"'baza nisk'!F368","v":"2.07.04"},{"$f":"'baza nisk'!G368","v":"DODO -Pracownia Diagnostyczno - Zabiegowa Naczyń"},""]
[{"$f":"'baza nisk'!A369","v":"K-246A"},{"$f":"'baza nisk'!B369","v":"Kleszczyki MAGILL 20cm"},{"$f":"'baza nisk'!C369","v":"NARZĘDZIA MEDYCZNE"},{"$f":"'baza nisk'!D369","v":"NARZ. MEDYCZNE"},{"$f":"'baza nisk'!E369","v":40},{"$f":"'baza nisk'!F369","v":"2.02.02"},{"$f":"'baza nisk'!G369","v":"Oddział Angiologiczny z Pododdziałem Diabetologii"},""]
[{"$f":"'baza nisk'!A370","v":"K-246A"},{"$f":"'baza nisk'!B370","v":"Kleszczyki MAGILL 20cm"},{"$f":"'baza nisk'!C370","v":"NARZĘDZIA MEDYCZNE"},{"$f":"'baza nisk'!D370","v":"NARZ. MEDYCZNE"},{"$f":"'baza nisk'!E370","v":40},{"$f":"'baza nisk'!F370","v":"2.02.04"},{"$f":"'baza nisk'!G370","v":"Oddział Chirurgii Naczyniowej"},""]
[{"$f":"'baza nisk'!A371","v":"K-246A"},{"$f":"'baza nisk'!B371","v":"Kleszczyki MAGILL 20cm"},{"$f":"'baza nisk'!C371","v":"NARZĘDZIA MEDYCZNE"},{"$f":"'baza nisk'!D371","v":"NARZ. MEDYCZNE"},{"$f":"'baza nisk'!E371","v":40},{"$f":"'baza nisk'!F371","v":"2.02.05.01"},{"$f":"'baza nisk'!G371","v":"Oddział Chirurgii Ogólnej z Pododdziałami"},""]
[{"$f":"'baza nisk'!A372","v":"K-246A"},{"$f":"'baza nisk'!B372","v":"Kleszczyki MAGILL 20cm"},{"$f":"'baza nisk'!C372","v":"NARZĘDZIA MEDYCZNE"},{"$f":"'baza nisk'!D372","v":"NARZ. MEDYCZNE"},{"$f":"'baza nisk'!E372","v":40},{"$f":"'baza nisk'!F372","v":"2.02.07"},{"$f":"'baza nisk'!G372","v":"Oddział Dermatologiczny"},""]
[{"$f":"'baza nisk'!A373","v":"K-246A"},{"$f":"'baza nisk'!B373","v":"Kleszczyki MAGILL 20cm"},{"$f":"'baza nisk'!C373","v":"NARZĘDZIA MEDYCZNE"},{"$f":"'baza nisk'!D373","v":"NARZ. MEDYCZNE"},{"$f":"'baza nisk'!E373","v":40},{"$f":"'baza nisk'!F373","v":"2.02.09.11"},{"$f":"'baza nisk'!G373","v":"Oddział Kardiologiczny"},""]
[{"$f":"'baza nisk'!A374","v":"K-246A"},{"$f":"'baza nisk'!B374","v":"Kleszczyki MAGILL 20cm"},{"$f":"'baza nisk'!C374","v":"NARZĘDZIA MEDYCZNE"},{"$f":"'baza nisk'!D374","v":"NARZ. MEDYCZNE"},{"$f":"'baza nisk'!E374","v":40},{"$f":"'baza nisk'!F374","v":"2.02.11.01"},{"$f":"'baza nisk'!G374","v":"Oddział Nefrologiczny"},""]
[{"$f":"'baza nisk'!A375","v":"K-246A"},{"$f":"'baza nisk'!B375","v":"Kleszczyki MAGILL 20cm"},{"$f":"'baza nisk'!C375","v":"NARZĘDZIA MEDYCZNE"},{"$f":"'baza nisk'!D375","v":"NARZ. MEDYCZNE"},{"$f":"'baza nisk'!E375","v":40},{"$f":"'baza nisk'!F375","v":"2.02.13"},{"$f":"'baza nisk'!G375","v":"Oddział Okulistyczny"},""]
[{"$f":"'baza nisk'!A376","v":"K-246A"},{"$f":"'baza nisk'!B376","v":"Kleszczyki MAGILL 20cm"},{"$f":"'baza nisk'!C376","v":"NARZĘDZIA MEDYCZNE"},{"$f":"'baza nisk'!D376","v":"NARZ. MEDYCZNE"},{"$f":"'baza nisk'!E376","v":40},{"$f":"'baza nisk'!F376","v":"2.02.14"},{"$f":"'baza nisk'!G376","v":"Oddział Otolaryngologiczny z Pododdziałem Otolaryngologii"},""]
[{"$f":"'baza nisk'!A377","v":"K-246A"},{"$f":"'baza nisk'!B377","v":"Kleszczyki MAGILL 20cm"},{"$f":"'baza nisk'!C377","v":"NARZĘDZIA MEDYCZNE"},{"$f":"'baza nisk'!D377","v":"NARZ. MEDYCZNE"},{"$f":"'baza nisk'!E377","v":40},{"$f":"'baza nisk'!F377","v":"2.02.15"},{"$f":"'baza nisk'!G377","v":"Oddział Pediatryczny z Pododdziałem Gastroenterologii "},""]
[{"$f":"'baza nisk'!A378","v":"K-246A"},{"$f":"'baza nisk'!B378","v":"Kleszczyki MAGILL 20cm"},{"$f":"'baza nisk'!C378","v":"NARZĘDZIA MEDYCZNE"},{"$f":"'baza nisk'!D378","v":"NARZ. MEDYCZNE"},{"$f":"'baza nisk'!E378","v":40},{"$f":"'baza nisk'!F378","v":"2.02.08"},{"$f":"'baza nisk'!G378","v":"Oddział Położniczo – Ginekologiczny"},""]
[{"$f":"'baza nisk'!A379","v":"K-246A"},{"$f":"'baza nisk'!B379","v":"Kleszczyki MAGILL 20cm"},{"$f":"'baza nisk'!C379","v":"NARZĘDZIA MEDYCZNE"},{"$f":"'baza nisk'!D379","v":"NARZ. MEDYCZNE"},{"$f":"'baza nisk'!E379","v":40},{"$f":"'baza nisk'!F379","v":"2.02.17.01"},{"$f":"'baza nisk'!G379","v":"Oddział Urologii i Urologii Onkologicznej"},""]
[{"$f":"'baza nisk'!A380","v":"K-246A"},{"$f":"'baza nisk'!B380","v":"Kleszczyki MAGILL 20cm"},{"$f":"'baza nisk'!C380","v":"NARZĘDZIA MEDYCZNE"},{"$f":"'baza nisk'!D380","v":"NARZ. MEDYCZNE"},{"$f":"'baza nisk'!E380","v":40},{"$f":"'baza nisk'!F380","v":"2.03.06"},{"$f":"'baza nisk'!G380","v":"Poradnia Angiologiczna"},""]
[{"$f":"'baza nisk'!A381","v":"K-246A"},{"$f":"'baza nisk'!B381","v":"Kleszczyki MAGILL 20cm"},{"$f":"'baza nisk'!C381","v":"NARZĘDZIA MEDYCZNE"},{"$f":"'baza nisk'!D381","v":"NARZ. MEDYCZNE"},{"$f":"'baza nisk'!E381","v":40},{"$f":"'baza nisk'!F381","v":"2.03.03"},{"$f":"'baza nisk'!G381","v":"Poradnia Chirurgii Ogólnej"},""]
[{"$f":"'baza nisk'!A382","v":"K-246A"},{"$f":"'baza nisk'!B382","v":"Kleszczyki MAGILL 20cm"},{"$f":"'baza nisk'!C382","v":"NARZĘDZIA MEDYCZNE"},{"$f":"'baza nisk'!D382","v":"NARZ. MEDYCZNE"},{"$f":"'baza nisk'!E382","v":40},{"$f":"'baza nisk'!F382","v":"2.03.04"},{"$f":"'baza nisk'!G382","v":"Poradnia Chirurgii Onkologicznej"},""]
[{"$f":"'baza nisk'!A383","v":"K-246A"},{"$f":"'baza nisk'!B383","v":"Kleszczyki MAGILL 20cm"},{"$f":"'baza nisk'!C383","v":"NARZĘDZIA MEDYCZNE"},{"$f":"'baza nisk'!D383","v":"NARZ. MEDYCZNE"},{"$f":"'baza nisk'!E383","v":40},{"$f":"'baza nisk'!F383","v":"2.03.12"},{"$f":"'baza nisk'!G383","v":"Poradnia Kardiologiczna dla Dzieci"},""]
[{"$f":"'baza nisk'!A384","v":"K-246A"},{"$f":"'baza nisk'!B384","v":"Kleszczyki MAGILL 20cm"},{"$f":"'baza nisk'!C384","v":"NARZĘDZIA MEDYCZNE"},{"$f":"'baza nisk'!D384","v":"NARZ. MEDYCZNE"},{"$f":"'baza nisk'!E384","v":40},{"$f":"'baza nisk'!F384","v":"2.03.17"},{"$f":"'baza nisk'!G384","v":"Poradnia Neurochirurgiczna"},""]
[{"$f":"'baza nisk'!A385","v":"K-246A"},{"$f":"'baza nisk'!B385","v":"Kleszczyki MAGILL 20cm"},{"$f":"'baza nisk'!C385","v":"NARZĘDZIA MEDYCZNE"},{"$f":"'baza nisk'!D385","v":"NARZ. MEDYCZNE"},{"$f":"'baza nisk'!E385","v":40},{"$f":"'baza nisk'!F385","v":"2.03.19"},{"$f":"'baza nisk'!G385","v":"Poradnia Okulistyczna"},""]
[{"$f":"'baza nisk'!A386","v":"K-246A"},{"$f":"'baza nisk'!B386","v":"Kleszczyki MAGILL 20cm"},{"$f":"'baza nisk'!C386","v":"NARZĘDZIA MEDYCZNE"},{"$f":"'baza nisk'!D386","v":"NARZ. MEDYCZNE"},{"$f":"'baza nisk'!E386","v":40},{"$f":"'baza nisk'!F386","v":"2.03.24"},{"$f":"'baza nisk'!G386","v":"Poradnia Urologiczna"},""]
[{"$f":"'baza nisk'!A387","v":"K-246A"},{"$f":"'baza nisk'!B387","v":"Kleszczyki MAGILL 20cm"},{"$f":"'baza nisk'!C387","v":"NARZĘDZIA MEDYCZNE"},{"$f":"'baza nisk'!D387","v":"NARZ. MEDYCZNE"},{"$f":"'baza nisk'!E387","v":40},{"$f":"'baza nisk'!F387","v":"2.02.05.02"},{"$f":"'baza nisk'!G387","v":"Pracownia Endoskopii"},""]
[{"$f":"'baza nisk'!A388","v":"K-246A"},{"$f":"'baza nisk'!B388","v":"Kleszczyki MAGILL 20cm"},{"$f":"'baza nisk'!C388","v":"NARZĘDZIA MEDYCZNE"},{"$f":"'baza nisk'!D388","v":"NARZ. MEDYCZNE"},{"$f":"'baza nisk'!E388","v":40},{"$f":"'baza nisk'!F388","v":"2.05"},{"$f":"'baza nisk'!G388","v":"SOR"},""]
[{"$f":"'baza nisk'!#REF!","v":{"$error":"#REF!"}},{"$f":"'baza nisk'!#REF!","v":{"$error":"#REF!"}},{"$f":"'baza nisk'!#REF!","v":{"$error":"#REF!"}},{"$f":"'baza nisk'!#REF!","v":{"$error":"#REF!"}},{"$f":"'baza nisk'!#REF!","v":{"$error":"#REF!"}},{"$f":"'baza nisk'!#REF!","v":{"$error":"#REF!"}},{"$f":"'baza nisk'!#REF!","v":{"$error":"#REF!"}},{"$error":"#REF!"}]
[{"$f":"'baza nisk'!#REF!","v":{"$error":"#REF!"}},{"$f":"'baza nisk'!#REF!","v":{"$error":"#REF!"}},{"$f":"'baza nisk'!#REF!","v":{"$error":"#REF!"}},{"$f":"'baza nisk'!#REF!","v":{"$error":"#REF!"}},{"$f":"'baza nisk'!#REF!","v":{"$error":"#REF!"}},{"$f":"'baza nisk'!#REF!","v":{"$error":"#REF!"}},{"$f":"'baza nisk'!#REF!","v":{"$error":"#REF!"}},{"$error":"#REF!"}]
[{"$f":"'baza nisk'!A389","v":"K-246A"},{"$f":"'baza nisk'!B389","v":"Kleszczyki MAGILL 20cm"},{"$f":"'baza nisk'!C389","v":"NARZĘDZIA MEDYCZNE"},{"$f":"'baza nisk'!D389","v":"NARZ. MEDYCZNE"},{"$f":"'baza nisk'!E389","v":40},{"$f":"'baza nisk'!F389","v":"2.06"},{"$f":"'baza nisk'!G389","v":"Stacja Dializ"},""]
[{"$f":"'baza nisk'!A390","v":"K-246A"},{"$f":"'baza nisk'!B390","v":"Kleszczyki MAGILL 20cm"},{"$f":"'baza nisk'!C390","v":"NARZĘDZIA MEDYCZNE"},{"$f":"'baza nisk'!D390","v":"NARZ. MEDYCZNE"},{"$f":"'baza nisk'!E390","v":40},{"$f":"'baza nisk'!F390","v":"2.02.19"},{"$f":"'baza nisk'!G390","v":"Zamiejscowy Oddział Rehabilitacji Neurologicznej"},""]
[{"$f":"'baza nisk'!A391","v":"K-246A"},{"$f":"'baza nisk'!B391","v":"Kleszczyki MAGILL 20cm"},{"$f":"'baza nisk'!C391","v":"NARZĘDZIA MEDYCZNE"},{"$f":"'baza nisk'!D391","v":"NARZ. MEDYCZNE"},{"$f":"'baza nisk'!E391","v":40},{"$f":"'baza nisk'!F391","v":"2.02.21"},{"$f":"'baza nisk'!G391","v":"Zamiejscowy Oddział Rehabilitacji Ogólnoustrojowej II"},""]
[{"$f":"'baza nisk'!A392","v":"K-246B"},{"$f":"'baza nisk'!B392","v":"Kleszczyki MAGILL 25cm"},{"$f":"'baza nisk'!C392","v":"NARZĘDZIA MEDYCZNE"},{"$f":"'baza nisk'!D392","v":"NARZ. MEDYCZNE"},{"$f":"'baza nisk'!E392","v":40},{"$f":"'baza nisk'!F392","v":"2.02.15"},{"$f":"'baza nisk'!G392","v":"Oddział Pediatryczny z Pododdziałem Gastroenterologii "},""]
[{"$f":"'baza nisk'!A393","v":"K-250"},{"$f":"'baza nisk'!B393","v":"Kleszcze biopsyjne owalne z igłą AF-2423BW"},{"$f":"'baza nisk'!C393","v":"NARZĘDZIA MEDYCZNE"},{"$f":"'baza nisk'!D393","v":"NARZ. MEDYCZNE"},{"$f":"'baza nisk'!E393","v":637.20000000000005},{"$f":"'baza nisk'!F393","v":"2.02.15"},{"$f":"'baza nisk'!G393","v":"Oddział Pediatryczny z Pododdziałem Gastroenterologii "},""]
[{"$f":"'baza nisk'!A394","v":"K-251"},{"$f":"'baza nisk'!B394","v":"Kaniula ssąca YANKAUER 285mm GF944R"},{"$f":"'baza nisk'!C394","v":"NARZĘDZIA MEDYCZNE"},{"$f":"'baza nisk'!D394","v":"NARZ. MEDYCZNE"},{"$f":"'baza nisk'!E394","v":130},{"$f":"'baza nisk'!F394","v":"2.04.01"},{"$f":"'baza nisk'!G394","v":"Blok Operacyjny"},""]
[{"$f":"'baza nisk'!A395","v":"K-251A"},{"$f":"'baza nisk'!B395","v":"Kaniula ssąca FERGUSSON fi 4,0mm DL R.110mm  GF"},{"$f":"'baza nisk'!C395","v":"NARZĘDZIA MEDYCZNE"},{"$f":"'baza nisk'!D395","v":"NARZ. MEDYCZNE"},{"$f":"'baza nisk'!E395","v":130},{"$f":"'baza nisk'!F395","v":"2.04.01"},{"$f":"'baza nisk'!G395","v":"Blok Operacyjny"},""]
[{"$f":"'baza nisk'!A396","v":"K-252A"},{"$f":"'baza nisk'!B396","v":"Kleszczyki naczyniowe SATINSKY 265mm FB605R"},{"$f":"'baza nisk'!C396","v":"NARZĘDZIA MEDYCZNE"},{"$f":"'baza nisk'!D396","v":"NARZ. MEDYCZNE"},{"$f":"'baza nisk'!E396","v":570},{"$f":"'baza nisk'!F396","v":"2.04.01"},{"$f":"'baza nisk'!G396","v":"Blok Operacyjny"},{"$f":"IF($I$1=G451,$I$1,\"\")","v":""}]
[{"$f":"'baza nisk'!A397","v":"K-253"},{"$f":"'baza nisk'!B397","v":"Kleszcze atraumatyczne naczyniowe DERRA duże 26"},{"$f":"'baza nisk'!C397","v":"NARZĘDZIA MEDYCZNE"},{"$f":"'baza nisk'!D397","v":"NARZ. MEDYCZNE"},{"$f":"'baza nisk'!E397","v":670},{"$f":"'baza nisk'!F397","v":"2.04.01"},{"$f":"'baza nisk'!G397","v":"Blok Operacyjny"},""]
[{"$f":"'baza nisk'!A398","v":"K-255"},{"$f":"'baza nisk'!B398","v":"Kleszcze preparacyjne MIXTER 250mm BJ062R"},{"$f":"'baza nisk'!C398","v":"NARZĘDZIA MEDYCZNE"},{"$f":"'baza nisk'!D398","v":"NARZ. MEDYCZNE"},{"$f":"'baza nisk'!E398","v":370},{"$f":"'baza nisk'!F398","v":"2.04.01"},{"$f":"'baza nisk'!G398","v":"Blok Operacyjny"},""]
[{"$f":"'baza nisk'!A399","v":"K-255A"},{"$f":"'baza nisk'!B399","v":"Kleszcze preparacyjne OVERHOLT delik.#1 260cmBJ"},{"$f":"'baza nisk'!C399","v":"NARZĘDZIA MEDYCZNE"},{"$f":"'baza nisk'!D399","v":"NARZ. MEDYCZNE"},{"$f":"'baza nisk'!E399","v":440},{"$f":"'baza nisk'!F399","v":"2.04.03"},{"$f":"'baza nisk'!G399","v":"Zamiejscowy Blok Operacyjny"},""]
[{"$f":"'baza nisk'!A400","v":"K-255B"},{"$f":"'baza nisk'!B400","v":"Kleszcze preparacyjne OVERHOLT-GEISSEND #3 225m"},{"$f":"'baza nisk'!C400","v":"NARZĘDZIA MEDYCZNE"},{"$f":"'baza nisk'!D400","v":"NARZ. MEDYCZNE"},{"$f":"'baza nisk'!E400","v":435},{"$f":"'baza nisk'!F400","v":"2.04.01"},{"$f":"'baza nisk'!G400","v":"Blok Operacyjny"},""]
[{"$f":"'baza nisk'!A401","v":"K-255B"},{"$f":"'baza nisk'!B401","v":"Kleszcze preparacyjne OVERHOLT-GEISSEND #3 225m"},{"$f":"'baza nisk'!C401","v":"NARZĘDZIA MEDYCZNE"},{"$f":"'baza nisk'!D401","v":"NARZ. MEDYCZNE"},{"$f":"'baza nisk'!E401","v":435},{"$f":"'baza nisk'!F401","v":"2.04.03"},{"$f":"'baza nisk'!G401","v":"Zamiejscowy Blok Operacyjny"},""]
[{"$f":"'baza nisk'!A402","v":"K-255C"},{"$f":"'baza nisk'!B402","v":"Kleszcze preparacyjne OVERHOLT-GEISSEND #2 220m"},{"$f":"'baza nisk'!C402","v":"NARZĘDZIA MEDYCZNE"},{"$f":"'baza nisk'!D402","v":"NARZ. MEDYCZNE"},{"$f":"'baza nisk'!E402","v":435},{"$f":"'baza nisk'!F402","v":"2.04.01"},{"$f":"'baza nisk'!G402","v":"Blok Operacyjny"},""]
[{"$f":"'baza nisk'!A403","v":"K-255C"},{"$f":"'baza nisk'!B403","v":"Kleszcze preparacyjne OVERHOLT-GEISSEND #2 220m"},{"$f":"'baza nisk'!C403","v":"NARZĘDZIA MEDYCZNE"},{"$f":"'baza nisk'!D403","v":"NARZ. MEDYCZNE"},{"$f":"'baza nisk'!E403","v":435},{"$f":"'baza nisk'!F403","v":"2.02.09.05"},{"$f":"'baza nisk'!G403","v":"Pracownia Elektrofizjologii"},""]
[{"$f":"'baza nisk'!A404","v":"K-255C"},{"$f":"'baza nisk'!B404","v":"Kleszcze preparacyjne OVERHOLT-GEISSEND #2 220m"},{"$f":"'baza nisk'!C404","v":"NARZĘDZIA MEDYCZNE"},{"$f":"'baza nisk'!D404","v":"NARZ. MEDYCZNE"},{"$f":"'baza nisk'!E404","v":435},{"$f":"'baza nisk'!F404","v":"2.04.03"},{"$f":"'baza nisk'!G404","v":"Zamiejscowy Blok Operacyjny"},""]
[{"$f":"'baza nisk'!A405","v":"K-255D"},{"$f":"'baza nisk'!B405","v":"Kleszcze preparacyjne ADSON 180mm, małe BJ014R"},{"$f":"'baza nisk'!C405","v":"NARZĘDZIA MEDYCZNE"},{"$f":"'baza nisk'!D405","v":"NARZ. MEDYCZNE"},{"$f":"'baza nisk'!E405","v":432},{"$f":"'baza nisk'!F405","v":"2.04.01"},{"$f":"'baza nisk'!G405","v":"Blok Operacyjny"},""]
[{"$f":"'baza nisk'!A406","v":"K-255E"},{"$f":"'baza nisk'!B406","v":"Kleszcze preparacyjne OVERHOLT-GEISSEND #1 BJ02"},{"$f":"'baza nisk'!C406","v":"NARZĘDZIA MEDYCZNE"},{"$f":"'baza nisk'!D406","v":"NARZ. MEDYCZNE"},{"$f":"'baza nisk'!E406","v":435},{"$f":"'baza nisk'!F406","v":"2.04.01"},{"$f":"'baza nisk'!G406","v":"Blok Operacyjny"},""]
[{"$f":"'baza nisk'!A407","v":"K-255F"},{"$f":"'baza nisk'!B407","v":"Kleszcze preparacyjne GEMINI 200mm BJ103R"},{"$f":"'baza nisk'!C407","v":"NARZĘDZIA MEDYCZNE"},{"$f":"'baza nisk'!D407","v":"NARZ. MEDYCZNE"},{"$f":"'baza nisk'!E407","v":260},{"$f":"'baza nisk'!F407","v":"2.04.01"},{"$f":"'baza nisk'!G407","v":"Blok Operacyjny"},""]
[{"$f":"'baza nisk'!A408","v":"K-255G"},{"$f":"'baza nisk'!B408","v":"Kleszcze OVERHOLT 21cm,fig.3  07-1711.03"},{"$f":"'baza nisk'!C408","v":"NARZĘDZIA MEDYCZNE"},{"$f":"'baza nisk'!D408","v":"NARZ. MEDYCZNE"},{"$f":"'baza nisk'!E408","v":100},{"$f":"'baza nisk'!F408","v":"2.07.04"},{"$f":"'baza nisk'!G408","v":"DODO -Pracownia Diagnostyczno - Zabiegowa Naczyń"},""]
[{"$f":"'baza nisk'!A409","v":"K-255H"},{"$f":"'baza nisk'!B409","v":"Kleszcze OVERHOLT-MARTIN 18,5cm,\"S\" 14.0340.01"},{"$f":"'baza nisk'!C409","v":"NARZĘDZIA MEDYCZNE"},{"$f":"'baza nisk'!D409","v":"NARZ. MEDYCZNE"},{"$f":"'baza nisk'!E409","v":100},{"$f":"'baza nisk'!F409","v":"2.07.04"},{"$f":"'baza nisk'!G409","v":"DODO -Pracownia Diagnostyczno - Zabiegowa Naczyń"},""]
[{"$f":"'baza nisk'!A410","v":"K-256"},{"$f":"'baza nisk'!B410","v":"Kleszcze naczyniowe ROCHESTER-PEAN zakrzywione"},{"$f":"'baza nisk'!C410","v":"NARZĘDZIA MEDYCZNE"},{"$f":"'baza nisk'!D410","v":"NARZ. MEDYCZNE"},{"$f":"'baza nisk'!E410","v":220},{"$f":"'baza nisk'!F410","v":"2.04.01"},{"$f":"'baza nisk'!G410","v":"Blok Operacyjny"},""]
[{"$f":"'baza nisk'!A411","v":"K-256"},{"$f":"'baza nisk'!B411","v":"Kleszcze naczyniowe ROCHESTER-PEAN zakrzywione"},{"$f":"'baza nisk'!C411","v":"NARZĘDZIA MEDYCZNE"},{"$f":"'baza nisk'!D411","v":"NARZ. MEDYCZNE"},{"$f":"'baza nisk'!E411","v":220},{"$f":"'baza nisk'!F411","v":"2.04.03"},{"$f":"'baza nisk'!G411","v":"Zamiejscowy Blok Operacyjny"},""]
[{"$f":"'baza nisk'!A412","v":"K-256A"},{"$f":"'baza nisk'!B412","v":"Kleszcze naczyniowe ROCHESTER-PEAN zakrzywione"},{"$f":"'baza nisk'!C412","v":"NARZĘDZIA MEDYCZNE"},{"$f":"'baza nisk'!D412","v":"NARZ. MEDYCZNE"},{"$f":"'baza nisk'!E412","v":220},{"$f":"'baza nisk'!F412","v":"2.04.01"},{"$f":"'baza nisk'!G412","v":"Blok Operacyjny"},""]
[{"$f":"'baza nisk'!A413","v":"K-256A"},{"$f":"'baza nisk'!B413","v":"Kleszcze naczyniowe ROCHESTER-PEAN zakrzywione"},{"$f":"'baza nisk'!C413","v":"NARZĘDZIA MEDYCZNE"},{"$f":"'baza nisk'!D413","v":"NARZ. MEDYCZNE"},{"$f":"'baza nisk'!E413","v":220},{"$f":"'baza nisk'!F413","v":"2.04.03"},{"$f":"'baza nisk'!G413","v":"Zamiejscowy Blok Operacyjny"},""]
[{"$f":"'baza nisk'!A414","v":"K-256B"},{"$f":"'baza nisk'!B414","v":"Kleszcze naczyniowe ROCHESTER-PEAN zakrzywione"},{"$f":"'baza nisk'!C414","v":"NARZĘDZIA MEDYCZNE"},{"$f":"'baza nisk'!D414","v":"NARZ. MEDYCZNE"},{"$f":"'baza nisk'!E414","v":220},{"$f":"'baza nisk'!F414","v":"2.04.01"},{"$f":"'baza nisk'!G414","v":"Blok Operacyjny"},""]
[{"$f":"'baza nisk'!A415","v":"K-256B"},{"$f":"'baza nisk'!B415","v":"Kleszcze naczyniowe ROCHESTER-PEAN zakrzywione"},{"$f":"'baza nisk'!C415","v":"NARZĘDZIA MEDYCZNE"},{"$f":"'baza nisk'!D415","v":"NARZ. MEDYCZNE"},{"$f":"'baza nisk'!E415","v":220},{"$f":"'baza nisk'!F415","v":"2.03.06"},{"$f":"'baza nisk'!G415","v":"Poradnia Angiologiczna"},""]
[{"$f":"'baza nisk'!A416","v":"K-256B"},{"$f":"'baza nisk'!B416","v":"Kleszcze naczyniowe ROCHESTER-PEAN zakrzywione"},{"$f":"'baza nisk'!C416","v":"NARZĘDZIA MEDYCZNE"},{"$f":"'baza nisk'!D416","v":"NARZ. MEDYCZNE"},{"$f":"'baza nisk'!E416","v":220},{"$f":"'baza nisk'!F416","v":"2.03.22"},{"$f":"'baza nisk'!G416","v":"Poradnia Otolaryngologiczna"},""]
[{"$f":"'baza nisk'!A417","v":"K-256B"},{"$f":"'baza nisk'!B417","v":"Kleszcze naczyniowe ROCHESTER-PEAN zakrzywione"},{"$f":"'baza nisk'!C417","v":"NARZĘDZIA MEDYCZNE"},{"$f":"'baza nisk'!D417","v":"NARZ. MEDYCZNE"},{"$f":"'baza nisk'!E417","v":220},{"$f":"'baza nisk'!F417","v":"2.06"},{"$f":"'baza nisk'!G417","v":"Stacja Dializ"},""]
[{"$f":"'baza nisk'!A418","v":"K-256C"},{"$f":"'baza nisk'!B418","v":"Kleszcze naczyniowe ROCHESTER-PEAN proste 240mm"},{"$f":"'baza nisk'!C418","v":"NARZĘDZIA MEDYCZNE"},{"$f":"'baza nisk'!D418","v":"NARZ. MEDYCZNE"},{"$f":"'baza nisk'!E418","v":220},{"$f":"'baza nisk'!F418","v":"2.04.01"},{"$f":"'baza nisk'!G418","v":"Blok Operacyjny"},""]
[{"$f":"'baza nisk'!A419","v":"K-256D"},{"$f":"'baza nisk'!B419","v":"Kleszcze naczyniowe ROCHESTER-PEAN zakrzywione"},{"$f":"'baza nisk'!C419","v":"NARZĘDZIA MEDYCZNE"},{"$f":"'baza nisk'!D419","v":"NARZ. MEDYCZNE"},{"$f":"'baza nisk'!E419","v":220},{"$f":"'baza nisk'!F419","v":"2.02.09.05"},{"$f":"'baza nisk'!G419","v":"Pracownia Elektrofizjologii"},""]
[{"$f":"'baza nisk'!A420","v":"K-257"},{"$f":"'baza nisk'!B420","v":"Kleszczyki HALSTEDA proste 125mm  BH110R"},{"$f":"'baza nisk'!C420","v":"NARZĘDZIA MEDYCZNE"},{"$f":"'baza nisk'!D420","v":"NARZ. MEDYCZNE"},{"$f":"'baza nisk'!E420","v":80},{"$f":"'baza nisk'!F420","v":"2.04.01"},{"$f":"'baza nisk'!G420","v":"Blok Operacyjny"},""]
[{"$f":"'baza nisk'!#REF!","v":{"$error":"#REF!"}},{"$f":"'baza nisk'!#REF!","v":{"$error":"#REF!"}},{"$f":"'baza nisk'!#REF!","v":{"$error":"#REF!"}},{"$f":"'baza nisk'!#REF!","v":{"$error":"#REF!"}},{"$f":"'baza nisk'!#REF!","v":{"$error":"#REF!"}},{"$f":"'baza nisk'!#REF!","v":{"$error":"#REF!"}},{"$f":"'baza nisk'!#REF!","v":{"$error":"#REF!"}},{"$error":"#REF!"}]
[{"$f":"'baza nisk'!A421","v":"K-257"},{"$f":"'baza nisk'!B421","v":"Kleszczyki HALSTEDA proste 125mm  BH110R"},{"$f":"'baza nisk'!C421","v":"NARZĘDZIA MEDYCZNE"},{"$f":"'baza nisk'!D421","v":"NARZ. MEDYCZNE"},{"$f":"'baza nisk'!E421","v":80},{"$f":"'baza nisk'!F421","v":"2.02.16"},{"$f":"'baza nisk'!G421","v":"Oddział Transplantologiczny"},""]
[{"$f":"'baza nisk'!A422","v":"K-257"},{"$f":"'baza nisk'!B422","v":"Kleszczyki HALSTEDA proste 125mm  BH110R"},{"$f":"'baza nisk'!C422","v":"NARZĘDZIA MEDYCZNE"},{"$f":"'baza nisk'!D422","v":"NARZ. MEDYCZNE"},{"$f":"'baza nisk'!E422","v":80},{"$f":"'baza nisk'!F422","v":"2.03.22"},{"$f":"'baza nisk'!G422","v":"Poradnia Otolaryngologiczna"},""]
[{"$f":"'baza nisk'!A423","v":"K-257A"},{"$f":"'baza nisk'!B423","v":"Kleszczyki HALSTEDA 1x2z. proste 125mm BH120R"},{"$f":"'baza nisk'!C423","v":"NARZĘDZIA MEDYCZNE"},{"$f":"'baza nisk'!D423","v":"NARZ. MEDYCZNE"},{"$f":"'baza nisk'!E423","v":80},{"$f":"'baza nisk'!F423","v":"2.02.09.05"},{"$f":"'baza nisk'!G423","v":"Pracownia Elektrofizjologii"},""]
[{"$f":"'baza nisk'!A424","v":"K-257B"},{"$f":"'baza nisk'!B424","v":"Kleszczyki HALSTEDA zakrzywione 125mm BH111R"},{"$f":"'baza nisk'!C424","v":"NARZĘDZIA MEDYCZNE"},{"$f":"'baza nisk'!D424","v":"NARZ. MEDYCZNE"},{"$f":"'baza nisk'!E424","v":100},{"$f":"'baza nisk'!F424","v":"2.04.01"},{"$f":"'baza nisk'!G424","v":"Blok Operacyjny"},""]
[{"$f":"'baza nisk'!A425","v":"K-257C"},{"$f":"'baza nisk'!B425","v":"Kleszczyki HALSTEDA zakrzyw. 100mm,małe BH105R"},{"$f":"'baza nisk'!C425","v":"NARZĘDZIA MEDYCZNE"},{"$f":"'baza nisk'!D425","v":"NARZ. MEDYCZNE"},{"$f":"'baza nisk'!E425","v":100},{"$f":"'baza nisk'!F425","v":"2.02.06"},{"$f":"'baza nisk'!G425","v":"Oddział Chirurgii Onkologicznej"},""]
[{"$f":"'baza nisk'!A426","v":"K-257C"},{"$f":"'baza nisk'!B426","v":"Kleszczyki HALSTEDA zakrzyw. 100mm,małe BH105R"},{"$f":"'baza nisk'!C426","v":"NARZĘDZIA MEDYCZNE"},{"$f":"'baza nisk'!D426","v":"NARZ. MEDYCZNE"},{"$f":"'baza nisk'!E426","v":100},{"$f":"'baza nisk'!F426","v":"2.03.06"},{"$f":"'baza nisk'!G426","v":"Poradnia Angiologiczna"},""]
[{"$f":"'baza nisk'!A427","v":"K-257C"},{"$f":"'baza nisk'!B427","v":"Kleszczyki HALSTEDA zakrzyw. 100mm,małe BH105R"},{"$f":"'baza nisk'!C427","v":"NARZĘDZIA MEDYCZNE"},{"$f":"'baza nisk'!D427","v":"NARZ. MEDYCZNE"},{"$f":"'baza nisk'!E427","v":100},{"$f":"'baza nisk'!F427","v":"2.03.04"},{"$f":"'baza nisk'!G427","v":"Poradnia Chirurgii Onkologicznej"},""]
[{"$f":"'baza nisk'!A428","v":"K-257C"},{"$f":"'baza nisk'!B428","v":"Kleszczyki HALSTEDA zakrzyw. 100mm,małe BH105R"},{"$f":"'baza nisk'!C428","v":"NARZĘDZIA MEDYCZNE"},{"$f":"'baza nisk'!D428","v":"NARZ. MEDYCZNE"},{"$f":"'baza nisk'!E428","v":100},{"$f":"'baza nisk'!F428","v":"2.02.09.05"},{"$f":"'baza nisk'!G428","v":"Pracownia Elektrofizjologii"},""]
[{"$f":"'baza nisk'!A429","v":"K-257D"},{"$f":"'baza nisk'!B429","v":"Kleszczyki HALSTEDA 1x2z. zakrzywione 100mm BH1"},{"$f":"'baza nisk'!C429","v":"NARZĘDZIA MEDYCZNE"},{"$f":"'baza nisk'!D429","v":"NARZ. MEDYCZNE"},{"$f":"'baza nisk'!E429","v":100},{"$f":"'baza nisk'!F429","v":"2.03.06"},{"$f":"'baza nisk'!G429","v":"Poradnia Angiologiczna"},""]
[{"$f":"'baza nisk'!A430","v":"K-266"},{"$f":"'baza nisk'!B430","v":"Krzeslo Cortina -plastikowe"},{"$f":"'baza nisk'!C430","v":"MEBLE"},{"$f":"'baza nisk'!D430","v":"MEBLE"},{"$f":"'baza nisk'!E430","v":80},{"$f":"'baza nisk'!F430","v":"2.02.20"},{"$f":"'baza nisk'!G430","v":"Zamiejscowy Oddział Rehabilitacji Ogólnoustrojowej I"},""]
[{"$f":"'baza nisk'!A431","v":"K-267"},{"$f":"'baza nisk'!B431","v":"Fotel obrotowy do komputera"},{"$f":"'baza nisk'!C431","v":"MEBLE"},{"$f":"'baza nisk'!D431","v":"MEBLE"},{"$f":"'baza nisk'!E431","v":220},{"$f":"'baza nisk'!F431","v":"3.02"},{"$f":"'baza nisk'!G431","v":"Dział Gospodarki Nieruchomościami i Utrzymania Ruchu"},""]
[{"$f":"'baza nisk'!A432","v":"K-267"},{"$f":"'baza nisk'!B432","v":"Fotel obrotowy do komputera"},{"$f":"'baza nisk'!C432","v":"MEBLE"},{"$f":"'baza nisk'!D432","v":"MEBLE"},{"$f":"'baza nisk'!E432","v":220},{"$f":"'baza nisk'!F432","v":"2.02.15"},{"$f":"'baza nisk'!G432","v":"Oddział Pediatryczny z Pododdziałem Gastroenterologii "},""]
[{"$f":"'baza nisk'!A433","v":"K-267"},{"$f":"'baza nisk'!B433","v":"Fotel obrotowy do komputera"},{"$f":"'baza nisk'!C433","v":"MEBLE"},{"$f":"'baza nisk'!D433","v":"MEBLE"},{"$f":"'baza nisk'!E433","v":220},{"$f":"'baza nisk'!F433","v":"2.02.08"},{"$f":"'baza nisk'!G433","v":"Oddział Położniczo – Ginekologiczny"},""]
[{"$f":"'baza nisk'!A434","v":"K-267"},{"$f":"'baza nisk'!B434","v":"Fotel obrotowy do komputera"},{"$f":"'baza nisk'!C434","v":"MEBLE"},{"$f":"'baza nisk'!D434","v":"MEBLE"},{"$f":"'baza nisk'!E434","v":220},{"$f":"'baza nisk'!F434","v":"2.02.20"},{"$f":"'baza nisk'!G434","v":"Zamiejscowy Oddział Rehabilitacji Ogólnoustrojowej I"},""]
[{"$f":"'baza nisk'!A435","v":"K-269"},{"$f":"'baza nisk'!B435","v":"Krzesło-Salina fotel ogrodowy 5-cio pozycyjny(b"},{"$f":"'baza nisk'!C435","v":"MEBLE"},{"$f":"'baza nisk'!D435","v":"MEBLE"},{"$f":"'baza nisk'!E435","v":220},{"$f":"'baza nisk'!F435","v":"2.02.03"},{"$f":"'baza nisk'!G435","v":"Oddział Chemioterapii z Pododdziałem Chemioterapii Dziennej"},""]
[{"$f":"'baza nisk'!A436","v":"K-271"},{"$f":"'baza nisk'!B436","v":"Kasetka metalowa MG-5P MG-K7"},{"$f":"'baza nisk'!C436","v":"POZOSTAŁE"},{"$f":"'baza nisk'!D436","v":"POZOSTAŁE"},{"$f":"'baza nisk'!E436","v":130},{"$f":"'baza nisk'!F436","v":"2.02.09.11"},{"$f":"'baza nisk'!G436","v":"Oddział Kardiologiczny"},""]
[{"$f":"'baza nisk'!A437","v":"K-273"},{"$f":"'baza nisk'!B437","v":"Krzesło Hit W-03 czarne"},{"$f":"'baza nisk'!C437","v":"MEBLE"},{"$f":"'baza nisk'!D437","v":"MEBLE"},{"$f":"'baza nisk'!E437","v":238.62},{"$f":"'baza nisk'!F437","v":"2.09"},{"$f":"'baza nisk'!G437","v":"Apteka Szpitalna"},""]
[{"$f":"'baza nisk'!A438","v":"K-273"},{"$f":"'baza nisk'!B438","v":"Krzesło Hit W-03 czarne"},{"$f":"'baza nisk'!C438","v":"MEBLE"},{"$f":"'baza nisk'!D438","v":"MEBLE"},{"$f":"'baza nisk'!E438","v":238.62},{"$f":"'baza nisk'!F438","v":"4.03"},{"$f":"'baza nisk'!G438","v":"Dział Organizacyjno - Prawny"},""]
[{"$f":"'baza nisk'!A439","v":"K-273"},{"$f":"'baza nisk'!B439","v":"Krzesło Hit W-03 czarne"},{"$f":"'baza nisk'!C439","v":"MEBLE"},{"$f":"'baza nisk'!D439","v":"MEBLE"},{"$f":"'baza nisk'!E439","v":238.62},{"$f":"'baza nisk'!F439","v":"6.02.04"},{"$f":"'baza nisk'!G439","v":"Pracownik Socjalny"},""]
[{"$f":"'baza nisk'!A440","v":"K-273"},{"$f":"'baza nisk'!B440","v":"Krzesło Hit W-03 czarne"},{"$f":"'baza nisk'!C440","v":"MEBLE"},{"$f":"'baza nisk'!D440","v":"MEBLE"},{"$f":"'baza nisk'!E440","v":238.62},{"$f":"'baza nisk'!F440","v":"4.07.01.02"},{"$f":"'baza nisk'!G440","v":"Zespół Konsultantów Biznesowych"},""]
[{"$f":"'baza nisk'!A441","v":"K-274"},{"$f":"'baza nisk'!B441","v":"Krzesło TECHNO-1523  Hocker"},{"$f":"'baza nisk'!C441","v":"MEBLE"},{"$f":"'baza nisk'!D441","v":"MEBLE"},{"$f":"'baza nisk'!E441","v":238.62},{"$f":"'baza nisk'!F441","v":"2.02.09.11"},{"$f":"'baza nisk'!G441","v":"Oddział Kardiologiczny"},""]
[{"$f":"'baza nisk'!A442","v":"K-284"},{"$f":"'baza nisk'!B442","v":"Kosz ze stali nierdzewnej z uchwytem na szynę[d"},{"$f":"'baza nisk'!C442","v":"POZOSTAŁE"},{"$f":"'baza nisk'!D442","v":"POZOSTAŁE"},{"$f":"'baza nisk'!E442","v":400},{"$f":"'baza nisk'!F442","v":"2.02.09.11"},{"$f":"'baza nisk'!G442","v":"Oddział Kardiologiczny"},""]
[{"$f":"'baza nisk'!A443","v":"K-284A"},{"$f":"'baza nisk'!B443","v":"Kosz ze stali nierdzewnej o dł.500mm"},{"$f":"'baza nisk'!C443","v":"POZOSTAŁE"},{"$f":"'baza nisk'!D443","v":"POZOSTAŁE"},{"$f":"'baza nisk'!E443","v":400},{"$f":"'baza nisk'!F443","v":"2.02.10"},{"$f":"'baza nisk'!G443","v":"Oddział Kardiologii Dziecięcej z Pododdziałem Kardiochirurgi"},""]
[{"$f":"'baza nisk'!A444","v":"K-285"},{"$f":"'baza nisk'!B444","v":"Kleszcze jelitowe ClickLine,monopolarne, śr.5mm"},{"$f":"'baza nisk'!C444","v":"NARZĘDZIA MEDYCZNE"},{"$f":"'baza nisk'!D444","v":"NARZ. MEDYCZNE"},{"$f":"'baza nisk'!E444","v":1830.4},{"$f":"'baza nisk'!F444","v":"2.04.01"},{"$f":"'baza nisk'!G444","v":"Blok Operacyjny"},""]
[{"$f":"'baza nisk'!A445","v":"K-285A"},{"$f":"'baza nisk'!B445","v":"Kleszcze jelitowe JUDD-ALLIS 3x4z 200mm EA026R"},{"$f":"'baza nisk'!C445","v":"NARZĘDZIA MEDYCZNE"},{"$f":"'baza nisk'!D445","v":"NARZ. MEDYCZNE"},{"$f":"'baza nisk'!E445","v":1830.4},{"$f":"'baza nisk'!F445","v":"2.04.01"},{"$f":"'baza nisk'!G445","v":"Blok Operacyjny"},""]
[{"$f":"'baza nisk'!A446","v":"K-286"},{"$f":"'baza nisk'!B446","v":"Kleszcze ClickLine,\"Pazury\"2x3,uchwyt metalowy,"},{"$f":"'baza nisk'!C446","v":"NARZĘDZIA MEDYCZNE"},{"$f":"'baza nisk'!D446","v":"NARZ. MEDYCZNE"},{"$f":"'baza nisk'!E446","v":1837.29},{"$f":"'baza nisk'!F446","v":"2.04.01"},{"$f":"'baza nisk'!G446","v":"Blok Operacyjny"},""]
[{"$f":"'baza nisk'!A447","v":"K-287"},{"$f":"'baza nisk'!B447","v":"Kleszcze ClickLine MANHES,uchwyt metalowy,śr.5m"},{"$f":"'baza nisk'!C447","v":"NARZĘDZIA MEDYCZNE"},{"$f":"'baza nisk'!D447","v":"NARZ. MEDYCZNE"},{"$f":"'baza nisk'!E447","v":1730.43},{"$f":"'baza nisk'!F447","v":"2.04.01"},{"$f":"'baza nisk'!G447","v":"Blok Operacyjny"},""]
[{"$f":"'baza nisk'!A448","v":"K-288"},{"$f":"'baza nisk'!B448","v":"Kleszcze chwytające RoBi,bipolarne, okienkowe,ś"},{"$f":"'baza nisk'!C448","v":"NARZĘDZIA MEDYCZNE"},{"$f":"'baza nisk'!D448","v":"NARZ. MEDYCZNE"},{"$f":"'baza nisk'!E448","v":3278.16},{"$f":"'baza nisk'!F448","v":"2.04.01"},{"$f":"'baza nisk'!G448","v":"Blok Operacyjny"},""]
[{"$f":"'baza nisk'!A449","v":"K-289"},{"$f":"'baza nisk'!B449","v":"Kulociąg ClickLine SAWALHE,długi,uchwyt metalow"},{"$f":"'baza nisk'!C449","v":"NARZĘDZIA MEDYCZNE"},{"$f":"'baza nisk'!D449","v":"NARZ. MEDYCZNE"},{"$f":"'baza nisk'!E449","v":2416.39},{"$f":"'baza nisk'!F449","v":"2.04.01"},{"$f":"'baza nisk'!G449","v":"Blok Operacyjny"},""]

{"sheet":"baza inwest.","index":13,"n_rows":1075,"n_cols":12,"rows_kept":1075,"cut":false,"hidden":true,"merged":[]}
["p_nr_inwentarzowy","nr_obcy","nazwa_pelna","opisst","p_w_aktualna","p_karta_id","p_imie","p_nazwisko","data_zakupu","w_poczatkowa","miejsce"]
["008-0057-00005","8-57-5/002042","Analizator hematologiczny"," KX-21N ",41792.230000000003,3734,"Ewa            ","Czerniak                           ",40268,41792.230000000003,"Dział Gospodarki Nieruchomościami i Utrzymania Ruchu"]
["008-2821-00000","T-51-VIII-259/05/002821","Analizator NO z akcesoriami",null,51300,3982,"Elżbieta       ","Chodara                            ",40569,51300,"Oddział Pediatryczny z Pododdziałem Gastroenterologii"]
["008-0198-00003","8-198-3/003036","Analizator parametrów krytycznych","typ: COBAS b121",29960,4859,"Teresa         ","Pastuszka                          ",40163,29960,"Oddział Położniczo – Ginekologiczny"]
["008-0257-00002","8-257-2/002383","Analizator równowagi kwasowo-zasadowej krwi","model: RKZ RL348; prod: BAYER",31779,4204,"Jacek          ","Jagas                              ",38575,31779,"Pracownia Hemodynamiki","Apteka Szpitalna"]
["008-0257-00001","8-257-1/001540","Analizator składu ciała ","Model: QuadScan 4000; producent: BODYSTAT, Wielka Brytania",31724.46,5132,"Danuta         ","Cymerman                           ",41229,31724.46,"Oddział Chirurgii Onkologicznej"]
["008-0411-00001","8-411-1/003721","Analizator testów oddechowych","Analizator testów oddechowych IRIS-Doc z oprogramowaniem",120167.26,4264,"Elżbieta       ","Chodara                            ",40402,120167.26,"Oddział Pediatryczny z Pododdziałem Gastroenterologii"]
["008-0198-00002","8-198-2/002842","Aparat do badania otoemisji akustycznych OtoRead","typ: Clinical; producent: Interacoustics A/S, Dania",22629.24,5183,"Jarosław       ","Kapuściński                        ",41061,22629.24,"OŚRODEK PROTEZOWANIA SŁUCHU DLA NOWORODKÓW"]
["008-0227-00002","8-227-2/003599","Aparat do CPAP-u z analizatorem tlenowym InterFlow","producent: ANMEDIC AB",10692,3404,"Bożena         ","Potentas                           ",40585,10692,"Intensywna Terapia"]
["008-0197-00005","8-197-5/003051","Aparat do fakoemulsyfikacji INFINITI VISION SYSTEM","Prod: ALCON LABORATORIES; USA.\r\n",468247.54,4997,"Małgorzata     ","Ciepłucha                          ",38644,409927.54,"Oddział Okulistyczny"]
["008-0169-00003","8-169-3/001487","Aparat do hemodializy ","Dar od GAMBRO POLAND Sp. z o.o.\r\ntyp/model: AK 200S; ",40000,3977,"Jadwiga        ","Zielińska                          ",39399,40000,"Stacja Dializ"]
["008-0205-00009","8-205-9/001763","Aparat do hemodializy ","typ: DAILOG+A; producent: B.BRAUN.",25920,5199,"Jadwiga        ","Zielińska                          ",40983,25920,"Stacja Dializ"]
["008-0205-00028","8-205-28/003397","Aparat do hemodializy ","Typ: 7102072; producent: B.BRAUN",30240,2908,"Jadwiga        ","Zielińska                          ",40891,30240,"Stacja Dializ"]
["008-0205-00020","8-205-20/003280","Aparat do hemodializy ","producent: B. BRAUN",36774,6749,"Jadwiga        ","Zielińska                          ",41893,36774,"Stacja Dializ"]
["008-0205-00029",null,"Aparat do kriochirurgii ","Producent: Metrum Cryoflex Sp. z o.o., Sp. k., Polska.",31000,6744,"Małgorzata     ","Ciepłucha                          ",41843,31000,"Oddział Okulistyczny"]
["008-0125-00003",null,"Aparat do krioterapii ",null,16863,3449,"Ireneusz       ","Dzierżek                           ",40268,16863,"Zamiejscowy Dział Rehabilitacji Leczniczej"]
["008-2773-00000","T-51-VIII-216/2000/002773","Aparat do krioterapii ",null,14500,3448,"Ireneusz       ","Dzierżek                           ",40268,14500,"Zamiejscowy Dział Rehabilitacji Leczniczej"]
["008-2770-00000","T-51-VIII-210/2000/002770","Aparat do krioterapii ",null,13929.26,4927,"Ireneusz       ","Dzierżek                           ",40268,13929.26,"Zamiejscowy Dział Rehabilitacji Leczniczej"]
["008-2809-00000","T-51-VIII-289/08/002809","Aparat do krioterapii z wyposażeniem",null,6750.02,4817,"Irena          ","Raus                               ",40268,6750.02,"Zamiejscowy Oddział Chirurgii Urazowo - Ortopedycznej"]
["008-2754-00000","T-51-VIII-211/2000/002754","Aparat do masażu uciskowego + mankiety na pas biodrowy BOA ",null,9341.99,2433,"Ireneusz       ","Dzierżek                           ",40268,9341.99,"Zamiejscowy Dział Rehabilitacji Leczniczej"]
["008-0445-00001","T-51-VIII-214/2000/002779","Aparat do masażu uciskowego ","producent: DAESUNG, Korea.",10980.05,6906,"Ireneusz       ","Dzierżek                           ",41933,10980.05,"Zamiejscowy Dział Rehabilitacji Leczniczej"]
["008-0445-00002",null,"Aparat do monitorowania EMG ","Aparat do monitorowania EMG typu Neuro-Mep-4",86080,3648,"Agnieszka      ","Wieczorek                          ",40723,86080,"Poradnia Neurologiczna"]
["008-0378-00001","8-378-1/003090","Aparat do nastawiania i zaopatrywania złamań kości przedramienia","Typ: JK-AWR;producent: Jan Krużyński Wytwórnia Sprzętu Medycznego i Rehabilitacyjnego\r\n\r\n",9000,4036,"Anna           ","Kofman                             ",40794,9000,"SOR"]
["008-0382-00001","8-382-1/003105","Aparat do podgrzewania płynów i krwi  ","Typ: MAXITHERM 230 V; Wprowadzone komponenty.",22460.560000000001,3378,"Bożena         ","Potentas                           ",40274,22460.560000000001,"Intensywna Terapia"]
["008-0238-00006","8-238-6/002603","Aparat do plasmoforezy ","typ: PRISMAFLEX; producent: Gambro AB, Szwecja; ",69550,3784,"Bożena         ","Potentas                           ",40129,69550,"Intensywna Terapia"]
["008-0328-00002","8-328-2/002367","Aparat do plasmoforezy ","typ: PRISMAFLEX; producent: Gambro AB, Szwecja",69550,3528,"Justyna        ","Karawan                            ",40133,69550,"Oddział Nefrologiczny"]
["008-0328-00001","8-328-1/002366","Aparat do podgrzewania płynów i krwi  ","model: FW-588\r\nproducent: TYCO HEALTHCARE NELLCOR PURITAN BENNETT INC.",7490,3774,"Bożena         ","Potentas                           ",39351,7490,"Intensywna Terapia"]
["008-0238-00003","8-238-3/001743","Aparat do podgrzewania płynów i krwi  ","typ: FW588",9095,4352,"Anna           ","Kofman                             ",38687,9095,"SOR"]
["008-0238-00002","8-238-2/001519","Aparat do podgrzewania płynów i krwi  ","Producent: Helena Laboratories, USA",4838.3999999999996,3861,"Dorota         ","Pikul                              ",40847,4838.3999999999996,"Oddział Kardiologiczny"]
["008-0094-00004","8-94-4/003169","Aparat do przesiewowego badania słuchu u noworodków","producent: Interacoustics A/S, Niemcy",17184.96,3869,"Grażyna        ","Radzioch                           ",40877,17184.96,"Oddział Neonatologiczny z Pododdziałem Patologii Noworodka"]
["008-0229-00003","8-229-3/003223","Aparat do śródoperacyjnej radioterapii z wykorzystaniem promieniowania X PRS 500 Intrabeam","typ: Control Console; producent: CARL ZEISS.",1845000,3049,"Danuta         ","Cymerman                           ",40162,1845000,"Oddział Chirurgii Onkologicznej"]
["008-0334-00001","8-334-1/002424","Aparat do terapii ozonowej","typ: ATO 3; producent: METRUM CRYOFLEX, POLSKA\r\nkomponenty: 1) generator ozonu, 2) zestaw do ozonowania płynów",24100,2637,"Danuta         ","Cymerman                           ",39539,24100,"Oddział Chirurgii Onkologicznej"]
["008-0291-00001","8-291-1/001892","Aparat do terapii ultradźwiękami","producent: EMILDUE, Włochy",4499.01,6907,"Ireneusz       ","Dzierżek                           ",41933,4499.01,"Zamiejscowy Dział Rehabilitacji Leczniczej"]
["008-0456-00001",null,"Aparat do znieczulania ogólnego","TYP: PRIMUS; prod: DRAGER",130861,4351,"Bożena         ","Potentas                           ",38688,130861,"Anestezjologia"]
["008-0026-00013","8-26-13/001515","Aparat do znieczulania PRIMUS","producent: Drager",223560,4627,"Bożena         ","Potentas                           ",40823,223560,"Anestezjologia"]
["008-0026-00026","8-26-26/003200","Aparat do znieczulania Primus z monitorem Infinity Delta","producent: DRAGER MEDICAL, Niemcy\r",187096.87,4756,"Bożena         ","Potentas                           ",39436,187096.87,"Anestezjologia"]
["008-0026-00015","8-26-15/001843","Aparat do znieczulania ","Aparat do znieczulania typ Wato EX-65 z monitorem typ Beneview T8.\r\nproducent: MINDRAY, Chiny",140400,6852,"Maria          ","Bieza                              ",41960,140400,"Zamiejscowy Blok Operacyjny"]
["008-0026-00032",null,"Aparat do znieczulania ","Wraz z monitorem Infinity Delta oraz oprogramowaniem Gateway. Producent: Drager Medical",129060,3720,"Bożena         ","Potentas                           ",40927,129060,"Anestezjologia"]
["008-0026-00031","8-26-31/003330","Aparat do znieczulania ","typ/model: FABIUS TIRO. ",133108,4723,"Bożena         ","Potentas                           ",39597,133108,"Anestezjologia"]
["008-0026-00018","8-26-18/001945","Aparat do znieczulania ","typ/model: PRIMUS. ",169060,3469,"Bożena         ","Potentas                           ",39597,169060,"Anestezjologia"]
["008-0026-00017","8-26-17/001944","Aparat EKG","typ: E600G; producent: FARUM S.A.",4173,3882,"Barbara        ","Matusiak                           ",39820,4173,"Oddział Dermatologiczny"]
["008-0062-00032","8-62-32/002071","Aparat EKG 12-kanałowy ",null,6372,5247,"Anna           ","Kofman                             ",40996,6372,"SOR"]
["008-0062-00038","8-62-38/003401","Aparat EKG 12-kanałowy ","Typ: M-TRACE",6480,4804,"Jadwiga        ","Zielińska                          ",40893,6480,"Stacja Dializ"]
["008-0062-00036","8-62-36/003269","Aparat EKG 12-kanałowy na wózku ","Aparat EKG 12-kanałowy na wózku Mr BLUE typ ASCARD ",5550.09,5000,"Stanisław      ","Drelichowski                       ",40268,5550.09,"DODO - Zamiejscowa Pracownia RTG"]
["008-2840-00000","T-51-VIII-272/07/002840","Aparat EKG 12-kanałowy ","Typ ELI 230; Producent: Mortara Instrument Inc., USA. ",6873.98,2614,"Dorota         ","Pikul                              ",40823,6873.98,"Oddział Kardiologiczny"]
["008-0062-00035","8-62-35/003168","Aparat EKG ","Typ: Gold3; producent: ASPEL S.A., Polska.",15511.28,4745,"Wiesława       ","Pietruczuk                         ",40963,15511.28,"Oddział Kardiologii Dziecięcej z Pododdziałem Kardiochirurgi"]
["008-0062-00037","8-62-37/003375","Aparat EKG ","prod: ASPEL, POLSKA; typ: ASCARD MR SILVER  ",7950,2847,"Anna           ","Kofman                             ",38664,7950,"SOR"]
["008-0062-00026","8-62-26/001494","Aparat EKG ","producent: BTL Industries Ltd., Wielka Brytania",4995,6935,"Teresa         ","Pastuszka                          ",42034,4995,"Oddział Położniczo – Ginekologiczny"]
["008-0062-00048",null,"Aparat EKG ",null,3996,6741,"Małgorzata     ","Ciepłucha                          ",41848,3996,"Oddział Okulistyczny"]
["008-0062-00046",null,"Aparat EKG ",null,5499.8,2546,"Elżbieta       ","Chodara                            ",40156,5499.8,"Oddział Pediatryczny z Pododdziałem Gastroenterologii"]
["008-0062-00034","8-62-34/002462","Aparat EKG ","typ: MAC 600; producent: GE Medical Systems Information Technologies.",4374,5184,"Teresa         ","Tarasińska                         ",41025,4374,"Oddział Chirurgii Naczyniowej"]
["008-0062-00039","8-62-39/003520","Aparat elektrochirurgiczny","CE 1011; prod.: EMED",6622.28,2340,"Marzena        ","Jurga                              ",38610,6622.28,"Poradnia Dermatologiczna"]
["008-0041-00005","8-41-5/001485","Aparat EroScan do przesiewowego badania słuchu u noworodków","typ: Screener\r",17120,3410,"Grażyna        ","Radzioch                           ",39519,17120,"Oddział Neonatologiczny z Pododdziałem Patologii Noworodka"]
["008-0229-00002","8-229-2/001877","Aparat fotograficzny NIKON","aparat D70S +18-70 mm NIKON\r",4499.99,4996,"Wiesława       ","Augustyn                           ",38783,4499.99,"Blok Operacyjny"]
["008-0193-00002","8-193-2/001555","Aparat Infant Flow SiPAP","Producent: VIASYS Respiratory Care Inc., USA",87480,2582,"Grażyna        ","Radzioch                           ",40989,87480,"Oddział Neonatologiczny z Pododdziałem Patologii Noworodka"]
["008-0197-00006","8-197-6/003387","Aparat Mikromed ","Typ BHH\r\n",4587.13,3214,"Maria          ","Bieza                              ",40268,4587.13,"Zamiejscowy Blok Operacyjny"]
["008-2731-00000","T-51-VIII-132/87/002731","Aparat PRISMAFLEX","Aparat do hemodiafiltracji; typ: PRISMAFLEX;",66960,6545,"Bożena         ","Potentas                           ",41575,66960,"Intensywna Terapia"]
["008-0328-00003",null,"Aparat RTG  ",null,280099.03999999998,3493,"Stanisław      ","Drelichowski                       ",38763,280099.03999999998,"DODO - Pracownia RTG"]
["008-0130-00015","8-130-15/001554","Aparat RTG  ",null,605177,5005,"Stanisław      ","Drelichowski                       ",40268,605177,"DODO - Zamiejscowa Pracownia RTG"]
["008-2841-00000","T-51-VIII-262a/05/002841","Aparat RTG  ",null,499797,3492,"Stanisław      ","Drelichowski                       ",40269,499797,"DODO - Pracownia RTG"]
["008-0130-00020","8-130-20/002609","Aparat RTG przewoźny przyłóżkowy ","typ: MobileArt Plus MUX-100; producent; SHIMADZU, Japonia",149586,2548,"Stanisław      ","Drelichowski                       ",40149,149586,"DODO - Pracownia RTG"]
["008-0130-00019","8-130-19/002430","Aparat RTG z ramieniem C","typ: WHA-200 OPESCOPE PLENO; prod: SHIMADZU, Japonia",531576,4852,"Anna           ","Kofman                             ",38698,531576,"SOR"]
["008-0130-00014","8-130-14/001536","Aparat RTG z ramieniem C","typ: ZIEHM Vision; Aparat RTG z ramieniem C ",709410,4209,"Dorota         ","Pikul                              ",40030,709410,"Pracownia Elektrofizjologii"]
["008-0130-00017","8-130-17/002265","Aparat RTG z ramieniem C","typ: ZIEHM Vision; Aparat RTG z ramieniem C ",709410,3909,"Stanisław      ","Nabzdyk                            ",40030,709410,"Pracownia Endoskopii"]
["008-0130-00018","8-130-18/002266","Aparat RTG z ramieniem C","Typ: FLUOROSTAR; producenr: GE Medical Systems",189000,4329,"Krystyna       ","Baszak                             ",39813,189000,"Oddział Urologii i Urologii Onkologicznej"]
["008-0130-00016","8-130-16/002068","Aparat USG","Typ: ALOKA ProSound Alpha 7; producent: Olympus Medical Systems Corporation, Japonia.",268272,5251,"Stanisław      ","Nabzdyk                            ",40998,268272,"Pracownia Endoskopii"]
["008-0030-00050","8-30-50/003408","Aparat USG","typ: ACUSON ANTARES; producent: Siemens\r",421651.91,5033,"Krzysztof      ","Szecówka                           ",39063,421651.91,"Poradnia Chirurgii Naczyniowej"]
["008-0030-00029","8-30-29/001631","Aparat USG Doppler naczyń obwodowych","producent: SIEMENS",159940,4733,"Teresa         ","Tarasińska                         ",40863,159940,"Oddział Chirurgii Naczyniowej"]
["008-0030-00049","8-30-49/003222","Aparat USG","model: EPIDOT USO; producent: ECHO-SON dla OPTOPOL, Polska",48730,2410,"Małgorzata     ","Ciepłucha                          ",40177,48730,"Poradnia Okulistyczna"]
["008-0030-00041","8-30-41/002426","Aparat USG","typ: SSA-660A/15; producent: Toshiba. ",181700,3373,"Danuta         ","Cymerman                           ",40150,181700,"Oddział Chirurgii Onkologicznej"]
["008-0030-00039","8-30-39/002437","Aparat USG","typ: SSA-790A Aplio XG; producent: Toshiba.",228000,2845,"Stanisław      ","Drelichowski                       ",40150,228000,"DODO - Pracownia USG Piersi"]
["008-0030-00038","8-30-38/002428","Aparat USG ginekologiczny ",null,214920,3650,"Teresa         ","Pastuszka                          ",40812,214920,"SOR"]
["008-0030-00046","8-30-46/003108","Aparat USG kardiologiczny ",null,233064,3120,"Anna           ","Kofman                             ",40812,233064,"SOR"]
["008-0030-00047","8-30-47/003109","Aparat USG","typ/model:MyLab50XVision; producent: ESAOTE",174562.4,3412,"Grażyna        ","Radzioch                           ",39813,174562.4,"Oddział Neonatologiczny z Pododdziałem Patologii Noworodka"]
["008-0030-00032","8-30-32/002061","Aparat RTG przewoźny przyłóżkowy ","Producent: GE Healthcare. ",133920,2611,"Anna           ","Kofman                             ",40842,133920,"SOR"]
["008-0030-00048","8-30-48/003165","Aparat RTG przewoźny przyłóżkowy ","producent: LIFE MED; ",128996.28,5122,"Bożena         ","Potentas                           ",41212,99997.2,"Intensywna Terapia"]
["008-0030-00051","8-30-51/003709","Aparat USG","Wyposażenie: 1) Głowica 2)Videoprinter Mitsubishi P93 ",233158.88,4840,"Elżbieta       ","Chodara                            ",40711,233158.88,"Oddział Pediatryczny z Pododdziałem Gastroenterologii"]
["008-0030-00044","8-30-44/003069","Aparat USG","producent: Philips Healthcare, USA.",194940,6908,"Bożena         ","Potentas                           ",41976,194940,"Intensywna Terapia"]
["008-0030-00059",null,"Aparat USG","Typ/model: HD9, producent: PHILIPS; Wyposażenie: 1) sonda liniowa L12-5; 2) sonda convex C5-2, 3) przystawka biopsyjna, ",162000,2507,"Justyna        ","Karawan                            ",40744,162000,"Oddział Transplantologiczny"]
["008-0030-00045","8-30-45/003091","Aparat USG Doppler naczyń obwodowych","Wyposażenie: 1) Sonda liniowa L12-4 2) Sonda convexowa C5-2. Producent: PHILIPS.",78840,6680,"Danuta         ","Cymerman                           ",41684,78840,"Poradnia Chirurgii Onkologicznej"]
["008-0030-00055",null,"Aparat USG Doppler naczyń obwodowych","Producent: BK Medical, Dania.",139995,6686,"Krystyna       ","Baszak                             ",41683,139995,"Oddział Urologii i Urologii Onkologicznej"]
["008-0030-00056",null,"Aparat USG Doppler naczyń obwodowych",null,157680,6648,"Teresa         ","Tarasińska                         ",41608,157680,"Oddział Chirurgii Naczyniowej"]
["008-0030-00054",null,"Aparat EKG","producent: FARUM S.A.",4173,3019,"Wiesława       ","Gorgol                             ",39407,4173,"Pracownia EKG"]
["008-0062-00030","8-62-30/001766","Aplikator do systemu PRS 500","Rozmiar: 1,5 cm;  Aplikator do Aparatu do śródoperacyjnej radioterapii PRS 500 Intrabeam (8-334-1).",12579.99,4970,"Danuta         ","Cymerman                           ",40526,12579.99,"Oddział Chirurgii Onkologicznej"]
["008-0363-00001","8-363-1/002990","Szyna do ćwiczeń biernych stawu kolanowego",null,14950,4991,"Ireneusz       ","Dzierżek                           ",40268,14950,"Zamiejscowy Dział Rehabilitacji Leczniczej"]
["008-0199-00002","T-51-VIII-215/2000/002787","Szyna do ćwiczeń biernych stawu kolanowego",null,20100,4789,"Ireneusz       ","Dzierżek                           ",40268,20100,"Zamiejscowy Dział Rehabilitacji Leczniczej"]
["008-0199-00003","T-51-VIII-271/07/002805","Szyna do ćwiczeń biernych stawu kolanowego","Charakterystyka: aparat ortopedyczny do mobilizacji stawu kolanowego i biodrowego.\r\n",15129,4926,"Ireneusz       ","Dzierżek                           ",40268,15129,"Zamiejscowy Dział Rehabilitacji Leczniczej"]
["008-0199-00004","T-51-VIII-284/08/002808","Artromot  ",null,12000,4818,"Irena          ","Raus                               ",40268,12000,"Zamiejscowy Oddział Chirurgii Urazowo - Ortopedycznej"]
["008-0199-00005","T-51-VIII-219/2002/002756","Szyna do ćwiczeń biernych stawu biodrowego i kolanowego","producent: ORMED GmbH, Niemcy",19980,6855,"Irena          ","Raus                               ",41957,19980,"Zamiejscowy Oddział Chirurgii Urazowo - Ortopedycznej"]
["008-0199-00006",null,"Artroskop + monitor LCD ","Charakterystyka:  typ BOB-T;  + wyposażenie + monitor \r\n",19136,4815,"Maria          ","Bieza                              ",40268,19136,"Zamiejscowy Blok Operacyjny"]
["008-2750-00000","T-51-VIII-296/09/002750","ATLAS",null,9180,2432,"Ireneusz       ","Dzierżek                           ",40268,9180,"Zamiejscowy Dział Rehabilitacji Leczniczej"]
["008-2778-00000","T-51-VIII-189/98/002778","Autokeratorefraktometr","prod: GRAND SEIKO;  typ: GR 3100 K; ",22400,5283,"Małgorzata     ","Ciepłucha                          ",38680,22400,"Oddział Okulistyczny"]
["008-0254-00001","8-254-1/001498","Autoklaw elektryczno",null,92382,3732,"Ewa            ","Czerniak                           ",40268,92382,"Dział Gospodarki Nieruchomościami i Utrzymania Ruchu"]
["008-2818-00000","T-51-VIII-217/01/002818","Autoklaw kasetowy","typ: STATIM 5000S; prod: Sci Can, Kanada ",18136.5,4350,"Małgorzata     ","Ciepłucha                          ",38750,18136.5,"Oddział Okulistyczny"]
["008-0032-00032","8-32-32/001552","Autoklaw kasetowy","producent: CANADA \"SCICAN\" LTD",20330,2724,"Krystyna       ","Baszak                             ",39443,20330,"Oddział Urologii i Urologii Onkologicznej"]
["008-0032-00033","8-32-33/001810","Autoklaw kasetowy",null,24825.3,3731,"Ewa            ","Czerniak                           ",40268,24825.3,"Dział Gospodarki Nieruchomościami i Utrzymania Ruchu"]
["008-2817-00000","T-51-VIII-165/96/002817","Autoklaw kasetowy","Model: Statim 5000S; producent: SciCan",16300,2987,"Małgorzata     ","Ciepłucha                          ",40917,16300,"Oddział Okulistyczny"]
["008-0032-00041","8-32-41/003314","Automatyczna myjnia do endoskopów","Typ: CLEAN TOP; producent: Kaigen, Niemcy",119988,4641,"Stanisław      ","Nabzdyk                            ",41198,119988,"Pracownia Endoskopii"]
["008-0191-00006","8-191-6/003679","Automatyczna myjnia do endoskopów","producent: OLYMPUS",77002.55,4049,"Elżbieta       ","Chodara                            ",39322,77002.55,"Poradnia Gastroenterologiczna Dla Dzieci"]
["008-0191-00004","8-191-4/001729","Automatyczny wstrzykiwacz do badań MR","Medrad Spectris Solaris MR; producent: MEDRAD, Inc.; USA",109862.74,2355,"Stanisław      ","Drelichowski                       ",38454,109862.74,"DODO - Pracownia Rezonansu Magnetycznego"]
["008-0248-00001","8-248-1/001465","Autorefraktokeratometr ","Model: KR-800; producent: TOPCON Corporation, Japonia.",25988,6742,"Małgorzata     ","Ciepłucha                          ",41845,25988,"Oddział Okulistyczny"]
["008-0254-00005",null,"Autorefraktokeratometr ","typ: RM-8800; prod: TOPCON - Japnia",23058.11,4276,"Małgorzata     ","Ciepłucha                          ",38939,23058.11,"Poradnia Okulistyczna"]
["008-0254-00002","8-254-2/001584","Autorefraktokeratometr ","Ręczny autorefraktometr z keratometrem z drukarką bezprzewodową.\r\nProducent: RIGH MFG. CO. LTD, Japonia. ",35424,6853,"Małgorzata     ","Ciepłucha                          ",41950,35424,"Oddział Okulistyczny"]
["008-0254-00006",null,"Autorefraktokeratometr ","typ: Speedy-K; producent: Righton; W wyposażeniu jest stolik elektryczny typ NET-1.",26350,5290,"Małgorzata     ","Ciepłucha                          ",40984,26350,"Poradnia Okulistyczna"]
["008-0254-00004","8-254-4/003390","Autorefraktokeratometr ","typ: KR-8900; producent: TOPCON MEDICAL SYSTEMS; Inc., USA",28447.02,4398,"Małgorzata     ","Ciepłucha                          ",40543,28447.02,"SOR"]
["008-0254-00003","8-254-3/003016","Bateryjne źródło światła Karl Storz",null,5941.44,3609,"Bożena         ","Potentas                           ",41051,5941.44,"SOR"]
["008-0272-00005","8-272-5/003536","Bieżnia z systemem wysiłkowym i ergometrem","Typ: T2100; producent: GE Medical Systems Information Technologies, USA.\r",75816,6650,"Wiesława       ","Pietruczuk                         ",41614,75816,"Oddział Kardiologii Dziecięcej z Pododdziałem Kardiochirurgi"]
["008-0233-00007",null,"Bieżnia ","Charakterystyka:  rok prod 2000, typ 7898-600, ",8700,3569,"Ireneusz       ","Dzierżek                           ",40268,8700,"Zamiejscowy Dział Rehabilitacji Leczniczej"]
["008-2780-00000","T-51-VIII-234/2000/002780","Bieżnia ",null,4100,2997,"Teresa         ","Tarasińska                         ",41193,4100,"Oddział Chirurgii Naczyniowej"]
["008-0233-00006","8-233-6/003678","Bieżnia ",null,10500,5375,"Teresa         ","Tarasińska                         ",41193,10500,"Oddział Chirurgii Naczyniowej"]
["008-0233-00005","8-233-5/003677","Biometr optyczny","typ: IOL Master; producent: CARL ZEISS Meditec AG; Jena, Niemcy; ",105000,3164,"Małgorzata     ","Ciepłucha                          ",40063,105000,"Oddział Okulistyczny"]
["008-0310-00001","8-310-1/002303","Bronchofiberoskop ","producent: OLYMPUS.",50787,6623,"Bożena         ","Potentas                           ",41585,50787,"Intensywna Terapia"]
["008-0170-00008",null,"Bronchofiberoskop ","Cechy: 6,4 mm x 54 cm, kanał roboczy 2,8 mm, kąt widzenia 110 st., + 180st./-100 st.",37162.65,5201,"Bożena         ","Potentas                           ",41051,37162.65,"SOR"]
["008-0170-00007","8-170-7/003535","Bronchofiberoskop ","Producent: Karl Storz; Wprowadzone komponenty.",34544.94,2609,"Anna           ","Kofman                             ",40830,34544.94,"SOR"]
["008-0170-00004","8-170-4/003163","Bronchofiberoskop ","producent: KARL STORZ ENDOSKOPE",137661.25,3750,"Bożena         ","Potentas                           ",41087,137661.25,"SOR"]
["008-0021-00010","8-21-10/003602","Butla do krioterapii ",null,3513.6,2430,"Ireneusz       ","Dzierżek                           ",40268,3513.6,"Zamiejscowy Dział Rehabilitacji Leczniczej"]
["008-2774-00000","T-51-VIII-217/2000/002774","CardioMessenger II S",null,4860,4386,"Dorota         ","Pikul                              ",40911,4860,"Pracownia Elektrofizjologii"]
["008-0390-00005","8-390-5/003315","CardioMessenger II S","producent: Biotronik SE&COKG",4860,4651,"Dorota         ","Pikul                              ",40865,4860,"Pracownia Elektrofizjologii"]
["008-0390-00001","8-390-1/003218","Centrala monitorujaca ","producent: Philips Medical Systems",40230,4618,"Wiesława       ","Pietruczuk                         ",40865,30240,"Oddział Kardiologii Dziecięcej z Pododdziałem Kardiochirurgi"]
["008-0174-00003","8-174-3/003237","Centrala systemu monitorowania DRAGER","typ: ICS; producent: DRAGER MEDICAL, Niemcy",50290,2844,"Bożena         ","Potentas                           ",40161,50290,"Intensywna Terapia"]
["008-0014-00002","8-14-2/002417","Centralna stacja nadzorowania IntelliVue z wyposażeniem","typ: M3150, prod: Philips Medical Systems.\r",157538.95000000001,5113,"Dorota         ","Pikul                              ",38800,71138.95,"Oddział Kardiologiczny"]
["008-0174-00002","8-174-2/001556","Chirurgiczna sonda promieniowania gamma",null,64200,2357,"Danuta         ","Cymerman                           ",38503,64200,"Oddział Chirurgii Onkologicznej"]
["008-0250-00001","8-250-1/001472","Chłodziarka laboratoryjna ",null,6487.62,6697,"Wiesława       ","Augustyn                           ",41759,6487.62,"Blok Operacyjny"]
["008-0317-00011",null,"Cieplarka laboratoryjna ","model: CLW 53 ECO; producent: POL-EKO-APARATURA SP. J.",4483.3500000000004,3513,"Wiesława       ","Augustyn                           ",40875,4483.3500000000004,"Blok Operacyjny"]
["008-0393-00001","8-393-1/003229","Czytnik płyt obrazowania do mammografii wraz z konsolą technika","producent: AGFA HealthCare; Wprowadzone komponenty.",181044,2772,"Stanisław      ","Drelichowski                       ",40542,181044,"DODO - Pracownia Mammografii"]
["008-0247-00002","8-247-2/003026","Czytnik płyt obrazowania wraz z konsolą technika AGFA",null,161730,6913,"Stanisław      ","Drelichowski                       ",41984,161730,"DODO - Pracownia RTG"]
["008-0247-00003",null,"Defibrylator","typ: ACLS+/SpO2/PC/12L/DC;  prod: ZOLL Medical Corporation, USA\r",37370.82,5137,"Anna           ","Kofman                             ",38707,37370.82,"SOR"]
["008-0089-00011","8-89-11/001537","Defibrylator","typ Cardin –Aid MC”+” \r",24934.43,2889,"Irena          ","Raus                               ",40268,24934.43,"Zamiejscowy Oddział Chirurgii Urazowo - Ortopedycznej"]
["008-2753-00000","T-51-VIII-181/97/002753","Defibrylator LIFEPAK 11","producent: MEDTRONIC",34186.5,4533,"Bożena         ","Potentas                           ",39436,34186.5,"Anestezjologia"]
["008-0089-00019","8-89-19/001846","Defibrylator LIFEPAK 12","typ/model: LIFEPAK 12; producent: Medtronic",43292.2,4277,"Bożena         ","Potentas                           ",39692,43292.2,"Intensywna Terapia"]
["008-0089-00035","8-89-35/002021","Defibrylator LIFEPAK 15",null,69999,2562,"Bożena         ","Potentas                           ",41246,69999,"Intensywna Terapia"]
["008-0089-00051","8-89-51/003772","Defibrylator LIFEPAK 15","Producent: Physio Control. Defibrylator + torba transportowa.",62931,2613,"Anna           ","Kofman                             ",40841,62931,"SOR"]
["008-0089-00042","8-89-42/003166","Defibrylator LIFEPAK 20","typ/model: LIFEPAK 20\r producent: Medtronic\r",29700,4811,"Bożena         ","Potentas                           ",40893,29700,"Anestezjologia"]
["008-0089-00045","8-89-45/003292","Defibrylator LIFEPAK 20","typ/model: LIFEPAK 20\r producent: Medtronic\r",26857,5019,"Elżbieta       ","Jarawka                            ",39051,26857,"Oddział Chirurgii Ogólnej z Pododdziałami"]
["008-0089-00016","8-89-16/001614","Defibrylator LIFEPAK 20","typ/model: LIFEPAK 20\r producent: Medtronic\r",26857,5020,"Danuta         ","Cymerman                           ",39051,26857,"Oddział Chirurgii Onkologicznej"]
["008-0089-00017","8-89-17/001615","Defibrylator LIFEPAK 20","typ: LIFEPAK 20; model: 3202488-010; prod: Medtronic",26375.5,4009,"Dorota         ","Pikul                              ",38834,26375.5,"Oddział Kardiologiczny"]
["008-0089-00014","8-89-14/001571","Defibrylator LIFEPAK 20","typ/model: LIFEPAK 20\r producent: Medtronic\r",28141,2734,"Dorota         ","Pikul                              ",39892,28141,"Oddział Kardiologiczny"]
["008-0089-00036","8-89-36/002209","Defibrylator LIFEPAK 20","typ/model: LIFEPAK 20\r producent: Medtronic\r",29700,2529,"Justyna        ","Karawan                            ",40893,29700,"Oddział Nefrologiczny"]
["008-0089-00049","8-89-49/003296","Defibrylator LIFEPAK 20","typ/model: LIFEPAK 20\r producent: Medtronic\r",26857,4258,"Jadwiga        ","Zielińska                          ",39051,26857,"Stacja Dializ"]
["008-0089-00015","8-89-15/001613","Defibrylator LIFEPAK 20 z modułem SpO2 i stymulacją zewnętrzną","typ/model: LIFEPAK 20 z modułem SpO2 i stymulacją zewnętrzną; producent: Medtronic",15027.96,3854,"Dorota         ","Pikul                              ",39692,15027.96,"Oddział Kardiologiczny"]
["008-0089-00020","8-89-20/002020","Defibrylator LIFEPAK 20e","Producent: Physio Control Inc., USA.",30238.92,6683,"Danuta         ","Cymerman                           ",41681,30238.92,"Oddział Chemioterapii z Pododdziałem Chemioterapii Dziennej"]
["008-0089-00054",null,"Defibrylator LIFEPAK 20e","typ: LIFEPAK 20E; producent: Medtronic",29700,3374,"Wiesława       ","Pietruczuk                         ",40969,29700,"Oddział Kardiologii Dziecięcej z Pododdziałem Kardiochirurgi"]
["008-0089-00050","8-89-50/003384","Defibrylator LIFEPAK 20e","Defibrylator Lifepak 20e ze stymulacją zewnętrzną i SpO2.\r\nProducent: Physio Control Inc.,USA",31860,6947,"Wiesława       ","Pietruczuk                         ",42044,31860,"Oddział Kardiologii Dziecięcej z Pododdziałem Kardiochirurgi"]
["008-0089-00060",null,"Defibrylator LIFEPAK 20e","Producent: Physio Control Inc.,USA",25918.92,6685,"Elżbieta       ","Chodara                            ",41681,25918.92,"Oddział Pediatryczny z Pododdziałem Gastroenterologii"]
["008-0089-00056",null,"Defibrylator LIFEPAK 20e","producent: Physio-Control Inc., USA",31860,6968,"Teresa         ","Pastuszka                          ",42123,31860,"Oddział Położniczo – Ginekologiczny"]
["008-0089-00061",null,"Defibrylator LIFEPAK 20e","Producent: Physio Control Inc.,USA",30238.92,6684,"Krystyna       ","Baszak                             ",41681,30238.92,"Oddział Urologii i Urologii Onkologicznej"]
["008-0089-00055",null,"Defibrylator LIFEPAK 20e","producent: Physio-Control, USA.",28499.040000000001,6867,"Dorota         ","Pikul                              ",41971,28499.040000000001,"Poradnia Kardiologiczna"]
["008-0089-00059",null,"Defibrylator LIFEPAK 20e","producent: Physio Control",30132,2615,"Dorota         ","Pikul                              ",40843,30132,"Pracownia Elektrofizjologii"]
["008-0089-00040","8-89-40/003171","Defibrylator LIFEPAK 20e","producent: Physio-Control, USA.",28499.040000000001,6865,"Irena          ","Raus                               ",41971,28499.040000000001,"Zamiejscowy Oddział Chirurgii Urazowo - Ortopedycznej"]
["008-0089-00057",null,"Defibrylator LIFEPAK 20e","producent: Physio-Control, USA.",28499.040000000001,6866,"Ilona          ","Kłosińska                          ",41971,28499.040000000001,"Zamiejscowy Oddział Rehabilitacji Ogólnoustrojowej II"]
["008-0089-00058",null,"Defibrylator LIFEPAK 21","typ/model: LIFEPAK 20 bez modułu SpO2 i stymulacji zewnętrznej; producent: Medtronic",12597.9,2765,"Bożena         ","Potentas                           ",39692,12597.9,"Anestezjologia"]
["008-0089-00030","8-89-30/002015","Dekamatik",null,4237.2,4359,"Ewa            ","Czerniak                           ",40268,4237.2,"Dział Gospodarki Nieruchomościami i Utrzymania Ruchu"]
["004-2717-00000","T-IV-12/00/002717","Densytometr","producent PHMed",5799.88,5091,"Stanisław      ","Drelichowski                       ",39409,5799.88,"DODO - Pracownia RTG"]
["008-0284-00001","8-284-1/001782","Dermatoskop DermoGenius Handheld with LED + ładowarka",null,4700,5451,"Danuta         ","Cymerman                           ",41423,4700,"Poradnia Chirurgii Onkologicznej"]
["008-0418-00001",null,"Diatermia chirurgiczna ","typ ERBOTOM ICC  300, ",22000,2946,"Maria          ","Bieza                              ",40268,22000,"Zamiejscowy Blok Operacyjny"]
["008-2746-00000","T-51-VIII-269/06/002746","Diatermia chirurgiczna ","producent: ERBE Elektromedizin GmbH",12622.8,6982,"Danuta         ","Cymerman                           ",42153,12622.8,"Poradnia Chirurgii Onkologicznej"]
["008-0041-00031",null,"Diatermia chirurgiczna ","producent: ERBE Elektromedizin GmbH",56484,6949,"Teresa         ","Pastuszka                          ",42051,56484,"Oddział Położniczo – Ginekologiczny"]
["008-0041-00030",null,"Diatermia chirurgiczna ","typ: VIO100C; producent: ERBE",10886.4,3477,"Dorota         ","Pikul                              ",41204,10886.4,"Pracownia Elektrofizjologii"]
["008-0041-00028","8-41-28/003702","Diatermia chirurgiczna ","producent: ERBE Elektromedizin GmbH; typ: VIO 300D",99360,3904,"Wiesława       ","Augustyn                           ",40602,99360,"Blok Operacyjny"]
["008-0041-00024","8-41-24/003058","Diatermia chirurgiczna ","typ diatermii: VIO 300D; typ przystawki: APC2; producent: ERBE Elektromedizin GmbH ",140475,2498,"Wiesława       ","Augustyn                           ",40602,140475,"Blok Operacyjny"]
["008-0041-00027","8-41-27/003061","Diatermia elektrochirurgiczna ERBE VIO 300D","producent: ERBE Elektromedizin GmbH, Niemcy; typ/model: VIO 300D",76000,4496,"Danuta         ","Cymerman                           ",39533,76000,"Oddział Chirurgii Onkologicznej"]
["008-0041-00018","8-41-18/001888","Diatermia elektrochirurgiczna ERBE VIO 300D",null,40000,3430,"Krystyna       ","Baszak                             ",40192,40000,"Oddział Urologii i Urologii Onkologicznej"]
["008-0041-00021","8-41-21/002479","Diatermia elektrochirurgiczna ERBE VIO 300S","producent: ERBE Elektromedizin GmbH",55360,2809,"Teresa         ","Pastuszka                          ",40444,55360,"Oddział Położniczo – Ginekologiczny"]
["008-0041-00022","8-41-22/002920","Diatermia elektrochirurgiczna ERBOTOM ICC200","typ: ERBOTOM ICC200; producent: ERBE Elektromedizin GmbH, Niemcy",13623.65,3406,"Stanisław      ","Drelichowski                       ",39436,13623.65,"DODO - Pracownia Diagnostyczno - Zabiegowa Naczyń"]
["008-0041-00012","8-41-12/001828","Diatermia elektrochirurgiczna ERBOTOM ICC200","typ: ERBOTOM ICC200; producent: ERBE Elektromedizin GmbH, Niemcy",13623.64,4616,"Grażyna        ","Brulińska                          ",39436,13623.64,"Oddział Otolaryngologiczny z Pododdziałem Otolaryngologii"]
["008-0041-00010","8-41-10/001826","Diatermia elektrochirurgiczna ERBOTOM ICC200","typ: ERBOTOM ICC200; producent: ERBE Elektromedizin GmbH, Niemcy",49327.12,4203,"Stanisław      ","Nabzdyk                            ",39231,49327.12,"Pracownia Endoskopii"]
["008-0041-00007","8-41-7/001709","Diatermia elektrochirurgiczna ERBOTOM ICC300","typ: ERBOTOM ICC200; producent: ERBE Elektromedizin GmbH, Niemcy",19217.830000000002,2518,"Wiesława       ","Augustyn                           ",39436,19217.830000000002,"Blok Operacyjny"]
["008-0041-00015","8-41-15/001831","Diatermia elektrochirurgiczna ERBOTOM ICC300","typ: ERBOTOM ICC200; producent: ERBE Elektromedizin GmbH, Niemcy",21662.880000000001,2528,"Elżbieta       ","Jarawka                            ",39436,21662.880000000001,"Oddział Chirurgii Ogólnej z Pododdziałami"]
["008-0041-00009","8-41-9/001834","Diatermia elektrochirurgiczna ERBOTOM ICC300","producent: ERBE Elektromedizin GmbH",21000,4123,"Krystyna       ","Baszak                             ",39182,21000,"Oddział Urologii i Urologii Onkologicznej"]
["008-0041-00006","8-41-6/001700","Diatermia elektrochirurgiczna ICC 80","Producent: ERBE Elektromedizin GmbH, Niemcy.",8560,2935,"Barbara        ","Matusiak                           ",40115,8560,"Oddział Dermatologiczny"]
["008-0041-00020","8-41-20/002333","Diatermia elektrochirurgiczna VIO 100C","typ: VIO 100C; producent: ERBE Elektromedizin GmbH",17120,3675,"Małgorzata     ","Ciepłucha                          ",40543,17120,"Oddział Okulistyczny"]
["008-0041-00023","8-41-23/003014","Diatermia elektrochirurgiczna VIO 300D","+ butla z argonem; Producent: ERBE Elektromedizin GmbH, Niemcy.",139710,4435,"Wiesława       ","Augustyn                           ",40115,139710,"Blok Operacyjny"]
["008-0041-00019","8-41-19/002332","Diatermia elektrochirurgiczna VIO 300S","typ: VIO 300S; producent: ERBE Elektromedizin GmbH, Niemcy. ",27323.26,4106,"Wiesława       ","Augustyn                           ",39436,27323.26,"Blok Operacyjny"]
["008-0041-00013","8-41-13/001829","Diatermia elektrochirurgiczna ERBE VIO 200D",null,194475,6502,"Stanisław      ","Nabzdyk                            ",41544,194475,"Pracownia Endoskopii"]
["008-0041-00029",null,"Diatermia chirurgiczna ",null,23243,3752,"Stanisław      ","Nabzdyk                            ",39245,23243,"Pracownia Endoskopii"]
["008-0041-00008","8-41-8/001718","Duplikator (nagrywarka) płyt CD/DVD","Model: RAS16; Producent: RIMAGE CORPORATION, USA.",25593.84,6701,"Stanisław      ","Drelichowski                       ",41757,25593.84,"DODO - rejestracja"]
["004-0491-0375N",null,"Echokardiograf ","producent: PHILIPS, USA",374760,6857,"Wiesława       ","Pietruczuk                         ",41947,374760,"Oddział Kardiologii Dziecięcej z Pododdziałem Kardiochirurgi"]
["008-0030-00058","","Echokardiograf przenośny do badań przyłóżkowych",null,288899,2807,"Dorota         ","Pikul                              ",40449,288899,"Oddział Kardiologiczny"]
["008-0030-00042","8-30-42/002918","Echokardiograf ","producent: GE Medical Systems",548910,2436,"Lucyna         ","Lenartowska                        ",39862,548910,"Pracownia Echokardiograficzna"]
["008-0030-00033","8-30-33/002136","Echokardiograf ","Vivid E9",644760,6758,"Lucyna         ","Lenartowska                        ",41904,644760,"Pracownia Echokardiograficzna"]
["008-0030-00057",null,"Ekran medyczny ","model: BARCO MD-4221",153468,4762,"Wiesława       ","Augustyn                           ",40876,153468,"Blok Operacyjny"]
["008-0394-00001","8-394-1/003245","Elektrokardiograf","typ: AsCARD Gold3 v.201 (z wózkiem); producent: ASPEL S.A.\r\n",8856,3478,"Dorota         ","Pikul                              ",41207,8856,"Oddział Kardiologiczny"]
["008-0062-00040","8-62-40/003703","Elektrokardiograf","Typ: AsCARD Gold3 v. 201 (z wózkiem); producent: ASPEL S.A.",8856,4678,"Elżbieta       ","Chodara                            ",41207,8856,"Oddział Pediatryczny z Pododdziałem Gastroenterologii"]
["008-0062-00041","8-62-41/003704","Elektrokardiograf z wózkiem","producent: Aspel S.A., Polska",7432.13,6856,"Wiesława       ","Pietruczuk                         ",41942,7432.13,"Oddział Kardiologii Dziecięcej z Pododdziałem Kardiochirurgi"]
["008-0062-00047",null,"Echokardiograf ","Aparat EKG 12-kanałowy wraz z wyposażeniem: \nProducent: ASPEL, Polska  ",9109.98,2858,"Wiesława       ","Pietruczuk                         ",39351,9109.98,"Oddział Kardiologii Dziecięcej z Pododdziałem Kardiochirurgi"]
["008-0062-00028","8-62-28/001740","Echokardiograf ",null,6124.68,3023,"Anna           ","Kofman                             ",39351,6124.68,"SOR"]
["008-0062-00029","8-62-29/001741","Elektrokardiograf z wózkiem","Model: 3-6-12; producent: M4Medical PL",3888,3479,"Bożena         ","Potentas                           ",41222,3888,"Anestezjologia"]
["008-0062-00044","8-62-44/003716","Elektrokardiograf z wózkiem","Model: 3-6-12; producent: M4Medical PL",3888,5127,"Danuta         ","Cymerman                           ",41222,3888,"Oddział Chemioterapii z Pododdziałem Chemioterapii Dziennej"]
["008-0062-00045","8-62-45/003718","Elektrokardiograf z wózkiem","Model: 3-6-12 BT; producent: Medical PL",4968,4680,"Anna           ","Kofman                             ",41222,4968,"SOR"]
["008-0062-00043","8-62-43/003717","Element pracujący do resektoskopu, bierny","producent: Karl Storz",4280.6499999999996,4436,"Krystyna       ","Baszak                             ",40063,4280.6499999999996,"Oddział Urologii i Urologii Onkologicznej"]
["008-0249-00011","8-249-11/002469","Element pracujący resektoskopu, bipolarny, bierny","producent: Karl Storz.  ",6090.99,2275,"Teresa         ","Pastuszka                          ",40946,6090.99,"Oddział Położniczo – Ginekologiczny"]
["008-0249-00014","8-249-14/003373","Element pracujący resektoskopu, bipolarny, bierny","producent: Karl Storz",6024.58,6833,"Krystyna       ","Baszak                             ",41926,6024.58,"Oddział Urologii i Urologii Onkologicznej"]
["008-0249-00017","","Element pracujący resektoskopu, monopolarny, bierny","producent: Karl Storz",4623.51,6832,"Krystyna       ","Baszak                             ",41926,4623.51,"Oddział Urologii i Urologii Onkologicznej"]
["008-0249-00016","","Endomagnes z uchwytem",null,5748.04,2925,"Małgorzata     ","Ciepłucha                          ",38688,5748.04,"Oddział Okulistyczny"]
["008-0256-00001","8-256-1/001518","Endoskan ",null,8950.7099999999991,6919,"Elżbieta       ","Chodara                            ",42002,8950.7099999999991,"Oddział Pediatryczny z Pododdziałem Gastroenterologii"]
["008-0329-00005",null,"Endoskopowy tor wizyjny ","producent: OLYMPUS, Japonia",98317.8,6971,"Stanisław      ","Nabzdyk                            ",42124,98317.8,"Pracownia Endoskopii"]
["008-0275-00009",null,"Endoskopowy tor wizyjny "," producent: R. WOLF, Niemcy.\r\n",31482,6965,"Teresa         ","Pastuszka                          ",42087,31482,"Oddział Położniczo – Ginekologiczny"]
["008-0275-00008",null,"eVNG","prod:  BioMed Jena GmbH - Niemcy",29500,5128,"Dorota         ","Wawrzyniak                         ",38497,29500,"Prac. VNG"]
["008-0251-00001","8-251-1/001476","Fakoemulsyfikator",null,323585.28000000003,6840,"Małgorzata     ","Ciepłucha                          ",41934,323585.28000000003,"Oddział Okulistyczny"]
["008-0169-00005",null,"Fakoemulsyfikator","typ: CONSTELLATION LXT; PRODUCENT: Alcon Surgical, USA",514699.78,4941,"Małgorzata     ","Ciepłucha                          ",40143,514699.78,"Oddział Okulistyczny"]
["008-0169-00004","8-169-4/002376","Fantom ALS dla osoby dorosłej ",null,41091.839999999997,5452,"Anna           ","Kofman                             ",41428,41091.839999999997,"SOR"]
["008-0419-00001",null,"Fiberoskop intubacyjny","śr. 3,7 mm, dł. 65 cm, kanał roboczy 1,5 mm, odgięcie 140 st./140 st.\r",40320.050000000003,3607,"Bożena         ","Potentas                           ",41051,40320.050000000003,"SOR"]
["008-0170-00005","8-170-5/003533","Fiksator zewnętrzny udowy (stabilizator)",null,3852,4486,"Wiesława       ","Augustyn                           ",39503,3852,"Blok Operacyjny"]
["008-0288-00001","8-288-1/001875","Fotel do dializ",null,9630,2459,"Danuta         ","Cymerman                           ",39874,9630,"Oddział Chemioterapii z Pododdziałem Chemioterapii Dziennej"]
["008-0155-00015","8-155-15/002197","Fotel do dializ","typ FK-04; producent: FAMED, Żywiec",7864.5,2370,"Barbara        ","Matusiak                           ",39890,7864.5,"Oddział Dermatologiczny"]
["008-0155-00016","8-155-16/002203","Fotel do dializ","Model: TT-005; producent: HEMOTION, Portugalia",8565.48,4945,"Jadwiga        ","Zielińska                          ",40728,8565.48,"Stacja Dializ"]
["008-0155-00019","8-155-19/003078","Fotel ginekologiczno-urologiczny","typ: Mars/Wenus; producent: MEDEN INMED",12500,4393,"Krystyna       ","Baszak                             ",40515,12500,"Poradnia Urologiczna"]
["008-0155-00018","8-155-18/003009","Fotel ginekologiczny","typ: FK-04; producent; FAMED, Żywiec",16157,4314,"Krystyna       ","Baszak                             ",39890,16157,"Oddział Urologii i Urologii Onkologicznej"]
["008-0155-00017","8-155-17/002199","Fotel ginekologiczny","Typ: 19-SM612; producent: Vernipoll, Włochy",14958,5070,"Teresa         ","Pastuszka                          ",41254,14958,"Oddział Położniczo – Ginekologiczny"]
["008-0155-00038","8-155-38/003732","Fotel laryngologiczny","typ: FO-02; producent: FAMED ŻYWIEC, Polska",6366.5,3705,"Grażyna        ","Brulińska                          ",39447,6366.5,"Oddział Otolaryngologiczny z Pododdziałem Otolaryngologii"]
["008-0155-00010","8-155-10/001837","Fotel operatora","typ: OC-1; producent: MDT, Polska",4000.01,3883,"Małgorzata     ","Ciepłucha                          ",39499,4000.01,"Oddział Okulistyczny"]
["008-0155-00013","8-155-13/001871","Fotel toaletowy - prysznicowy ","Typ: HERA 140; producent: ERGOLET, Dania.",5940,6660,"Danuta         ","Cymerman                           ",41627,5940,"Oddział Chirurgii Onkologicznej"]
["008-0294-00006",null,"Fotel zabiegowy","producent: FAMED, ŻYWIEC, POLSKA",5981.3,5108,"Bożena         ","Jezierska                          ",39197,5981.3,"Oddział Angiologiczny z Pododdziałem Diabetologii"]
["008-0155-00009","8-155-9/001705","Fotel zabiegowy","typ/model: FK-04.0; producent: FAMED ŻYWIEC, Polska",7201.1,2636,"Małgorzata     ","Ciepłucha                          ",39538,7201.1,"Oddział Okulistyczny"]
["008-0155-00014","8-155-14/001891","Fotel zabiegowy","typ: FK-04; producent: FAMED ŻYWIEC, Polska",7115.5,2449,"Grażyna        ","Brulińska                          ",39447,7115.5,"Oddział Otolaryngologiczny z Pododdziałem Otolaryngologii"]
["008-0155-00012","8-155-12/001839","Funduskamera z angiografem ","producent: TOPCON MEDICAL SYSTEMS, Inc., USA",160800,3062,"Małgorzata     ","Ciepłucha                          ",40543,160800,"SOR"]
["008-0365-00001","8-365-1/003015","Gastrolyzer - Aparat do monitorowania zawartości wodoru w powietrzu wydychanym","typ: Gastrolyzer; producent: BEDFONT SCIENTIFIC Ltd",8185.5,3893,"Elżbieta       ","Chodara                            ",39777,8185.5,"Oddział Pediatryczny z Pododdziałem Gastroenterologii"]
["008-0298-00001","8-298-1/002035","Gastrolyzer-aparat do monitorowania zawartości wodoru w wydychanym powietrzu","producent: Bedfont Scientific, Wielka Brytania\r\nModel: Gastro+",10206,6931,"Elżbieta       ","Chodara                            ",42009,10206,"Oddział Pediatryczny z Pododdziałem Gastroenterologii"]
["008-0298-00002",null,"Gastroskop Video ","typ: GIF-N 180\r\nproducent: OLYMPUS",99359.9,2351,"Elżbieta       ","Chodara                            ",39322,99359.9,"Poradnia Gastroenterologiczna Dla Dzieci"]
["008-0066-00012","8-66-12/001727","Gastroskop Video ","typ: GIF-Q 165\r\nproducent: OLYMPUS",64653.68,4050,"Elżbieta       ","Chodara                            ",39322,64653.68,"Poradnia Gastroenterologiczna Dla Dzieci"]
["008-0066-00013","8-66-13/001728","Gastroskop Video ","typ: GIF-Q165; producent: OLYMPUS",58743,3892,"Stanisław      ","Nabzdyk                            ",39752,58743,"Pracownia Endoskopii"]
["008-0066-00015","8-66-15/002032","Gastroskop Video ","typ: GIF-Q 180\r\nproducent: OLYMPUS",99296,2362,"Stanisław      ","Nabzdyk                            ",39322,99296,"Pracownia Endoskopii"]
["008-0066-00011","8-66-11/001722","Gastroskop Video ","Typ: GIF-Q180; producent: OLYMPUS",99621.28,2463,"Elżbieta       ","Chodara                            ",40253,99621.28,"Oddział Pediatryczny z Pododdziałem Gastroenterologii"]
["008-0066-00016","8-66-16/002585","Generator do ablacji wewnętrzsercowych EP-SHUTTLE 100W Basic","typ/model: EP-SHUTTLE 100W Basic; producent: STOCKERT GmbH, Niemcy",82390,4170,"Dorota         ","Pikul                              ",39996,82390,"Pracownia Elektrofizjologii"]
["008-0306-00001","8-306-1/002254","Generator do termoablacji i termoresekcji wątroby",null,99874.87,4166,"Wiesława       ","Augustyn                           ",40158,99874.87,"Blok Operacyjny"]
["008-0336-00001","8-336-1/002445","Generator ultradźwiękowy ","producent: Karl Storz, Niemcy; nr katalog: 1KS-27610001",16397.259999999998,4963,"Krystyna       ","Baszak                             ",40507,16397.259999999998,"Oddział Urologii i Urologii Onkologicznej"]
["008-0359-00001","8-359-1/002982","Głowica Autosert - Automat do wszczepu soczewek",null,25000,6972,"Małgorzata     ","Ciepłucha                          ",42108,25000,"Oddział Okulistyczny"]
["008-0461-00001",null,"Głowica kamery TELECAM","; producent: KARL STORZ;\r\n",10417.93,3123,"Krystyna       ","Baszak                             ",39752,10417.93,"Oddział Urologii i Urologii Onkologicznej"]
["008-0299-00001","8-299-1/002041","Głowica przezprzełykowa","Głowica przezprzełykowa S7-3t TEE PHILIPS; \n",73000,6501,"Wiesława       ","Pietruczuk                         ",41540,73000,"Oddział Kardiologii Dziecięcej z Pododdziałem Kardiochirurgi"]
["008-0220-00002",null,"Haczyki do elektrokoagulacji do Robota da Vinci",null,9416,2771,"Wiesława       ","Augustyn                           ",40523,9416,"Blok Operacyjny"]
["008-0361-00001","8-361-1/003023","Hemochron Junior",null,14040,3021,"Bożena         ","Potentas                           ",40722,14040,"Anestezjologia"]
["008-0374-00001","8-374-1/003074","Hemoksymetr","typ: ABL80 CO-OX OSM",29916,5123,"Jacek          ","Jagas                              ",41184,29916,"Pracownia Hemodynamiki"]
["008-0408-00001","8-408-1/003710","Histeroskop diagnostyczno-zabiegowy, kompaktowy, 5 mm, 20 st.","producent: Richard Wolf, Niemcy",8640,6966,"Teresa         ","Pastuszka                          ",42087,8640,"Oddział Położniczo – Ginekologiczny"]
["008-0224-00003",null,"Histeroskop owalny Bettocchi z instrumentarium","producent: Karl Storz, Niemcy",22246.12,3814,"Teresa         ","Pastuszka                          ",39881,22246.12,"Oddział Położniczo – Ginekologiczny"]
["008-0224-00002","8-224-2/002208","Imadło laparoskopowe bariatryczne ","producent: KARL STORZ",3516,6819,"Wiesława       ","Augustyn                           ",41926,3516,"Blok Operacyjny"]
["008-0453-00001",null,"Inhalator ultradźwiękowy ","typ: OMEGA VARIO",9849.35,2484,"Bożena         ","Potentas                           ",39559,9849.35,"Intensywna Terapia"]
["008-0110-00002","8-110-2/001898","Inhalator ultradźwiękowy ",null,5194.63,2318,"Ireneusz       ","Dzierżek                           ",41109,5194.63,"Zamiejscowy Dział Rehabilitacji Leczniczej"]
["008-0110-00005","8-110-5/003603","Injektor cementu ","Typ GB 171N, nr fabr 2380\r",3700,4483,"Maria          ","Bieza                              ",40268,3700,"Zamiejscowy Blok Operacyjny"]
["008-2739-00000","T-51-VIII-218/02/002739","Inkubator do intensywnej opieki nad noworodkiem i wcześniakiem ATOM","Typ: Incu 101; producent: ATOM;\r",85000.320000000007,5432,"Grażyna        ","Radzioch                           ",41360,85000.320000000007,"Oddział Neonatologiczny z Pododdziałem Patologii Noworodka"]
["008-0086-00047",null,"Inkubator hybrydowy",null,78756,5913,"Grażyna        ","Radzioch                           ",41465,78756,"Oddział Neonatologiczny z Pododdziałem Patologii Noworodka"]
["008-0086-00049",null,"Inkubator noworodkowy otwarty",null,28620,6784,"Wiesława       ","Pietruczuk                         ",41922,28620,"Oddział Kardiologii Dziecięcej z Pododdziałem Kardiochirurgi"]
["008-0086-00050",null,"Inkubator otwarty ","Typ: Panda Warmer. Producent: GE MEDICAL SYSTEM. ",69700,5437,"Grażyna        ","Radzioch                           ",41376,69700,"Oddział Neonatologiczny z Pododdziałem Patologii Noworodka"]
["008-0086-00048",null,"Inkubator otwarty ","model: IW932; producent: Fisher&Paykel Healthcare",26438.63,3979,"Wiesława       ","Pietruczuk                         ",40155,26438.63,"Oddział Kardiologii Dziecięcej z Pododdziałem Kardiochirurgi"]
["008-0086-00042","8-86-42/002409","Inkubator otwarty dla noworodków z lampą do fototerapii","producent: ATOM, Japonia",42778.6,4823,"Grażyna        ","Radzioch                           ",39832,53478.6,"Oddział Neonatologiczny z Pododdziałem Patologii Noworodka"]
["008-0086-00031","8-86-31/002099","Inkubator zamknięty","typ: ATOM V-2100 G typ B HL; producent: Atom Medical Corporation, Japonia.",72360,4019,"Grażyna        ","Radzioch                           ",40989,72360,"Oddział Neonatologiczny z Pododdziałem Patologii Noworodka"]
["008-0086-00045","8-86-45/003388","Inkubator zamknięty","typ: ATOM V-2100 G typ C; producent: ATOM MEDICAL CORP>",79907.600000000006,2464,"Grażyna        ","Radzioch                           ",40268,79907.600000000006,"Oddział Neonatologiczny z Pododdziałem Patologii Noworodka"]
["008-0086-00044","8-86-44/002591","Inkubator zamknięty","producent: ATOM; ",54901.7,4838,"Grażyna        ","Radzioch                           ",40175,54901.7,"Oddział Neonatologiczny z Pododdziałem Patologii Noworodka"]
["008-0086-00041","8-86-41/002405","Inkubator zamknięty","model: ATOM V-2100G typ A\r\nprod: ATOM, Japonia",49220,5059,"Grażyna        ","Radzioch                           ",39049,49220,"Oddział Neonatologiczny z Pododdziałem Patologii Noworodka"]
["008-0086-00028","8-86-28/001649","Inkubator zamknięty",null,68312.98,3418,"Grażyna        ","Radzioch                           ",40053,68312.98,"Oddział Neonatologiczny z Pododdziałem Patologii Noworodka"]
["008-0086-00039","8-86-39/002320","Kabina do fototerapii","typ/model: UV 5040 KL; producent: Waldmann",67018.37,4856,"Marzena        ","Jurga                              ",39272,67018.37,"Poradnia Dermatologiczna"]
["008-0280-00001","8-280-1/001719","Kamera IP do nadzoru","Model: Axis P215 PTZ",4489.5,3641,"Wiesława       ","Augustyn                           ",40876,4489.5,"Blok Operacyjny"]
["004-0018-00001","4-18-1/003250","Kamera TELECAM DX z procesorem obrazu  Karl Storz","Komponenty: 1) procesor obrazu Telecam DX; 2) Głowica kamery Telecam",25562.720000000001,2680,"Krystyna       ","Baszak                             ",40891,25562.720000000001,"Oddział Urologii i Urologii Onkologicznej"]
["008-0275-00003","8-275-3/003313","Kamera TELECAM z procesorem obrazu Karl Storz",null,29647.24,5200,"Teresa         ","Pastuszka                          ",40995,29647.24,"Oddział Położniczo – Ginekologiczny"]
["008-0275-00004","8-275-4/003398","Kardiomonitor ","typ Pm-9000\r",25680,3441,"Maria          ","Bieza                              ",40268,25680,"Zamiejscowy Blok Operacyjny"]
["008-2743-00000","T-51-VIII-266/06/002743","Kardiomonitor ","producent: COMEN, Chiny",4998.24,6868,"Maria          ","Bieza                              ",41971,4998.24,"Zamiejscowy Blok Operacyjny"]
["008-0018-00202",null,"Kardiomonitor ","producent: COMEN, Chiny",4998.24,6869,"Irena          ","Raus                               ",41971,4998.24,"Zamiejscowy Oddział Chirurgii Urazowo - Ortopedycznej"]
["008-0018-00203",null,"Kardiomonitor ","producent: Philips Shenzhen Goldway Industrial",7560,6984,"Elżbieta       ","Chodara                            ",42192,7560,"Oddział Pediatryczny z Pododdziałem Gastroenterologii"]
["008-0018-00204",null,"Kardiomonitor ","producent: MINDRAY, Chiny",9957.6,6692,"Danuta         ","Cymerman                           ",41696,9957.6,"Oddział Chemioterapii z Pododdziałem Chemioterapii Dziennej"]
["008-0018-00193",null,"Kardiomonitor ","producent: MINDRAY, Chiny.",9957.6,6694,"Teresa         ","Tarasińska                         ",41696,9957.6,"Oddział Chirurgii Naczyniowej"]
["008-0018-00195",null,"Kardiomonitor ","producent: Philips Medical Systems",28620,3925,"Wiesława       ","Pietruczuk                         ",40865,28620,"Oddział Kardiologii Dziecięcej z Pododdziałem Kardiochirurgi"]
["008-0018-00171","8-18-171/003238","Kardiomonitor ","typ: M8",6189.95,2789,"Teresa         ","Pastuszka                          ",40051,6189.95,"Oddział Położniczo – Ginekologiczny"]
["008-0018-00135","8-18-135/002267","Kardiomonitor ","typ: MEC-1000; producent: MINDRAY, Chiny",7142.25,4062,"Bożena         ","Jezierska                          ",39843,7142.25,"Oddział Angiologiczny z Pododdziałem Diabetologii"]
["008-0018-00125","8-18-125/002108","Kardiomonitor ","typ: MEC-1000; producent: MINDRAY, Chiny",7142.25,5030,"Danuta         ","Cymerman                           ",39843,7142.25,"Oddział Chemioterapii z Pododdziałem Chemioterapii Dziennej"]
["008-0018-00126","8-18-126/002109","Kardiomonitor ","typ: MEC-1000; producent: MINDRAY, Chiny",7142.25,5031,"Teresa         ","Tarasińska                         ",39843,7142.25,"Oddział Chirurgii Naczyniowej"]
["008-0018-00128","8-18-128/002111","Kardiomonitor ","Typ: MEC-2000; producent: MINDRAY",7499.52,2550,"Teresa         ","Pastuszka                          ",40892,7499.52,"Oddział Położniczo – Ginekologiczny"]
["008-0018-00178","8-18-178/003267","Kardiomonitor ",null,13128.9,2732,"Grażyna        ","Radzioch                           ",39797,13128.9,"Oddział Neonatologiczny z Pododdziałem Patologii Noworodka"]
["008-0018-00134","8-18-134/002206","Kardiomonitor ","typ/model: N5600-1\r\nproducent: MEDIANA/TYCO HEALTHCARE",11770,2994,"Grażyna        ","Radzioch                           ",39351,11770,"Oddział Neonatologiczny z Pododdziałem Patologii Noworodka"]
["008-0018-00098","8-18-98/001742","Kardiomonitor ","prod: NELLCOR PURITAN BENNETT",12305,3419,"Grażyna        ","Radzioch                           ",38553,12305,"Oddział Neonatologiczny z Pododdziałem Patologii Noworodka"]
["008-0018-00088","8-18-88/001474","Kardiomonitor ","typ/model: DELTA",31030,4725,"Bożena         ","Potentas                           ",39597,31030,"Anestezjologia"]
["008-0018-00099","8-18-99/001950","Kardiomonitor ","typ/model: DELTA",31030,2740,"Bożena         ","Potentas                           ",39597,31030,"Anestezjologia"]
["008-0018-00107","8-18-107/001958","Kardiomonitor ","producent: MINDRAY, Chiny",13566.53,3027,"Bożena         ","Potentas                           ",39833,13566.53,"Anestezjologia"]
["008-0018-00129","8-18-129/002117","Kardiomonitor ",null,8025,4820,"Irena          ","Raus                               ",40268,8025,"Zamiejscowy Oddział Chirurgii Urazowo - Ortopedycznej"]
["008-2763-00000","T-51-VIII-273/07/002763","Kardiomonitor przenośny","typ/model: MEC-1000; producent: MINDRAY, Chiny",7556.34,2738,"Bożena         ","Jezierska                          ",39608,7556.34,"Oddział Angiologiczny z Pododdziałem Diabetologii"]
["008-0018-00110","8-18-110/001977","Kardiomonitor przenośny","typ/model: MEC-1000; producent: MINDRAY, Chiny",7556.34,3809,"Elżbieta       ","Jarawka                            ",39608,7556.34,"Oddział Chirurgii Ogólnej z Pododdziałami"]
["008-0018-00117","8-18-117/001973","Kardiomonitor przenośny","typ/modeL MEC-1000; producent: MINDRAY, Chiny",7556.34,3012,"Danuta         ","Cymerman                           ",39608,7556.34,"Oddział Chirurgii Onkologicznej"]
["008-0018-00114","8-18-114/001982","Kardiomonitor przenośny","typ/model: MEC-1000; producent: MINDRAY, Chiny",7556.34,3810,"Justyna        ","Karawan                            ",39608,7556.34,"Oddział Nefrologiczny"]
["008-0018-00121","8-18-121/001983","Kardiomonitor przenośny","Typ/model: MEC-1000; producent: MINDRAY, Chiny",7556.34,4301,"Teresa         ","Pastuszka                          ",39608,7556.34,"Oddział Położniczo – Ginekologiczny"]
["008-0018-00116","8-18-116/001972","Kardiomonitor przenośny","typ/model: MEC-1000; producent: MINDRAY, Chiny",7556.34,3807,"Krystyna       ","Baszak                             ",39608,7556.34,"Oddział Urologii i Urologii Onkologicznej"]
["008-0018-00108","8-18-108/001967","Kardiomonitor przenośny","Typ/model: MEC-1000; producent: MINDRAY, Chiny",7556.34,4300,"Anna           ","Kofman                             ",39608,7556.34,"SOR"]
["008-0018-00111","8-18-111/001969","Kardiomonitor przenośny","Typ: PVM-2703; producent: NIHON KOHDEN Corp.",13996.8,6635,"Elżbieta       ","Jarawka                            ",41585,13996.8,"Oddział Chirurgii Ogólnej z Pododdziałami"]
["008-0018-00190",null,"Kardiomonitor ","Typ: Qube; producent: Spacelabs Healthcare, USA.",40872.6,6738,"Bożena         ","Potentas                           ",41829,40872.6,"Intensywna Terapia"]
["008-0018-00197",null,"Kardiomonitor stacjonarno-przenośny","Typ: iPM-9800; producent: Mindray Co.",11673.7,5116,"Anna           ","Kofman                             ",40263,11673.7,"SOR"]
["008-0018-00150","8-18-150/002582","Kardiomonitor stacjonarno-przenośny","Typ: iPM-9800; producent: Mindray Co.",11673.7,4698,"Anna           ","Kofman                             ",40263,11673.7,"SOR"]
["008-0018-00151","8-18-151/002583","Kardiomonitor stacjonarno-przenośny","Typ: iPM-9800; producent: Mindray Co.",16444.080000000002,3859,"Anna           ","Kofman                             ",40840,16444.080000000002,"SOR"]
["008-0018-00166","8-18-166/003153","Kardiomonitor transportowy ","Typ: PM-9000; producent; Mindray Co.",11945.88,2608,"Anna           ","Kofman                             ",40840,11945.88,"SOR"]
["008-0018-00170","8-18-170/003157","Kardiomonitor ","Producent: Nihon Kohden Corporation, Japonia.",11097,6745,"Małgorzata     ","Ciepłucha                          ",41852,11097,"Oddział Okulistyczny"]
["008-0018-00199",null,"Kardiomonitor ","typ: PM12",16976.52,3171,"Dorota         ","Pikul                              ",41183,16976.52,"Pracownia Elektrofizjologii"]
["008-0018-00185","8-18-185/003673","Kardiostymulator","producent: Instytut Techniki i Aparatury Medycznej ITAM",49680,6859,"Wiesława       ","Pietruczuk                         ",41942,49680,"Oddział Kardiologii Dziecięcej z Pododdziałem Kardiochirurgi"]
["008-0015-00019",null,"Kardiostymulator",null,5184,5358,"Dorota         ","Pikul                              ",41205,5184,"Oddział Kardiologiczny"]
["008-0015-00016","8-15-16/003674","Kardiotokograf - monitor płodu","typ: PHILIPS AVALON FM-20",33672.9,4210,"Teresa         ","Pastuszka                          ",40050,33672.9,"Oddział Położniczo – Ginekologiczny"]
["008-0052-00014","8-52-14/002268","Kardiotokograf - monitor płodu","Typ: AVALON  FM-20; producent: PHILIPS",33372,6987,"Teresa         ","Pastuszka                          ",42171,33372,"Oddział Położniczo – Ginekologiczny"]
["008-0052-00026",null,"Kardiotokograf do ciąży bliźniaczej ","producent: PHILIPS",26028,6860,"Teresa         ","Pastuszka                          ",41963,26028,"Oddział Położniczo – Ginekologiczny"]
["008-0052-00022",null,"Kardiotokograf do ciąży bliźniaczej ","Typ: AVALON FM-20; producent: PHILIPS",35856,6986,"Teresa         ","Pastuszka                          ",42171,35856,"Oddział Położniczo – Ginekologiczny"]
["008-0052-00025",null,"Kardiotokograf do ciąży bliźniaczej ","producent: PHILIPS",21816,6861,"Teresa         ","Pastuszka                          ",41963,21816,"Oddział Położniczo – Ginekologiczny"]
["008-0052-00023",null,"Kardiotokograf - monitor płodu","producent: Philips",33672.9,3953,"Teresa         ","Pastuszka                          ",40441,33672.9,"Oddział Położniczo – Ginekologiczny"]
["008-0052-00015","8-52-15/002922","Kardiotokograf - monitor płodu","prod: OXFORD INSTRUMENTS, WIELKA BRYTANIA",20319.3,2412,"Teresa         ","Pastuszka                          ",38632,20319.3,"Oddział Położniczo – Ginekologiczny"]
["008-0052-00013","8-52-13/001489","Kleszcze koagulacyjne bipolarne","Producent: Karl Storz Endoskope, Niemcy.\r",6882.85,5926,"Grażyna        ","Brulińska                          ",41493,6882.85,"Oddział Otolaryngologiczny z Pododdziałem Otolaryngologii"]
["008-0421-00001",null,"Kleszcze optyczne do kruszenia kamieni, do zastosowania z optyką 27005BA","producent: KARL STORZ",4883.71,6793,"Krystyna       ","Baszak                             ",41926,4883.71,"Oddział Urologii i Urologii Onkologicznej"]
["008-0421-00003",null,"Klimatyzator \"Split\"",null,6273,5455,"Stanisław      ","Drelichowski                       ",41428,6273,"DODO - Pracownia Mammografii"]
["006-0011-00021",null,"Klimatyzator \"Split\"",null,7995,6478,"Monika         ","Świtoń                             ",41537,7995,"Dział Centralnej Sterylizatorni i DDD"]
["006-0011-00025",null,"Klimatyzator \"Split\"",null,6832,2851,"Elżbieta       ","Chodara                            ",40434,6832,"Oddział Pediatryczny z Pododdziałem Gastroenterologii"]
["006-0011-00013","6-11-13/002866","Klimatyzator \"Split\"",null,6027,5454,"Lucyna         ","Lenartowska                        ",41428,6027,"Pracownia Echokardiograficzna"]
["006-0011-00020",null,"Klimatyzator \"Split\"",null,6888,6479,"Jacek          ","Jagas                              ",41537,6888,"Pracownia Hemodynamiki"]
["006-0011-00026",null,"Klimatyzator \"Split\"",null,9150,4239,"Monika         ","Świtoń                             ",40017,9150,"Dział Centralnej Sterylizatorni i DDD"]
["006-0011-00012","6-11-12/002252","Klimatyzator \"Split\"","typ: ASYG09LE/AOYG09LE",5965.5,5244,"Dorota         ","Pikul                              ",40959,5965.5,"Oddział Kardiologiczny"]
["006-0011-00015","6-11-15/003365","Klimatyzator \"Split\"","typ: S24AHP",7564.5,2499,"Monika         ","Świtoń                             ",40711,7564.5,"Dział Centralnej Sterylizatorni i DDD"]
["006-0011-00014","6-11-14/003067","Klimatyzator \"Split\"","prod: LG POLSKA\r\nmodel: S18AHP(AS-H1865DMO)",9719.33,2929,"Małgorzata     ","Ciepłucha                          ",38919,9719.33,"Oddział Okulistyczny"]
["006-0011-00010","6-11-10/001580","Klimatyzator \"Split\"","prod: LG POLSKA\r\nmodel: S24AHP(AS-H2465DMO)",9719.33,2848,"Grażyna        ","Brulińska                          ",38919,9719.33,"Oddział Otolaryngologiczny z Pododdziałem Otolaryngologii"]
["006-0011-00009","6-11-9/001582","Klimatyzator \"Split\"","Klimatyzato naścienny GREE KFR-60 GW/NA 12; PROD: CARRIER-TOSCHIBA; JAPONIA",5294.8,3006,"Wiesława       ","Pietruczuk                         ",38413,5294.8,"Oddział Kardiologii Dziecięcej z Pododdziałem Kardiochirurgi"]
["006-0011-00006","6-11-6/001458","Klimatyzator \"Split\"",null,5986,5914,"Danuta         ","Cymerman                           ",41478,5986,"Oddział Chemioterapii z Pododdziałem Chemioterapii Dziennej"]
["006-0011-00022",null,"Klimatyzator \"Split\"","model: LG-E18SQ/LG-S18AQU; moc chł./grz.: 5,2/6,3 kW; producent: LG",7298.94,5234,"Anna           ","Kofman                             ",41072,7298.94,"SOR"]
["006-0011-00018","6-11-18/003543","Klimatyzator \"Split\"","model: M5WMY15LR/M5LCY15FR; moc chł./grz.: 3,3/3,5 kW; producent: McQuay",5965.5,3136,"Elżbieta       ","Chodara                            ",41064,5965.5,"Oddział Pediatryczny z Pododdziałem Gastroenterologii"]
["006-0011-00016","6-11-16/003541","Klimatyzator \"Split\"","model: M5WMY15LCR/M5LCY15FR, moc chł./grz.: 3,3/3,5kW; producent: McQuay",4701.0600000000004,3372,"Anna           ","Kofman                             ",41072,4701.0600000000004,"SOR"]
["006-0011-00017","6-11-17/003542","Klimatyzator \"Split\"",null,6457.5,6747,"Bożena         ","Potentas                           ",41893,6457.5,"Anestezjologia"]
["006-0011-00033",null,"Klimatyzator \"Split\"","Klimatyzator YORK, model: YJHJXH 12, moc chł./grz.: 3,5/3,7 kW",4999.95,6976,"Wiesława       ","Szydłowska                         ",42138,4999.95,"Apteka Szpitalna"]
["006-0011-00036",null,"Klimatyzator \"Split\"",null,6088.5,6705,"Stanisław      ","Drelichowski                       ",41768,6088.5,"DODO - Pracownia RTG"]
["006-0011-00027",null,"Klimatyzator \"Split\"","Klimatyzator YORK, model: YJHJXH 12, moc chł./grz.: 3,5/3,7 kW \r\nKlimatyzator znajduje się w Archiwum szpitala.",4999.95,6977,"Jolanta        ","Tymiak                             ",42138,4999.95,"Dział Rejestracji Statystyki i Dokumentacji Medycznej"]
["006-0011-00037",null,"Klimatyzator \"Split\"","Klimatyzator YORK, model: YJHJXH 09, moc chł./grz.: 2,6/2,8 kW",6580.5,6975,"Krystyna       ","Baszak                             ",42138,6580.5,"Oddział Urologii i Urologii Onkologicznej"]
["006-0011-00035",null,"Klimatyzator \"Split\"",null,6088.5,6733,"Małgorzata     ","Ciepłucha                          ",41834,6088.5,"Poradnia Okulistyczna"]
["006-0011-00031",null,"Klimatyzator \"Split\"",null,9040.5,7001,"Jacek          ","Jagas                              ",42207,9040.5,"Pracownia Hemodynamiki"]
["006-0011-00039",null,"Klimatyzator \"Split\"","producent: YORK",6519,6748,"Ewa            ","Czerniak                           ",41904,6519,"Sekcja Gospodarcza i Obsługa (cześć wspólna)"]
["006-0011-00034",null,"Klimatyzator \"Split\"",null,6488.25,6709,"Anna           ","Kofman                             ",41778,6488.25,"SOR"]
["006-0011-00030",null,"Kliniczny audiometr impedancyjny (tympanometr)",null,16050,3768,"Jarosław       ","Kapuściński                        ",40444,16050,"OŚRODEK PROTEZOWANIA SŁUCHU DLA NOWORODKÓW"]
["008-0111-00005","8-111-5/002867","Klipsownica",null,6806.12,3403,"Wiesława       ","Augustyn                           ",40558,6806.12,"Blok Operacyjny"]
["008-0167-00004","8-167-4/003033","Klipsownica",null,4494,4930,"Wiesława       ","Augustyn                           ",40525,4494,"Blok Operacyjny"]
["008-0167-00003","8-167-3/003011","Klipsownica",null,4752,4685,"Wiesława       ","Augustyn                           ",41260,4752,"Blok Operacyjny"]
["008-0167-00009","8-167-9/003739","Klipsownica",null,4752,4686,"Wiesława       ","Augustyn                           ",41260,4752,"Blok Operacyjny"]
["008-0167-00012","8-167-12/003742","Klipsownica",null,4752,5390,"Wiesława       ","Augustyn                           ",41305,4752,"Blok Operacyjny"]
["008-0167-00014",null,"Kolonoskop Video","Producent: OLYMPUS",51338.6,2356,"Stanisław      ","Nabzdyk                            ",39322,51338.6,"Pracownia Endoskopii"]
["008-0168-00004","8-168-4/001723","Kolonoskop Video","producent: OLYMPUS",106572,3182,"Stanisław      ","Nabzdyk                            ",39322,106572,"Pracownia Endoskopii"]
["008-0168-00003","8-168-3/001724","Kolonoskop Video","Typ: SOM 52;Producent: Karl Kaps; ",49698.99,5419,"Teresa         ","Pastuszka                          ",41325,49698.99,"Oddział Położniczo – Ginekologiczny"]
["008-0415-00001",null,"Kolumna sufitowa","Typ: OndaScope 400; producent: ONDAL Industrietechnik, Niemcy.",64800,2587,"Stanisław      ","Nabzdyk                            ",40998,64800,"Pracownia Endoskopii"]
["008-0371-00011","8-371-11/003409","Kolumna sufitowa","Typ: OndaScope 400; producent: ONDAL Industrietechnik, Niemcy.",65880,4021,"Stanisław      ","Nabzdyk                            ",40998,65880,"Pracownia Endoskopii"]
["008-0371-00012","8-371-12/003410","Kolumna zasilająca","producent: Drager",82080,3896,"Wiesława       ","Augustyn                           ",40823,82080,"Blok Operacyjny"]
["008-0371-00003","8-371-3/003204","Kolumnowy system zasilania - kolumna do endoskopii","typ: KENDROPORT K125S-ALFA 80/80; producent: KENDROMED, Polska",36190.800000000003,4868,"Krystyna       ","Baszak                             ",40592,36190.800000000003,"Oddział Urologii i Urologii Onkologicznej"]
["008-0371-00001","8-371-1/003055","Komora laminarna","typ: KLVS-1C; Cechy: z pionowym przepływem powietrza. Producent: Polon-Poznań.",18300,3169,"Wiesława       ","Szydłowska                         ",40134,18300,"Apteka Szpitalna"]
["008-0115-00005","8-115-5/002371","Komora laminarna","typ: MARS Pro 1200; producent: SCANLAF, Dania",48954,5071,"Wiesława       ","Szydłowska                         ",41247,48954,"Apteka Szpitalna"]
["008-0115-00007","8-115-7/003737","Komora laminarna",null,26026.799999999999,6734,"Wiesława       ","Szydłowska                         ",41829,26026.799999999999,"Apteka Szpitalna"]
["008-0115-00008",null,"Kompresor bezolejowy ","typ: Compact 120R",3665.4,4931,"Monika         ","Świtoń                             ",40570,3665.4,"Dział Centralnej Sterylizatorni i DDD"]
["004-0012-00005","4-12-5/003034","Komputerowy tonometr","typ/model: TX-10 CANOTX-011\r",15000,4353,"Małgorzata     ","Ciepłucha                          ",38990,15000,"Oddział Okulistyczny"]
["008-0267-00001","8-267-1/001626","Konsola morcelatora UNIDRIVE S III","producent: KARL STORZ",16740,6823,"Wiesława       ","Augustyn                           ",41926,16740,"Blok Operacyjny"]
["008-0454-00001",null,"Kontener do bielizny brudnej",null,5756.4,6746,"Grażyna        ","Brulińska                          ",41856,5756.4,"Oddział Otolaryngologiczny z Pododdziałem Otolaryngologii"]
["008-0296-00015",null,"Kontener do sterylizacji z zaworem ciśnienia","typ: TVA-69",4419.1000000000004,2852,"Monika         ","Świtoń                             ",40451,4419.1000000000004,"Dział Centralnej Sterylizatorni i DDD"]
["008-0355-00001","8-355-1/002868","Kontener transportowy","Model: TBA 55 SG",5538.31,4214,"Dorota         ","Pikul                              ",40115,5538.31,"Oddział Kardiologiczny"]
["008-0296-00005","8-296-5/002322","Kontener transportowy zamknięty do bielizny brudnej","producent: Alvi, Włochy",5537.46,6564,"Teresa         ","Pastuszka                          ",41562,5537.46,"Oddział Położniczo – Ginekologiczny"]
["008-0296-00014"," ","Kontener transportowy zamknięty do bielizny brudnej","producent: Alvi, Włochy",5650.62,6558,"Dorota         ","Pikul                              ",41562,5650.62,"Oddział Kardiologiczny"]
["008-0296-00008"," ","Kontener transportowy zamknięty do bielizny brudnej","producent: Alvi, Włochy",5650.62,6560,"Wiesława       ","Pietruczuk                         ",41562,5650.62,"Oddział Kardiologii Dziecięcej z Pododdziałem Kardiochirurgi"]
["008-0296-00010"," ","Kontener transportowy zamknięty do bielizny brudnej","producent: Alvi, Włochy",5650.62,6561,"Grażyna        ","Radzioch                           ",41562,5650.62,"Oddział Neonatologiczny z Pododdziałem Patologii Noworodka"]
["008-0296-00011"," ","Kontener transportowy zamknięty do bielizny brudnej","producent: Alvi, Włochy",5650.62,6559,"Elżbieta       ","Chodara                            ",41562,5650.62,"Oddział Pediatryczny z Pododdziałem Gastroenterologii"]
["008-0296-00009"," ","Kontener transportowy zamknięty do bielizny brudnej","producent: Alvi, Włochy",5650.62,6562,"Teresa         ","Pastuszka                          ",41562,5650.62,"Oddział Położniczo – Ginekologiczny"]
["008-0296-00012"," ","Kontener transportowy zamknięty do bielizny brudnej","producent: Alvi, Włochy",5650.62,6563,"Teresa         ","Pastuszka                          ",41562,5650.62,"Oddział Położniczo – Ginekologiczny"]
["008-0296-00013"," ","Kontener zamknięty",null,5002,4487,"Wiesława       ","Augustyn                           ",39671,5002,"Blok Operacyjny"]
["008-0296-00004","8-296-4/002001","Kontener zamknięty z kurkiem do odprowadzania wody",null,5368,3040,"Krystyna       ","Baszak                             ",39671,5368,"Oddział Urologii i Urologii Onkologicznej"]
["008-0296-00001","8-296-1/001998","Kuchnia parafinowa",null,4070,2431,"Ireneusz       ","Dzierżek                           ",40268,4070,"Zamiejscowy Dział Rehabilitacji Leczniczej"]
["008-2777-00000","T-51-VIII-235/2000/002777","Lada rejestracji ze szklaną szybą","1) Szkło VSG ESG 66.4 ",25682.63,6671,"Jolanta        ","Tymiak                             ",41639,25682.63,"Dział Rejestracji Statystyki i Dokumentacji Medycznej"]
["008-0212-00057",null,"Lampa bezcieniowa 3-ogniskowa ",null,12932,4482,"Maria          ","Bieza                              ",40268,12932,"Zamiejscowy Blok Operacyjny"]
["008-2736-00000","T-51-VIII-156/94/002736","Lampa Bioptron","Typ: Bioptron Pro 1; Model: Medical: Producent: Bioptron AG",5294.36,5115,"Bożena         ","Potentas                           ",40248,5294.36,"Intensywna Terapia"]
["008-0342-00001","8-342-1/002581","Lampa Bioptron ze statywem podłogowym","Typ: Bioptron PRO 1; producent: ZEPTER, Szwajcaria",5890,6646,"Elżbieta       ","Jarawka                            ",41599,5890,"Oddział Chirurgii Ogólnej z Pododdziałami"]
["008-0342-00004",null,"Lampa Bioptron ze statywem podłogowym",null,6005.88,3751,"Krystyna       ","Baszak                             ",41220,6005.88,"Oddział Urologii i Urologii Onkologicznej"]
["008-0342-00002","8-342-2/003713","Lampa Bioptron ze statywem podłogowym",null,6005.88,5126,"Jolanta        ","Pawłowska                          ",41220,6005.88,"Zamiejscowy Oddział Rehabilitacji Neurologicznej"]
["008-0342-00003","8-342-3/003714","Lampa czołowa Karl Storz","producent: Karl Storz",3511.83,3674,"Anna           ","Kofman                             ",40830,3511.83,"SOR"]
["008-0243-00004","8-243-4/003158","Lampa czołowa przenośna",null,4499.99,3628,"Wiesława       ","Augustyn                           ",40568,4499.99,"Blok Operacyjny"]
["008-0243-00003","8-243-3/003044","Lampa czołowa przenośna",null,4500,3576,"Wiesława       ","Augustyn                           ",40568,4500,"Blok Operacyjny"]
["008-0243-00002","8-243-2/003043","Lampa do fototerapii","prod: UNIMED, Polska",7490,5056,"Grażyna        ","Radzioch                           ",39052,7490,"Oddział Neonatologiczny z Pododdziałem Patologii Noworodka"]
["008-0185-00007","8-185-7/001647","Lampa do fototerapii","Typ/model: Lullaby  PT; producent: OHMEDA Medical; ",9662.1,2395,"Grażyna        ","Radzioch                           ",40064,9662.1,"Oddział Neonatologiczny z Pododdziałem Patologii Noworodka"]
["008-0185-00012","8-185-12/002300","Lampa do fototerapii","prod: Natus- NEOBLUE",10700,5057,"Grażyna        ","Radzioch                           ",39049,10700,"Oddział Neonatologiczny z Pododdziałem Patologii Noworodka"]
["008-0185-00008","8-185-8/001648","Lampa do fototerapii","producent: Natus Medical Inc.",14744.6,4535,"Grażyna        ","Radzioch                           ",40270,14744.6,"Oddział Neonatologiczny z Pododdziałem Patologii Noworodka"]
["008-0185-00020","8-185-20/002597","Lampa do fototerapii","typ: NEOBLUE MINI LED phototherapy; producent: Natus Medical Inc.",8721.57,4247,"Teresa         ","Pastuszka                          ",39797,8721.57,"NOWORODKI (p. Pastuszka)"]
["008-0185-00009","8-185-9/002049","Lampa do fototerapii","producent: NATUS",9523,4921,"Wiesława       ","Pietruczuk                         ",40155,9523,"Oddział Kardiologii Dziecięcej z Pododdziałem Kardiochirurgi"]
["008-0185-00013","8-185-13/002410","Lampa Excimer System",null,84000,3643,"Marzena        ","Jurga                              ",40368,84000,"Poradnia Dermatologiczna"]
["008-0072-00002","8-72-2/002644","Lampa łóżeczkowa do fototerapii BILIBED","Typ: BILIBED; producent: MEDELA AG, Szwajcaria. ",9504,5391,"Grażyna        ","Radzioch                           ",41326,9504,"Oddział Neonatologiczny z Pododdziałem Patologii Noworodka"]
["008-0185-00021",null,"Lampa operacyjna bezcieniowa","typ: iLED3; producent: TRUMPF, Niemcy",31565,3034,"Krystyna       ","Baszak                             ",40042,31565,"Oddział Urologii i Urologii Onkologicznej"]
["008-0046-00023","8-46-23/002261","Lampa operacyjna ","producent: DR.MACH GmbH&Co. KG",47021.83,3186,"Wiesława       ","Augustyn                           ",40819,47021.83,"Blok Operacyjny"]
["008-0046-00031","8-46-31/003195","Lampa operacyjna z kamerą","producent lampy i kamery:  DR.MACH GmbH&Co. KG",85788,3866,"Wiesława       ","Augustyn                           ",40819,85788,"Blok Operacyjny"]
["008-0046-00029","8-46-29/003193","Lampa operacyjna z monitorem",null,61380,3018,"Wiesława       ","Augustyn                           ",40819,61380,"Blok Operacyjny"]
["008-0046-00028","8-46-28/003192","Lampa operacyjna","producent: DR.MACH GmbH&Co. KG",50360.11,3189,"Wiesława       ","Augustyn                           ",40819,50360.11,"Blok Operacyjny"]
["008-0046-00033","8-46-33/003196","Lampa operacyjna",null,96588,3048,"Wiesława       ","Augustyn                           ",40819,96588,"Blok Operacyjny"]
["008-0046-00032","8-46-32/003199","Lampa operacyjna dwugłowicowa z satelitą","Producent: FAMED Żywiec, Polska\r",30090.54,4302,"Małgorzata     ","Ciepłucha                          ",39600,30090.54,"Oddział Okulistyczny"]
["008-0046-00021","8-46-21/001980","Lampa operacyjna","sufitowa; producent: HEAVENS - NIEMCY",20972,3013,"Wiesława       ","Augustyn                           ",38539,20972,"Blok Operacyjny"]
["008-0046-00012","8-46-12/001473","Lampa operacyjna jednogłowicowa","producent: Famed, Żywiec, Polska",15170.46,2739,"Małgorzata     ","Ciepłucha                          ",39600,15170.46,"Oddział Okulistyczny"]
["008-0046-00020","8-46-20/001979","Lampa operacyjna","prod: Famed Żywiec S.A., Polska",14599.07,4564,"Dorota         ","Pikul                              ",38791,14599.07,"Pracownia Elektrofizjologii"]
["008-0046-00015","8-46-15/001570","Lampa operacyjna statywowa mobilna","Typ/model: ML600/M PLUS\r\nproducent: MEDILAND ENTERPRISE CORPORATION, Tajwan",9630,3939,"Elżbieta       ","Jarawka                            ",39660,9630,"Oddział Chirurgii Ogólnej z Pododdziałami"]
["008-0046-00022","8-46-22/001994","Lampa operacyjna statywowa mobilna z zasilaczem akumulatorowym","typ: ML600/MB plus; producent: Mediland Enterprise Corporation",16050,4263,"Bożena         ","Potentas                           ",40435,16050,"Intensywna Terapia"]
["008-0046-00027","8-46-27/002905","Lampa operacyjna sufitowa","producent: KLS MARTIN, NIEMCY",38270.69,2304,"Anna           ","Kofman                             ",38688,38270.69,"SOR"]
["008-0046-00013","8-46-13/001509","Lampa operacyjna sufitowa jednogłowicowa","typ: iLED 3; producent: TRUMPF",16050,4001,"Elżbieta       ","Jarawka                            ",39555,16050,"Oddział Chirurgii Ogólnej z Pododdziałami"]
["008-0046-00017","8-46-17/001893","Lampa operacyjna sufitowa jednogłowicowa","typ: iLED 3; producent: TRUMPF",16050,4797,"Danuta         ","Cymerman                           ",39555,16050,"Oddział Chirurgii Onkologicznej"]
["008-0046-00018","8-46-18/001894","Lampa szczelinowa","typ/model: 30SL/M; \r",24774.12,2860,"Małgorzata     ","Ciepłucha                          ",39051,24774.12,"Oddział Okulistyczny"]
["008-0122-00005","8-122-5/001616","Lampa szczelinowa","typ: SM-4N; producent: Takagi Seiko; ",45950,5289,"Małgorzata     ","Ciepłucha                          ",40984,45950,"Poradnia Okulistyczna"]
["008-0122-00013","8-122-13/003389","Lampa szczelinowa","producent: TOPCON MEDICAL SYSTEMS, INC; USA",15000,4912,"Małgorzata     ","Ciepłucha                          ",39251,15000,"Oddział Okulistyczny"]
["008-0122-00007","8-122-7/001712","Lampa szczelinowa",null,21079,3543,"Małgorzata     ","Ciepłucha                          ",40581,21079,"SOR"]
["008-0122-00012","8-122-12/003045","Lampa szczelinowa z przystawką cyfrową i stolikiem elektrycznym",null,35027.519999999997,4100,"Małgorzata     ","Ciepłucha                          ",39813,35027.519999999997,"Oddział Okulistyczny"]
["008-0122-00010","8-122-10/002054","Lampa szczelinowa z tonometrem aplanacyjnym",null,18297,3157,"Małgorzata     ","Ciepłucha                          ",39804,18297,"Poradnia Okulistyczna"]
["008-0122-00011","8-122-11/002060","Lampa szczelinowa z tonometrem aplanacyjnym",null,20223,4282,"Małgorzata     ","Ciepłucha                          ",39804,20223,"Oddział Okulistyczny"]
["008-0122-00008","8-122-8/002058","Lampa szczelinowa z tonometrem aplanacyjnym",null,20223,3156,"Małgorzata     ","Ciepłucha                          ",39804,20223,"Oddział Okulistyczny"]
["008-0122-00009","8-122-9/002059","Lampa zabiegowa ","producent: DRAGER MEDICAL, Niemcy",9572.2199999999993,2601,"Stanisław      ","Drelichowski                       ",39436,9572.2199999999993,"DODO - Pracownia Diagnostyczno - Zabiegowa Naczyń"]
["008-0046-00016","8-46-16/001845","Lampa zabiegowa sufitowa","producent: Dr Mach GmbH&Co. KG",12570.48,7006,"Danuta         ","Cymerman                           ",42209,12570.48,"Poradnia Chirurgii Onkologicznej"]
["008-0046-00036",null,"Laryngoskop do trudnej intubacji","typ: TruView EVO 2 Maxi Set; producent: TRUPHATEK (Izrael)",4104,4867,"Bożena         ","Potentas                           ",40584,4104,"Anestezjologia"]
["008-0369-00001","8-369-1/003054","Laser biostymulujący ","Typ: CTL\r",3913.27,5040,"Ireneusz       ","Dzierżek                           ",40268,3913.27,"Zamiejscowy Dział Rehabilitacji Leczniczej"]
["008-2767-00000","T-51-VIII-152/94/002767","Laser chirurgiczny CO2 10600nm - 15W","Model: ScalpLX",30456,3377,"Barbara        ","Matusiak                           ",41235,30456,"Oddział Dermatologiczny"]
["008-0409-00001","8-409-1/003719","Laser DELTA 15","typ: DIOMED 15 plus; prod: Wielka Brytania; ",68930.259999999995,4323,"Wiesława       ","Augustyn                           ",38918,68930.259999999995,"Blok Operacyjny"]
["008-0262-00001","8-262-1/001583","Laser do rozbijania kamieni ",null,112564,4562,"Krystyna       ","Baszak                             ",39154,112564,"Oddział Urologii i Urologii Onkologicznej"]
["008-0277-00001","8-277-1/001699","Laser do waporyzacji prostaty","laser tytanowo-fosforowo-potasowy (KTP)\r\nproducent: LASERSCOPE, USA",374500,4429,"Krystyna       ","Baszak                             ",39154,374500,"Oddział Urologii i Urologii Onkologicznej"]
["008-0276-00001","8-276-1/001698","Laser okulistyczny","typ/model: OcuLight GL\r\nproducent: IVIDEX",94695,4066,"Małgorzata     ","Ciepłucha                          ",39311,94695,"Oddział Okulistyczny"]
["008-0226-00003","8-226-3/001721","Laser okulistyczny","producent: IRIDEX CORPORATION, USA / IRIS MEDICAL, USA",105130.9,5023,"Małgorzata     ","Ciepłucha                          ",39090,105130.9,"Oddział Okulistyczny"]
["008-0226-00002","8-226-2/001655","Laser okulistyczny","typ: Laser okulistyczny YAG Q-SWITCH 1064 NM Model Lpulsa 9000; producent: LIGHTMED",62478.51,3603,"Małgorzata     ","Ciepłucha                          ",40561,62478.51,"SOR"]
["008-0226-00004","8-226-4/003032","Litotryptor","mały, nieoptyczny; prod: KARL STORZ; NIEMCY",3931.65,2352,"Krystyna       ","Baszak                             ",38370,3931.65,"Oddział Urologii i Urologii Onkologicznej"]
["008-0194-00004","8-194-4/001462","Litotryptor","prod: KARL STORZ, Niemcy",11733.62,4060,"Krystyna       ","Baszak                             ",39133,11733.62,"Oddział Urologii i Urologii Onkologicznej"]
["008-0194-00006","8-194-6/001667","Litotryptor mały","producent: Karl Storz",5339.06,3668,"Krystyna       ","Baszak                             ",40891,5339.06,"Oddział Urologii i Urologii Onkologicznej"]
["008-0194-00007","8-194-7/003311","Litotryptor ultradźwiękowy",null,53621.98,3623,"Krystyna       ","Baszak                             ",38404,53621.98,"Oddział Urologii i Urologii Onkologicznej"]
["008-0194-00003","8-194-3/001457","Lodówka ",null,4300,6983,"Dorota         ","Pikul                              ",42156,4300,"Oddział Kardiologiczny"]
["008-0079-00009",null,"Lupa operacyjna",null,8025,3994,"Wiesława       ","Augustyn                           ",39521,8025,"Blok Operacyjny"]
["008-0242-00007","8-242-7/001921","Lupa operacyjna",null,7704,3969,"Elżbieta       ","Jarawka                            ",40304,7704,"Oddział Chirurgii Ogólnej z Pododdziałami"]
["008-0242-00015","8-242-15/002613","Lupa operacyjna","typ: T3 HiRes.",7500,4037,"Wiesława       ","Augustyn                           ",40568,7500,"Blok Operacyjny"]
["008-0242-00017","8-242-17/003042","Łóżko do intens. opieki med. z funkcją pomiaru masy pacjenta ","producent: LINET",24999.84,5373,"Teresa         ","Tarasińska                         ",41173,24999.84,"Oddział Chirurgii Naczyniowej"]
["008-0255-00240","8-255-240/003662","Łóżko do intensywenj terapii",null,37129,4107,"Teresa         ","Tarasińska                         ",39331,37129,"Oddział Chirurgii Naczyniowej"]
["008-0255-00005","8-255-5/001736","Łóżko do intens. opieki med. z funkcją pomiaru masy pacjenta ",null,33998.400000000001,6481,"Bożena         ","Potentas                           ",41533,33998.400000000001,"Intensywna Terapia"]
["008-0255-00268",null,"Łóżko do intensywenj terapii",null,28355,4151,"Dorota         ","Pikul                              ",40346,28355,"Oddział Kardiologiczny"]
["008-0255-00174","8-255-174/002629","Łóżko do intensywenj terapii",null,20865,4096,"Elżbieta       ","Jarawka                            ",40276,20865,"Oddział Chirurgii Ogólnej z Pododdziałami"]
["008-0255-00171","8-255-171/002601","Łóżko do intensywenj terapii","Łóżko z wagę i wyposażeniem. Typ: Eleganza 3XC; producent: Linet spol s.r.o.",29799.360000000001,2577,"Bożena         ","Potentas                           ",41004,29799.360000000001,"Intensywna Terapia"]
["008-0255-00235","8-255-235/003524","Łóżko do intensywenj terapii","typ/model: Eleganza XC; 1GX 42121-129",27820,4344,"Justyna        ","Karawan                            ",39932,27820,"Oddział Nefrologiczny"]
["008-0255-00074","8-255-74/002228","Łóżko do intens. opieki med. z funkcją pomiaru masy pacjenta ",null,30602,2443,"Dorota         ","Pikul                              ",40346,30602,"Oddział Kardiologiczny"]
["008-0255-00172","8-255-172/002627","Łóżko do intensywenj terapii","producent: Linet spol s.r.o.",33999.480000000003,4538,"Anna           ","Kofman                             ",40830,33999.480000000003,"SOR"]
["008-0255-00186","8-255-186/003125","Łóżko do intens. opieki med. z funkcją pomiaru masy pacjenta ","Typ:  Eleganza 3XC; producent: LINETspol s.r.o., Czechy",32999.4,6910,"Bożena         ","Potentas                           ",41985,32999.4,"Intensywna Terapia"]
["008-0255-00354",null,"Łóżko do intensywenj terapii",null,7560,3151,"Ilona          ","Kłosińska                          ",41249,7560,"Zamiejscowy Oddział Rehabilitacji Ogólnoustrojowej II"]
["008-0255-00264","8-255-264/003768","Łóżko elektryczne wielofunkcyjne",null,17535.96,4531,"Ilona          ","Kłosińska                          ",41249,17535.96,"Zamiejscowy Oddział Rehabilitacji Ogólnoustrojowej II"]
["008-0255-00266","8-255-266/003770","Łóżko elektryczne wielofunkcyjne",null,17535.96,3506,"Ilona          ","Kłosińska                          ",41249,17535.96,"Zamiejscowy Oddział Rehabilitacji Ogólnoustrojowej II"]
["008-0255-00267","8-255-267/003771","Łóżko do intens. opieki med. z funkcją pomiaru masy pacjenta ","typ: Eleganza XC",23705.85,3764,"Teresa         ","Tarasińska                         ",39567,23705.85,"Oddział Chirurgii Naczyniowej"]
["008-0255-00011","8-255-11/001913","Łóżko do intens. opieki med. z funkcją pomiaru masy pacjenta ","typ: Eleganza XC",23705.85,4491,"Dorota         ","Pikul                              ",39567,23705.85,"Oddział Kardiologiczny"]
["008-0255-00010","8-255-10/001912","Łóżko do intens. opieki med. z funkcją pomiaru masy pacjenta ","typ: Eleganza XC; 1GX 22121-27",23705.85,2363,"Justyna        ","Karawan                            ",39567,23705.85,"Oddział Nefrologiczny"]
["008-0255-00013","8-255-13/001915","Łóżko kardiologiczne","Łóżo wraz z materacem i wieszakiem do kroplówki.",6507,6839,"Wiesława       ","Pietruczuk                         ",41935,6507,"Oddział Kardiologii Dziecięcej z Pododdziałem Kardiochirurgi"]
["008-0255-00353",null,"Łóżko poporodowe, regulowane hydraulicznie","model: PLH-N85-T; Producent: PROMA REHA, ",5666.72,4830,"Teresa         ","Pastuszka                          ",40168,5666.72,"Oddział Położniczo – Ginekologiczny"]
["008-0255-00107","8-255-107/002384","Łóżko porodowe AVE","Typ: AVE; producent: BORCAD, Czechy",59508,5069,"Teresa         ","Pastuszka                          ",41249,59508,"Oddział Położniczo – Ginekologiczny"]
["008-0179-00008","8-179-8/003731","Łóżko porodowo-pobytowe","prod: HILL-ROM; USA",49315.23,2800,"Teresa         ","Pastuszka                          ",39043,49315.23,"Oddział Położniczo – Ginekologiczny"]
["008-0179-00004","8-179-4/001605","Łóżko rehabilitacyjne ",null,3653.3,3568,"Irena          ","Raus                               ",40268,3653.3,"Zamiejscowy Oddział Chirurgii Urazowo - Ortopedycznej"]
["008-2761-00000","T-51-VIII-256/2005/002761","Łóżko rehabilitacyjne ",null,10000,3735,"Jolanta        ","Pawłowska                          ",40268,10000,"Zamiejscowy Oddział Rehabilitacji Neurologicznej"]
["008-2828-00000","T-51-VIII-281/08/002828","Łóżko rehabilitacyjne ","Typ: Latera Acute; producent: Linet spol s.r.o.",20990.880000000001,2616,"Jolanta        ","Pawłowska                          ",40830,20990.880000000001,"Zamiejscowy Oddział Rehabilitacji Neurologicznej"]
["008-0255-00190","8-255-190/003174","Łóżko rehabilitacyjne ","Typ: Novera. Wprowadzone komponenty.",4727.16,4575,"Małgorzata     ","Fabich                             ",40842,4727.16,"Zamiejscowy Oddział Rehabilitacji Ogólnoustrojowej I"]
["008-0255-00200","8-255-200/003184","Łóżko rehabilitacyjne ",null,4264.92,6526,"Teresa         ","Tarasińska                         ",41549,4264.92,"Oddział Chirurgii Naczyniowej"]
["008-0255-00294",null,"Łóżko rehabilitacyjne ",null,6825.6,6500,"Ilona          ","Kłosińska                          ",41533,6825.6,"Zamiejscowy Oddział Rehabilitacji Ogólnoustrojowej II"]
["008-0255-00287",null,"Łóżko specjalistyczne",null,14783.04,2544,"Irena          ","Raus                               ",40893,14783.04,"Zamiejscowy Oddział Chirurgii Urazowo - Ortopedycznej"]
["008-0255-00201","8-255-201/003304","Łóżko szpitalne",null,10614.4,2720,"Teresa         ","Pastuszka                          ",40443,10614.4,"Oddział Położniczo – Ginekologiczny"]
["008-0255-00178","8-255-178/002928","Łóżko szpitalne","Łóżko wraz z wyposażeniem: 1) materac przeciwodleżynowy Alphabed; 2) materac prewencyjny piankowy; 3) wysięgnik z uchwytem ręki po 2 szt.",11998.8,2301,"Małgorzata     ","Fabich                             ",41249,11998.8,"Zamiejscowy Oddział Rehabilitacji Ogólnoustrojowej I"]
["008-0255-00243","8-255-243/003747","Łóżko szpitalne",null,4881.34,4230,"Teresa         ","Tarasińska                         ",39881,4881.34,"Oddział Chirurgii Naczyniowej"]
["008-0255-00030","8-255-30/002164","Łóżko szpitalne",null,4881.34,4552,"Grażyna        ","Brulińska                          ",39881,4881.34,"Oddział Otolaryngologiczny z Pododdziałem Otolaryngologii"]
["008-0255-00014","8-255-14/002148","Łóżko szpitalne",null,4986.2,2972,"Elżbieta       ","Chodara                            ",40254,4986.2,"Oddział Pediatryczny z Pododdziałem Gastroenterologii"]
["008-0255-00145","8-255-145/002558","Łóżko szpitalne","Zakup od:  STOLTER Sp. z o.o., Grubno 63; 86-212 Stolno",4619.1899999999996,3524,"Teresa         ","Pastuszka                          ",40060,4619.1899999999996,"Oddział Położniczo – Ginekologiczny"]
["008-0255-00079","8-255-79/002270","Łóżko szpitalne",null,4881.34,4241,"Krystyna       ","Baszak                             ",39877,4881.34,"Oddział Urologii i Urologii Onkologicznej"]
["008-0255-00046","8-255-46/002180","Łóżko szpitalne","Łóżko wraz z wyposażeniem: 1) materac, 2) barierki boczne tworzywowe, 3) uchwyty na ręce.",4847.04,3484,"Jolanta        ","Pawłowska                          ",41249,4847.04,"Zamiejscowy Oddział Rehabilitacji Neurologicznej"]
["008-0255-00244","8-255-244/003748","Łóżko szpitalne","typ: Eleganza 3XC + materac typ M-02",27285,5101,"Teresa         ","Tarasińska                         ",40494,27285,"Oddział Chirurgii Naczyniowej"]
["008-0255-00184","8-255-184/002968","Łóżko szpitalne",null,5627.13,4999,"Małgorzata     ","Fabich                             ",40268,5627.13,"Zamiejscowy Oddział Rehabilitacji Ogólnoustrojowej I"]
["008-2836-00000","T-51-VIII-270/06/002836","Łóżko szpitalne wielofunkcyjne","producent: PROMA REHA s.r.o., Czechy",12717.54,6953,"Teresa         ","Pastuszka                          ",42079,12717.54,"Oddział Położniczo – Ginekologiczny"]
["008-0255-00355",null,"Łóżko szpitalne z szafką przyłóżkową","producent: LINET spol. s.r.o., Czechy",7570.8,6795,"Małgorzata     ","Fabich                             ",41943,7570.8,"Zamiejscowy Oddział Rehabilitacji Ogólnoustrojowej I"]
["008-0255-00333",null,"Łóżko transportowo-obserwacyjne","producent: HILL- ROM; USA",15917.32,2419,"Anna           ","Kofman                             ",38687,15917.32,"SOR"]
["008-0255-00001","8-255-1/001505","Łóżko wielofunkcyjne"," producet: PROMA REHA s.r.o. ",3862.08,4748,"Justyna        ","Karawan                            ",41001,3862.08,"Oddział Nefrologiczny"]
["008-0255-00204","8-255-204/003423","Łóżko wielofunkcyjne","producent: LINET spol. s.r.o., Czechy",6104.16,6759,"Elżbieta       ","Jarawka                            ",41926,6104.16,"Oddział Chirurgii Ogólnej z Pododdziałami"]
["008-0255-00309",null,"Łóżko wielofunkcyjne","typ/model: Eleganza Standard",14980,4337,"Danuta         ","Cymerman                           ",39932,14980,"Oddział Chemioterapii z Pododdziałem Chemioterapii Dziennej"]
["008-0255-00066","8-255-66/002220","Łóżko wielofunkcyjne z przechyłami bocznymi","typ/model: Latera Acute",21400,4294,"Teresa         ","Tarasińska                         ",39932,21400,"Oddział Chirurgii Naczyniowej"]
["008-0255-00071","8-255-71/002225","Łóżko wielofunkcyjne z ramą ortopedyczną ","typ/model: Eleganza Standard",16157,2753,"Elżbieta       ","Jarawka                            ",39932,16157,"Oddział Chirurgii Ogólnej z Pododdziałami"]
["008-0255-00078","8-255-78/002232","Magnetotron  typ M90A.IR",null,30957.119999999999,2842,"Ireneusz       ","Dzierżek                           ",40268,30957.119999999999,"Zamiejscowy Dział Rehabilitacji Leczniczej"]
["008-2766-00000","T-51-VIII-147/91/002766","Magnetronic z wyposażeniem ",null,9967,5041,"Ireneusz       ","Dzierżek                           ",40268,9967,"Zamiejscowy Dział Rehabilitacji Leczniczej"]
["008-2771-00000","T-51-VIII-212/2000/002771","Magnetronic z wyposażeniem ",null,7746.4,3746,"Ireneusz       ","Dzierżek                           ",40268,7746.4,"Zamiejscowy Dział Rehabilitacji Leczniczej"]
["008-2807-00000","T-51-VIII-279/08/002807","Mammograf","model: MGF-110\r\nproducent: GE Healthcare\r",362189.95,3022,"Stanisław      ","Drelichowski                       ",39196,362189.95,"DODO - Pracownia Mammografii"]
["008-0135-00002","8-135-2/001702","Manipulator macicy ","producen: K, STORZ",21028.69,3185,"Wiesława       ","Augustyn                           ",40626,21028.69,"Blok Operacyjny"]
["008-0370-00001","8-370-1/003057","Manometr ciśnienia w rurce intubacyjnej","producent: VBM Medizintechnik GmbH, Niemcy",4314.6000000000004,6922,"Bożena         ","Potentas                           ",41992,4314.6000000000004,"Intensywna Terapia"]
["008-0459-00001",null,"Materac przeciwodleżynowy",null,3531,2448,"Dorota         ","Pikul                              ",40346,3531,"Oddział Kardiologiczny"]
["008-0245-00013","8-245-13/002638","Materac przeciwodleżynowy","Materac przeciwodleżynowy ALPHA TRANCELL wraz z pompą ",3607.2,6512,"Teresa         ","Tarasińska                         ",41528,3607.2,"Oddział Chirurgii Naczyniowej"]
["008-0245-00039",null,"Materac przeciwodleżynowy","Materac przeciwodleżynowy ALPHA TRANCELL wraz z pompą ",3607.2,6511,"Elżbieta       ","Jarawka                            ",41528,3607.2,"Oddział Chirurgii Ogólnej z Pododdziałami"]
["008-0245-00038",null,"Materac przeciwodleżynowy","Materac przeciwodleżynowy ALPHA TRANCELL wraz z pompą ",3607.2,6514,"Jolanta        ","Pawłowska                          ",41528,3607.2,"Zamiejscowy Oddział Rehabilitacji Neurologicznej"]
["008-0245-00041",null,"Materac przeciwodleżynowy",null,4254,6755,"Jolanta        ","Pawłowska                          ",41920,4254,"Zamiejscowy Oddział Rehabilitacji Neurologicznej"]
["008-0245-00042",null,"Materac przeciwodleżynowy",null,9414.93,4067,"Bożena         ","Potentas                           ",39567,9414.93,"Intensywna Terapia"]
["008-0245-00005","8-245-5/001916","Materac przeciwodleżynowy","Materac przeciwodleżynowy wraz z pompą AUTO LOGIC ",12031.2,6510,"Elżbieta       ","Jarawka                            ",41528,12031.2,"Oddział Chirurgii Ogólnej z Pododdziałami"]
["008-0245-00037",null,"Materac przeciwodleżynowy"," Producent: ArjoHuntleigh, Pol",14418,3605,"Justyna        ","Karawan                            ",41045,14418,"Oddział Nefrologiczny"]
["008-0245-00028","8-245-28/003529","Materac przeciwodleżynowy"," Producent: ArjoHuntleigh, Pol",14418,5233,"Justyna        ","Karawan                            ",41045,14418,"Oddział Nefrologiczny"]
["008-0245-00029","8-245-29/003530","Materac przeciwodleżynowy","W skład jednego kpl wchodzi: 1) zasilacz; 2) materac; 3) pokrowiec",35096,2833,"Bożena         ","Potentas                           ",40121,35096,"Intensywna Terapia"]
["008-0245-00006","8-245-6/002368","Materac przeciwodleżynowy","Materac wraz z pompą NIMBUS 4 EURO; producent: ArjoHuntleigh.\r",34992,6504,"Bożena         ","Potentas                           ",41528,34992,"Intensywna Terapia"]
["008-0245-00031",null,"Materac przeciwodleżynowy","Materac przeciwodleżynowy 1 kpl: materac, pokrowiec, pompa. ",29160,6756,"Dorota         ","Pikul                              ",41920,29160,"Oddział Kardiologiczny"]
["008-0245-00043",null,"Materac przeciwodleżynowy",null,35326.800000000003,2541,"Bożena         ","Potentas                           ",40907,35326.800000000003,"Intensywna Terapia"]
["008-0245-00025","8-245-25/003297","Materac przeciwodleżynowy","Materac przeciwodleżynowy wraz z pompą typ NIMBUS 4 EURO. Producent: ArjoHuntleigh, Szwecja.",34999.56,6897,"Bożena         ","Potentas                           ",41967,34999.56,"Intensywna Terapia"]
["008-0245-00045",null,"Materac przeciwodleżynowy","Typ: NIMBUS PROFFESIONAL; producent: ARJOHUNTLEIGHT, Chiny.",34997.4,5118,"Bożena         ","Potentas                           ",41207,34997.4,"Intensywna Terapia"]
["008-0245-00030","8-245-30/003701","Materac przeciwodleżynowy rehabilitacyjny","typ: Nimbus 3 Professional. ",34999.699999999997,3770,"Bożena         ","Potentas                           ",40451,34999.699999999997,"Intensywna Terapia"]
["008-0245-00021","8-245-21/002900","Materac przeciwodleżynowy z pompą","model: 88; typ: WR",5029,2708,"Teresa         ","Tarasińska                         ",40457,5029,"Oddział Chirurgii Naczyniowej"]
["008-0245-00018","8-245-18/002938","Materac przeciwodleżynowy z pompą","Model 888, pompa typ: AGA",5886,4624,"Teresa         ","Tarasińska                         ",40786,5886,"Oddział Chirurgii Naczyniowej"]
["008-0245-00022","8-245-22/003096","Materac przeciwodleżynowy z pompą","Model 888, pompa typ: AGA",5886,4986,"Teresa         ","Tarasińska                         ",40786,5886,"Oddział Chirurgii Naczyniowej"]
["008-0245-00023","8-245-23/003097","Materac przeciwodleżynowy z pompą","model: 888; typ: W",5255.84,2707,"Elżbieta       ","Jarawka                            ",40457,5255.84,"Oddział Chirurgii Ogólnej z Pododdziałami"]
["008-0245-00017","8-245-17/002937","Materac przeciwodleżynowy z pompą","Typ: ALX04, ICT20; producent: Huntleigh Healthcare Ltd.",7998.48,3762,"Anna           ","Kofman                             ",40830,7998.48,"SOR"]
["008-0245-00024","8-245-24/003124","Materac rehabilitacyjny przeciwodleżynowy","prod: HUNTLEIGH, Wielka Brytania\r\nmodel/typ: AUTOEXCEL",17000,4418,"Bożena         ","Potentas                           ",38898,17000,"Intensywna Terapia"]
["008-0245-00004","8-245-4/001577","Materacyk wodny ogrzewany elektrycznie \"Ciepłe gniazdko\"","producent: KANMED, Szwecja",6045.5,4160,"Grażyna        ","Radzioch                           ",39338,6045.5,"Oddział Neonatologiczny z Pododdziałem Patologii Noworodka"]
["008-0282-00001","8-282-1/001734","Medyczna drukarka termiczna ","TYp/model: DRYPIX 3000; producent: FUJIFILM",59920,4315,"Stanisław      ","Drelichowski                       ",39813,59920,"DODO - Pracownia Rezonansu Magnetycznego"]
["008-0301-00001","8-301-1/002063","Miernik bilirubiny","typ: JM-103; producent: DRAGER MEDICAL, Niemcy; ",17120,3411,"Grażyna        ","Radzioch                           ",40539,17120,"Oddział Neonatologiczny z Pododdziałem Patologii Noworodka"]
["008-0268-00002","8-268-2/003008","Miernik zwiotczenia ","Typ: TOF-WATCH; producent: ORGANON, Irlandia.",6999.48,6638,"Bożena         ","Potentas                           ",41597,6999.48,"Anestezjologia"]
["008-0428-00001",null,"Mikronożyczki","prod: DORC",4236.13,2407,"Małgorzata     ","Ciepłucha                          ",38729,4236.13,"Oddział Okulistyczny"]
["008-0258-00001","8-258-1/001549","Mikronożyczki wertikalne",null,5357.49,2594,"Małgorzata     ","Ciepłucha                          ",40409,5357.49,"Oddział Okulistyczny"]
["008-0258-00003","8-258-3/002649","Mikropęseta",null,6804,6476,"Małgorzata     ","Ciepłucha                          ",41526,6804,"Oddział Okulistyczny"]
["008-0259-00007",null,"Mikropęseta","typ: ECKARDT 23G",3745,3533,"Małgorzata     ","Ciepłucha                          ",40137,3745,"Oddział Okulistyczny"]
["008-0259-00002","8-259-2/002370","Mikroskop operacyjny","typ/model: OPMIMDO-YX\r",120000,2378,"Małgorzata     ","Ciepłucha                          ",38990,120000,"Oddział Okulistyczny"]
["008-0037-00012","8-37-12/001620","Mikroskop operacyjny","typ/model: M620; producent: LEICA, Szwajcaria; ",138999.42000000001,2399,"Małgorzata     ","Ciepłucha                          ",40053,138999.42000000001,"Oddział Okulistyczny"]
["008-0037-00014","8-37-14/002302","Mikroskop operacyjny okulistyczny ","typ: Hi-R 900A; producent: Moller-Wedel GmbH",314911.8,3036,"Małgorzata     ","Ciepłucha                          ",40932,314911.8,"Oddział Okulistyczny"]
["008-0037-00021","8-37-21/003328","Mikroskop operacyjny okulistyczny z wyposażeniem","typ: MOELLER Hi-R 900\r\nprod: MOELLER-WEDEL; OCULUS - NIEMCY; SONY\r",224876,5329,"Małgorzata     ","Ciepłucha                          ",38805,224876,"Oddział Okulistyczny"]
["008-0037-00011","8-37-11/001557","Mikroskop spekularny (ze stolikiem elektrycznym i videoprinterem)",null,75000,3500,"Małgorzata     ","Ciepłucha                          ",39813,75000,"Oddział Okulistyczny"]
["008-0037-00013","8-37-13/002052","Mikser recepturowy ",null,4292.7,3514,"Wiesława       ","Szydłowska                         ",40854,4292.7,"Apteka Szpitalna"]
["008-0391-00001","8-391-1/003231","Mobilny stół operacyjno-ginekologiczny do cięć cesarskich ","typ: ALPHACLASSIC",113900,4029,"Teresa         ","Pastuszka                          ",40675,113900,"Oddział Położniczo – Ginekologiczny"]
["008-0045-00034","8-45-34/003063","Monitor do pomiarów hemodynamicznych","producent: Edwards Lifesciences",78921,6565,"Bożena         ","Potentas                           ",41572,78921,"Intensywna Terapia"]
["008-0018-00186","-","Monitor do pomiaru rzutu minutowego serca","producent: Edwards Lifesciences, USA. ",48708,2504,"Bożena         ","Potentas                           ",40716,48708,"Intensywna Terapia"]
["008-0018-00163","8-18-163/003070","Monitor funkcji życiowych","typ: Kappa; producent: DRAGER MEDICAL, Niemcy; ",57780,3429,"Bożena         ","Potentas                           ",40161,57780,"Intensywna Terapia"]
["008-0018-00141","8-18-141/002416","Monitor funkcji życiowych - stacjonarny","typ: PM6000; producent: MINDRAY CO., LTD.",51587.91,5165,"Anna           ","Kofman                             ",38686,51587.91,"SOR"]
["008-0018-00090","8-18-90/001520","Monitor funkcji życiowych - transportowy","typ: PM9000 \r\nproducent: MINDRAY CO., LTD.",28484.47,3128,"Anna           ","Kofman                             ",38686,28484.47,"SOR"]
["008-0018-00089","8-18-89/001517","Monitor funkcji życiowych","producent: Shenzhen Mindray Bio-Medical Electronics Co., Ltd.",5442.02,3951,"Elżbieta       ","Jarawka                            ",40451,5442.02,"Oddział Chirurgii Ogólnej z Pododdziałami"]
["008-0018-00153","8-18-153/002907","Monitor funkcji życiowych",null,7927.2,4741,"Bożena         ","Potentas                           ",40935,7927.2,"Anestezjologia"]
["008-0018-00179","8-18-179/003340","Monitor funkcji życiowych","producent: Shenzhen Mindray Bio-Medical Electronics Co., Ltd.",7430.08,4266,"Wiesława       ","Pietruczuk                         ",40451,7430.08,"Oddział Kardiologii Dziecięcej z Pododdziałem Kardiochirurgi"]
["008-0018-00155","8-18-155/002909","Monitor funkcji życiowych","Typ: MEC-2000; producent: MINDRAY.",6998.4,4445,"Wiesława       ","Pietruczuk                         ",40967,6998.4,"Oddział Kardiologii Dziecięcej z Pododdziałem Kardiochirurgi"]
["008-0018-00184","8-18-184/003376","Monitor funkcji życiowych","producent: Shenzhen Mindray Bio-Medical Electronics Co., Ltd.",7430.08,4267,"Elżbieta       ","Chodara                            ",40451,7430.08,"Oddział Pediatryczny z Pododdziałem Gastroenterologii"]
["008-0018-00160","8-18-160/002914","Monitor funkcji życiowych","producent: Shenzhen Mindray Bio-Medical Electronics Co., Ltd.",7430.08,2729,"Teresa         ","Pastuszka                          ",40451,7430.08,"Oddział Położniczo – Ginekologiczny"]
["008-0018-00157","8-18-157/002911","Monitor funkcji życiowych","producent: Shenzhen Mindray Bio-Medical Electronics Co., Ltd.",7430.08,3771,"Lucyna         ","Lenartowska                        ",40451,7430.08,"Pracownia Echokardiograficzna"]
["008-0018-00162","8-18-162/002916","Monitor funkcji życiowych","typ: N5600 PLUS",14156.1,5048,"Grażyna        ","Radzioch                           ",40148,14156.1,"Oddział Neonatologiczny z Pododdziałem Patologii Noworodka"]
["008-0018-00142","8-18-142/002420","Monitor funkcji życiowych","typ: N5600 PLUS; producent: Nellcor-COVIDIEN POLSKA Sp. z o.o.",14997.12,2808,"Grażyna        ","Radzioch                           ",40438,14997.12,"Oddział Neonatologiczny z Pododdziałem Patologii Noworodka"]
["008-0018-00152","8-18-152/002919","Monitor funkcji życiowych - transportowy","typ: MEC-1200; producent: Mindray, Chiny",3893.73,2958,"Teresa         ","Tarasińska                         ",40149,3893.73,"Oddział Chirurgii Naczyniowej"]
["008-0018-00148","8-18-148/002431","Monitor funkcji życiowych","typ: Wolgram GT9003B; producent: GUOTENG",9000.7199999999993,5232,"Anna           ","Kofman                             ",40933,9000.7199999999993,"SOR"]
["008-0018-00183","8-18-183/003364","Monitor Infinity ","prod: DRAGER MEDICAL, Niemcy",24610,4183,"Grażyna        ","Radzioch                           ",39049,24610,"Oddział Neonatologiczny z Pododdziałem Patologii Noworodka"]
["008-0018-00097","8-18-97/001640","Monitor medyczny HD 19''","Producent: Karl Storz Endoskope, Niemcy.\r",19566.36,5925,"Krystyna       ","Baszak                             ",41517,19566.36,"Oddział Urologii i Urologii Onkologicznej"]
["008-0394-00005",null,"Morcelator do laparoskopii","producent: KARL STORZ",13150.53,6824,"Wiesława       ","Augustyn                           ",41926,13150.53,"Blok Operacyjny"]
["008-0455-00001",null,"Multimetr do kontroli jakości w radiografii, fluoroskopii i mammografii typu MagicMaX-Universal","Typ: MagicMaX-Universal; producent: IBA Dosimetry GmbH.\r",45846,5436,"Stanisław      ","Drelichowski                       ",41358,45846,"DODO - Pracownia RTG"]
["008-0417-00001",null,"Multitronic",null,4800,4928,"Ireneusz       ","Dzierżek                           ",40268,4800,"Zamiejscowy Dział Rehabilitacji Leczniczej"]
["008-2812-00000","T-51-VIII-294/09/002812","Myjnia - dezynfektor do kaczek i basenów","producent: Steelco S.p.a., Włochy.",21492,6649,"Teresa         ","Pastuszka                          ",41618,21492,"Oddział Położniczo – Ginekologiczny"]
["008-0270-00019",null,"Myjnia automatyczna ","typ: ETD-3 Basic GA;producent: OLYMPUS",110745,4794,"Stanisław      ","Nabzdyk                            ",40129,110745,"Pracownia Endoskopii"]
["008-0191-00005","8-191-5/002374","Myjnia dezynfektor ",null,91740.3,2770,"Monika         ","Świtoń                             ",39171,91740.3,"Dział Centralnej Sterylizatorni i DDD"]
["008-0270-00003","8-270-3/001676","Myjnia - dezynfektor do kaczek i basenów","producent: MEIKO GmbH, Niemcy.",26859.599999999999,6912,"Elżbieta       ","Chodara                            ",41989,26859.599999999999,"Oddział Pediatryczny z Pododdziałem Gastroenterologii"]
["008-0270-00020",null,"Myjnia dezynfektor ",null,20972,2949,"Elżbieta       ","Jarawka                            ",40507,20972,"Oddział Chirurgii Ogólnej z Pododdziałami"]
["008-0270-00015","8-270-15/002986","Myjnia dezynfektor ",null,20972,4923,"Dorota         ","Pikul                              ",40507,20972,"Oddział Kardiologiczny"]
["008-0270-00013","8-270-13/002985","Myjnia dezynfektor ",null,20972,3980,"Justyna        ","Karawan                            ",40507,20972,"Oddział Nefrologiczny"]
["008-0270-00016","8-270-16/002987","Myjnia dezynfektor ",null,20972,4924,"Jolanta        ","Pawłowska                          ",40507,20972,"Zamiejscowy Oddział Rehabilitacji Neurologicznej"]
["008-0270-00014","8-270-14/002988","Myjnia dezynfektor ",null,20972,4925,"Małgorzata     ","Fabich                             ",40507,20972,"Zamiejscowy Oddział Rehabilitacji Ogólnoustrojowej I"]
["008-0270-00017","8-270-17/002989","Myjnia dezynfektor ","Typ: BP100HSE\r\nproducent: STEELCO SPA, Włochy",23220,6957,"Wiesława       ","Pietruczuk                         ",42074,23220,"Oddział Kardiologii Dziecięcej z Pododdziałem Kardiochirurgi"]
["008-0270-00022",null,"Myjnia dezynfektor ","Typ: BP100HLA\r\nproducent: STEELCO SPA, Włochy",33480,6956,"Anna           ","Kofman                             ",42074,33480,"SOR"]
["008-0270-00021",null,"Myjnia dezynfektor ","typ: TOPLINE 20; producent: Meiko GmbH",29808,4982,"Bożena         ","Potentas                           ",40686,29808,"Intensywna Terapia"]
["008-0270-00018","8-270-18/003064","Myjnia dezynfektor ","Typ: TopLine 21",27817.86,2437,"Bożena         ","Jezierska                          ",40277,27817.86,"Oddział Angiologiczny z Pododdziałem Diabetologii"]
["008-0270-00009","8-270-9/002605","Myjnia dezynfektor ","Typ: TopLine 22",27817.86,2831,"Teresa         ","Tarasińska                         ",40277,27817.86,"Oddział Chirurgii Naczyniowej"]
["008-0270-00012","8-270-12/002608","Myjnia dezynfektor ","typ/model: TopLine 20",25145,3891,"Danuta         ","Cymerman                           ",39735,25145,"Oddział Chirurgii Onkologicznej"]
["008-0270-00004","8-270-4/002027","Myjnia dezynfektor ","Typ: TopLine 23",27817.86,2438,"Dorota         ","Pikul                              ",40277,27817.86,"Oddział Kardiologiczny"]
["008-0270-00010","8-270-10/002606","Myjnia dezynfektor ","Typ: TopLine 24",27817.86,2828,"Grażyna        ","Brulińska                          ",40277,27817.86,"Oddział Otolaryngologiczny z Pododdziałem Otolaryngologii"]
["008-0270-00008","8-270-8/002604","Myjnia dezynfektor ","Typ: TopLine 20",27817.86,3985,"Teresa         ","Pastuszka                          ",40219,27817.86,"Oddział Położniczo – Ginekologiczny"]
["008-0270-00007","8-270-7/002527","Myjnia dezynfektor ","Typ: TopLine 25",27817.86,5351,"Teresa         ","Pastuszka                          ",40277,27817.86,"Oddział Położniczo – Ginekologiczny"]
["008-0270-00011","8-270-11/002607","Myjnia dezynfektor ","Typ: TopLine 20",27817.86,3984,"Krystyna       ","Baszak                             ",40219,27817.86,"Oddział Urologii i Urologii Onkologicznej"]
["008-0270-00005","8-270-5/002525","Myjnia dezynfektor ",null,166434.46,5171,"Monika         ","Świtoń                             ",39171,166434.46,"Dział Centralnej Sterylizatorni i DDD"]
["008-0270-00001","8-270-1/001674","Myjnia ultradźwiękowa","typ/model: DTH 8510;\r\nproducent: BRANSON",10861.53,4729,"Monika         ","Świtoń                             ",39171,10861.53,"Dział Centralnej Sterylizatorni i DDD"]
["008-0040-00004","8-40-4/001673","Nawilżacz respiratorowy","Producent: FISHER&PAYKEL HEALTCARE",10015.200000000001,5015,"Grażyna        ","Radzioch                           ",39027,10015.200000000001,"Oddział Neonatologiczny z Pododdziałem Patologii Noworodka"]
["008-0265-00001","8-265-1/001610","Nawilżacz respiratorowy","typ: MR850ARU; producent: FISHER&PAYKEL HEALTHCARE",5885,3941,"Grażyna        ","Radzioch                           ",39678,5885,"Oddział Neonatologiczny z Pododdziałem Patologii Noworodka"]
["008-0265-00004","8-265-4/002003","Negatoskop mammograficzny żaluzjowy","typ: NGP31mZ",6866.19,2409,"Stanisław      ","Drelichowski                       ",40170,6866.19,"DODO - Pracownia RTG"]
["008-0184-00002","8-184-2/002427","Neuromonitor",null,71128.800000000003,6622,"Grażyna        ","Brulińska                          ",41571,71128.800000000003,"Oddział Otolaryngologiczny z Pododdziałem Otolaryngologii"]
["008-0427-00001",null,"Nożyczki do kapsuloreksji ","typ: 22G",3830.9,2512,"Małgorzata     ","Ciepłucha                          ",40809,3830.9,"Oddział Okulistyczny"]
["008-0258-00004","8-258-4/003106","Odkurzacz do odsysania pyłu gipsowego","MST-MOD. 061102; typ: HF6; producent: LINDHAUS, Włochy",6236,3702,"Irena          ","Bochonko                           ",40904,6236,"Poradnia Chirurgii Ogólnej"]
["008-0395-00001","8-395-1/003282","Odkurzacz do odsysania pyłu gipsowego","MST-MOD. 061102; typ: HF 6; producent: LINDHAUS, Włochy",6235.99,2912,"Anita          ","Wojtasik                           ",40904,6235.99,"Poradnia Chirurgii Urazowo - Ortopedycznej"]
["008-0395-00002","8-395-2/003283","Odkurzacz do odsysania pyłu gipsowego",null,6235.96,2586,"Anna           ","Kofman                             ",40996,6235.96,"SOR"]
["008-0395-00003","8-395-3/003402","Oftalmoskop",null,6760.69,4919,"Małgorzata     ","Ciepłucha                          ",38990,6760.69,"Oddział Okulistyczny"]
["008-0121-00005","8-121-5/001623","Oftalmoskop","producent: Keeler Ltd.",10260,7002,"Małgorzata     ","Ciepłucha                          ",42185,10260,"Oddział Okulistyczny"]
["008-0121-00011",null,"Oftalmoskop operacyjny",null,70727,3632,"Małgorzata     ","Ciepłucha                          ",38805,70727,"Oddział Okulistyczny"]
["008-0121-00003","8-121-3/001558","Oftalmoskop pośredni","typ: OMEGA 180; prod: HEINE, Niemcy",5875,4254,"Małgorzata     ","Ciepłucha                          ",38981,5875,"Oddział Okulistyczny"]
["008-0121-00004","8-121-4/001590","Oftalmoskop pośredni",null,12420,5912,"Małgorzata     ","Ciepłucha                          ",41471,12420,"Oddział Okulistyczny"]
["008-0121-00010",null,"Oftalmoskop pośredni","Typ: OMEGA 500; producent: Heine Optotechnik GmbH, Niemcy",7538.36,3180,"Małgorzata     ","Ciepłucha                          ",40177,7538.36,"Poradnia Okulistyczna"]
["008-0121-00007","8-121-7/002425","Oftalmoskop pośredni","Producent: HEINE, Niemcy.",8697.8799999999992,4595,"Małgorzata     ","Ciepłucha                          ",41079,8697.8799999999992,"SOR"]
["008-0121-00008","8-121-8/003545","Oftalmoskop pośredni","Typ: Video OMEGA 2C; producent: HEINE Optotechnik GmbH&Co. KG, Niemcy",37888.01,4681,"Małgorzata     ","Ciepłucha                          ",41227,37888.01,"Oddział Okulistyczny"]
["008-0121-00009","8-121-9/003720","Oprawa nadłóżkowa z elementami systemu przyzywowego",null,10486,4150,"Dorota         ","Pikul                              ",40347,10486,"Oddział Kardiologiczny"]
["008-0352-00001","8-352-1/002626","Optyka cystoskopowa","cechy: 30 st./4 mmp producent: MED SERVICE, Polska",4144.1099999999997,2413,"Teresa         ","Pastuszka                          ",39792,4144.1099999999997,"Oddział Położniczo – Ginekologiczny"]
["008-0252-00020","8-252-20/002043","Optyka HOPKINS"," Producent: Karl Storz.",18436.259999999998,3542,"Wiesława       ","Augustyn                           ",40589,18436.259999999998,"Blok Operacyjny"]
["008-0252-00034","8-252-34/003049","Optyka HOPKINS II 0 st., śr. 10 mm, dł. 31 cm ","producent: KARL STORZ",9874.11,6817,"Wiesława       ","Augustyn                           ",41926,9874.11,"Blok Operacyjny"]
["008-0252-00045",null,"Optyka HOPKINS II 0 st., śr. 10 mm, dł. 42 cm ","producent: KARL STORZ",10723.81,6814,"Wiesława       ","Augustyn                           ",41926,10723.81,"Blok Operacyjny"]
["008-0252-00042",null,"Optyka HOPKINS II 0 st., śr. 4 mm, dł. 30 cm ","producent: KARL STORZ",9126.93,6827,"Krystyna       ","Baszak                             ",41926,9126.93,"Oddział Urologii i Urologii Onkologicznej"]
["008-0252-00049",null,"Optyka HOPKINS II 12 st., śr. 4 mm, dł. 30 cm","producent: KARL STORZ",9577.27,6830,"Krystyna       ","Baszak                             ",41926,9577.27,"Oddział Urologii i Urologii Onkologicznej"]
["008-0252-00052",null,"Optyka Hopkins II 12 st.,śr. 4 mm,dł. 30 cm","producent: Karl Storz.  ",12948.69,2274,"Teresa         ","Pastuszka                          ",40946,12948.69,"Oddział Położniczo – Ginekologiczny"]
["008-0252-00035","8-252-35/003371","Optyka HOPKINS II 30 st., śr. 10 mm, dł. 31 cm ","producent: KARL STORZ",10049.91,6818,"Wiesława       ","Augustyn                           ",41926,10049.91,"Blok Operacyjny"]
["008-0252-00046",null,"Optyka HOPKINS II 30 st., śr. 10 mm, dł. 42 cm ","producent: KARL STORZ",10928.9,6815,"Wiesława       ","Augustyn                           ",41926,10928.9,"Blok Operacyjny"]
["008-0252-00043",null,"Optyka HOPKINS II 30 st., śr. 2,9 mm, z płaszczem histeroskopowym śr. 4,1 mm","Optyka HOPKINS II 30 st., śr. 2,9 mm, dł. 30 cm, autoklawowalna. Płaszcz histeroskopowy, śr. 4,1 mm, z przyłączem LUER-Lock.",7305.55,6959,"Teresa         ","Pastuszka                          ",42072,7305.55,"Oddział Położniczo – Ginekologiczny"]
["008-0252-00053",null,"Optyka HOPKINS II 30 st., śr. 4 mm z płaszczem histeroskopowym śr. 5,1 mm","Optyka HOPKINS II 30 st., śr. 4 mm. Płaszcz histeroskopowy, śr. 5,1 mm, z przyłączem LUER-Lock. ",7828.17,6960,"Teresa         ","Pastuszka                          ",42072,7828.17,"Oddział Położniczo – Ginekologiczny"]
["008-0252-00054",null,"Optyka HOPKINS II 30 st., śr. 4 mm, dł. 30 cm ","producent: KARL STORZ",9577.27,6826,"Krystyna       ","Baszak                             ",41926,9577.27,"Oddział Urologii i Urologii Onkologicznej"]
["008-0252-00048",null,"Optyka HOPKINS II 30 st., śr. 4 mm, dł. 30 cm ","producent: KARL STORZ",9577.27,6825,"Krystyna       ","Baszak                             ",41926,9577.27,"Poradnia Urologiczna"]
["008-0252-00047",null,"Optyka HOPKINS II 30 st., śr. 4 mm, dł. 30 cm, autoklawowalna","Producent: Karl Storz Endoskope, Niemcy.\r",5602.01,5921,"Krystyna       ","Baszak                             ",41493,5602.01,"Poradnia Urologiczna"]
["008-0252-00039",null,"Optyka Hopkins II 30 st.,śr. 2 mm,dł. 26 cm","producent: Karl Storz.",11905.12,3878,"Teresa         ","Pastuszka                          ",40946,11905.12,"Oddział Położniczo – Ginekologiczny"]
["008-0252-00036","8-252-36/003372","Optyka HOPKINS II 30 st.,śr. 4 mm, dł. 18 cm, autoklawowalna","Producent: Karl Storz Endoskope, Niemcy.\r",14145.25,5923,"Grażyna        ","Brulińska                          ",41493,14145.25,"Oddział Otolaryngologiczny z Pododdziałem Otolaryngologii"]
["008-0252-00041",null,"Optyka HOPKINS II 30 st.,śr. 4 mm, dł. 30 cm, autoklawowalna","Producent: Karl Storz Endoskope, Niemcy.\r",5602.01,5920,"Krystyna       ","Baszak                             ",41493,5602.01,"Poradnia Urologiczna"]
["008-0252-00038",null,"Optyka HOPKINS II 45 st.,śr. 2,7 mm, dł. 18 cm, autoklawowalna","Producent: Karl Storz Endoskope, Niemcy.\r",14502.13,5922,"Grażyna        ","Brulińska                          ",41493,14502.13,"Oddział Otolaryngologiczny z Pododdziałem Otolaryngologii"]
["008-0252-00040",null,"Optyka HOPKINS","Optyka Hopkinsa II 0 st., 10 mm; TYP 26003AA; STORZ, NIEMCY",7876.27,3417,"Wiesława       ","Augustyn                           ",38538,7876.27,"Blok Operacyjny"]
["008-0252-00003","8-252-3/001479","Optyka Hopkins'a 0 st.","producent: Karl Storz, Niemcy",4831.99,4962,"Krystyna       ","Baszak                             ",40507,4831.99,"Oddział Urologii i Urologii Onkologicznej"]
["008-0252-00032","8-252-32/002980","Optyka Hopkins'a 6 st. (do zestawu do PCNL)","producent: Karl Storz, Niemcy",7249.19,4968,"Krystyna       ","Baszak                             ",40512,7249.19,"Oddział Urologii i Urologii Onkologicznej"]
["008-0252-00033","8-252-33/002984","Optyka Hopkins'a II 30 st.","producent: Karl Storz, Niemcy",4896.29,4961,"Krystyna       ","Baszak                             ",40507,4896.29,"Oddział Urologii i Urologii Onkologicznej"]
["008-0252-00031","8-252-31/002979","Optyka Hopkins'a II 30 st.","producent: Karl Storz, Niemcy",4896.3,4195,"Krystyna       ","Baszak                             ",40507,4896.3,"Poradnia Urologiczna"]
["008-0252-00028","8-252-28/002976","Optyka Hopkins'a II, 0 st., 4 mm","producent: Karl Storz, Niemcy",11246.45,4415,"Krystyna       ","Baszak                             ",40063,11246.45,"Oddział Urologii i Urologii Onkologicznej"]
["008-0252-00023","8-252-23/002465","Optyka Hopkins'a II, 70 st., 4 mm","producent: Karl Storz, Niemcy",11830.19,4416,"Krystyna       ","Baszak                             ",40063,11830.19,"Oddział Urologii i Urologii Onkologicznej"]
["008-0252-00025","8-252-25/002467","Optyka nefroskopowa HOPKINS 6 st., dł. 19 cm, okular równoległy,z LUER-Lock","producent: KARL STORZ",9562.25,6828,"Krystyna       ","Baszak                             ",41926,9562.25,"Oddział Urologii i Urologii Onkologicznej"]
["008-0252-00050",null,"Optyka nefroskopowa HOPKINS 6 st.,okular równoległy,z LUER-Lock,dł. 19 cm, autoklawowalna","producent: Karl Storz ENDOSKOPE, Niemcy.\r\n",18042.7,5919,"Krystyna       ","Baszak                             ",41493,18042.7,"Oddział Urologii i Urologii Onkologicznej"]
["008-0252-00037",null,"Optyka nefroskopowa o śr. płaszcza 12 Fr., 12 st., dł. 22 cm","producent: KARL STORZ",18754.23,6829,"Krystyna       ","Baszak                             ",41926,18754.23,"Oddział Urologii i Urologii Onkologicznej"]
["008-0252-00051",null,"Optyka Panoview 30st.","prod: WOLF, Niemcy",7082.54,3420,"Grażyna        ","Brulińska                          ",39080,7082.54,"Oddział Otolaryngologiczny z Pododdziałem Otolaryngologii"]
["008-0252-00007","8-252-7/001652","Optyka Panoview 90st.","prod: WOLF, Niemcy",7271.29,3693,"Grażyna        ","Brulińska                          ",39080,7271.29,"Oddział Otolaryngologiczny z Pododdziałem Otolaryngologii"]
["008-0252-00008","8-252-8/001653","Otoskop interwencyjny z przenośnym żródłem światła - zestaw laryngologiczny","producent: Karl Storz. Wprowadzone komponenty.",20691.73,3511,"Anna           ","Kofman                             ",40830,20691.73,"SOR"]
["008-0385-00001","8-385-1/003162","Panel LCD","typ: CP-400; producent: FREY, Piaseczno, Polska",8000,3821,"Małgorzata     ","Ciepłucha                          ",39849,8000,"Oddział Okulistyczny"]
["008-0281-00003","8-281-3/002122","Panel medyczny (jednostka zasilająca) dla 3 łóżek","typ: DN3; producent: MZ Liberec a.s., Republika Czeska",43200,2506,"Bożena         ","Potentas                           ",40708,43200,"Anestezjologia"]
["008-0351-00009","8-351-9/003076","Parapodium do pionizacji pacjenta typ: Balance Trainer (balo) ","producent: medica Medizintechnik GmbH, Niemcy",22966.42,6550,"Ireneusz       ","Dzierżek                           ",41576,22966.42,"Zamiejscowy Dział Rehabilitacji Leczniczej"]
["008-0424-00001","","Parawan ochronny 1 mmPb 150x150 (h) cm","Parawan jezdny na kółkach.\r\nproducent: ZIPIMED Roman Śmiech, Polska\r",3790,6952,"Wiesława       ","Augustyn                           ",42055,3790,"Blok Operacyjny"]
["008-0381-00003",null,"Parawan ochronny 1 mmPb 150x150 (h) cm",null,3616.2,2511,"Dorota         ","Pikul                              ",40809,3616.2,"Oddział Kardiologiczny"]
["008-0381-00001","8-381-1/003103","Perymetr komputerowy","typ/model: M-600\r",36686.75,3847,"Małgorzata     ","Ciepłucha                          ",38990,36686.75,"Oddział Okulistyczny"]
["008-0213-00002","8-213-2/001621","Pęseta 23G",null,5314,2980,"Małgorzata     ","Ciepłucha                          ",40925,5314,"Oddział Okulistyczny"]
["008-0259-00005","8-259-5/003327","Pęseta 23G  Ducournau","producent: Synergetics",4337.78,3191,"Małgorzata     ","Ciepłucha                          ",40161,4337.78,"Oddział Okulistyczny"]
["008-0259-00003","8-259-3/002382","Pęseta ECKARDT 1286 W","prod: DORC",3892.66,4349,"Małgorzata     ","Ciepłucha                          ",38730,3892.66,"Oddział Okulistyczny"]
["008-0259-00001","8-259-1/001551","Pęseta podsiatkówkowa",null,5243,4452,"Małgorzata     ","Ciepłucha                          ",39245,5243,"Oddział Okulistyczny"]
["008-0279-00001","8-279-1/001711","PHYSIOTER  typ D-50 BL",null,8970,3195,"Ireneusz       ","Dzierżek                           ",40268,8970,"Zamiejscowy Dział Rehabilitacji Leczniczej"]
["008-2772-00000","T-51-VIII-213/2000/002772","Pilarka","typ: PKS-250P;  producent: PROMA, Czechy",4924,4451,"Ewa            ","Czerniak                           ",39239,4924,"Dział Gospodarki Nieruchomościami i Utrzymania Ruchu"]
["005-0001-00001","5-1-1/001710","Piła + ładowarka + akumulator /zestaw/ ",null,23720.65,3567,"Maria          ","Bieza                              ",40268,23720.65,"Zamiejscowy Blok Operacyjny"]
["008-2748-00000","T-51-VIII-276/07/002748","Pistolet do biopsji MAGNUM","Cechy: głębokość penetracji 15/22 mm. ",4320,6862,"Danuta         ","Cymerman                           ",41963,4320,"Oddział Chirurgii Onkologicznej"]
["008-0210-00009",null,"Pistolet do biopsji MAGNUM","typ; MG1522",5350,3601,"Krystyna       ","Baszak                             ",40490,5350,"Oddział Urologii i Urologii Onkologicznej"]
["008-0210-00006","8-210-6/002972","Pistolet do biopsji MAGNUM","Cechy: głębokość penetracji 15/22 mm. ",6048,6678,"Krystyna       ","Baszak                             ",41669,6048,"Oddział Urologii i Urologii Onkologicznej"]
["008-0210-00008",null,"Pistolet do biopsji MAGNUM","producent: BARD",5275.1,4045,"Danuta         ","Cymerman                           ",39164,5275.1,"Poradnia Chirurgii Onkologicznej"]
["008-0210-00003","8-210-3/001663","Pistolet do biopsji MAGNUM","Cechy: głębokość penetracji 15/22 mm. ",4320,6864,"Krystyna       ","Baszak                             ",41963,4320,"Poradnia Urologiczna"]
["008-0210-00011",null,"Pistolet do biopsji MAGNUM","typ: MAGNUM/MG1522; producent: BARD",5350,2874,"Justyna        ","Karawan                            ",40247,5350,"Oddział Nefrologiczny"]
["008-0210-00005","8-210-5/002530","Podnośnik 1-funkcyjny ","typ: KTBB4ASX2EU MAXI TWIN; producent: ARJO, Szwecja",22637.99,3942,"Teresa         ","Tarasińska                         ",39569,22637.99,"Oddział Chirurgii Naczyniowej"]
["008-0295-00003","8-295-3/001931","Podnośnik 1-funkcyjny ","typ: KTBB4ASX2EU MAXI TWIN; producent: ARJO, Szwecja",22637.99,3765,"Justyna        ","Karawan                            ",39569,22637.99,"Oddział Nefrologiczny"]
["008-0295-00002","8-295-2/001930","Podnośnik 1-funkcyjny ","typ: KTBB4ASX2EU MAXI TWIN; producent: ARJO, Szwecja",22637.99,4560,"Teresa         ","Pastuszka                          ",39569,22637.99,"Oddział Położniczo – Ginekologiczny"]
["008-0295-00004","8-295-4/001932","Podnośnik 2-funkcyjny","typ/model: KMBBNSX2FEU MAXI MOVE; producent: ARJO, Szwecja",39280.769999999997,4297,"Bożena         ","Potentas                           ",39569,39280.769999999997,"Intensywna Terapia"]
["008-0295-00001","8-295-1/001929","Podnośnik 2-funkcyjny","typ: KMCSXM; producent: ARJO, Szwecja",39578.230000000003,4821,"Elżbieta       ","Jarawka                            ",39833,39578.230000000003,"Oddział Chirurgii Ogólnej z Pododdziałami"]
["008-0295-00006","8-295-6/002096","Podnośnik 2-funkcyjny","typ: KMCSXM; producent: ARJO, Szwecja",36333.99,4005,"Dorota         ","Pikul                              ",39833,36333.99,"Oddział Kardiologiczny"]
["008-0295-00005","8-295-5/002095","Podnośnik pacjenta ","Charakterystyka: składany, udźwig 175 kg, typ HOYER HLK-6, \n",5200,3367,"Ireneusz       ","Dzierżek                           ",40268,5200,"Zamiejscowy Dział Rehabilitacji Leczniczej"]
["008-2801-00000","T-51-VIII-220/2000/002801","Podnośnik pacjenta elektryczny ","Charakterystyka: składany, udźwig 175 kg, typ HOYER HLK-6, \n",5200,3217,"Ireneusz       ","Dzierżek                           ",40268,5200,"Zamiejscowy Dział Rehabilitacji Leczniczej"]
["008-2781-00000","T-51-VIII-237/2000/002781","Podnośnik pacjenta typ Maxi Twin ","Typ Maxi Twin \r\n",19654.830000000002,3690,"Ilona          ","Kłosińska                          ",40268,19654.830000000002,"Zamiejscowy Oddział Rehabilitacji Ogólnoustrojowej II"]
["008-2838-00000","T-51-VII-285/08/002838","Podnośnik rehablitacyjny dla niepełnosprawnych ULTRA II",null,4576.5,6519,"Jolanta        ","Pawłowska                          ",41554,4576.5,"Zamiejscowy Oddział Rehabilitacji Neurologicznej"]
["008-0295-00008",null,"Podpora pod rękę","Podpora pod rękę z pasem i zaciskiem mocującym. Regulowana w górę i w dół, na boki, regulacja wysokości, obracana o 180 st., dł. 600 mm, szer. 150 mm.",3623.4,6914,"Wiesława       ","Augustyn                           ",41994,3623.4,"Blok Operacyjny"]
["008-0458-00001",null,"Podpory nóg","Podpory nóg (stirrups) - operowanie jedną ręką, wspomaganie sprężynami gazowymi + 2 zaciski do szyn bocznych",22042,5051,"Wiesława       ","Augustyn                           ",40525,22042,"Blok Operacyjny"]
["008-0362-00001","8-362-1/003012","Podstawa jezdna do respiratora Monnal T60",null,4104,6911,"Bożena         ","Potentas                           ",41989,4104,"Intensywna Terapia"]
["008-0457-00001",null,"Pojemnik do sterylizacji IORT","Zakup od Carl Zeiss Sp. z o.o.; ",9300,4969,"Danuta         ","Cymerman                           ",40535,9300,"Oddział Chirurgii Onkologicznej"]
["008-0355-00033","8-355-33/003002","Pompa - Endomat LC","producent: Karl Storz, Niemcy;",8539,4964,"Krystyna       ","Baszak                             ",40507,8539,"Oddział Urologii i Urologii Onkologicznej"]
["008-0360-00001","8-360-1/002983","Pompa  infuzyjna jednostrzykawkowa","prod: B.BRAUN; NIEMCY",3531,2415,"Anna           ","Kofman                             ",38671,3531,"SOR"]
["008-0019-00134","8-19-134/001499","Pompa do kontrpulsacji ",null,100440,6679,"Dorota         ","Pikul                              ",41682,100440,"Oddział Kardiologiczny"]
["008-0217-00004",null,"Pompa do kontrpulsacji wewnątrzaortalnej","typ: AUTOCAT 2 wave; producent: ARROW",165850,2778,"Dorota         ","Pikul                              ",39862,165850,"Oddział Kardiologiczny"]
["008-0217-00003","8-217-3/002129","Pompa infuzyjna 2-strzykawkowa","typ: AP22;  prod: ASCOR, Polska",4868.5,4851,"Dorota         ","Pikul                              ",38699,4868.5,"Oddział Kardiologiczny"]
["008-0019-00146","8-19-146/001534","Pompa infuzyjna 2-strzykawkowa","typ: AP22; prod: ASCOR, Polska",4868.5,2824,"Anna           ","Kofman                             ",38699,4868.5,"SOR"]
["008-0019-00140","8-19-140/001528","Pompa infuzyjna dwustrzykawkowa","Dar od Fundacji dla WSS",3850,4368,"Dorota         ","Pikul                              ",39475,3850,"Oddział Kardiologiczny"]
["008-0019-00176","8-19-176/001851","Pompa infuzyjna dwustrzykawkowa","producent: ASCOR S.A., Polska.",4460.3999999999996,6653,"Bożena         ","Potentas                           ",41597,4460.3999999999996,"Anestezjologia"]
["008-0019-00350",null,"Pompa infuzyjna dwustrzykawkowa","producent: ASCOR MED Sp. z o.o., Polska",4752,6842,"Wiesława       ","Pietruczuk                         ",41942,4752,"Oddział Kardiologii Dziecięcej z Pododdziałem Kardiochirurgi"]
["008-0019-00356",null,"Pompa infuzyjna dwustrzykawkowa","producent: ASCOR S.A., Polska",4460.3999999999996,6657,"Krystyna       ","Baszak                             ",41597,4460.3999999999996,"Oddział Urologii i Urologii Onkologicznej"]
["008-0019-00354",null,"Pompa infuzyjna dwustrzykawkowa","Typ: AP 24; producent: ASCOR, Polska",4038.12,5414,"Grażyna        ","Radzioch                           ",41325,4038.12,"Oddział Neonatologiczny z Pododdziałem Patologii Noworodka"]
["008-0019-00307",null,"Pompa infuzyjna dwustrzykawkowa","Typ: AP 24; producent: ASCOR, Polska",4038.12,5412,"Teresa         ","Pastuszka                          ",41325,4038.12,"Oddział Położniczo – Ginekologiczny"]
["008-0019-00305",null,"Pompa infuzyjna dwustrzykawkowa","producent: Ascor Med Sp. z o.o., Polska",4320,6950,"Jadwiga        ","Zielińska                          ",42052,4320,"Stacja Dializ"]
["008-0019-00383",null,"Pompa infuzyjna dwustrzykawkowa","producent: ASCOR S.A.",4104,2988,"Bożena         ","Potentas                           ",40926,4104,"Anestezjologia"]
["008-0019-00254","8-19-254/003317","Pompa infuzyjna dwustrzykawkowa","Typ: AP22; producent: ASCOR S.A.",4428,5285,"Wiesława       ","Pietruczuk                         ",40955,4428,"Oddział Kardiologii Dziecięcej z Pododdziałem Kardiochirurgi"]
["008-0019-00264","8-19-264/003377","Pompa infuzyjna dwustrzykawkowa","producent: ASCOR S.A.",3974.4,3793,"Anna           ","Kofman                             ",40837,3974.4,"SOR"]
["008-0019-00244","8-19-244/003144","Pompa infuzyjna dwustrzykawkowa","Producent: ASCOR S.A., Polska",3959,3526,"Bożena         ","Jezierska                          ",40135,3959,"Oddział Angiologiczny z Pododdziałem Diabetologii"]
["008-0019-00198","8-19-198/002336","Pompa infuzyjna dwustrzykawkowa","Producent: ASCOR S.A., Polska",3959,4776,"Bożena         ","Jezierska                          ",40135,3959,"Oddział Angiologiczny z Pododdziałem Diabetologii"]
["008-0019-00199","8-19-199/002337","Pompa infuzyjna dwustrzykawkowa","producent: ASCOR S.A., Polska",3959,4777,"Dorota         ","Pikul                              ",40135,3959,"Oddział Kardiologiczny"]
["008-0019-00200","8-19-200/002338","Pompa infuzyjna objętościowa ","Producent: B.BRAUN, Niemcy. ",6615.56,3102,"Bożena         ","Potentas                           ",40926,6615.56,"Intensywna Terapia"]
["008-0019-00260","8-19-260/003323","Pompa infuzyjna objętościowa ","Typ: Infusomat Space; producent: B.BRAUN.",6291.56,5081,"Bożena         ","Potentas                           ",41212,6291.56,"Intensywna Terapia"]
["008-0019-00281","8-19-281/003690","Pompa infuzyjna objętościowa ","Typ: Infusomat Space; producent: B.BRAUN",6291.57,4677,"Danuta         ","Cymerman                           ",41212,6291.57,"Oddział Chemioterapii z Pododdziałem Chemioterapii Dziennej"]
["008-0019-00291","8-19-291/003700","Pompa infuzyjna objętościowa ","producent: B.BRAUN",6723.56,3116,"Anna           ","Kofman                             ",40830,6723.56,"SOR"]
["008-0019-00246","8-19-246/003146","Pompa infuzyjna objętościowa ","typ: INFUSOMAT SPACE; producent: B.BRAUN,Niemcy",7043.19,2367,"Bożena         ","Potentas                           ",39469,7043.19,"Intensywna Terapia"]
["008-0019-00175","8-19-175/001862","Pompa infuzyjna objętościowa ","producent: B.BRAUN",6661.31,2825,"Bożena         ","Potentas                           ",40140,6661.31,"Intensywna Terapia"]
["008-0019-00220","8-19-220/002359","Pompa infuzyjna objętościowa ","producent: B. BRAUN, Niemcy",5562,6604,"Bożena         ","Potentas                           ",41577,5562,"Intensywna Terapia"]
["008-0019-00342",null,"Pompa infuzyjna objętościowa ",null,6661.61,3431,"Danuta         ","Cymerman                           ",40204,6661.61,"Oddział Chemioterapii z Pododdziałem Chemioterapii Dziennej"]
["008-0019-00224","8-19-224/002481","Pompa infuzyjna objętościowa ","producent: B. BRAUN",6233.3,4916,"Grażyna        ","Radzioch                           ",40129,6233.3,"Oddział Neonatologiczny z Pododdziałem Patologii Noworodka"]
["008-0019-00217","8-19-217/002356","Pompa infuzyjna objętościowa ","producent: B. BRAUN, Niemcy",6260.76,6933,"Elżbieta       ","Chodara                            ",42013,6260.76,"Oddział Pediatryczny z Pododdziałem Gastroenterologii"]
["008-0019-00382",null,"Pompa infuzyjna strzykawkowa","typ: PERFUSOR SPACE; prod: B. BRAUN ",4547.5,2651,"Danuta         ","Cymerman                           ",38885,4547.5,"Oddział Chemioterapii z Pododdziałem Chemioterapii Dziennej"]
["008-0019-00149","8-19-149/001575","Pompa infuzyjna strzykawkowa","typ: PERFUSOR SPACE; prod: B. BRAUN ",4547.5,4010,"Danuta         ","Cymerman                           ",38885,4547.5,"Oddział Chirurgii Onkologicznej"]
["008-0019-00148","8-19-148/001574","Pompa infuzyjna strzykawkowa",null,3526.2,6996,"Grażyna        ","Radzioch                           ",42170,3526.2,"Oddział Neonatologiczny z Pododdziałem Patologii Noworodka"]
["008-0019-00384",null,"Pompa infuzyjna strzykawkowa","Typ: Perfusor Space; producent: B.BRAUN.",4738.41,4645,"Bożena         ","Potentas                           ",41212,4738.41,"Anestezjologia"]
["008-0019-00280","8-19-280/003689","Pompa infuzyjna strzykawkowa","producent: B.BRAUN, Niemcy. ",4954.3999999999996,2747,"Bożena         ","Potentas                           ",40926,4954.3999999999996,"Intensywna Terapia"]
["008-0019-00262","8-19-262/003325","Pompa infuzyjna strzykawkowa","Typ: Perfusor Space; producent: B.BRAUN.",4738.3999999999996,5076,"Bożena         ","Potentas                           ",41212,4738.3999999999996,"Intensywna Terapia"]
["008-0019-00276","8-19-276/003685","Pompa infuzyjna strzykawkowa","producent: B.BRAUN",4954.3999999999996,3864,"Elżbieta       ","Jarawka                            ",40843,4954.3999999999996,"Oddział Chirurgii Ogólnej z Pododdziałami"]
["008-0019-00253","8-19-253/003185","Pompa infuzyjna strzykawkowa","producent: B.BRAUN; ",4738.41,4709,"Grażyna        ","Radzioch                           ",40570,4738.41,"Oddział Neonatologiczny z Pododdziałem Patologii Noworodka"]
["008-0019-00232","8-19-232/003041","Pompa infuzyjna strzykawkowa","typ: PERFUSOR SPACE",4280,3160,"Bożena         ","Potentas                           ",39825,4280,"Anestezjologia"]
["008-0019-00184","8-19-184/002082","Pompa infuzyjna strzykawkowa","Producent: B. BRAUN.",4028.4,6571,"Bożena         ","Potentas                           ",41577,4028.4,"Intensywna Terapia"]
["008-0019-00310",null,"Pompa infuzyjna strzykawkowa","Producent: B. BRAUN.",4374,6870,"Bożena         ","Potentas                           ",41970,4374,"Intensywna Terapia"]
["008-0019-00366",null,"Pompa infuzyjna strzykawkowa","TYP: PERFUSOR SPACE; producent: B.BRAUN",4280,3159,"Danuta         ","Cymerman                           ",39825,4280,"Oddział Chemioterapii z Pododdziałem Chemioterapii Dziennej"]
["008-0019-00179","8-19-179/002077","Pompa infuzyjna strzykawkowa","typ: PERFUSOR SPACE; producent: B. BRAUN; ",4601,3958,"Grażyna        ","Radzioch                           ",40525,4601,"Oddział Neonatologiczny z Pododdziałem Patologii Noworodka"]
["008-0019-00228","8-19-228/003007","Pompa infuzyjna strzykawkowa","producent: B.BRAUN",4908.53,2899,"Justyna        ","Karawan                            ",40126,4908.53,"Oddział Transplantologiczny"]
["008-0019-00210","8-19-210/002349","Pompa infuzyjna strzykawkowa","Producent: B. BRAUN.",4406.3999999999996,6569,"Maria          ","Bieza                              ",41577,4406.3999999999996,"Zamiejscowy Blok Operacyjny"]
["008-0019-00308",null,"Pompa infuzyjna strzykawkowa","Producent: B. BRAUN.",4406.3999999999996,6570,"Irena          ","Raus                               ",41577,4406.3999999999996,"Zamiejscowy Oddział Chirurgii Urazowo - Ortopedycznej"]
["008-0019-00309",null,"Pompa infuzyjna strzykawkowa","Producent: B. BRAUN.",4802.92,6898,"Irena          ","Raus                               ",41971,4802.92,"Zamiejscowy Oddział Chirurgii Urazowo - Ortopedycznej"]
["008-0019-00381",null,"Pompa płucząca ","Typ: OFP-2 (z kablem typu: MAJ-920); Producent: KeyMed, Wielka Brytania.",9588.24,5249,"Stanisław      ","Nabzdyk                            ",40998,9588.24,"Pracownia Endoskopii"]
["008-0360-00003","8-360-3/003405","Pompa ssąco-płucząca","producent: Karl Storz.  ",28048.39,3369,"Teresa         ","Pastuszka                          ",40946,28048.39,"Oddział Położniczo – Ginekologiczny"]
["008-0360-00002","8-360-2/003374","Pompa strzykawkowa","prod: B.BRAUN, Niemcy\r",4547.5,4216,"Bożena         ","Potentas                           ",38945,4547.5,"Anestezjologia"]
["008-0019-00151","8-19-151/001585","Pompa strzykawkowa","Pompa strzykawkowa TERUFUSION; prod: TERUMO EUROPE NV; BELGIA; ",3699.67,4568,"Elżbieta       ","Chodara                            ",38483,3699.67,"Oddział Pediatryczny z Pododdziałem Gastroenterologii"]
["008-0019-00130","8-19-130/001466","Pompa strzykawkowa","typ: ALARIS CC \r\nprod: ALARIS MEDICAL SYSTEMS",8560,3855,"Grażyna        ","Radzioch                           ",39049,8560,"Oddział Neonatologiczny z Pododdziałem Patologii Noworodka"]
["008-0019-00157","8-19-157/001642","Pompa strzykawkowa","typ: ASENA CC \r\nprod: ALARIS MEDICAL SYSTEMS",8560,4116,"Grażyna        ","Radzioch                           ",39049,8560,"Oddział Neonatologiczny z Pododdziałem Patologii Noworodka"]
["008-0019-00156","8-19-156/001641","Pompa strzykawkowa","producent: Cardinal Health",4500,4046,"Grażyna        ","Radzioch                           ",39416,4500,"Oddział Neonatologiczny z Pododdziałem Patologii Noworodka"]
["008-0019-00164","8-19-164/001769","Pompa strzykawkowa","typ: PERFUSOR SPACE; producent: B.BRAUN, Niemcy ",4862.41,5044,"Bożena         ","Potentas                           ",39449,4862.41,"Intensywna Terapia"]
["008-0019-00169","8-19-169/001855","Pompa strzykawkowa","typ: PERFUSOR SPACE; producent: B.BRAUN",4800,2896,"Danuta         ","Cymerman                           ",39842,4800,"Oddział Chemioterapii z Pododdziałem Chemioterapii Dziennej"]
["008-0019-00196","8-19-196/002074","Pompa strzykawkowa","producet: B. BRAUN, NIEMCY",4895.01,2366,"Danuta         ","Cymerman                           ",39140,4895.01,"Oddział Chirurgii Onkologicznej"]
["008-0019-00159","8-19-159/001660","Pompa strzykawkowa","producet: B. BRAUN, NIEMCY",4978.72,4261,"Justyna        ","Karawan                            ",39359,4978.72,"Oddział Nefrologiczny"]
["008-0019-00160","8-19-160/001747","Poręcz do nauki chodzenia ",null,4870,3981,"Ireneusz       ","Dzierżek                           ",40268,4870,"Zamiejscowy Dział Rehabilitacji Leczniczej"]
["008-2810-00000","T-51-VIII-290/09/002810","Promiennik podczerwieni do pielęgnacji niemowląt IR-10","producent: UNIMED, Polska",4601,2699,"Grażyna        ","Radzioch                           ",39398,4601,"Oddział Neonatologiczny z Pododdziałem Patologii Noworodka"]
["008-0211-00004","8-211-4/001764","Przetwornik","producent: Karl Storz, Niemcy",4514.1400000000003,2830,"Krystyna       ","Baszak                             ",40063,4514.1400000000003,"Oddział Urologii i Urologii Onkologicznej"]
["008-0264-00011","8-264-11/002476","Przystawka neurochirurgiczna","producent: Integra NeuroSciences, USA",64800,3439,"Wiesława       ","Augustyn                           ",40819,64800,"Blok Operacyjny"]
["008-0388-00001","8-388-1/003190","Przystawka ortopedyczna","producent: Schaerer Medical AG, Szwajcaria",124200,3075,"Wiesława       ","Augustyn                           ",40819,124200,"Blok Operacyjny"]
["008-0388-00002","8-388-2/003191","Pulsoksymetr","prod: NONIN MEDICAL, INC.; USA; typ: NONIN 8600FO",14378.02,5026,"Stanisław      ","Drelichowski                       ",38483,14378.02,"DODO - Pracownia Rezonansu Magnetycznego"]
["008-0024-00028","8-24-28/001470","Pulsoksymetr",null,3842.64,6989,"Grażyna        ","Radzioch                           ",42178,3842.64,"Oddział Neonatologiczny z Pododdziałem Patologii Noworodka"]
["008-0024-00047",null,"Pulsoksymetr","typ: N560; Nellcor Puritan Bennett, USA",4280,2297,"Danuta         ","Cymerman                           ",39559,4280,"Oddział Chemioterapii z Pododdziałem Chemioterapii Dziennej"]
["008-0024-00030","8-24-30/001905","Pulsoksymetr","typ: N560; producent: Nellcor Puritan Bennett, USA",4280,2843,"Stanisław      ","Nabzdyk                            ",39559,4280,"Pracownia Endoskopii"]
["008-0024-00031","8-24-31/001906","Pulsoksymetr","typ: N560; producent: Nellcor Puritan Bennett, USA",4280,5167,"Anna           ","Kofman                             ",39559,4280,"SOR"]
["008-0024-00032","8-24-32/001907","Pulsoksymetr","typ/model: N600X-1; producent: Nellcor Puritan Bennett, USA",7115.5,4798,"Bożena         ","Potentas                           ",39559,7115.5,"Intensywna Terapia"]
["008-0024-00029","8-24-29/001895","Pulsoksymetr","typ: OXY TRUE A;producent: BLUEPOINT MEDICAL, Niemcy",3798.5,3428,"Grażyna        ","Radzioch                           ",40175,3798.5,"Oddział Neonatologiczny z Pododdziałem Patologii Noworodka"]
["008-0024-00039","8-24-39/002406","Pulsoksymetr","model 520 AL. PR, typ OXYPLETH \r\n",4704.47,4816,"Irena          ","Raus                               ",40268,4704.47,"Zamiejscowy Oddział Chirurgii Urazowo - Ortopedycznej"]
["008-2752-00000","T-51-VIII-159/95/002752","Pulsoksymetr","typ: Radical 8\r\nproducent: Masimo Corp., USA",5940,6980,"Danuta         ","Cymerman                           ",42166,5940,"Poradnia Chirurgii Onkologicznej"]
["008-0024-00046",null,"Pulsoksymetr","Typ: RADICAL 7; producent: MASIMO; ",7276,2711,"Grażyna        ","Radzioch                           ",40522,7276,"Oddział Neonatologiczny z Pododdziałem Patologii Noworodka"]
["008-0024-00040","8-24-40/003003","Pulsoksymetr","typ: Radical 7; producent: MASIMO",7776,4866,"Grażyna        ","Radzioch                           ",40585,7776,"Oddział Neonatologiczny z Pododdziałem Patologii Noworodka"]
["008-0024-00041","8-24-41/003052","Pulsoksymetr","producent: SMITH MEDICAL PM, USA",3618,5292,"Anna           ","Kofman                             ",40977,3618,"SOR"]
["008-0024-00044","8-24-44/003418","Pulsoksymetr stacjonarno-transportowy","typ/model: RADICAL",7811,3817,"Bożena         ","Potentas                           ",39574,7811,"Anestezjologia"]
["008-0024-00033","8-24-33/001959","Pulsoksymetr stacjonarno-transportowy","typ/model: RADICAL",7811,3818,"Teresa         ","Pastuszka                          ",39574,7811,"Oddział Położniczo – Ginekologiczny"]
["008-0024-00036","8-24-36/001962","Pulsoksymetr stacjonarno-transportowy",null,9396,5427,"Grażyna        ","Radzioch                           ",41364,9396,"Oddział Neonatologiczny z Pododdziałem Patologii Noworodka"]
["008-0024-00045",null,"Pulsoksymetr",null,3900,3450,"Ireneusz       ","Dzierżek                           ",40268,3900,"Zamiejscowy Dział Rehabilitacji Leczniczej"]
["008-2775-00000","T-51-VIII-224/2000/002775","Regulowana leżanka do badań i zabiegów ","model: PLUTO; producent: PROMA REHA s.r.o., Republika Czeska.",5380.56,3606,"Justyna        ","Karawan                            ",41044,5380.56,"Oddział Nefrologiczny"]
["008-0403-00001","8-403-1/003531","Rejestrator Endoskan",null,6884.46,2551,"Stanisław      ","Nabzdyk                            ",40129,6884.46,"Pracownia Endoskopii"]
["008-0329-00001","8-329-1/002375","Rejestrator holterowski ","typ: AsPEKT 800",5139.75,4837,"Dorota         ","Pikul                              ",40150,5139.75,"Oddział Kardiologiczny"]
["008-0081-00006","8-81-6/002395","Rejestrator holterowski ","typ: AsPEKT 800",5633,2579,"Dorota         ","Pikul                              ",40150,5633,"Oddział Kardiologiczny"]
["008-0081-00005","8-81-5/002398","Rejestrator holterowski ",null,7560,6788,"Wiesława       ","Pietruczuk                         ",41925,7560,"Oddział Kardiologii Dziecięcej z Pododdziałem Kardiochirurgi"]
["008-0081-00017",null,"Rejestrator holterowski ","typ: DMS-300-3A/K",7776,3868,"Wiesława       ","Pietruczuk                         ",40877,7776,"Oddział Kardiologii Dziecięcej z Pododdziałem Kardiochirurgi"]
["008-0081-00010","8-81-10/003233","Rejestrator holterowski ",null,4800,6841,"Wiesława       ","Pietruczuk                         ",41943,4800,"Oddział Kardiologii Dziecięcej z Pododdziałem Kardiochirurgi"]
["008-0081-00018",null,"Rektoskop operacyjny",null,43126.2,3087,"Stanisław      ","Nabzdyk                            ",40134,43126.2,"Pracownia Endoskopii"]
["008-0332-00001","8-332-1/002404","Respirator",null,6390,3444,"Irena          ","Raus                               ",40268,6390,"Zamiejscowy Oddział Chirurgii Urazowo - Ortopedycznej"]
["008-2755-00000","T-51-VIII-216/01/002755","Respirator","Typ: 3100 A; producent: VIASYS Healthcare",117700,2462,"Grażyna        ","Radzioch                           ",40248,117700,"Oddział Neonatologiczny z Pododdziałem Patologii Noworodka"]
["008-0020-00055","8-20-55/002584","Respirator","producent: VersaMed Medical Systems Inc., USA",44499.16,3009,"Bożena         ","Potentas                           ",39615,44499.16,"Intensywna Terapia"]
["008-0020-00045","8-20-45/001987","Respirator","Typ. NPB 840; producent: Nellcor Puritan Bennett, USA",95882.7,4857,"Bożena         ","Potentas                           ",40136,95882.7,"Intensywna Terapia"]
["008-0020-00050","8-20-50/002378","Respirator noworodkowy ",null,99828.98,5428,"Grażyna        ","Radzioch                           ",41364,99828.98,"Oddział Neonatologiczny z Pododdziałem Patologii Noworodka"]
["008-0020-00076",null,"Respirator noworodkowy ","producent: ACUTRONIC MEDICAL SYSTEMS AG, Szwajcaria",61036.01,4716,"Grażyna        ","Radzioch                           ",39356,61036.01,"Oddział Neonatologiczny z Pododdziałem Patologii Noworodka"]
["008-0020-00039","8-20-39/001752","Respirator noworodkowy ",null,102500,6474,"Grażyna        ","Radzioch                           ",41528,102500,"Oddział Neonatologiczny z Pododdziałem Patologii Noworodka"]
["008-0020-00077",null,"Respirator","typ: NPB 840; producent: Nellcor Puritan Bennett, USA",80849.2,3539,"Bożena         ","Potentas                           ",39559,80849.2,"Intensywna Terapia"]
["008-0020-00043","8-20-43/001896","Respirator","typ: SAVINA;  producent: DRAGER",59385,2923,"Bożena         ","Potentas                           ",38688,59385,"Anestezjologia"]
["008-0020-00035","8-20-35/001511","Respirator","typ: SAVINA;  producent: DRAGER",59385,2303,"Anna           ","Kofman                             ",38688,59385,"SOR"]
["008-0020-00037","8-20-37/001513","Respirator","Model: SERVO-i Universal z opcją MRI; producent: MAQUET Critical Care AB, Szwecja",98000,2319,"Bożena         ","Potentas                           ",41233,98000,"Anestezjologia"]
["008-0020-00067","8-20-67/003722","Respirator stacjonarno-transportowy ","Model: Bellavista 1000; producent: IMTMEDICAL AG, Szwajcaria",61508.160000000003,4682,"Bożena         ","Potentas                           ",41240,61508.160000000003,"Intensywna Terapia"]
["008-0020-00068","8-20-68/003723","Respirator stacjonarno-transportowy ",null,64999.8,6729,"Bożena         ","Potentas                           ",41827,64999.8,"Anestezjologia"]
["008-0020-00089",null,"Respirator stacjonarno-transportowy ","Typ: IVENT201; producent: Versamed dla GE Healthcare",45621.36,4543,"Anna           ","Kofman                             ",40836,45621.36,"SOR"]
["008-0020-00061","8-20-61/003132","Respirator transportowy","typ/model: Ambu Matic; producent: AMBU, Dania",10419,4000,"Bożena         ","Potentas                           ",39407,10419,"Anestezjologia"]
["008-0020-00041","8-20-41/001771","Respirator transportowy","Typ/model: 01CV6000 CAREvent ATV+; Producent: O-TWO. ",21141,2610,"Anna           ","Kofman                             ",40826,21141,"SOR"]
["008-0020-00062","8-20-62/003164","Respirator transportowy","typ: Monnal T-60\r\nProducent: Air Liquide Medical Systems, Francja.",41499,6736,"Bożena         ","Potentas                           ",41830,41499,"Intensywna Terapia"]
["008-0020-00094",null,"Respirator transportowy","prod.: TAEMA, Francja",14826.99,4699,"Anna           ","Kofman                             ",38689,14826.99,"SOR"]
["008-0020-00038","8-20-38/001522","Respirator transportowy","TYP:Oxylog 3000; producent: DRAGER MEDICAL, Niemcy",42163.35,3124,"Bożena         ","Potentas                           ",39436,42163.35,"Anestezjologia"]
["008-0020-00042","8-20-42/001844","Respirator","Respirator z czujnikiem tlenu Oxicheck; producent: RESPIRONICS",23775.22,3833,"Teresa         ","Tarasińska                         ",40445,23775.22,"Oddział Chirurgii Naczyniowej"]
["008-0020-00056","8-20-56/002921","Respirator","Typ: Monnal T75; producent: Air Liquide Medical Systems.",59826.6,6628,"Bożena         ","Potentas                           ",41582,59826.6,"Anestezjologia"]
["008-0020-00082",null,"Respirator","typ: SERVO-i Universal",102000,5192,"Wiesława       ","Pietruczuk                         ",40974,102000,"Oddział Kardiologii Dziecięcej z Pododdziałem Kardiochirurgi"]
["008-0020-00065","8-20-65/003385","Respirator","typ SERVO-i",88560,5193,"Grażyna        ","Radzioch                           ",40974,88560,"Oddział Neonatologiczny z Pododdziałem Patologii Noworodka"]
["008-0020-00066","8-20-66/003386","Respirator","typ: NPB 840; producent: Nellcor Puritan Bennett, USA",81437.7,2835,"Bożena         ","Potentas                           ",40136,81437.7,"Intensywna Terapia"]
["008-0020-00052","8-20-52/002380","Resuscytator automatyczny Ambu Matic","producent: AMBU",7514.61,3820,"Bożena         ","Potentas                           ",39843,7514.61,"Anestezjologia"]
["008-0022-00005","8-22-5/002115","Resuscytator automatyczny Ambu Matic","producent: AMBU",7514.61,3644,"Teresa         ","Tarasińska                         ",39843,7514.61,"Oddział Chirurgii Naczyniowej"]
["008-0022-00002","8-22-2/002112","Resuscytator automatyczny Ambu Matic","producent: AMBU",7514.61,4312,"Elżbieta       ","Jarawka                            ",39843,7514.61,"Oddział Chirurgii Ogólnej z Pododdziałami"]
["008-0022-00003","8-22-3/002113","Resuscytator automatyczny Ambu Matic","typ: Ambu Matic; producent: AMBU",10379,3903,"Anna           ","Kofman                             ",40149,10379,"SOR"]
["008-0022-00007","8-22-7/002434","Rezonans magnetyczny","producent: SIEMENS; typ: Magnetom 1,5 T",5925570.3799999999,4583,"Stanisław      ","Drelichowski                       ",40876,5925570.3799999999,"DODO - Pracownia Rezonansu Magnetycznego"]
["008-0143-00002","8-143-2/003226","Robot do nagrywania płyt CD/DVD Versa Copier 3-IP",null,19086.89,4249,"Stanisław      ","Drelichowski                       ",40513,38173.78,"DODO - rejestracja"]
["004-0491-0270N","4-491-270 N/003020","Rotor do aktywnej i pasywnej terapii ruchowej ","producent: Medica Medizintechnik GmbH, Niemcy",10222.01,6551,"Ireneusz       ","Dzierżek                           ",41576,10222.01,"Zamiejscowy Dział Rehabilitacji Leczniczej"]
["008-0425-00001",null,"Rotor do aktywnej i pasywnej terapii ruchowej","producent: Medica Medizintechnik GmbH, Niemcy",19958.13,6553,"Ireneusz       ","Dzierżek                           ",41576,19958.13,"Zamiejscowy Dział Rehabilitacji Leczniczej"]
["008-0425-00002",null,"Rozwiertaki - zestaw","producent: Synthes GmbH",16854.48,4541,"Wiesława       ","Augustyn                           ",40816,16854.48,"Blok Operacyjny"]
["008-0384-00001","8-384-1/003117","Ruchome stanowisko do nieinwazyjnego wspomagania oddychania noworodka","typ/model: ATOM V-2100; producenci: ATOM/VIASYS/GRUNDLER \r",87151.2,3515,"Grażyna        ","Radzioch                           ",39534,87151.2,"Oddział Neonatologiczny z Pododdziałem Patologii Noworodka"]
["008-0290-00001","8-290-1/001889","Siedziska stałe- zestaw 12 szt. Siedzisk",null,8915.2999999999993,6672,"Ewa            ","Czerniak                           ",41639,8915.2999999999993,"Sekcja Gospodarcza i Obsługa (cześć wspólna)"]
["008-0212-00058",null,"Siedziska stałe- zestaw 8 szt. Siedzisk",null,5943.59,6673,"Ewa            ","Czerniak                           ",41639,5943.59,"Sekcja Gospodarcza i Obsługa (cześć wspólna)"]
["008-0212-00059",null,"Siedziska stałe- zestaw 8 szt. Siedzisk",null,12410.99,6674,"Ewa            ","Czerniak                           ",41639,12410.99,"Sekcja Gospodarcza i Obsługa (cześć wspólna)"]
["008-0212-00060",null,"Skaner ","Producent: FUJI",7425.31,5385,"Wiesława       ","Szydłowska                         ",41290,7425.31,"Apteka Szpitalna"]
["004-0491-00363",null,"Skaner ",null,9800,2826,"Ireneusz       ","Dzierżek                           ",40268,9800,"Zamiejscowy Dział Rehabilitacji Leczniczej"]
["008-2776-00000","T-51-VIII-225/2000/002776","Spirometr","producent: MES Sp. z o.o., Polska",10377.4,4775,"Dorota         ","Pikul                              ",40129,10377.4,"Oddział Kardiologiczny"]
["008-0202-00002","8-202-2/002335","Spirometr","typ: MasterScreen Pneumo z opcjami Rhino i APS; producent: CareFusion Germany 234 GmbH.",44557,5119,"Elżbieta       ","Chodara                            ",41207,44557,"Poradnia Alergologiczna Dla Dzieci"]
["008-0202-00003","8-202-3/003705","Spirometr","Spirometr wraz z oprogramowaniem.\r\nProducent: CareFusion, Wielka Brytania",10000.01,6932,"Elżbieta       ","Chodara                            ",42013,10000.01,"Oddział Pediatryczny z Pododdziałem Gastroenterologii"]
["008-0202-00004",null,"Sprężarka tłokowa",null,13359,3826,"Ewa            ","Czerniak                           ",39918,13359,"Dział Gospodarki Nieruchomościami i Utrzymania Ruchu"]
["004-0012-00004","4-12-4/002214","Ssak elektryczny","producent: MEDELA, Szwajcaria",4696.92,6858,"Wiesława       ","Pietruczuk                         ",41942,4696.92,"Oddział Kardiologii Dziecięcej z Pododdziałem Kardiochirurgi"]
["008-0027-00027",null,"Ssak elektryczny","typ: VARIO 18 AC/DC; producent: MEDELA - Szwajcaria",4622.3999999999996,5309,"Dorota         ","Pikul                              ",39063,4622.3999999999996,"Oddział Kardiologiczny"]
["008-0027-00010","8-27-10/001629","Ssak elektryczny","typ: VARIO 18 AC/DC; producent: MEDELA - Szwajcaria",4622.3999999999996,5307,"Krystyna       ","Baszak                             ",39063,4622.3999999999996,"Oddział Urologii i Urologii Onkologicznej"]
["008-0027-00009","8-27-9/001628","Ssak elektryczny","typ: VARIO 18 AC/DC; producent: MEDELA - Szwajcaria",4622.3999999999996,5310,"Anna           ","Kofman                             ",39063,4622.3999999999996,"SOR"]
["008-0027-00011","8-27-11/001630","Ssak elektryczny","typ/model: VARIO 18AC/DC; producent: MEDELA, Szwajcaria",4494,3707,"Bożena         ","Potentas                           ",39407,4494,"Anestezjologia"]
["008-0027-00020","8-27-20/001780","Ssak elektryczny","typ/model: VARIO 18AC/DC; producent: MEDELA, Szwajcaria",4162.3,2776,"Bożena         ","Potentas                           ",39854,4162.3,"Intensywna Terapia"]
["008-0027-00024","8-27-24/002126","Ssak elektryczny","typ/model: VARIO 18AC/DC; producent: MEDELA, Szwajcaria",4494,2376,"Teresa         ","Tarasińska                         ",39399,4494,"Oddział Chirurgii Naczyniowej"]
["008-0027-00013","8-27-13/001772","Ssak elektryczny","typ/model: VARIO 18AC/DC; producent: MEDELA, Szwajcaria",4494,2857,"Elżbieta       ","Jarawka                            ",39407,4494,"Oddział Chirurgii Ogólnej z Pododdziałami"]
["008-0027-00019","8-27-19/001774","Ssak elektryczny","producent: MEDELA, Szwajcaria",4585.8100000000004,3014,"Danuta         ","Cymerman                           ",39140,4585.8100000000004,"Oddział Chirurgii Onkologicznej"]
["008-0027-00012","8-27-12/001661","Ssak elektryczny","typ/model: VARIO 18AC/DC; producent: MEDELA, Szwajcaria",4494,5214,"Barbara        ","Matusiak                           ",39407,4494,"Oddział Dermatologiczny"]
["008-0027-00015","8-27-15/001777","Ssak elektryczny","typ/model: VARIO 18AC/DC; producent: MEDELA, Szwajcaria",4162.3,3902,"Dorota         ","Pikul                              ",39854,4162.3,"Oddział Kardiologiczny"]
["008-0027-00023","8-27-23/002125","Ssak elektryczny","typ/model: VARIO 18AC/DC; producent: MEDELA, Szwajcaria",4162.3,3501,"Wiesława       ","Pietruczuk                         ",39854,4162.3,"Oddział Kardiologii Dziecięcej z Pododdziałem Kardiochirurgi"]
["008-0027-00022","8-27-22/002124","Ssak elektryczny","typ/model: VARIO 18AC/DC",4494,5053,"Justyna        ","Karawan                            ",39399,4494,"Oddział Nefrologiczny"]
["008-0027-00018","8-27-18/001773","Ssak elektryczny","typ/model: VARIO 18AC/DC; producent: MEDELA, Szwajcaria",4494,2372,"Grażyna        ","Brulińska                          ",39407,4494,"Oddział Otolaryngologiczny z Pododdziałem Otolaryngologii"]
["008-0027-00014","8-27-14/001776","Ssak elektryczny","typ/model: VARIO 18AC/DC; producent: MEDELA, Szwajcaria",4494,4108,"Elżbieta       ","Chodara                            ",39407,4494,"Oddział Pediatryczny z Pododdziałem Gastroenterologii"]
["008-0027-00016","8-27-16/001778","Ssak operacyjny ","Typ: SO-4/6,",3599,3053,"Maria          ","Bieza                              ",40268,3599,"Zamiejscowy Blok Operacyjny"]
["008-2738-00000","T-51-VIII-209/2000/002738","Stabilizator kości promieniowej ","Producent: STRYKER. Wprowadzone komponenty.",5799.6,3080,"Wiesława       ","Augustyn                           ",40963,5799.6,"Blok Operacyjny"]
["008-0288-00004","8-288-4/003381","Stabilizator miednicy ","Typ: Hoffman; producent: STRYKER; ",5475.6,5319,"Wiesława       ","Augustyn                           ",40963,5475.6,"Blok Operacyjny"]
["008-0288-00003","8-288-3/003380","Stabilizator udowy","Stabilizator zewnętrzny (z możliwością powolnej korekcji) na udo. Producent: STRYKER. ",8262,3079,"Wiesława       ","Augustyn                           ",40963,8262,"Blok Operacyjny"]
["008-0288-00002","8-288-2/003379","Stacja diagnostyczna mammograficzna ","producent: AGFA.",210816,2273,"Stanisław      ","Drelichowski                       ",40949,210816,"DODO - Pracownia Mammografii"]
["008-0337-00004","8-337-4/003370","Stacja dokująca do pomp infuzyjnych BRAUNA","Producent: B.BRAUN. ",8143.2,6619,"Bożena         ","Potentas                           ",41577,8143.2,"Intensywna Terapia"]
["008-0285-00014",null,"Stacja dokująca do pomp infuzyjnych BRAUNA","producent: B.BRAUN; ",8852.86,5045,"Bożena         ","Potentas                           ",39449,8852.86,"Intensywna Terapia"]
["008-0285-00001","8-285-1/001856","Stacja dokująca do pomp infuzyjnych BRAUNA","producent: B. BRAUN",7620.56,4936,"Danuta         ","Cymerman                           ",40140,7620.56,"Oddział Chirurgii Onkologicznej"]
["008-0285-00005","8-285-5/002365","Stacja dokująca do pomp infuzyjnych BRAUNA","Typ: Space Com; Producent: B.BRAUN. ",4244.3999999999996,3724,"Grażyna        ","Radzioch                           ",40966,4244.3999999999996,"Oddział Neonatologiczny z Pododdziałem Patologii Noworodka"]
["008-0285-00007","8-285-7/003368","Stacja dokująca do pomp infuzyjnych BRAUNA","producent: B. BRAUN, Niemcy\r\n",8143.2,6887,"Bożena         ","Potentas                           ",41970,8143.2,"Intensywna Terapia"]
["008-0285-00015",null,"Stacja dokująca do pomp infuzyjnych BRAUNA",null,8143.2,6617,"Bożena         ","Potentas                           ",41577,8143.2,"Intensywna Terapia"]
["008-0285-00013",null,"Stanowisko do pielęgnacji noworodków ","typ: SPN-1600; ",14124,3101,"Grażyna        ","Radzioch                           ",39861,14124,"Oddział Neonatologiczny z Pododdziałem Patologii Noworodka"]
["008-0214-00002","8-214-2/002200","Sterownik kamery Telecam DX","typ: TELECAM DX II PAL/NTSC; producent:  Karl Storz, Niemcy\r",8198.34,3466,"Krystyna       ","Baszak                             ",39503,8198.34,"Oddział Urologii i Urologii Onkologicznej"]
["008-0287-00001","8-287-1/001874","Sterylizator kasetowy ","Typ: STATIM 2000S; Producent: SciCan Ltd., Kanada.",17505.2,2360,"Małgorzata     ","Ciepłucha                          ",40543,17505.2,"SOR"]
["008-0032-00038","8-32-38/003013","Sterylizator parowy","seria: HS6613 ER-2; producent: GETINGE SWEDEN",263078.81,3227,"Monika         ","Świtoń                             ",39650,263078.81,"Dział Centralnej Sterylizatorni i DDD"]
["008-0032-00034","8-32-34/001995","Stolik typu MAYO do instrumentów chirurgicznych","producent: ALVO",3728.91,3148,"Danuta         ","Cymerman                           ",39433,3728.91,"Oddział Chirurgii Onkologicznej"]
["008-0208-00009","8-208-9/001835","Stolik typu MAYO do instrumentów chirurgicznych","producent: ALVO, Polska",3948.3,5037,"Grażyna        ","Brulińska                          ",39475,3948.3,"Oddział Otolaryngologiczny z Pododdziałem Otolaryngologii"]
["008-0208-00010","8-208-10/001872","Stoł zabiegowy uniwersalny","typ: SU-04 z wyposażeniem: \nprod: FAMED ŻYWIEC, Polska",90340.1,5169,"Anna           ","Kofman                             ",38693,90340.1,"SOR"]
["008-0045-00022","8-45-22/001524","Stół do ćwiczeń (masażu) sterowany elektrycznie ",null,5300,4849,"Ireneusz       ","Dzierżek                           ",40268,5300,"Zamiejscowy Dział Rehabilitacji Leczniczej"]
["008-2803-00000","T-51-VIII-258/05/002803","Stół do ćwiczeń sterowany elektrycznie ",null,3590,4149,"Ireneusz       ","Dzierżek                           ",40268,3590,"Zamiejscowy Dział Rehabilitacji Leczniczej"]
["008-2783-00000","T-51-VIII-223/2000/002783","Stół do gipsowania","producent: TRUMPF",38434.400000000001,2365,"Anna           ","Kofman                             ",39092,38434.400000000001,"SOR"]
["008-0045-00025","8-45-25/001658","Stół do kontroli i pakowania 1-stanowiskowy",null,9466.08,5381,"Monika         ","Świtoń                             ",41305,9466.08,"Dział Centralnej Sterylizatorni i DDD"]
["008-0244-00003",null,"Stół do opasek gipsowych","wymiary: 2570x600x900",6039,3910,"Anna           ","Kofman                             ",38818,6039,"SOR"]
["008-0261-00001","8-261-1/001560","Stół operacyjny",null,25768.799999999999,6981,"Danuta         ","Cymerman                           ",42167,25768.799999999999,"Poradnia Chirurgii Onkologicznej"]
["008-0045-00040",null,"Stół operacyjny - onkologiczny","typ: SATURN SELECT L\rproducent: TRUMPF",78495.199999999997,3037,"Danuta         ","Cymerman                           ",39202,78495.199999999997,"Oddział Chirurgii Onkologicznej"]
["008-0045-00026","8-45-26/001701","Stół operacyjny - RTG","typ: SATURN SELECT L\rproducent: TRUMPF",81758.7,2364,"Krystyna       ","Baszak                             ",39092,81758.7,"Oddział Urologii i Urologii Onkologicznej"]
["008-0045-00024","8-45-24/001657","Stół operacyjny","producent: BRUMABA",69660,4639,"Małgorzata     ","Ciepłucha                          ",41177,69660,"Oddział Okulistyczny"]
["008-0045-00039","8-45-39/003664","Stół operacyjny",null,58250.8,3442,"Maria          ","Bieza                              ",40268,58250.8,"Zamiejscowy Blok Operacyjny"]
["008-2749-00000","T-51-VIII-293/09/002749","Stół operacyjny ginekologiczny","Typ: SATURN SELECT; producent: TRIUMPF GmbH, Niemcy; ",76975.8,3464,"Wiesława       ","Augustyn                           ",39472,76975.8,"Blok Operacyjny"]
["008-0045-00027","8-45-27/001864","Stół operacyjny ogólnochirurgiczny","Typ: SATURN SELECT; producent: TRIUMPF GmbH, Niemcy; ",90682.5,4895,"Wiesława       ","Augustyn                           ",39472,90682.5,"Blok Operacyjny"]
["008-0045-00031","8-45-31/001868","Stół operacyjny okulistyczny","typ: DEXTA 80DX; producent; DEXTA Corporation, USA",39000,4370,"Małgorzata     ","Ciepłucha                          ",39499,39000,"Oddział Okulistyczny"]
["008-0045-00032","8-45-32/001869","Stół operacyjny ortopedyczny","typ: SATURN SELECT L; producent: TRIUMPF GmbH, Niemcy. ",147767,4121,"Wiesława       ","Augustyn                           ",39472,147767,"Blok Operacyjny"]
["008-0045-00029","8-45-29/001866","Stół operacyjny ","Typ: AXIS 500; producent: Schaerer Medical AG, Szwajcaria",162000,4576,"Wiesława       ","Augustyn                           ",40819,162000,"Blok Operacyjny"]
["008-0045-00035","8-45-35/003186","Stół operacyjny ","typ: SU-03.0; blat 4-segmentowy; prod: FAMED - ŻYWIEC",69868,5209,"Krystyna       ","Baszak                             ",38548,69868,"Oddział Urologii i Urologii Onkologicznej"]
["008-0045-00020","8-45-20/001475","Stół operacyjny urologiczny","typ: SATURN SELECT LK; producent: TRIUMPF, ",101286.2,2374,"Wiesława       ","Augustyn                           ",39472,101286.2,"Blok Operacyjny"]
["008-0045-00028","8-45-28/001865","Stół operacyjny ",null,6117.3,4357,"Maria          ","Bieza                              ",40268,6117.3,"Zamiejscowy Blok Operacyjny"]
["008-2730-00000","T-51-VIII-48-1/84/002730","Stół operacyjny z blatem węglowym","typ: JUPITER UNIVERSAL CARBOTOM X-TRA; producent: TRIUMPF GmbH, Niemcy.",161516.5,3465,"Wiesława       ","Augustyn                           ",39472,161516.5,"Blok Operacyjny"]
["008-0045-00030","8-45-30/001867","Stół operacyjny urologiczny","typ: SATURN SELECT L\rproducent: TRUMPF",76922.3,5024,"Krystyna       ","Baszak                             ",39092,76922.3,"Oddział Urologii i Urologii Onkologicznej"]
["008-0045-00023","8-45-23/001656","Stół pionizacyjny","model: 900-00",18684,5362,"Wiesława       ","Pietruczuk                         ",41018,18684,"Oddział Kardiologii Dziecięcej z Pododdziałem Kardiochirurgi"]
["008-0341-00003","8-341-3/003421","Stół pionizacyjny z napędem elektrycznym ","Charakterystyka: z napędem elektrycznym , ",5182,3218,"Ireneusz       ","Dzierżek                           ",40268,5182,"Zamiejscowy Dział Rehabilitacji Leczniczej"]
["008-2782-00000","T-51-VIII-219/2000/002782","Stół pionizacyjny z napędem elektrycznym ","Stół pionizacyjny z napędem elektrycznym   typ SP-1/E",4500,3730,"Ireneusz       ","Dzierżek                           ",40268,4500,"Zamiejscowy Dział Rehabilitacji Leczniczej"]
["008-2813-00000","T-51-VIII-295/09/002813","Stół pionizacyjny z napędem elektrycznym ","Stół pionizacyjny z napędem elektrycznym  typ SP-1",5182,2870,"Ireneusz       ","Dzierżek                           ",40268,5182,"Zamiejscowy Dział Rehabilitacji Leczniczej"]
["008-2797-00000","T-51-VIII-236/2000/002797","Stół rehabilitacyjny","Stół rehabilitacyjny z elektryczną regulacją wysokości. Producent: Technomex, Polska.",3586.77,6900,"Ireneusz       ","Dzierżek                           ",41933,3586.77,"Zamiejscowy Dział Rehabilitacji Leczniczej"]
["008-0341-00005",null,"Stół rehabilitacyjny pionizujący",null,6200,4662,"Teresa         ","Tarasińska                         ",40255,6200,"Oddział Chirurgii Naczyniowej"]
["008-0341-00002","8-341-2/002586","Stół roboczy",null,4551,6715,"Bożena         ","Potentas                           ",41774,4551,"Intensywna Terapia"]
["008-0212-00065",null,"Stół roboczy pod komputer",null,5289,6716,"Bożena         ","Potentas                           ",41774,5289,"Intensywna Terapia"]
["008-0212-00066",null,"Stół zabiegowy","producent: FAMED, ŻYWIEC, POLSKA",4173,2696,"Bożena         ","Jezierska                          ",39197,4173,"Oddział Angiologiczny z Pododdziałem Diabetologii"]
["008-0129-00004","8-129-4/001703","Stół zabiegowy","producent: FAMED, POLSKA; typ: SZ-02.0",3959,3850,"Danuta         ","Cymerman                           ",39447,3959,"Oddział Chirurgii Onkologicznej"]
["008-0129-00006","8-129-6/001848","Stół zabiegowy",null,4387,2849,"Barbara        ","Matusiak                           ",39882,4387,"Oddział Dermatologiczny"]
["008-0129-00007","8-129-7/002202","Strzykawka do kontrastu ",null,91260,6677,"Stanisław      ","Drelichowski                       ",41686,91260,"DODO - Pracowania Tomografii Komputerowej"]
["008-0248-00003",null,"Stymulator do identyfikacji nerwów obwodowych","typ: STIMUPLEX HNS 12; producent: B.BRAUN",4182.32,2627,"Bożena         ","Potentas                           ",39842,4182.32,"Anestezjologia"]
["008-0302-00001","8-302-1/002073","Stymulator zewnętrzny dwukanałowy","typ: reocor D; producent: BIOTRONIK SE&CO KG",6912,5326,"Wiesława       ","Pietruczuk                         ",41024,6912,"Oddział Kardiologii Dziecięcej z Pododdziałem Kardiochirurgi"]
["008-0015-00015","8-15-15/003528","Sufitowa medyczna jednostka zasilająca podwójnaz elementami systemu przyzywowego","Podwieszana jednostka zasilająca typu most.",57566,3001,"Dorota         ","Pikul                              ",40347,57566,"Oddział Kardiologiczny"]
["008-0351-00005","8-351-5/002623","Sufitowa medyczna jednostka zasilająca podwójnaz elementami systemu przyzywowego","Podwieszana jednostka zasilająca typu most.",29104,3198,"Dorota         ","Pikul                              ",40347,29104,"Oddział Kardiologiczny"]
["008-0351-00004","8-351-4/002622","Suszarka do narzędzi, jednodrzwiowa","typ/model: S-363\r\nproducent: GETINGE",35665.47,3777,"Monika         ","Świtoń                             ",39171,35665.47,"Dział Centralnej Sterylizatorni i DDD"]
["008-0273-00001","8-273-1/001679","System chirurgiczny da Vinci",null,8695495.3100000005,3063,"Wiesława       ","Augustyn                           ",40522,8695495.3100000005,"Blok Operacyjny"]
["008-0366-00001","8-366-1/003022","System do badania potencjałów wywołanych","typ: Elipse EP15; producent: Interacoustics A/S, Dania.",34142.04,2316,"Jarosław       ","Kapuściński                        ",41061,34142.04,"OŚRODEK PROTEZOWANIA SŁUCHU DLA NOWORODKÓW"]
["008-0405-00001","8-405-1/003600","System do badań elektrofizjologicznych ze stymulatorem diagnostycznym","model: EP Tracer 70; producent: CARDIOTEK, Holandia",321000,4171,"Dorota         ","Pikul                              ",40025,321000,"Pracownia Elektrofizjologii"]
["008-0307-00001","8-307-1/002255","System do ergospirometrii ","W skład systemu do wykonywania badań spiroergometrycznych wchodzą:\r\n1) Zestaw do badań spiroergometrycznych Ergostik \n2) Moduł EKG CardioPart Blue \n3) Bieżnia diagnostyczna Tra",124632,6691,"Dorota         ","Pikul                              ",41690,124632,"Oddział Kardiologiczny"]
["008-0434-00001",null,"System do manometrii górnego i dolnego odcinka przewodu pokarmowego",null,115015,2471,"Elżbieta       ","Chodara                            ",40227,115015,"Oddział Pediatryczny z Pododdziałem Gastroenterologii"]
["008-0340-00001","8-340-1/002528","System do ogrzewania noworodków","producent: INSTANBUL MEDIKAL, Turcja.",10260,6979,"Grażyna        ","Radzioch                           ",42142,10260,"Oddział Neonatologiczny z Pododdziałem Patologii Noworodka"]
["008-0282-00007",null,"System do prowadzenia kontrolowanej insulinoterapii","Producent: B.BRAUN.   ",29160,6621,"Bożena         ","Potentas                           ",41577,29160,"Intensywna Terapia"]
["008-0426-00002",null,"System elektroanatomiczny 3D Velocity do trójwymiarowego mapowania serca",null,829250,4957,"Dorota         ","Pikul                              ",40511,829250,"Pracownia Elektrofizjologii"]
["008-0358-00001","8-358-1/002971","System ENDOALPHA Documentation","Producent: Olympus, Niemcy.",200845.47,5248,"Stanisław      ","Nabzdyk                            ",40998,200845.47,"Pracownia Endoskopii"]
["009-3403-00000","/003403","System Holtera CARDIOSCAN-12",null,42249,4580,"Wiesława       ","Pietruczuk                         ",40877,8916,"Oddział Kardiologii Dziecięcej z Pododdziałem Kardiochirurgi"]
["008-0216-00002","8-216-2/003232","System kolejkowy (rejestracja)",null,71126.84,6669,"Jolanta        ","Tymiak                             ",41639,71126.84,"Dział Rejestracji Statystyki i Dokumentacji Medycznej"]
["004-0024-00001",null,"System monitorowania ciśnienia wewnątrzczaszkowego","producent: CODMAN - Johnson&Johnson Poland",28252.799999999999,4035,"Bożena         ","Potentas                           ",40639,28252.799999999999,"Intensywna Terapia"]
["008-0010-00002","8-10-2/003101","System monitorowania dla 12 stanowisk ","producent: Spacelabs Healthcare;",874363.64,6624,"Bożena         ","Potentas                           ",41585,533520,"Intensywna Terapia"]
["008-0014-00003",null,"System monitorowania IntelliVue z radiowym systemem telemetrycznego monitorowania","Producent  Philips Medical Systems.\r\n",526972,4476,"Dorota         ","Pikul                              ",40352,423292,"Oddział Kardiologiczny"]
["008-0241-00002","8-241-2/002640","System ogrzewania pacjenta","Typ/model: DMWARM12",4055.4,4098,"Bożena         ","Potentas                           ",40907,4055.4,"Anestezjologia"]
["008-0253-00019","8-253-19/003303","System ogrzewania pacjenta","Producent: G.V.P. Elettronica Srl, Włochy",3763.8,6690,"Bożena         ","Potentas                           ",41688,3763.8,"Anestezjologia"]
["008-0253-00026",null,"System terapeutyczny",null,8025,4956,"Marzena        ","Jurga                              ",38399,8025,"Poradnia Dermatologiczna"]
["008-0231-00002","8-231-2/001456","Szafa dwuczęściowa przeszklona",null,5989.71,2932,"Danuta         ","Cymerman                           ",39433,5989.71,"Oddział Chirurgii Onkologicznej"]
["008-0212-00016","8-212-16/001786","Szafa lekarska",null,6000,4328,"Stanisław      ","Drelichowski                       ",39813,6000,"DODO - Pracowania Tomografii Komputerowej"]
["008-0212-00023","8-212-23/002066","Szafa medyczna","producent: ALVO, Śmigiel\r",4563.3,2271,"Wiesława       ","Augustyn                           ",40925,4563.3,"Blok Operacyjny"]
["008-0212-00047","8-212-47/003355","Szafa medyczna",null,5473.5,6713,"Bożena         ","Potentas                           ",41774,5473.5,"Intensywna Terapia"]
["008-0212-00063",null,"Szafa medyczna",null,6273,4148,"Stanisław      ","Nabzdyk                            ",40781,6273,"Pracownia Endoskopii"]
["008-0212-00038","8-212-38/003094","Szafa medyczna",null,6273,4984,"Stanisław      ","Nabzdyk                            ",40781,6273,"Pracownia Endoskopii"]
["008-0212-00037","8-212-37/003093","Szafa medyczna",null,4071.3,4985,"Stanisław      ","Nabzdyk                            ",40781,4071.3,"Pracownia Endoskopii"]
["008-0212-00039","8-212-39/003095","Szafa medyczna dwuskrzydłowa",null,4674,3723,"Wiesława       ","Augustyn                           ",40925,4674,"Blok Operacyjny"]
["008-0212-00048","8-212-48/003356","Szafa medyczna dwuskrzydłowa",null,5116.8,5347,"Wiesława       ","Augustyn                           ",40925,5116.8,"Blok Operacyjny"]
["008-0212-00045","8-212-45/003353","Szafa medyczna dwuskrzydłowa",null,4633.41,4700,"Wiesława       ","Augustyn                           ",40925,4633.41,"Blok Operacyjny"]
["008-0212-00041","8-212-41/003349","Szafa medyczna dwuskrzydłowa",null,4661.7,4742,"Wiesława       ","Augustyn                           ",40925,4661.7,"Blok Operacyjny"]
["008-0212-00040","8-212-40/003348","Szafa medyczna dwuskrzydłowa",null,6020.33,2435,"Krystyna       ","Baszak                             ",39867,6020.33,"Oddział Urologii i Urologii Onkologicznej"]
["008-0212-00030","8-212-30/002134","Szafa medyczna dwuskrzydłowa",null,5209.3999999999996,4401,"Małgorzata     ","Ciepłucha                          ",39556,5209.3999999999996,"Oddział Okulistyczny"]
["008-0212-00020","8-212-20/001904","Szafa metal. 1200x650x2100 2-drzwiowa ",null,4686.0200000000004,2945,"Maria          ","Bieza                              ",40268,4686.0200000000004,"Zamiejscowy Blok Operacyjny"]
["008-2741-00000","T-51-VIII-174/97/002741","Szafa wnękowa",null,3800,4330,"Krzysztof      ","Szecówka                           ",39813,3800,"Poradnia Chirurgii Naczyniowej"]
["008-0212-00025","8-212-25/002069","Szafa wnękowa ze stali nierdzewnej",null,8198.4,4298,"Elżbieta       ","Jarawka                            ",39601,8198.4,"Oddział Chirurgii Ogólnej z Pododdziałami"]
["008-0212-00022","8-212-22/001966","Szafa z drzwiami przesuwanymi ",null,4945.88,4536,"Maria          ","Bieza                              ",40268,4945.88,"Zamiejscowy Blok Operacyjny"]
["008-2744-00000","T-51-VIII-267/06/002744","Szafa z przeszklonymi drzwiami i bokami",null,3586.47,3772,"Jacek          ","Jagas                              ",39371,3586.47,"Pracownia Hemodynamiki"]
["008-0212-00013","8-212-13/001749","Szafa zamykana na leki",null,6000,3901,"Stanisław      ","Drelichowski                       ",39813,6000,"DODO - Pracowania Tomografii Komputerowej"]
["008-0212-00024","8-212-24/002067","Szafka (wózek) anestezj. z 4 szufladami i drzwiami ze stali nierdzewnej",null,4540.96,3819,"Elżbieta       ","Jarawka                            ",39601,4540.96,"Oddział Chirurgii Ogólnej z Pododdziałami"]
["008-0212-00021","8-212-21/001965","Szafka anestezjologiczna z 4 szufladami i drzwiami",null,3800.91,4718,"Jacek          ","Jagas                              ",39371,3800.91,"Pracownia Hemodynamiki"]
["008-0212-00014","8-212-14/001750","Szafki - schowki na 21 osób",null,4930.04,2799,"Teresa         ","Pastuszka                          ",40002,4930.04,"Oddział Położniczo – Ginekologiczny"]
["008-0212-00032","8-212-32/002259","Szafki do gab. zabieg. (zestaw) ",null,5200.01,3736,"Małgorzata     ","Fabich                             ",40268,5200.01,"Zamiejscowy Oddział Rehabilitacji Ogólnoustrojowej I"]
["008-2834-00000","T-51-VIII-287/08/002834","Szczypce Robi","Producent: K.STORZ",4425.2299999999996,2540,"Wiesława       ","Augustyn                           ",40891,4425.2299999999996,"Blok Operacyjny"]
["008-0397-00001","8-397-1/003309","Sztywny fiberoskop do trudnej intubacji ",null,29016.47,3608,"Bożena         ","Potentas                           ",41051,29016.47,"SOR"]
["008-0170-00006","8-170-6/003534","Tomograf komputerowy ",null,1539904.1,6676,"Stanisław      ","Drelichowski                       ",41686,1539904.1,"DODO - Pracowania Tomografii Komputerowej"]
["008-0147-00005",null,"Tomograf okulistyczny",null,344520,6944,"Małgorzata     ","Ciepłucha                          ",42047,344520,"Oddział Okulistyczny"]
["008-0283-00002",null,"Tomograf okulistyczny","typ/model: OCT-3 D CIRRUS; producent: ZEISS; ",294100,3781,"Małgorzata     ","Ciepłucha                          ",39399,294100,"Oddział Okulistyczny"]
["008-0283-00001","8-283-1/001775","Tonometr bezkontaktowy","typ: Puff TOPCON CT-80A; producent: TOPCON MEDICAL SYSTEMS, Inc, USA; Tonometr + stolik.",26042.31,3602,"Małgorzata     ","Ciepłucha                          ",40543,26042.31,"SOR"]
["008-0267-00003","8-267-3/003017","Tonometr bezkontaktowy","typ: CT-80; producent: TOPCON MEDICAL SYSTEMS, Inc., USA; Tonometr + stolik.",25423.200000000001,3959,"Małgorzata     ","Ciepłucha                          ",40543,25423.200000000001,"Oddział Okulistyczny"]
["008-0267-00005","8-267-5/003019","Tonometr bezkontaktowy","model: TX-F; producent: CANON, Japonia",27798.6,2806,"Małgorzata     ","Ciepłucha                          ",40043,27798.6,"Oddział Okulistyczny"]
["008-0267-00002","8-267-2/002264","Tonometr indukcyjny","Model: iCare Pro (TA03); producent: iCare Finland Oy, Finlandia.",17578,6743,"Małgorzata     ","Ciepłucha                          ",41845,17578,"Oddział Okulistyczny"]
["008-0267-00006",null,"Tor wizyjny ",null,58812.7,3610,"Bożena         ","Potentas                           ",41051,58812.7,"SOR"]
["008-0275-00006","8-275-6/003537","Tor wizyjny ","W skład wchodzą:\r\n1) Źródło światła; producent: Olympus, Japonia\r\n2) Procesor wizyjny; producent: Olympus, Japonia\r\n3) Monitor medyczny Radiance 24''.",138191.4,6918,"Elżbieta       ","Chodara                            ",42002,138191.4,"Oddział Pediatryczny z Pododdziałem Gastroenterologii"]
["008-0275-00007",null,"Tor wizyjny ","Producent: OLYMPUS\r",162586.85999999999,4051,"Stanisław      ","Nabzdyk                            ",39322,162586.85999999999,"Pracownia Endoskopii"]
["008-0275-00002","8-275-2/001725","Tor wizyjny ","producent: Richard Wolf GmbH",36487,4611,"Krystyna       ","Baszak                             ",39154,36487,"Oddział Urologii i Urologii Onkologicznej"]
["008-0275-00001","8-275-1/001696","Tromboelastometr ",null,111240,2505,"Bożena         ","Potentas                           ",40722,111240,"Anestezjologia"]
["008-0373-00001","8-373-1/003073","Uchwyt kątowy do rozwiertaków giętkich",null,5800.47,2947,"Wiesława       ","Augustyn                           ",39496,5800.47,"Blok Operacyjny"]
["008-0289-00001","8-289-1/001876","Uchwyt na butlę argonową",null,9532.5,4592,"Stanisław      ","Nabzdyk                            ",40998,9532.5,"Pracownia Endoskopii"]
["008-0398-00002","8-398-2/003412","UGUL z oprzętem ",null,3765,4848,"Ireneusz       ","Dzierżek                           ",40268,3765,"Zamiejscowy Dział Rehabilitacji Leczniczej"]
["008-2799-00000","T-51-VIII-220a/03/002799","Ultradźwiękowy detektor tętna ",null,4116.4799999999996,4402,"Teresa         ","Pastuszka                          ",39566,4116.4799999999996,"SOR"]
["008-0292-00002","8-292-2/001901","Ultrasonograf ","typ: LOGIQ 7\r\nproducent: General Electric Medical Systems",307090,4068,"Bożena         ","Jezierska                          ",39113,307090,"Oddział Angiologiczny z Pododdziałem Diabetologii"]
["008-0030-00030","8-30-30/001659","Ultrasonograf okulistyczny ","typ: OTI Scan 2000; producent: OTI, Kanada\r\nKomponenty:\r\n1) Sonda B \n2) Sonda X \n3) Transformator izolujący ",73600,2846,"Małgorzata     ","Ciepłucha                          ",38649,73600,"Oddział Okulistyczny"]
["008-0030-00025","8-30-25/001491","Ultrasonograf okulistyczny ","Producent: Accutome Inc., USA.\r",115976,3629,"Małgorzata     ","Ciepłucha                          ",40581,115976,"SOR"]
["008-0030-00043","8-30-43/003046","Ultrasonograf ","typ: 2202; prod: B-K MEDICAL,  DANIA",170000,3839,"Anna           ","Kofman                             ",38674,170000,"SOR"]
["008-0030-00026","8-30-26/001496","Ultrasonograf ","Aparat usg ogólnodiagnostyczny, przewoźny wraz z wyposażeniem: UP-D897; producent: Philips",206280,3481,"Stanisław      ","Drelichowski                       ",41263,206280,"DODO - Pracownia USG"]
["008-0030-00052","8-30-52/003735","Ultrasonograf ","Aparat usg stacjonarny do badań kardiologicznych-echokardiograf wraz z wyposażeniem:",694240,3482,"Wiesława       ","Pietruczuk                         ",41271,689040,"Oddział Kardiologii Dziecięcej z Pododdziałem Kardiochirurgi"]
["008-0030-00053","8-30-53/003738","Ultrasonograf urologiczny ",null,99082,4215,"Krystyna       ","Baszak                             ",39154,99082,"Poradnia Urologiczna"]
["008-0030-00031","8-30-31/001688","Ultrasonograf ",null,299600,3634,"Dorota         ","Pikul                              ",39045,299600,"Oddział Kardiologiczny"]
["008-0030-00027","8-30-27/001609","Ultrasonograf ","Producent: GE Medical Systems, USA.\r",409433.11,3168,"Wiesława       ","Pietruczuk                         ",40136,390857.11,"Oddział Kardiologii Dziecięcej z Pododdziałem Kardiochirurgi"]
["008-0030-00037","8-30-37/002348","Ultrasonograf ","producent: GE Medical Systems",204851.5,2733,"Teresa         ","Pastuszka                          ",39896,204851.5,"Oddział Położniczo – Ginekologiczny"]
["008-0030-00034","8-30-34/002207","Ultrasonograf ","producent: GE Medical Systems",409810,2411,"Stanisław      ","Drelichowski                       ",40150,409810,"DODO - Pracownia USG"]
["008-0030-00040","8-30-40/002429","Unit laryngologiczny ","Typ: BASIC PLUS; producent: Happersberger Otopront GmbH",359964,4140,"Anna           ","Kofman                             ",40826,359964,"SOR"]
["008-0236-00002","8-236-2/003118","Uniwersalna ładowarka do wiertarek ","producent: Synthes GmbH",10311.950000000001,4540,"Wiesława       ","Augustyn                           ",40816,10311.950000000001,"Blok Operacyjny"]
["008-0383-00001","8-383-1/003116","Uniwersalny stół do badań USB-04",null,6862.32,5426,"Teresa         ","Tarasińska                         ",41325,6862.32,"Oddział Chirurgii Naczyniowej"]
["008-0129-00008",null,"Ureterorenoskop","producent: Karl Storz, Niemcy; nr katalog: 1KS-11278A1",32316.799999999999,3366,"Krystyna       ","Baszak                             ",40507,32316.799999999999,"Oddział Urologii i Urologii Onkologicznej"]
["008-0151-00008","8-151-8/002981","Ureterorenoskop","producent: KARL STORZ",17313.13,6834,"Krystyna       ","Baszak                             ",41926,17313.13,"Oddział Urologii i Urologii Onkologicznej"]
["008-0151-00009",null,"Ureterorenoskop","Ureterorenoskop E kompaktowy, wg Marbergera, 8/9,8 Charr., producent: Richard Wolf GmbH\rtyp: 8703.524",8560,4421,"Krystyna       ","Baszak                             ",39154,8560,"Oddział Urologii i Urologii Onkologicznej"]
["008-0151-00005","8-151-5/001690","Ureterorenoskop","producent: Karl Storz, Niemcy",17336.66,2878,"Krystyna       ","Baszak                             ",40177,17336.66,"Oddział Urologii i Urologii Onkologicznej"]
["008-0151-00007","8-151-7/002477","Urządzenie do kąpieli chorych leżących ","Typ: BATH BED; producent: Pollution s.r.l., Włochy.",98398.8,6661,"Bożena         ","Potentas                           ",41627,98398.8,"Intensywna Terapia"]
["008-0430-00001",null,"Urządzenie do kompresji klatki piersiowej",null,47412,2559,"Bożena         ","Potentas                           ",40891,47412,"Intensywna Terapia"]
["008-0297-00002","8-297-2/003290","Urządzenie do kriochirurgii","typ/model: KRIOPOL K-11",12593.9,3408,"Barbara        ","Matusiak                           ",40127,12593.9,"Oddział Dermatologiczny"]
["008-0075-00006","8-75-6/002372","Urządzenie do kriochirurgii","producent: KRIOMEDPOL, Polska",12377.76,2976,"Danuta         ","Cymerman                           ",39926,12377.76,"Oddział Chirurgii Onkologicznej"]
["008-0075-00005","8-75-5/002216","Urządzenie do mechanicznego udrażniania tętnic ROTAREX/ASPIREX - system napędowy","model: Straub Medical Drive System; producent: Straub Medical",43200,3647,"Stanisław      ","Drelichowski                       ",40723,43200,"DODO - Pracownia Diagnostyczno - Zabiegowa Naczyń"]
["008-0372-00001","8-372-1/003077","Urządzenie do ogrzewania i szybkich przetoczeń krwi i płynów infuzyjnych ","typ: FLUIDO",32207,2798,"Bożena         ","Potentas                           ",40149,32207,"Anestezjologia"]
["008-0238-00004","8-238-4/002443","Urządzenie do ogrzewania i szybkich przetoczeń krwi i płynów infuzyjnych ","typ: FLUIDO",32207,3906,"Anna           ","Kofman                             ",40149,32207,"SOR"]
["008-0238-00005","8-238-5/002438","Urządzenie do ogrzewania noworodków \"Ciepłe gniazdko\"","producent: KanMed; zakup od: NZ Techno Sp. z o.o., Warszawa, ul. Berneńska 5A",7973.64,4672,"Wiesława       ","Pietruczuk                         ",40270,7973.64,"Oddział Kardiologii Dziecięcej z Pododdziałem Kardiochirurgi"]
["008-0282-00006","8-282-6/002592","Urządzenie do ogrzewania pacjenta","typ: Mistral",4494,5328,"Anna           ","Kofman                             ",40149,4494,"SOR"]
["008-0253-00009","8-253-9/002419","Urządzenie do ogrzewania pacjenta","Producent: Arizant Healthcare Inc., USA.\r\nNazwa własna: Bair Hugger; Model: 775.",4212,6651,"Bożena         ","Potentas                           ",41598,4212,"Intensywna Terapia"]
["008-0253-00021",null,"Urządzenie do podciśnieniowej terapii leczenia ran ","producent: GENADYNE Biotechnologies Inc., USA.",21168,6667,"Elżbieta       ","Jarawka                            ",41639,21168,"Oddział Chirurgii Ogólnej z Pododdziałami"]
["008-0433-00001",null,"Urządzenie do preparowania i usuwania tkanek ","Producent: ERBE Elektromedizin GmbH, Niemcy.",188320,4434,"Wiesława       ","Augustyn                           ",40115,188320,"Blok Operacyjny"]
["008-0326-00001","8-326-1/002331","Urządzenie do ręcznego mycia wózków","typ/model: MICRO-SPRAY 02\r\nproducent: ECOLAB",4358.67,2819,"Monika         ","Świtoń                             ",39171,4358.67,"Dział Centralnej Sterylizatorni i DDD"]
["008-0271-00001","8-271-1/001677","Urządzenie do systemu kontroli przebiegu i pracy nerwu twarzowego i krtaniowego ","Typ/model: Neurosign 100",45174.33,2755,"Danuta         ","Cymerman                           ",39958,45174.33,"Oddział Chirurgii Onkologicznej"]
["008-0304-00001","8-304-1/002234","Urządzenie do systemu kontroli przebiegu i pracy nerwu twarzowego i krtaniowego ","Typ: Neurosign 100",33705,2452,"Grażyna        ","Brulińska                          ",40192,33705,"Oddział Otolaryngologiczny z Pododdziałem Otolaryngologii"]
["008-0304-00002","8-304-2/002480","Videoduodenoskop","typ: TJF-145; producent: OLYMPUS",82390,2350,"Stanisław      ","Nabzdyk                            ",39322,82390,"Pracownia Endoskopii"]
["008-0064-00002","8-64-2/001730","Videogastroskop","producent: Olympus Medical Systems Corp., Japonia",49489.919999999998,6969,"Stanisław      ","Nabzdyk                            ",42124,49489.919999999998,"Pracownia Endoskopii"]
["008-0066-00022",null,"Videogastroskop",null,133585.20000000001,5370,"Elżbieta       ","Chodara                            ",41165,133585.20000000001,"Poradnia Gastroenterologiczna Dla Dzieci"]
["008-0066-00019","8-66-19/003665","Videogastroskop","Typ: GF-UCT-180 (z kablem typu MAJ-1597); producent: Olympus Medical Systems Corporation, Japonia.",293001.09000000003,5250,"Stanisław      ","Nabzdyk                            ",40998,293001.09000000003,"Pracownia Endoskopii"]
["008-0066-00017","8-66-17/003407","Videogastroskop","producent: Olympus, Japonia",52812,6970,"Stanisław      ","Nabzdyk                            ",42124,52812,"Pracownia Endoskopii"]
["008-0168-00008",null,"Videogastroskop","producent: OLYMPUS; typ: CF-Q165L",50755.68,4615,"Stanisław      ","Nabzdyk                            ",41011,50755.68,"Pracownia Endoskopii"]
["008-0168-00005","8-168-5/003422","Videogastroskop",null,139946.4,3552,"Elżbieta       ","Chodara                            ",41165,139946.4,"Poradnia Gastroenterologiczna Dla Dzieci"]
["008-0168-00006","8-168-6/003666","Videonystagmograf ",null,29400,6757,"Dorota         ","Wawrzyniak                         ",41922,29400,"Prac. VNG"]
["008-0251-00002",null,"Wanna do masażu podwodnego","producent: Meden Inmed",18965.009999999998,3870,"Ireneusz       ","Dzierżek                           ",40856,18965.009999999998,"Zamiejscowy Dział Rehabilitacji Leczniczej"]
["008-0139-00002","8-139-2/003227","Wanna wirowa do kąpieli kończyn dolnych ","Typ: 1110T; producent: TECHNOMEX",6588,3692,"Ireneusz       ","Dzierżek                           ",40871,6588,"Zamiejscowy Dział Rehabilitacji Leczniczej"]
["008-0392-00001","8-392-1/003228","Wanna wirowa do kąpieli kończyn dolnych ","Typ: 1110T; producent: TECHNOMEX",8346,3827,"Ireneusz       ","Dzierżek                           ",40268,8346,"Zamiejscowy Dział Rehabilitacji Leczniczej"]
["008-2806-00000","T-51-VIII-278/08/002806","Wanna wirowa do kąpieli kończyn dolnych ","Typ: 1110T; producent: TECHNOMEX",6500,2871,"Ireneusz       ","Dzierżek                           ",40268,6500,"Zamiejscowy Dział Rehabilitacji Leczniczej"]
["008-2804-00000","T-51-VIII-265/06/002804","Wideoduodenoskop ","Producent: OLYMPUS.",92023.26,6518,"Stanisław      ","Nabzdyk                            ",41543,92023.26,"Pracownia Endoskopii"]
["008-0064-00004",null,"Wideogastroskop ","Producent: OLYMPUS.",71737.919999999998,6515,"Stanisław      ","Nabzdyk                            ",41543,71737.919999999998,"Pracownia Endoskopii"]
["008-0066-00020",null,"Wideokolonoskop ","Producent: OLYMPUS.",81475.199999999997,6517,"Stanisław      ","Nabzdyk                            ",41543,81475.199999999997,"Pracownia Endoskopii"]
["008-0168-00007",null,"Wideolaryngoskop do trudnej intubacji","Typ: McGRATH MAC; producent: Aircraft Medical Ltd., Wielka Brytania.",10152,6695,"Bożena         ","Potentas                           ",41624,10152,"Anestezjologia"]
["008-0369-00002",null,"Wieloformatowy konwerter sygnałów DVI/RGB/YPbPr",null,11056.17,5245,"Dorota         ","Pikul                              ",40995,11056.17,"Pracownia Elektrofizjologii"]
["004-0021-00002","4-21-2/003399","Wiertarka + frezarka /zestaw/ ",null,28553.65,4814,"Maria          ","Bieza                              ",40268,28553.65,"Zamiejscowy Blok Operacyjny"]
["008-2747-00000","T-51-VIII-275/07/002747","Wiertarka chirurgiczna ",null,47635.14,3095,"Maria          ","Bieza                              ",40268,47635.14,"Zamiejscowy Blok Operacyjny"]
["008-2742-00000","T-51-VIII-261/05/002742","Wiertarka chirurgiczna do zabiegów ortopedycznych","Typ: Acculan 3TI; producent: Aesculap.",57017,5120,"Maria          ","Bieza                              ",41212,57017,"Zamiejscowy Blok Operacyjny"]
["008-0048-00009","8-48-9/003706","Wiertarka chirurgiczna","prod: STARTEC MEDICAL, Szwajcaria",49950,2405,"Wiesława       ","Augustyn                           ",38715,49950,"Blok Operacyjny"]
["008-0048-00003","8-48-3/001541","Wiertarka chirurgiczna","producent: Synthes GmbH; komponenty wprowadzone",69203.960000000006,4708,"Wiesława       ","Augustyn                           ",40777,69203.960000000006,"Blok Operacyjny"]
["008-0048-00005","8-48-5/003112","Wiertarka chirurgiczna","producent: Synthes GmbH; wprowadzone komponenty",35131.49,4791,"Elżbieta       ","Jarawka                            ",40777,35131.49,"Oddział Chirurgii Ogólnej z Pododdziałami"]
["008-0048-00006","8-48-6/003113","Wiertarka na baterie z oprzyrządowaniem  ","Typ: GA 606Acculan\r\n",8933.7800000000007,3213,"Maria          ","Bieza                              ",40268,8933.7800000000007,"Zamiejscowy Blok Operacyjny"]
["008-2729-00000","T-51-VIII-150/93/002729","Wiertarka operacyjna laryngologiczna z wyposażeniem","producent: Medtronic; ",145152,5363,"Grażyna        ","Brulińska                          ",41085,119988,"Oddział Otolaryngologiczny z Pododdziałem Otolaryngologii"]
["008-0404-00001","8-404-1/003598","Wiertarka chirurgiczna","Wiertarka Compact Air Drive II; producent: Synthes GmbH;",45326.04,3064,"Wiesława       ","Augustyn                           ",40777,45326.04,"Blok Operacyjny"]
["008-0048-00004","8-48-4/003111","Wiertarka chirurgiczna","producent: Synthes GmbH",24355.37,4141,"Wiesława       ","Augustyn                           ",40816,24355.37,"Blok Operacyjny"]
["008-0048-00008","8-48-8/003115","Wiertarka wielowrzecionowa","model: FD 921; producent: FELDER, Austria.",23640.6,6728,"Ewa            ","Czerniak                           ",41817,21276.54,"Dział Gospodarki Nieruchomościami i Utrzymania Ruchu"]
["005-0006-00001",null,"Wirówka laboratoryjna",null,6469.22,3396,"Marzena        ","Jurga                              ",40268,6469.22,"Poradnia Dermatologiczna"]
["008-2823-00000","T-51-VIII-288/08/002823","Wirówka laboratoryjna","Typ: MPW-56; ",4028.4,5397,"Dorota         ","Pikul                              ",41317,4028.4,"Oddział Kardiologiczny"]
["008-0093-00034",null,"Witryna chłodnicza",null,5412.01,2728,"Wiesława       ","Szydłowska                         ",40452,5412.01,"Apteka Szpitalna"]
["008-0092-00008","8-92-8/002952","Wózek anestezjologiczny",null,6000,4326,"Stanisław      ","Drelichowski                       ",39813,6000,"DODO - Pracowania Tomografii Komputerowej"]
["008-0260-00013","8-260-13/002064","Wózek anestezjologiczny","producent: KARREL S.R.L, Włochy",8859.6,4333,"Bożena         ","Potentas                           ",39861,8859.6,"Intensywna Terapia"]
["008-0260-00024","8-260-24/002145","Wózek anestezjologiczny","producent: KARREL S.R.L, Włochy",8667,3635,"Dorota         ","Pikul                              ",39861,8667,"Oddział Kardiologiczny"]
["008-0260-00026","8-260-26/002147","Wózek anestezjologiczny","typ: SM-04",4666,4122,"Dorota         ","Pikul                              ",38791,4666,"Pracownia Elektrofizjologii"]
["008-0260-00001","8-260-1/001559","Wózek anestezjologiczny","Wózek anestezjologiczny z 4-ema organizerami (szufladami)\r\nProducent: FRANCEHOPITAL, Francja",7572.39,2804,"Bożena         ","Potentas                           ",39351,7572.39,"Anestezjologia"]
["008-0260-00002","8-260-2/001739","Wózek anestezjologiczny",null,10999.8,3086,"Bożena         ","Potentas                           ",41249,10999.8,"Anestezjologia"]
["008-0260-00043","8-260-43/003743","Wózek anestezjologiczny","producent: GAMMA POLIURETANI, Czechy",10290.24,6974,"Wiesława       ","Pietruczuk                         ",42138,10290.24,"Oddział Kardiologii Dziecięcej z Pododdziałem Kardiochirurgi"]
["008-0260-00063",null,"Wózek anestezjologiczny",null,6666.1,3797,"Bożena         ","Potentas                           ",39423,6666.1,"Anestezjologia"]
["008-0260-00003","8-260-3/001813","Wózek aparaturowy - kolumnowy","producent: Drager",16200,3920,"Wiesława       ","Augustyn                           ",40823,16200,"Blok Operacyjny"]
["008-0043-00004","8-43-4/003212","Wózek do bielizny brudnej","typ: P-07; producent: Elme Primus",7014.81,5342,"Justyna        ","Karawan                            ",41064,7014.81,"Oddział Nefrologiczny"]
["008-0296-00006","8-296-6/003539","Wózek do bielizny czystej","typ: H-05; producent: Elme Primus.",8234.85,5343,"Justyna        ","Karawan                            ",41064,8234.85,"Oddział Nefrologiczny"]
["008-0296-00007","8-296-7/003540","Wózek do bielizny czystej i brudnej","Typ: WA-4; producent: Elme Primus, Francja",8499.2999999999993,6909,"Bożena         ","Potentas                           ",41985,8499.2999999999993,"Intensywna Terapia"]
["008-0296-00016",null,"Wózek do kąpania pacjentów","typ 512 TR",9849.6,2503,"Krystyna       ","Baszak                             ",40704,9849.6,"Oddział Urologii i Urologii Onkologicznej"]
["008-0234-00044","8-234-44/003068","Wózek do kąpania pacjentów","producent: Arjo Hospital Equipment AB. Wprowadzone komponenty.",32778,3069,"Anna           ","Kofman                             ",40835,32778,"SOR"]
["008-0294-00004","8-294-4/003160","Wózek do przewożenia chorych","typ: M69; producent: PROMA REHA s.r.o. Republika Czeska",3991.1,4087,"Wiesława       ","Augustyn                           ",40452,3991.1,"Blok Operacyjny"]
["008-0234-00043","8-234-43/002945","Wózek do przewożenia chorych","producent: INDUSTRIE GUIDO MALVESTIO, Włochy",9309,3121,"Stanisław      ","Nabzdyk                            ",39351,9309,"Pracownia Endoskopii"]
["008-0234-00024","8-234-24/001738","Wózek do przewożenia chorych",null,5285.8,3536,"Małgorzata     ","Fabich                             ",40268,5285.8,"Zamiejscowy Oddział Rehabilitacji Ogólnoustrojowej I"]
["008-2832-00000","T-51-VIII-292/09/002832","Wózek do przewożenia chorych","Typ: FWP-1 CAMEL; ",4536,5398,"Irena          ","Raus                               ",41332,4536,"Zamiejscowy Oddział Chirurgii Urazowo - Ortopedycznej"]
["008-0234-00053",null,"Wózek do przewożenia chorych","Typ: Mobilo Plus",5616,2612,"Jadwiga        ","Zielińska                          ",40843,5616,"Stacja Dializ"]
["008-0234-00047","8-234-47/003170","Wózek do przewożenia chorych","producent: FORMED-PRO Sp. z o.o., Polska",4050,3145,"Justyna        ","Karawan                            ",41061,4050,"Oddział Nefrologiczny"]
["008-0234-00052","8-234-52/003547","Wózek do przewożenia chorych","model: URGENT; producent: PROMA REHA s.r.o Repubika Czeska",6955,3409,"Elżbieta       ","Jarawka                            ",40452,6955,"Oddział Chirurgii Ogólnej z Pododdziałami"]
["008-0234-00039","8-234-39/002941","Wózek do przewożenia chorych","typ: WP-02.0; prod: FAMED, ŻYWIEC, POLSKA",5136,2414,"Bożena         ","Jezierska                          ",38666,5136,"Oddział Angiologiczny z Pododdziałem Diabetologii"]
["008-0234-00023","8-234-23/001492","Wózek do przewożenia chorych","Typ: WP-03.1; producent: FAMED ŻYWIEC, Polska",5457,4497,"Małgorzata     ","Ciepłucha                          ",39538,5457,"Oddział Okulistyczny"]
["008-0234-00025","8-234-25/001890","Wózek do przewożenia pacjentów ","producent: STOLTER Sp. z o.o., Polska.",6469.2,6951,"Teresa         ","Pastuszka                          ",42061,6469.2,"Oddział Położniczo – Ginekologiczny"]
["008-0234-00055",null,"Wózek do przewożenia pacjentów w pozycji leżącej","Typ: ES 710; producent: Savion Industries Ltd.",7918,3773,"Bożena         ","Potentas                           ",39974,7918,"Intensywna Terapia"]
["008-0234-00029","8-234-29/002239","Wózek do przewożenia pacjentów w pozycji leżącej","Typ: ES 710; producent: Savion Industries Ltd.",7918,4237,"Dorota         ","Pikul                              ",39974,7918,"Oddział Kardiologiczny"]
["008-0234-00030","8-234-30/002240","Wózek do przewożenia pacjentów w pozycji leżącej","typ: ES 710; producent: Savion Industries Ltd.",7918,2802,"Grażyna        ","Brulińska                          ",39973,7918,"Oddział Otolaryngologiczny z Pododdziałem Otolaryngologii"]
["008-0234-00037","8-234-37/002257","Wózek do przewożenia pacjentów w pozycji leżącej","Typ: ES 710; producent: Savion Industries Ltd.",7918,4242,"Krystyna       ","Baszak                             ",39974,7918,"Oddział Urologii i Urologii Onkologicznej"]
["008-0234-00033","8-234-33/002243","Wózek do przewożenia pacjentów w pozycji leżącej","Typ: ES 710; producent: Savion Industries Ltd.",7918,3029,"Stanisław      ","Nabzdyk                            ",39974,7918,"Pracownia Endoskopii"]
["008-0234-00035","8-234-35/002245","Wózek do przewożenia pacjentów w pozycji leżącej","Typ: ES 710; producent: Savion Industries Ltd.",7918,2323,"Jacek          ","Jagas                              ",39974,7918,"Pracownia Hemodynamiki"]
["008-0234-00026","8-234-26/002236","Wózek do przewożenia pacjentów w pozycji leżącej","typ: ES 710; producent: Savion Industries Ltd.",7918,3553,"Anna           ","Kofman                             ",39973,7918,"SOR"]
["008-0234-00028","8-234-28/002248","Wózek do przewożenia zwłok",null,5166,6662,"Jerzy          ","Krukowski                          ",41582,5166,"Koordynator Wsparcia Oddziałów"]
["008-0431-00001",null,"Wózek do przewożenia chorych","typ: Economy; producent: Savion Industries",11899.44,5187,"Anna           ","Kofman                             ",41004,11899.44,"SOR"]
["008-0234-00049","8-234-49/003526","Wózek do przewożenia pacjentów w pozycji leżącej","producent: Savion Industries",9999.7199999999993,3065,"Anna           ","Kofman                             ",40830,9999.7199999999993,"SOR"]
["008-0234-00045","8-234-45/003119","Wózek do przewożenia chorych","producent: LINET",16394.400000000001,6543,"Bożena         ","Potentas                           ",41557,16394.400000000001,"Intensywna Terapia"]
["008-0234-00054",null,"Wózek do transportu materiałów sterylnych",null,5892.6,4558,"Monika         ","Świtoń                             ",39686,5892.6,"Dział Centralnej Sterylizatorni i DDD"]
["008-0274-00008","8-274-8/002005","Wózek do przewożenia chorych","Producent: BORCAD cz.s.r.o.; Typ: Sella",7899.12,3863,"Jolanta        ","Pawłowska                          ",40830,7899.12,"Zamiejscowy Oddział Rehabilitacji Neurologicznej"]
["008-0234-00046","8-234-46/003173","Wózek do przewożenia pacjentów w pozycji leżącej","typ: Medicruiser MS777; producent: Savion Industries Ltd.",54570,3845,"Anna           ","Kofman                             ",39973,54570,"SOR"]
["008-0234-00036","8-234-36/002249","Wózek funkcyjny - anestezjologiczny","producent: KARREL s.r.l., Włochy",7918,4472,"Bożena         ","Potentas                           ",40289,7918,"Anestezjologia"]
["008-0260-00027","8-260-27/002587","Wózek funkcyjny - anestezjologiczny","model: Karrel",7918,4793,"Stanisław      ","Drelichowski                       ",40346,7918,"DODO - Pracownia Diagnostyczno - Zabiegowa Naczyń"]
["008-0260-00030","8-260-30/002639","Wózek funkcyjny","typ: Aurion Compact",10843.48,3718,"Bożena         ","Potentas                           ",40898,10843.48,"Anestezjologia"]
["008-0260-00039","8-260-39/003286","Wózek funkcyjny","typ: Aurion Compact",10843.48,2538,"Anna           ","Kofman                             ",40898,10843.48,"SOR"]
["008-0260-00038","8-260-38/003285","Wózek funkcyjny","producent: TRIBO, Polska.",5850.06,6626,"Bożena         ","Jezierska                          ",41599,5850.06,"Oddział Angiologiczny z Pododdziałem Diabetologii"]
["008-0260-00055",null,"Wózek funkcyjny","producent: TRIBO, Polska.",5850.06,6627,"Elżbieta       ","Chodara                            ",41599,5850.06,"Oddział Pediatryczny z Pododdziałem Gastroenterologii"]
["008-0260-00056",null,"Wózek medyczny",null,6613.25,5434,"Teresa         ","Tarasińska                         ",41372,6613.25,"Oddział Chirurgii Naczyniowej"]
["008-0260-00049",null,"Wózek medyczny wielofunkcyjny",null,5999.4,4810,"Irena          ","Raus                               ",40891,5999.4,"Zamiejscowy Oddział Chirurgii Urazowo - Ortopedycznej"]
["008-0260-00042","8-260-42/003289","Wózek prysznicowy CONCERTO",null,7917.79,4853,"Jolanta        ","Pawłowska                          ",40268,7917.79,"Zamiejscowy Oddział Rehabilitacji Neurologicznej"]
["008-2826-00000","T-51-VIII-277/08/002826","Wózek prysznicowy CONCERTO","typ/model: BAB1000-01; producent: ARJO, Szwecja",19153,4335,"Teresa         ","Tarasińska                         ",39932,19153,"Oddział Chirurgii Naczyniowej"]
["008-0294-00003","8-294-3/002215","Wózek prysznicowy CONCERTO","typ: HYDRAUL-BAB 1000-01; producent: ARJO, Szwecja",17441,3806,"Elżbieta       ","Jarawka                            ",39569,17441,"Oddział Chirurgii Ogólnej z Pododdziałami"]
["008-0294-00002","8-294-2/001928","Wózek prysznicowy CONCERTO","typ: HYDRAUL-BAB 1000-01; producent: ARJO, Szwecja",17441,3100,"Anna           ","Kofman                             ",39569,17441,"SOR"]
["008-0294-00001","8-294-1/001927","Wózek ratowniczy z 2 szufladami ze stali nierdzewnej","zakup od ALVO Grupa Gastrometal",4035.15,2827,"Krystyna       ","Baszak                             ",39867,4035.15,"Oddział Urologii i Urologii Onkologicznej"]
["008-0212-00031","8-212-31/002135","Wózek ratowniczy z 4 szufladami",null,5353.04,4719,"Jacek          ","Jagas                              ",39371,5353.04,"Pracownia Hemodynamiki"]
["008-0212-00015","8-212-15/001751","Wózek reanimacyjny ","typ: WP-02.0 z wyposażeniem: poręcze boczne, wieszak kroplówki, kosz na butle;\r\nprod: FAMED ŻYWIEC, Polska",7431.15,2838,"Anna           ","Kofman                             ",38693,7431.15,"SOR"]
["008-0017-00021","8-17-21/001525","Wózek reanimacyjny ","producent: Capsa Solutions, USA.",6760.8,6557,"Teresa         ","Tarasińska                         ",41568,6760.8,"Oddział Chirurgii Naczyniowej"]
["008-0260-00054",null,"Wózek reanimacyjny ","producent: Capsa Solutions, USA",6523.2,6556,"Grażyna        ","Radzioch                           ",41568,6523.2,"Oddział Neonatologiczny z Pododdziałem Patologii Noworodka"]
["008-0260-00053",null,"Wózek reanimacyjny ","producent: Aurion, Karismedica",13899.6,6544,"Bożena         ","Potentas                           ",41557,13899.6,"Anestezjologia"]
["008-0260-00050",null,"Wózek reanimacyjny ",null,7572.39,2725,"Bożena         ","Potentas                           ",39423,7572.39,"Anestezjologia"]
["008-0017-00022","8-17-22/001812","Wózek transportowo-kąpielowy","typ: 512 TR; producent: KENDROMED Sp. z o.o., Polska.",9849.6,4587,"Justyna        ","Karawan                            ",41052,9849.6,"Oddział Nefrologiczny"]
["008-0234-00050","8-234-50/003532","Wózek transportowy","producent: GETINGE",4522.2299999999996,3954,"Monika         ","Świtoń                             ",39171,4522.2299999999996,"Dział Centralnej Sterylizatorni i DDD"]
["008-0274-00001","8-274-1/001682","Wózek wielofunkcyjny","producent: FAMED, ŻYWIEC, POLSKA",4499.3599999999997,2406,"Bożena         ","Jezierska                          ",39197,4499.3599999999997,"Oddział Angiologiczny z Pododdziałem Diabetologii"]
["008-0278-00001","8-278-1/001706","Wózek wielofunkcyjny","typ: SM-01.0; producent: FAMED ŻYWIEC, Polska",8113,4755,"Grażyna        ","Brulińska                          ",39447,8113,"Oddział Otolaryngologiczny z Pododdziałem Otolaryngologii"]
["008-0278-00002","8-278-2/001840","Wózek wielofunkcyjny","typ: SM-02.2; producent: FAMED, Żywiec",4601,2731,"Stanisław      ","Nabzdyk                            ",39890,4601,"Pracownia Endoskopii"]
["008-0278-00003","8-278-3/002204","Wózek wielofunkcyjny","typ: SM-02.2; producent: FAMED Żywiec",4601,3502,"Krystyna       ","Baszak                             ",39890,4601,"Oddział Urologii i Urologii Onkologicznej"]
["008-0278-00004","8-278-4/002198","Wózek zabiegowy",null,7560,5393,"Teresa         ","Pastuszka                          ",41310,7560,"Oddział Położniczo – Ginekologiczny"]
["008-0260-00045",null,"Wózek zabiegowy","typ: Aurion Compact",12399.48,4983,"Bożena         ","Potentas                           ",40690,12399.48,"Anestezjologia"]
["008-0260-00031","8-260-31/003065","Wózek zabiegowy","producent: KarisMedica s.r.i.",9599.0400000000009,4582,"Anna           ","Kofman                             ",40863,9599.0400000000009,"SOR"]
["008-0260-00037","8-260-37/003225","Wózek zabiegowy","producent FARUM, Polska",3888,6941,"Bożena         ","Potentas                           ",42020,3888,"Intensywna Terapia"]
["008-0260-00062",null,"Wyświetlacz optotypów","Ekran LCD; typ: CP-400 FREY. Producent: Frey, Polska. ",6056.08,3626,"Małgorzata     ","Ciepłucha                          ",40561,6056.08,"SOR"]
["008-0311-00002","8-311-2/003031","Wyświetlacz optotypów",null,5790.96,6973,"Małgorzata     ","Ciepłucha                          ",42144,5790.96,"Poradnia Okulistyczna"]
["008-0311-00003",null,"Wytwornica pary ","typ/model: DE 4002; producent: GETINGE SWEDEN",7171.16,4525,"Monika         ","Świtoń                             ",39650,7171.16,"Dział Centralnej Sterylizatorni i DDD"]
["008-0223-00003","8-223-3/001996","Wzmacniacz MF-20 + aplikator AD200 + aplikator AS315 ",null,5440,3537,"Ireneusz       ","Dzierżek                           ",40268,5440,"Zamiejscowy Dział Rehabilitacji Leczniczej"]
["008-2811-00000","T-51-VIII-279/08/002811","Zabudowa meblowa","producent: ALVO, Śmigiel\r",36777,5296,"Wiesława       ","Augustyn                           ",40925,36777,"Blok Operacyjny"]
["008-0212-00054","8-212-54/003362","Zabudowa meblowa",null,27060,6711,"Bożena         ","Potentas                           ",41774,27060,"Intensywna Terapia"]
["008-0212-00062",null,"Zamrażarka niskotemperaturowa ","typ MDF-C8V.\r",18300,4440,"Maria          ","Bieza                              ",40268,18300,"Zamiejscowy Blok Operacyjny"]
["004-2721-00000","T-IV-17/07/002721","Zamrażarka stołowa","cechy: -50st.C do -85st.C;  poj. 35L; typ: Kuhlbox; model: B 35-85; producent: FRYKA Kaltetechnik GmbH",17975.97,2402,"Dorota         ","Pikul                              ",39209,17975.97,"Oddział Kardiologiczny"]
["004-0015-00001","4-15-1/001708","Zamykany wózek transportowy ze stali kwasoodpornej","producent: ALVO",6902.83,3911,"Monika         ","Świtoń                             ",39171,6902.83,"Dział Centralnej Sterylizatorni i DDD"]
["008-0274-00003","8-274-3/001684","Zasilacz awaryjny - UPS ","seria: PowerOn;  model: H4000 plus;  prod: ARA POWER SYSTEMS, USA",8802.2999999999993,5302,"Małgorzata     ","Ciepłucha                          ",38706,8802.2999999999993,"Oddział Okulistyczny"]
["006-0009-00002","6-9-2/001542","Zbierakowy podnośnik chorych 2-funkcyjny ","producent: BHM Medical Inc. Wprowadzone komponenty.",45149.4,3760,"Anna           ","Kofman                             ",40835,45149.4,"SOR"]
["008-0295-00007","8-295-7/003159","Zestaw 4 fantomów osoby dorosłej ",null,3691.85,5453,"Anna           ","Kofman                             ",41428,3691.85,"SOR"]
["008-0419-00002",null,"Zestaw artroscopowy z oprzyrządowaniem",null,238771.25,3710,"Wiesława       ","Augustyn                           ",39813,238771.25,"Blok Operacyjny"]
["008-0300-00001","8-300-1/002051","Zestaw do ćwiczeń korekcyjnych ",null,5310,3534,"Ireneusz       ","Dzierżek                           ",40268,5310,"Zamiejscowy Dział Rehabilitacji Leczniczej"]
["008-2788-00000","T-51-VIII-196/98/002788","Zestaw do endoskopowych operacji nosa i zatok",null,189150.26,3844,"Grażyna        ","Brulińska                          ",39994,189150.26,"Oddział Otolaryngologiczny z Pododdziałem Otolaryngologii"]
["008-0305-00001","8-305-1/002246","Zestaw do endoskopowych zabiegów laparoskopowych chirurgicznych",null,304217.61,4944,"Wiesława       ","Augustyn                           ",40134,304217.61,"Blok Operacyjny"]
["008-0331-00001","8-331-1/002403","Zestaw do laparoskopii bariatrycznej","Producent: Karl Storz, Niemcy. Wprowadzone komponenty.",72552.259999999995,3704,"Wiesława       ","Augustyn                           ",40891,72552.259999999995,"Blok Operacyjny"]
["008-0044-00004","8-44-4/003307","Zestaw do mikrochirurgii oka",null,17930.36,2379,"Małgorzata     ","Ciepłucha                          ",38990,17930.36,"Oddział Okulistyczny"]
["008-0266-00001","8-266-1/001624","Zestaw do nieinwazyjnego wspomagania oddechu u noworodków metodą nCPAP Infant Flow SiPAP","Producent: Carefusion.",85000.320000000007,5430,"Grażyna        ","Radzioch                           ",41360,85000.320000000007,"Oddział Neonatologiczny z Pododdziałem Patologii Noworodka"]
["008-0197-00008",null,"Zestaw dwudzielny 9-szafkowy z blatem",null,28659,6720,"Bożena         ","Potentas                           ",41774,28659,"Intensywna Terapia"]
["008-0212-00068",null,"Zestaw ezofagoskopów z wyposażeniem","producent: KARL STORZ, Niemcy\r",29413.23,5308,"Grażyna        ","Brulińska                          ",39157,29413.23,"Oddział Otolaryngologiczny z Pododdziałem Otolaryngologii"]
["008-0269-00001","8-269-1/001664","Zestaw generatora noża harmonicznego i zaawansowanej technologii bipolarnej","Typ: GEN11; ",89696.7,5382,"Wiesława       ","Augustyn                           ",41288,89696.7,"Blok Operacyjny"]
["008-0413-00001",null,"Zestaw Holter","W składzie: \r\n1) rejestrator ciśnienia HolCARD; typ: CR-07; \n2) rejestrator EKG; typ: Aspekt 712; \nproducent: Aspel, Polska",10914,5003,"Bożena         ","Jezierska                          ",38769,10914,"Oddział Angiologiczny z Pododdziałem Diabetologii"]
["008-0081-00004","8-81-4/001553","Zestaw Infant FLow SiPAP typ Comprehensive",null,57243.199999999997,4684,"Grażyna        ","Radzioch                           ",41274,57243.199999999997,"Oddział Neonatologiczny z Pododdziałem Patologii Noworodka"]
["008-0197-00007","8-197-7/003733","Zestaw laparoskopowy - urologiczny z instrumentarium","producent: KARL STORZ, Niemcy. Z",175991.18,3624,"Wiesława       ","Augustyn                           ",39133,175991.18,"Blok Operacyjny"]
["008-0044-00003","8-44-3/001665","Zestaw laparoskopowy ginekologiczny","Producent: Karl Storz.",329113.51,3427,"Wiesława       ","Augustyn                           ",40134,329113.51,"Blok Operacyjny"]
["008-0330-00001","8-330-1/002402","Zestaw mebli ze stali nierdzewnej (zabudowa wnęki)",null,34526,3962,"Małgorzata     ","Ciepłucha                          ",39556,34526,"Oddział Okulistyczny"]
["008-0212-00019","8-212-19/001903","Zestaw naczyniowy laparoskopowy do robota da Vinci","Producent: Karl Storz; Wprowadzone komponenty.",42287.72,3196,"Wiesława       ","Augustyn                           ",40891,42287.72,"Blok Operacyjny"]
["008-0044-00005","8-44-5/003308","Zestaw nCPAP Infant Flow SiPAP","Zestaw nCPAP Infant Flow SiPAP wraz z wyposażeniem Producent: VIASYS HEALTHCARE, USA",75077.14,4364,"Grażyna        ","Radzioch                           ",39366,75077.14,"Oddział Neonatologiczny z Pododdziałem Patologii Noworodka"]
["008-0197-00003","8-197-3/001755","Zestaw nCPAP Infant Flow SiPAP","Zestaw nCPAP Infant Flow SiPAP wraz z wyposażeniem Producent: VIASYS HEALTHCARE, USA",75077.14,5036,"Grażyna        ","Radzioch                           ",39366,75077.14,"Oddział Neonatologiczny z Pododdziałem Patologii Noworodka"]
["008-0197-00004","8-197-4/001754","Zestaw regałów przesuwnych",null,4551,5291,"Stanisław      ","Drelichowski                       ",41022,4551,"DODO - Pracownia Rezonansu Magnetycznego"]
["008-0212-00055","8-212-55/003420","Zestaw regałów przesuwnych",null,68503,2719,"Jolanta        ","Tymiak                             ",39444,68503,"Dział Rejestracji Statystyki i Dokumentacji Medycznej"]
["008-0212-00017","8-212-17/001808","Zestaw regałów przesuwnych",null,14526.54,4355,"Romana         ","Komora                             ",40462,14526.54,"Dział Zaopatrzenia i Zamówień Publicznych"]
["008-0212-00035","8-212-35/002917","Zestaw regałów przesuwnych",null,14905.96,4205,"Maria          ","Włosińska                          ",39231,14905.96,"Dział Zatrudnienia i Wynagrodzeń"]
["008-0212-00012","8-212-12/001707","Zestaw szafek laboratoryjnych",null,3642.35,2962,"Małgorzata     ","Ciepłucha                          ",39554,3642.35,"Oddział Okulistyczny"]
["008-0212-00018","8-212-18/001902","Zestaw wyprostny stawu kolanowego skokowego, łokciowego i nadgarstkowego ",null,3550,4992,"Ireneusz       ","Dzierżek                           ",40268,3550,"Zamiejscowy Dział Rehabilitacji Leczniczej"]
["008-2789-00000","T-51-VIII-229/2000/002789","Zestaw zgięciowy ",null,3550,4779,"Ireneusz       ","Dzierżek                           ",40268,3550,"Zamiejscowy Dział Rehabilitacji Leczniczej"]
["008-2796-00000","T-51-VIII-230/2000/002796","Zgrzewarka rotacyjna","typ/model: GS-45\r\nproducent: Getinge",11048.1,2814,"Monika         ","Świtoń                             ",39171,11048.1,"Dział Centralnej Sterylizatorni i DDD"]
["008-0061-00006","8-61-6/001680","Źródło światła do bronchoskopu (halogenowe)","producent: OLYMPUS; typ: CLK-4",4822.2,4785,"Bożena         ","Potentas                           ",40694,4822.2,"Intensywna Terapia"]
["008-0272-00004","8-272-4/003066","Źródło światła Halogen ","wraz ze światłowodem",7344,5361,"Grażyna        ","Brulińska                          ",41121,7344,"Oddział Otolaryngologiczny z Pododdziałem Otolaryngologii"]
["008-0272-00007","8-272-7/003605","Źródło światła Halogen ","Producent: Karl Storz Endoskope, Niemcy.\r",7647.61,5924,"Krystyna       ","Baszak                             ",41493,7647.61,"Poradnia Urologiczna"]
["008-0272-00008",null,"Źródło światła Halogen ","Cechy: 250 twin, lampa 250W, automatyczna lampa zapasowa, 100-240VAC, 50/60HZ..\r",5704.33,5237,"Bożena         ","Potentas                           ",41051,5704.33,"SOR"]
["008-0272-00006","8-272-6/003538","Źródło światła Karl Storz","producent: Karl Storz, Niemcy\r\n",51396.38,4110,"Krystyna       ","Baszak                             ",39133,51396.38,"Oddział Urologii i Urologii Onkologicznej"]
["008-0272-00002","8-272-2/001783","Źródło światła ksenonowe ","typ/model: XENON BRIGHTSTAR; producent: DORC, USA",27123.43,5364,"Małgorzata     ","Ciepłucha                          ",39436,27123.43,"Oddział Okulistyczny"]
["008-0272-00003","8-272-3/001811","Źródło światła ","Źródło światła, halogenowe 250W\r\ntyp: LP 4251\r\nproducent: Richard Wolf GmbH",3745,4570,"Krystyna       ","Baszak                             ",39154,3745,"Oddział Urologii i Urologii Onkologicznej"]
["008-0272-00001","8-272-1/001695"]
["004-0491-0285S","4-491-285 S/003284",null,null,null,4693,null,null,null,20077.29]
["004-0491-00307","4-491-307/003514",null,null,null,3662,null,null,null,140877.1]
["004-0491-00332","4-491-332/003571",null,null,null,5144,null,null,null,4610.6499999999996]
["004-0491-00301","4-491-301/003493",null,null,null,5229,null,null,null,103665.02]
["004-0491-00306","4-491-306/003513",null,null,null,5271,null,null,null,123623.24]
["006-0014-00009","6-14-9/003492",null,null,null,3653,null,null,null,36307.25]
["006-0014-00010","6-14-10/003518",null,null,null,5340,null,null,null,16242.37]
["004-0014-00023","4-14-23/003483",null,null,null,2311,null,null,null,34080.300000000003]
["004-0014-00024","4-14-24/003484",null,null,null,2312,null,null,null,34080.300000000003]
["004-0014-00027","4-14-27/003487",null,null,null,5357,null,null,null,4766.47]
["004-0014-00025","4-14-25/003485",null,null,null,4634,null,null,null,12372.03]
["004-0014-00026","4-14-26/003486",null,null,null,3652,null,null,null,12372.03]
["004-0491-0360S","4-491-360 S/003707",null,null,null,4679,null,null,null,11931]
["004-0491-0297S","4-491-297 S/003488",null,null,null,2313,null,null,null,36073.879999999997]
["009-3505-00000","/003505",null,null,null,4593,null,null,null,20251.64]
["009-3504-00000","/003504",null,null,null,3658,null,null,null,12633.42]

{"sheet":"nisk_inform_baza","index":14,"n_rows":135,"n_cols":7,"rows_kept":135,"cut":false,"hidden":true,"merged":[]}
[1,2,3,4,5,6,7]
["A-012A","Aparat telefoniczny bezprzewodowy DECT KX-TG671","MATERIAŁY INFORMATYCZNE","MATERIAŁY INFORMATYCZNE",220,"2.02.09.11","Oddział Kardiologiczny"]
["A-015","Adapter do stacji dokującej IDE/SATA Unitek","MATERIAŁY INFORMATYCZNE","MATERIAŁY INFORMATYCZNE",1501.83,"4.04","Dział Informatyki"]
["A-026","Antena magnetyczna 9DBI E 160","MATERIAŁY INFORMATYCZNE","MATERIAŁY INFORMATYCZNE",119,"4.04","Dział Informatyki"]
["A-042","Adapter RJ45/ RJ45 1080","MATERIAŁY INFORMATYCZNE","MATERIAŁY INFORMATYCZNE",38.01,"4.04","Dział Informatyki"]
["A-049","Adapter DVI-męski-HDMI żeński","MATERIAŁY INFORMATYCZNE","MATERIAŁY INFORMATYCZNE",17.22,"2.02.17.01","Oddział Urologii i Urologii Onkologicznej"]
["A-050","Adapter/przelotka,realizujący przejście RJ 45 n","MATERIAŁY INFORMATYCZNE","MATERIAŁY INFORMATYCZNE",87.33,"4.04","Dział Informatyki"]
["B-022","Bramka VOIP","MATERIAŁY INFORMATYCZNE","MATERIAŁY INFORMATYCZNE",7546.22,"4.04","Dział Informatyki"]
["B-022A","Bramka VoIP Grandstream GXW 4008","MATERIAŁY INFORMATYCZNE","MATERIAŁY INFORMATYCZNE",1481.87,"4.04","Dział Informatyki"]
["B-046","Bramka 1portowa-Grandstream HT ATA 701","MATERIAŁY INFORMATYCZNE","MATERIAŁY INFORMATYCZNE",1481.87,"4.04","Dział Informatyki"]
["C-016B","Czytnik kart pamięci CARD CR LEVEL2 SN:59061904","KOMPUTERY, DRUKARKI, INNE","KOMPUTERY, DRUKARKI, INNE",154.49,"2.02.09.11","Oddział Kardiologiczny"]
["C-016D","Czytnik SCR3310-karta kryptograficzna","KOMPUTERY, DRUKARKI, INNE","KOMPUTERY, DRUKARKI, INNE",2678.61,"4.04","Dział Informatyki"]
["C-016F","Czytnik kart AII-In-One Tracer C21 SN:590751283","KOMPUTERY, DRUKARKI, INNE","KOMPUTERY, DRUKARKI, INNE",93.33,"2.02.09.11","Oddział Kardiologiczny"]
["C-031","Centrala PABX 4000/I/030261oraz 4000/I/030495","MATERIAŁY INFORMATYCZNE","MATERIAŁY INFORMATYCZNE",1.23,"4.04","Dział Informatyki"]
["D-012","Dysk zewnętrzny-Netgear ReadyNAS RN10400","MATERIAŁY INFORMATYCZNE","MATERIAŁY INFORMATYCZNE",270.60000000000002,"4.02","Dział Zaopatrzenia i Zamówień Publicznych"]
["D-012A","Dysk zewnętrzny-ADATA DashDrive HV620 1TB[Czarn","MATERIAŁY INFORMATYCZNE","MATERIAŁY INFORMATYCZNE",270.60000000000002,"1.04.02","Dział Sprzedaży Usług Medycznych"]
["D-018","Drukarka laserowa HP LJ Pro 400 M401dn","KOMPUTERY, DRUKARKI, INNE","KOMPUTERY, DRUKARKI, INNE",2500,"4.04","Dział Informatyki"]
["D-018A","Drukarka laserowa HP LJ Pro 200 M276n MF SN:CND","KOMPUTERY, DRUKARKI, INNE","KOMPUTERY, DRUKARKI, INNE",1476,"2.02.15","Oddział Pediatryczny z Pododdziałem Gastroenterologii "]
["D-018B","Drukarka laserowa Jet Pro 200 M251n SN:CNF1C178","KOMPUTERY, DRUKARKI, INNE","KOMPUTERY, DRUKARKI, INNE",836.4,"2.02.17.01","Oddział Urologii i Urologii Onkologicznej"]
["D-018C","Drukarka laserowa Jet Pro 200 M251n SN:CNF1D013","KOMPUTERY, DRUKARKI, INNE","KOMPUTERY, DRUKARKI, INNE",824.1,"2.02.08.06","Szkoła Rodzenia"]
["D-018D","Drukarka HP Color LJ Enterprise 500 M551","KOMPUTERY, DRUKARKI, INNE","KOMPUTERY, DRUKARKI, INNE",2500,"4.04","Dział Informatyki"]
["D-018E","Drukarka HP LJ Enterprise 600 M601dn","KOMPUTERY, DRUKARKI, INNE","KOMPUTERY, DRUKARKI, INNE",2500,"4.04","Dział Informatyki"]
["D-018F","Drukarka etykiet Metapace L-22D 8 dots/mm 203dp","KOMPUTERY, DRUKARKI, INNE","KOMPUTERY, DRUKARKI, INNE",1098,"4.04","Dział Informatyki"]
["D-039","Dysk twardy 500GB WD Blue 500GB WD500AAKKX 16MB","MATERIAŁY INFORMATYCZNE","MATERIAŁY INFORMATYCZNE",215.25,"3.03","Dział Centralnej Sterylizatorni i DDD"]
["D-039B","Dysk twardy HDD 2TB/SATA","MATERIAŁY INFORMATYCZNE","MATERIAŁY INFORMATYCZNE",792.12,"4.04","Dział Informatyki"]
["D-039C","Dysk twardy WD My Passport 1TB USB 3,0 Black [2","MATERIAŁY INFORMATYCZNE","MATERIAŁY INFORMATYCZNE",282.89999999999998,"2.02.08","Oddział Położniczo – Ginekologiczny"]
["D-039D","Dysk twardy WD AV Green Power 1 TB WD10EURX [64","MATERIAŁY INFORMATYCZNE","MATERIAŁY INFORMATYCZNE",1365.48,"4.04","Dział Informatyki"]
["D-041","Drut elektrod","MATERIAŁY INFORMATYCZNE","MATERIAŁY INFORMATYCZNE",289.05,"4.02","Dział Zaopatrzenia i Zamówień Publicznych"]
["D-053","Dysk 1TB AG691B [gwar.36 m-cy]","MATERIAŁY INFORMATYCZNE","MATERIAŁY INFORMATYCZNE",500,"4.04","Dział Informatyki"]
["D-053A","Dysk HP 1TB 7200 404403-002","MATERIAŁY INFORMATYCZNE","MATERIAŁY INFORMATYCZNE",500,"4.04","Dział Informatyki"]
["D-054","Dysk 450GB 447186-003 [gwar.12m-cy]","MATERIAŁY INFORMATYCZNE","MATERIAŁY INFORMATYCZNE",500,"4.04","Dział Informatyki"]
["D-054A","Dysk 146 GB 10k SAS SGN935VOLF","MATERIAŁY INFORMATYCZNE","MATERIAŁY INFORMATYCZNE",500,"4.04","Dział Informatyki"]
["D-058","Dysk wewnętrzny-WD Blue 320GB [2,5\" 320GB ISATA","MATERIAŁY INFORMATYCZNE","MATERIAŁY INFORMATYCZNE",189.42,"2.02.08.06","Szkoła Rodzenia"]
["F-056","Filtr EBP08SU/Filtr sieciowy 8gn.+2 USB","MATERIAŁY INFORMATYCZNE","MATERIAŁY INFORMATYCZNE",871.1,"4.04","Dział Informatyki"]
["G-015","Głośniki Genius SP-S110 czarne[System2] RMS do","MATERIAŁY INFORMATYCZNE","MATERIAŁY INFORMATYCZNE",63.96,"4.04","Dział Informatyki"]
["G-015","Głośniki Genius SP-S110 czarne[System2] RMS do","MATERIAŁY INFORMATYCZNE","MATERIAŁY INFORMATYCZNE",36.9,"4.07.01.01","Dział Planowania, Analiz i Finansowania Inwestycji"]
["G-015A","Głośniki Creative SBS-A40 System 2,0 RMS zestaw","MATERIAŁY INFORMATYCZNE","MATERIAŁY INFORMATYCZNE",47.97,"2001-03-01","Ośrodek Programów Badawczych (OPB)"]
["K-033","Klawiatura komputerowa","MATERIAŁY INFORMATYCZNE","MATERIAŁY INFORMATYCZNE",489.05,"4.04","Dział Informatyki"]
["K-093A","Komputer z programem operacyjnym, klawiatura,my","KOMPUTERY, DRUKARKI, INNE","KOMPUTERY, DRUKARKI, INNE",2500,"2.02.15","Oddział Pediatryczny z Pododdziałem Gastroenterologii "]
["K-093B","Komputer Dell Vostro 3900 MT1","KOMPUTERY, DRUKARKI, INNE","KOMPUTERY, DRUKARKI, INNE",3139,"2.02.10","Oddział Kardiologii Dziecięcej z Pododdziałem Kardiochirurgi"]
["K-123","Karta pamięci Compact Flash  CF  16GB Kingston","MATERIAŁY INFORMATYCZNE","MATERIAŁY INFORMATYCZNE",83.9,"2.04.01","Blok Operacyjny"]
["K-123A","Karta Pamięci Toshiba 16GB Microsdhc CL 10 UHS","KOMPUTERY, DRUKARKI, INNE","KOMPUTERY, DRUKARKI, INNE",69.989999999999995,"1.12","Samodzielne Stanowiska Administracyjne"]
["K-153","Konwerter DVI na SDI Cypress CLUX DVI2SDIA","MATERIAŁY INFORMATYCZNE","MATERIAŁY INFORMATYCZNE",1239,"2.04.01","Blok Operacyjny"]
["K-194","Karta sieciowa 10/100Mb/s-TF-3200","MATERIAŁY INFORMATYCZNE","MATERIAŁY INFORMATYCZNE",1501.83,"4.04","Dział Informatyki"]
["K-194A","Karta sieciowa 4 World PCI 10/100BaseTX [RJ45]-","MATERIAŁY INFORMATYCZNE","MATERIAŁY INFORMATYCZNE",1501.83,"4.04","Dział Informatyki"]
["K-339","Kamera IP","KOMPUTERY, DRUKARKI, INNE","KOMPUTERY, DRUKARKI, INNE",738,"4.04","Dział Informatyki"]
["L-027","Laptop Dell Latitude E5430 i3-2328M/ 4GB/320GB/","KOMPUTERY, DRUKARKI, INNE","KOMPUTERY, DRUKARKI, INNE",1931.1,"4.06.01","Dział Księgowości i Finansów"]
["L-027A","Laptop pozabilansowy-Dell Vostro 3460 Win 7 [Ac","KOMPUTERY, DRUKARKI, INNE","KOMPUTERY, DRUKARKI, INNE",28.29,"4.04","Dział Informatyki"]
["L-027B","Laptop DELL/E5520","MATERIAŁY INFORMATYCZNE","MATERIAŁY INFORMATYCZNE",2520.27,"4.04","Dział Informatyki"]
["L-027C","Laptop A/DELL/E6410/REF7/1861","KOMPUTERY, DRUKARKI, INNE","KOMPUTERY, DRUKARKI, INNE",8314.7999999999993,"4.07.01.01","Zespółds. Planowania, Analiz i Finansowania Inwestycji"]
["L-027D","Laptop A/DELL/E6410/REF7/1860","KOMPUTERY, DRUKARKI, INNE","KOMPUTERY, DRUKARKI, INNE",4008.57,"4.04","Dział Informatyki"]
["L-027E","Laptop /A/DELL/E6520/REF7 1948+dpołata do REF W","KOMPUTERY, DRUKARKI, INNE","KOMPUTERY, DRUKARKI, INNE",2625.83,"2.02.07.01","Programedukacyjny atopowe zapalenie skóry (AZS)"]
["L-033","Lampa do projektora P7203","MATERIAŁY INFORMATYCZNE","MATERIAŁY INFORMATYCZNE",1399,"3.02","Dział Gospodarki Nieruchomościami i Utrzymania Ruchu"]
["L-034","Listwa zasilająca+USB","MATERIAŁY INFORMATYCZNE","MATERIAŁY INFORMATYCZNE",871.1,"4.04","Dział Informatyki"]
["L-034A","Listwa zasilająca PDU AP7551","MATERIAŁY INFORMATYCZNE","MATERIAŁY INFORMATYCZNE",2587.33,"4.04","Dział Informatyki"]
["M-008","Mysz komputerowa bezprzewodowa","MATERIAŁY INFORMATYCZNE","MATERIAŁY INFORMATYCZNE",63.96,"4.02","Dział Zaopatrzenia i Zamówień Publicznych"]
["M-008A","Mysz komputerowa optyczna","KOMPUTERY, DRUKARKI, INNE","KOMPUTERY, DRUKARKI, INNE",289.66000000000003,"4.04","Dział Informatyki"]
["M-015","Monitor DELL P2210 22\" 4X USB/DVD-D/","KOMPUTERY, DRUKARKI, INNE","KOMPUTERY, DRUKARKI, INNE",6432.9,"4.04","Dział Informatyki"]
["M-015B","Monitor Samsung SM245T","KOMPUTERY, DRUKARKI, INNE","KOMPUTERY, DRUKARKI, INNE",6432.9,"4.04","Dział Informatyki"]
["M-015C","Monitor 24\"iiyama ProLite E2483HS czarny [D-Sub","KOMPUTERY, DRUKARKI, INNE","KOMPUTERY, DRUKARKI, INNE",639.6,"2.02.10","Oddział Kardiologii Dziecięcej z Pododdziałem Kardiochirurgi"]
["M-015D","Monitor Samsung SyncMaster S24C200BL","KOMPUTERY, DRUKARKI, INNE","KOMPUTERY, DRUKARKI, INNE",17469.689999999999,"4.04","Dział Informatyki"]
["M-037","Mikrofon komputerowy ART","MATERIAŁY INFORMATYCZNE","MATERIAŁY INFORMATYCZNE",15.01,"2.02.19","Zamiejscowy Oddział Rehabilitacji Neurologicznej"]
["M-040B","Moduł SFP RJ45 OPTEC 1,25G 100M","MATERIAŁY INFORMATYCZNE","MATERIAŁY INFORMATYCZNE",4492.5,"4.04","Dział Informatyki"]
["M-089","Modem Huawei E3372 LTE Black","MATERIAŁY INFORMATYCZNE","MATERIAŁY INFORMATYCZNE",7.38,"4.04","Dział Informatyki"]
["N-044","Narzędzie do zaciskania końcówek RJ-11/12/14/45","MATERIAŁY INFORMATYCZNE","MATERIAŁY INFORMATYCZNE",84.87,"4.04","Dział Informatyki"]
["O-097","Obudowa Raspberry Pi model 2/B+VESA do montażu","MATERIAŁY INFORMATYCZNE","MATERIAŁY INFORMATYCZNE",895.5,"4.04","Dział Informatyki"]
["O-132","Oprogramowanie komputerowe Office Home Bisiness","MATERIAŁY INFORMATYCZNE","MATERIAŁY INFORMATYCZNE",2520.27,"4.04","Dział Informatyki"]
["O-132A","Oprogramowanie komputerowe do REF WIN 7 PROx32/","MATERIAŁY INFORMATYCZNE","MATERIAŁY INFORMATYCZNE",8314.7999999999993,"4.07.01.01","Zespółds. Planowania, Analiz i Finansowania Inwestycji"]
["P-050","Pendrive pamięć USB 16GB","MATERIAŁY INFORMATYCZNE","MATERIAŁY INFORMATYCZNE",915.12,"4.04","Dział Informatyki"]
["P-050A","Pendrive pamięć USB 32GB","MATERIAŁY INFORMATYCZNE","MATERIAŁY INFORMATYCZNE",356.7,"4.04","Dział Informatyki"]
["P-050B","Pendrive pamięć USB 3.0  1TB","MATERIAŁY INFORMATYCZNE","MATERIAŁY INFORMATYCZNE",2825.31,"4.04","Dział Informatyki"]
["P-083A","Przełącznik 8-port TP-Link 10/100Mb/s TL-SF1008","MATERIAŁY INFORMATYCZNE","MATERIAŁY INFORMATYCZNE",615,"4.04","Dział Informatyki"]
["P-093","Powietrze sprężone 600ml ACCURA","MATERIAŁY INFORMATYCZNE","MATERIAŁY INFORMATYCZNE",1501.83,"4.04","Dział Informatyki"]
["P-093A","Powietrze sprężone 400ml","MATERIAŁY INFORMATYCZNE","MATERIAŁY INFORMATYCZNE",22.12,"3.02","Dział Gospodarki Nieruchomościami i Utrzymania Ruchu"]
["P-116","Pianka do LCD 400ML CK-616-czyszczenia monitoró","MATERIAŁY INFORMATYCZNE","MATERIAŁY INFORMATYCZNE",14.63,"2.02.04","Oddział Chirurgii Naczyniowej"]
["P-149","Pasta termoprzewodząca 3,0G PLATINUM duża","MATERIAŁY INFORMATYCZNE","MATERIAŁY INFORMATYCZNE",87.33,"4.04","Dział Informatyki"]
["P-149A","Pasta termoprzewodząca Arctic MX-2-8g duża","MATERIAŁY INFORMATYCZNE","MATERIAŁY INFORMATYCZNE",5381.25,"4.04","Dział Informatyki"]
["P-151A","Pamięć Kingston 4GB 1333MHz DDR3 Non-ECC CL9 SO","MATERIAŁY INFORMATYCZNE","MATERIAŁY INFORMATYCZNE",4735.5,"4.04","Dział Informatyki"]
["P-151B","Pamięć 2048MB/ ECC REG.","MATERIAŁY INFORMATYCZNE","MATERIAŁY INFORMATYCZNE",6432.9,"4.04","Dział Informatyki"]
["P-151C","Pamięć do serwera 4GB DDR3-1333 ECC DIMM CL9 R2","MATERIAŁY INFORMATYCZNE","MATERIAŁY INFORMATYCZNE",15072.32,"4.04","Dział Informatyki"]
["P-204","Przedłużacz kabla zasilającego 1,8m SN:87163090","MATERIAŁY INFORMATYCZNE","MATERIAŁY INFORMATYCZNE",485.99,"4.04","Dział Informatyki"]
["P-205","Przedłużacz kabla USB 2,0 AF/AM 1,8m SN:4260113","MATERIAŁY INFORMATYCZNE","MATERIAŁY INFORMATYCZNE",485.99,"4.04","Dział Informatyki"]
["P-205A","Przedłużacz kabla USB 2,0 AF/AM 3m SN:426011356","MATERIAŁY INFORMATYCZNE","MATERIAŁY INFORMATYCZNE",485.99,"4.04","Dział Informatyki"]
["P-238","Przełącznik sieciowy [Switch] Dell Power Connec","MATERIAŁY INFORMATYCZNE","MATERIAŁY INFORMATYCZNE",8880.6,"4.04","Dział Informatyki"]
["P-262","Patch cord RMS 2P-RJ45/s[12.3-6]2m","MATERIAŁY INFORMATYCZNE","MATERIAŁY INFORMATYCZNE",5881.37,"4.04","Dział Informatyki"]
["P-262A","PATCH PANEL 12PORT","MATERIAŁY INFORMATYCZNE","MATERIAŁY INFORMATYCZNE",871.1,"4.04","Dział Informatyki"]
["P-262B","Patch cord SM LC-SC duplex 9/125 1,0m [AL]FO","MATERIAŁY INFORMATYCZNE","MATERIAŁY INFORMATYCZNE",1481.87,"4.04","Dział Informatyki"]
["P-262C","PATCHCORD 10M KAT 6E","MATERIAŁY INFORMATYCZNE","MATERIAŁY INFORMATYCZNE",196.8,"4.04","Dział Informatyki"]
["P-285","Punkt dostępowy do Internetu,AccessPoint FortiA","KOMPUTERY, DRUKARKI, INNE","KOMPUTERY, DRUKARKI, INNE",18450,"4.04","Dział Informatyki"]
["P-307","Podajnik papieru 500 sheet feeder/tray for the","KOMPUTERY, DRUKARKI, INNE","KOMPUTERY, DRUKARKI, INNE",2177.1,"4.04","Dział Informatyki"]
["R-055","Rura karbowana RGp 25/19 z pilotem","MATERIAŁY INFORMATYCZNE","MATERIAŁY INFORMATYCZNE",237.64,"4.04","Dział Informatyki"]
["R-061","Rolka poboru papieru T-2060","MATERIAŁY INFORMATYCZNE","MATERIAŁY INFORMATYCZNE",289.05,"4.02","Dział Zaopatrzenia i Zamówień Publicznych"]
["R-070","Rozdzielacz Microsplitter RMS45 ekranowy","MATERIAŁY INFORMATYCZNE","MATERIAŁY INFORMATYCZNE",5881.37,"4.04","Dział Informatyki"]
["S-041A","Stacja dokująca 5G 2,5\"/3,5\" HDD USB 3.0","MATERIAŁY INFORMATYCZNE","MATERIAŁY INFORMATYCZNE",1501.83,"4.04","Dział Informatyki"]
["S-077A","Switch 8-portowy 10/100Mb/s TL-SF1008D","MATERIAŁY INFORMATYCZNE","MATERIAŁY INFORMATYCZNE",915.12,"4.04","Dział Informatyki"]
["S-077C","Switch 8-portowy 10/100/1000Mb/s TL-SG1008D","MATERIAŁY INFORMATYCZNE","MATERIAŁY INFORMATYCZNE",915.12,"4.04","Dział Informatyki"]
["S-077D","Switch HP V1910-48G JE009A","MATERIAŁY INFORMATYCZNE","MATERIAŁY INFORMATYCZNE",19680,"4.04","Dział Informatyki"]
["S-077E","Switch HP 1910-8G [JG348A]","MATERIAŁY INFORMATYCZNE","MATERIAŁY INFORMATYCZNE",17469.689999999999,"4.04","Dział Informatyki"]
["S-077F","Switch HP 1910-8G-PoE+[65W] Switch JG349A","MATERIAŁY INFORMATYCZNE","MATERIAŁY INFORMATYCZNE",9495.6,"4.04","Dział Informatyki"]
["S-132","Siatka elektrod","MATERIAŁY INFORMATYCZNE","MATERIAŁY INFORMATYCZNE",289.05,"4.02","Dział Zaopatrzenia i Zamówień Publicznych"]
["S-198","Słuchawka","KOMPUTERY, DRUKARKI, INNE","KOMPUTERY, DRUKARKI, INNE",6050.55,"2.02.15","Oddział Pediatryczny z Pododdziałem Gastroenterologii "]
["S-268","Słuchawki nagłowne HW261N/A EMEA","KOMPUTERY, DRUKARKI, INNE","KOMPUTERY, DRUKARKI, INNE",4008.57,"4.04","Dział Informatyki"]
["Ś-004","Światłowód LC-SC DUPLEX 50/125 OM2 10M- Equip","MATERIAŁY INFORMATYCZNE","MATERIAŁY INFORMATYCZNE",329.52,"4.04","Dział Informatyki"]
["Ś-008A","Ściereczka z mikrofibry kpl-2szt [25x25cm]","MATERIAŁY INFORMATYCZNE","MATERIAŁY INFORMATYCZNE",915.12,"4.04","Dział Informatyki"]
["T-033","Terminal do przesyłania danych z monitorem LCD","MATERIAŁY INFORMATYCZNE","MATERIAŁY INFORMATYCZNE",31980,"4.04","Dział Informatyki"]
["T-116","TRANSFER LJ 4730/4700","MATERIAŁY INFORMATYCZNE","MATERIAŁY INFORMATYCZNE",1414.5,"4.05","Dział Zatrudnienia i Wynagrodzeń"]
["T-119","Telefax Panasonik KX-FP 218","KOMPUTERY, DRUKARKI, INNE","KOMPUTERY, DRUKARKI, INNE",319.19,"2.02.08","Oddział Położniczo – Ginekologiczny"]
["T-119A","Telefon Panasonik bezprzewodowy stacjon KX-TG68","KOMPUTERY, DRUKARKI, INNE","KOMPUTERY, DRUKARKI, INNE",221.01,"3.03","Dział Centralnej Sterylizatorni i DDD"]
["T-142","Torba do NOTEBOOKA 15,4\" DA-10602-LE","KOMPUTERY, DRUKARKI, INNE","KOMPUTERY, DRUKARKI, INNE",29,"4.04","Dział Informatyki"]
["T-142A","Torba do NOTEBOOKA LX-725N-GY 15,6\"-16\"- szara","KOMPUTERY, DRUKARKI, INNE","KOMPUTERY, DRUKARKI, INNE",120.54,"1.12","Samodzielne Stanowiska Administracyjne"]
["T-142B","Torba do NOTEBOOKA 15,4\" DA-10605-LE","KOMPUTERY, DRUKARKI, INNE","KOMPUTERY, DRUKARKI, INNE",120,"4.07.01.01","Zespółds. Planowania, Analiz i Finansowania Inwestycji"]
["T-142C","Torba do NOTEBOOKA 15,4\" DA-10604-LE","KOMPUTERY, DRUKARKI, INNE","KOMPUTERY, DRUKARKI, INNE",30,"4.04","Dział Informatyki"]
["T-144","Terminal-Client Samsung SyncMaster TC190","MATERIAŁY INFORMATYCZNE","MATERIAŁY INFORMATYCZNE",9495.6,"4.04","Dział Informatyki"]
["T-148","Telefon GGXP2130 Grandstream GXP 2130 HD","KOMPUTERY, DRUKARKI, INNE","KOMPUTERY, DRUKARKI, INNE",10947,"4.04","Dział Informatyki"]
["U-009","Urządzenie wielofunkcyjne HP 3525 Deskjet Wifi","KOMPUTERY, DRUKARKI, INNE","KOMPUTERY, DRUKARKI, INNE",449,"2.02.09.05","Pracownia Elektrofizjologii"]
["U-009A","Urządzenie wielofunkcyjne typ HP JL PRO MFP M12","KOMPUTERY, DRUKARKI, INNE","KOMPUTERY, DRUKARKI, INNE",500,"2.02.06","Oddział Chirurgii Onkologicznej"]
["U-045","Urządzenie nagrywająco-odtwarzające płyty w kom","MATERIAŁY INFORMATYCZNE","MATERIAŁY INFORMATYCZNE",915.12,"4.04","Dział Informatyki"]
["W-027","WkładkaHPX130 10G SFP+LC SRTranscever -compatib","MATERIAŁY INFORMATYCZNE","MATERIAŁY INFORMATYCZNE",4210.68,"4.04","Dział Informatyki"]
["W-129","Wsparcie FortiCare 8x5 dla FortiAp-221B na 1 ro","MATERIAŁY INFORMATYCZNE","MATERIAŁY INFORMATYCZNE",1722,"4.04","Dział Informatyki"]
["Z-041","Zasilacz do komputera Corsair Gaming Series 201","MATERIAŁY INFORMATYCZNE","MATERIAŁY INFORMATYCZNE",878.22,"4.04","Dział Informatyki"]
["Z-041A","Zasilacz do komputera Corsair VS 350W ATX 120mm","MATERIAŁY INFORMATYCZNE","MATERIAŁY INFORMATYCZNE",878.22,"4.04","Dział Informatyki"]
["Z-041B","Zasilacz do komputera MODECOM Premium 430W Blac","MATERIAŁY INFORMATYCZNE","MATERIAŁY INFORMATYCZNE",5381.25,"4.04","Dział Informatyki"]
["Z-041C","Zasilacz do komputera Thermaltake Smart 650W Mo","MATERIAŁY INFORMATYCZNE","MATERIAŁY INFORMATYCZNE",5381.25,"4.04","Dział Informatyki"]
["Z-041D","Zasilacz HP 650W [JC680A]","MATERIAŁY INFORMATYCZNE","MATERIAŁY INFORMATYCZNE",17469.689999999999,"4.04","Dział Informatyki"]
["Z-041E","Zasilacz do komputera Corsair VS 450W CP-902009","MATERIAŁY INFORMATYCZNE","MATERIAŁY INFORMATYCZNE",494.46,"4.04","Dział Informatyki"]
["Z-043A","Zestaw modernizacyjny do DELL 755/","MATERIAŁY INFORMATYCZNE","MATERIAŁY INFORMATYCZNE",4492.5,"4.04","Dział Informatyki"]
["Z-045","Zestaw naprawczy do komputerów Dell","MATERIAŁY INFORMATYCZNE","MATERIAŁY INFORMATYCZNE",12054,"4.04","Dział Informatyki"]
["Z-045A","Zestaw naprawczy do laptopa T410 /LENOVO/","MATERIAŁY INFORMATYCZNE","MATERIAŁY INFORMATYCZNE",12054,"4.04","Dział Informatyki"]
["Z-045B","Zestaw naprawczy do drukarki HP","MATERIAŁY INFORMATYCZNE","MATERIAŁY INFORMATYCZNE",908.99,"1.12","Samodzielne Stanowiska Administracyjne"]
["Z-050D","Zasilacz awaryjny-UPS Power Walker Line-In 800V","KOMPUTERY, DRUKARKI, INNE","KOMPUTERY, DRUKARKI, INNE",516.6,"2.02.13","Oddział Okulistyczny"]
["Z-050E","Zasilacz awaryjny-UPS Energenie by Gembird Line","KOMPUTERY, DRUKARKI, INNE","KOMPUTERY, DRUKARKI, INNE",329,"2.07.08","DODO -Zamiejscowa Pracownia RTG"]
["Z-087","Zestaw narzędziowy Basic[13szt narzędzi w kompl","MATERIAŁY INFORMATYCZNE","MATERIAŁY INFORMATYCZNE",915.12,"4.04","Dział Informatyki"]
["Z-113","Zestaw klawiatura+mysz Microsoft Wired Desktop","MATERIAŁY INFORMATYCZNE","MATERIAŁY INFORMATYCZNE",5381.25,"4.04","Dział Informatyki"]
["Z-127","Zasilacz USB","MATERIAŁY INFORMATYCZNE","MATERIAŁY INFORMATYCZNE",5618.94,"4.04","Dział Informatyki"]
["Z-136","Zestaw Raspberry Pi 2 model B+obudowa+ zasilacz","MATERIAŁY INFORMATYCZNE","MATERIAŁY INFORMATYCZNE",895.5,"4.04","Dział Informatyki"]